{"text_format":"1","workbook":"xlsx","n_sheets":61,"sheets":["outline","title","disclaimer","introduction","modelStructure","modelStructure2","userGuide","dashboard","populationFunnel","incidentPopulationFunnel","PulmonaryRehabGraph","PulmonaryRehabTable","PulmonaryRehabTable1","comparisons","planning","comparisonsPlanning","planningSummary","healthEconomicsIntro","healthEconomicsCalculation","workforceModelling4","workforceModelling1","workforceModelling2","workforceModelling3","summary","populationFunnelPopUp","planningPopUp","planningPopUp1","planningGraph","predictedComparisons","comparisonsPlanningPopUp","comparisonsPlanningPopUp1","comparisonsPlanningGraph","ICSs","CCGs","prevalencedata","listdata","modelStructure3","abbreviations","assumptions","graphData","QoFData_Covariates","dataLookup1","newDataPrevalence2","newDataList3","newDataRegister4","popdata","newDataPrevalence","newDataList","newDataRegister","newCOPD005","dataLookup","CalculationSheet","CPRD_regressionCoefficients","Attrition_data","_Parameters","_Mtech","_References","_report","Emergency Hospital Admissions","COPD Diagnoses","COPD Prevalence (Fingertips)"],"not_rendered":{"charts":15,"images":56,"macros":1,"external_links":0,"defined_names":44,"comments":1,"pivot_tables":0},"unopened":[],"bounds":{"document_bytes":16777216,"sheet_cells":100000,"rows_first":2000,"rows_last":500,"rows_between":2000,"halvings":0,"cell_chars":16384,"cell_head_chars":4096},"cells_cut":0,"cells_raw":0,"read":"whole","date_system":"1900"}

{"sheet":"outline","index":0,"n_rows":0,"n_cols":0,"rows_kept":0,"cut":false,"hidden":true,"merged":[]}

{"sheet":"title","index":1,"n_rows":19,"n_cols":3,"rows_kept":19,"cut":false,"hidden":false,"merged":[[12,2,17,11]]}
[]
[]
[]
[]
[]
[]
[]
[]
[]
[]
[]
[]
[null,null,"Pulmonary Rehabilitation Capacity \nPlanning Tool"]
[]
[]
[]
[]
[]
[null,null,"Select the play button on the right to get started"]

{"sheet":"disclaimer","index":2,"n_rows":0,"n_cols":0,"rows_kept":0,"cut":false,"hidden":false,"merged":[]}

{"sheet":"introduction","index":3,"n_rows":0,"n_cols":0,"rows_kept":0,"cut":false,"hidden":false,"merged":[]}

{"sheet":"modelStructure","index":4,"n_rows":33,"n_cols":4,"rows_kept":33,"cut":false,"hidden":false,"merged":[[11,3,12,23],[21,3,22,23],[24,3,25,23],[18,3,19,23],[32,3,34,23],[14,3,16,23]]}
[]
[]
[]
[]
[]
[]
[]
[]
[]
[]
[]
[]
[]
[]
[]
[]
[]
[]
[]
[]
[]
[]
[]
[]
[]
[]
[]
[]
[]
[]
[]
[]
[null,null,null,"Note: The QOF reports prevalent COPD patients (interpreted as the number of patients who have been registered with a COPD diagnosis)"]

{"sheet":"modelStructure2","index":5,"n_rows":31,"n_cols":1,"rows_kept":31,"cut":false,"hidden":false,"merged":[[30,0,31,23]]}
[]
[]
[]
[]
[]
[]
[]
[]
[]
[]
[]
[]
[]
[]
[]
[]
[]
[]
[]
[]
[]
[]
[]
[]
[]
[]
[]
[]
[]
[]
["Results from the PR pathway will not be displayed by subgroup, such as by age or sex. Instead, regional average values for these characteristics will be used to determine proportions for referral, uptake and completion of PR. "]

{"sheet":"userGuide","index":6,"n_rows":0,"n_cols":0,"rows_kept":0,"cut":false,"hidden":false,"merged":[]}

{"sheet":"dashboard","index":7,"n_rows":27,"n_cols":27,"rows_kept":27,"cut":false,"hidden":false,"merged":[[13,1,13,3],[17,1,17,3],[10,1,10,4],[9,5,10,5],[6,2,6,3],[6,4,6,5],[5,6,5,9],[9,6,9,9],[6,6,6,11],[6,12,6,16],[22,5,23,10],[26,13,27,17],[4,25,5,25],[7,25,8,25],[4,22,5,24],[7,22,8,24]]}
[1,null,null,null,null,null,null,null,null,null,null,null,null,null,null,null,null,null,null,null,null,null,null,1,null,2,{"$f":"\"COPD prevalence projections for \"&AA3","v":"COPD prevalence projections for England"}]
[null,null,null,null,null,null,null,null,null,null,null,null,null,null,null,null,null,null,null,null,null,null,null,"Log/linear switch",null,"Location switch",{"$f":"_xlfn.XLOOKUP(_Mtech!B26,_Mtech!E12:G12,_Mtech!E13:G13)","v":"ICSs "}]
[null,null,null,null,null,null,null,null,null,null,null,null,null,null,null,null,null,null,null,null,null,null,null,null,null,null,{"$f":"CalculationSheet!B1","v":"England"}]
[null,null,null,null,null,null,null,null,null,null,null,null,null,null,null,null,null,null,null,null,null,null,null,null,null,null,"Graph title"]
[]
[null,null,null,null,null,null,"ERROR: cannot choose start year later than or equal to end year"]
[]
[]
[]
[null,null,null,null,null,{"$f":"IF(CalculationSheet!B31>=CalculationSheet!B32,\"Error: start year is later than the end year\",\"\")","v":""},"ERROR: cannot choose start year earlier than or equal to end year"]
[]
[]
[]
[]
[]
[]
[]
[]
[]
[null,null,null,null,null,null,null,10]
[]
[]
[null,null,null,null,null,"Please choose the start and stop year for the data set. These will be used to project COPD prevalence from QOF data"]
[]
[]
[]
[null,null,null,null,null,null,"Start Year",null,null,"Stop Year",null,null,null,"Observed data refers to the actual data taken from the QOF database"]

{"sheet":"populationFunnel","index":8,"n_rows":54,"n_cols":32,"rows_kept":54,"cut":false,"hidden":false,"merged":[[14,0,16,3],[32,10,33,10],[26,10,27,10],[19,10,20,10],[22,12,23,12],[22,10,23,10]]}
[null,null,null,null,null,null,null,null,null,null,null,null,null,null,null,null,null,null,null,null,null,null,null,null,null,2,null,1,2,1,null,1]
[null,null,null,null,null,null,null,null,null,null,null,null,null,null,null,null,null,null,null,null,null,null,null,{"$f":"IF(dataLookup1!D2=0,\"\",\"ICB:\")","v":""},null,{"$f":"IF(dataLookup1!D2=0,\"\",dataLookup1!B11)","v":""},null,null,null,null,2]
[null,null,null,null,null,null,null,null,null,null,null,null,null,null,null,null,null,null,null,null,null,null,null,{"$f":"IF(dataLookup1!E2=0,\"\",\"Sub ICB (old CCG footprint):\")","v":""},null,{"$f":"IF(dataLookup1!E2=0,\"\",dataLookup1!B12)","v":""}]
[null,null,null,null,null,null,null,null,null,null,null,null,null,null,null,null,null,null,null,null,null,null,null,null,null,{"$f":"IF(dashboard!X1=1,_xlfn.XLOOKUP(CalculationSheet!E32, CalculationSheet!A115:A140, CalculationSheet!C115:C140),_xlfn.XLOOKUP(CalculationSheet!E32, CalculationSheet!A115:A140, CalculationSheet!F115:F140))","v":{"$error":"#DIV/0!"}}]
[null,null,null,null,null,null,null,null,null,null,null,null,null,null,null,null,null,null,null,null,null,null,null,null,null,{"$f":"IF(dashboard!X1=1,_xlfn.XLOOKUP(CalculationSheet!E32, CalculationSheet!A115:A140, CalculationSheet!I115:I140),_xlfn.XLOOKUP(CalculationSheet!E32, CalculationSheet!A115:A140, CalculationSheet!L115:L140))","v":{"$error":"#DIV/0!"}}]
[null,null,null,null,null,null,null,null,null,null,null,null,null,null,null,null,null,null,null,null,null,null,null,null,null,{"$f":"IF(dataLookup1!B2=1,dataLookup1!B9,dataLookup1!B10)&\"\n\"&IF(dataLookup1!E2=0,Z2,Z3)","v":"\n"}]
[]
[]
[]
[{"$f":"IF(_Mtech!G2=1,FALSE,TRUE)","v":false},null,null,null,null,null,null,null,null,null,1000,null,null,null,null,null,null,{"$f":"IF(K11>K10,\"ERROR: COPD register size should not be higher than the list size\",\"\")","v":""}]
[{"$f":"IF(_Mtech!G2=1,TRUE,FALSE)","v":true},null,null,null,null,null,null,null,null,null,500]
[{"$f":"A10","v":false}]
[{"$f":"A11","v":true}]
[{"$f":"A13","v":true}]
["Values will be calculated from the selection made on the dashboard tab. If you wish to enter your own register size click the 'input custom register size' button.",null,null,null,null,null,null,null,null,null,1]
[]
[]
[]
[]
[null,null,null,null,null,null,null,null,null,null,0.26]
[]
[null,null,null,null,null,null,null,null,null,null,null,null,null,null,null,null,null,null,null,null,null,null,null,null,null,null,null,null,null,{"$f":"INDEX(popdata!$I$3:$I$6,AD1)","v":"North of England"}]
[null,null,null,null,null,null,null,null,null,null,{"$f":"_xlfn.XLOOKUP(LOOKUP(2, 1/(dataLookup1!$B9:$B12<>\"\"), dataLookup1!$B9:B$12), Attrition_data!$A:$A, INDEX(Attrition_data!$1:$1048576, 0, 2 + MAX(0, MIN(1, 2025 - CalculationSheet!$E32))*6))","v":0.27210000000000001},null,{"$f":"_xlfn.XLOOKUP(LOOKUP(2, 1/(dataLookup1!$B9:$B12<>\"\"), dataLookup1!$B9:B$12), Attrition_data!$A:$A, INDEX(Attrition_data!$1:$1048576, 0, 3 + MAX(0, MIN(1, 2025 - CalculationSheet!$E32))*6))","v":0.39750000000000002}]
[]
[]
[]
[null,null,null,null,null,null,null,null,null,null,{"$f":"_xlfn.XLOOKUP(LOOKUP(2, 1/(dataLookup1!$B9:$B12<>\"\"), dataLookup1!$B9:B$12), Attrition_data!$A:$A, INDEX(Attrition_data!$1:$1048576, 0, 4 + MAX(0, MIN(1, 2025 - CalculationSheet!$E32))*6))","v":0.22539999999999999}]
[]
[]
[]
[]
[]
[null,null,null,null,null,null,null,null,null,null,{"$f":"_xlfn.XLOOKUP(LOOKUP(2, 1/(dataLookup1!$B9:$B12<>\"\"), dataLookup1!$B9:B$12), Attrition_data!$A:$A, INDEX(Attrition_data!$1:$1048576, 0, 5 + MAX(0, MIN(1, 2025 - CalculationSheet!$E32))*6))","v":0.30309999999999998}]
[]
[]
[]
[]
[null,null,null,null,null,null,null,null,null,null,{"$f":"_xlfn.XLOOKUP(LOOKUP(2, 1/(dataLookup1!$B9:$B12<>\"\"), dataLookup1!$B9:B$12), Attrition_data!$A:$A, INDEX(Attrition_data!$1:$1048576, 0, 6 + MAX(0, MIN(1, 2025 - CalculationSheet!$E32))*6))","v":0.68983022599999999}]
[]
[]
[]
[]
[null,null,null,null,null,null,null,null,null,null,0.1]
[]
[]
[null,null,null,null,null,{"$f":"IF(_Mtech!G2=1,Z5,K11)*(1+K20)","v":{"$error":"#DIV/0!"}}]
[null,null,"Corrected population",null,null,{"$f":"K15*IF(_Mtech!G2=1,Z5,K11)","v":{"$error":"#DIV/0!"}}]
[null,null,"Eligible population",null,null,{"$f":"K23*F46","v":{"$error":"#DIV/0!"}},{"$f":"M23*F46","v":{"$error":"#DIV/0!"}},null,"Not eligible",null,{"$f":"F47-F48","v":{"$error":"#DIV/0!"}}]
[false,null,"Referred population",null,null,{"$f":"K27*F48","v":{"$error":"#DIV/0!"}},{"$f":"K27*G48","v":{"$error":"#DIV/0!"}},null,"Not referred",null,{"$f":"F48-F49","v":{"$error":"#DIV/0!"}}]
[null,null,"Started population",null,null,{"$f":"K33*F49","v":{"$error":"#DIV/0!"}},{"$f":"K33*G49","v":{"$error":"#DIV/0!"}},null,"Not started ",null,{"$f":"F49-F50","v":{"$error":"#DIV/0!"}}]
[null,null,"Completed population",null,null,{"$f":"IF(A49,(K38*F50)+(K43*F50*K38),K38*F50)","v":{"$error":"#DIV/0!"}},{"$f":"IF(A49,(K38*G50)+(K43*G50*K38),K38*G50)","v":{"$error":"#DIV/0!"}},null,"Not completed",null,{"$error":"#DIV/0!"}]
[]
[null,null,{"$f":"\"patients completing PR in \n\"&IF(_Mtech!$G$2=1,CalculationSheet!B1,B12)","v":"patients completing PR in \nEngland"}]
[null,null,{"$f":"IF(_Mtech!G2=1,IF(dataLookup1!C2=0,dataLookup1!B9,IF(dataLookup1!D2=0,dataLookup1!B10,IF(dataLookup1!E2=0,dataLookup1!B11,dataLookup1!B12))),B12)","v":"England"}]

{"sheet":"incidentPopulationFunnel","index":9,"n_rows":47,"n_cols":30,"rows_kept":47,"cut":false,"hidden":true,"merged":[[30,16,30,18],[8,10,8,12],[9,3,9,5],[9,7,9,8],[10,7,10,8],[15,6,15,7],[10,10,10,11],[9,10,9,11],[17,1,18,5],[18,6,18,7],[21,6,21,7],[24,6,24,7],[27,16,27,18]]}
[null,null,null,null,null,null,null,null,null,null,null,null,null,null,null,null,null,null,null,null,null,null,null,2,null,1,2,1,null,1]
[null,null,null,null,null,null,null,null,null,null,null,null,null,null,null,null,null,null,null,null,null,{"$f":"IF(dataLookup1!D2=0,\"\",\"ICB:\")","v":""},null,{"$f":"IF(dataLookup1!D2=0,\"\",dataLookup1!B11)","v":""},null,null,null,null,2]
[null,null,null,null,null,null,null,null,null,null,null,null,null,null,null,null,null,null,null,null,null,{"$f":"IF(dataLookup1!E2=0,\"\",\"Sub ICB:\")","v":""},null,{"$f":"IF(dataLookup1!E2=0,\"\",dataLookup1!B12)","v":""}]
[null,null,null,null,null,null,null,null,null,null,null,null,null,null,null,null,null,null,null,null,null,null,null,{"$f":"IF(dashboard!X1=1,CalculationSheet!C132,CalculationSheet!F132)","v":{"$error":"#DIV/0!"}}]
[null,null,null,null,null,null,null,null,null,null,null,null,null,null,null,null,null,null,null,null,null,null,null,{"$f":"IF(dashboard!X1=1,CalculationSheet!I132,CalculationSheet!L132)","v":{"$error":"#DIV/0!"}}]
[null,null,null,null,null,null,null,null,null,null,null,null,null,null,null,null,null,null,null,null,null,null,null,{"$f":"IF(dataLookup1!B2=1,dataLookup1!B9,dataLookup1!B10)","v":""}]
[]
[]
[]
[{"$f":"IF(_Mtech!G2=1,FALSE,TRUE)","v":false},"Practice name: ",null,{"$f":"populationFunnel!F10","v":0},null,null,null,{"$f":"populationFunnel!K10","v":1000},null,null,1.5E-3,null,null,{"$f":"H10*K10","v":1.5}]
[{"$f":"IF(_Mtech!G2=1,TRUE,FALSE)","v":true},null,null,null,null,null,null,{"$f":"incidentPopulationFunnel!X4","v":{"$error":"#DIV/0!"}},null,null,1.5E-3,null,null,{"$f":"H11*K11","v":{"$error":"#DIV/0!"}}]
[]
[]
[]
[]
[null,null,null,null,null,null,{"$f":"CPRD_regressionCoefficients!AF16","v":0.4098285689691144}]
[]
[null,"Factors that will influence referral, uptake and completion rates for PR",null,null,null,null,null,null,null,null,null,null,null,null,null,null,null,null,null,null,null,null,null,null,null,null,null,{"$f":"INDEX(popdata!$I$3:$I$6,AB1)","v":"North of England"}]
[null,null,null,null,null,null,{"$f":"CPRD_regressionCoefficients!AF17","v":8.1974823300781097E-2}]
[null,null,"Average age",null,30]
[null,null,"Average % male",null,0.5]
[null,null,"Average IMD decile",null,5,null,{"$f":"CPRD_regressionCoefficients!AF18","v":0.29647223220076635}]
[null,null,"Ethnicity placeholder"]
[null,null,"White British",null,0.3]
[null,null,null,null,null,null,{"$f":"CPRD_regressionCoefficients!#REF!","v":{"$error":"#REF!"}}]
[]
[]
[]
[]
[]
[]
[]
[]
[null,"*PR, pulmonary rehabilitation"]
[]
[]
[]
[]
[]
[null,null,"Corrected population",null,{"$f":"IF(_Mtech!G2=1,N11,N10)","v":{"$error":"#DIV/0!"}}]
[null,null,"Eligible population",null,{"$f":"G16*E40","v":{"$error":"#DIV/0!"}},null,"Not eligible",null,{"$f":"E40-E41","v":{"$error":"#DIV/0!"}}]
[null,null,"Referred population",null,{"$f":"G19*E41","v":{"$error":"#DIV/0!"}},null,"Not referred",null,{"$f":"E41-E42","v":{"$error":"#DIV/0!"}}]
[null,null,"Started population",null,{"$f":"G22*E42","v":{"$error":"#DIV/0!"}},null,"Not started ",null,{"$error":"#DIV/0!"}]
[null,null,"Completed population",null,{"$f":"G25*E43","v":{"$error":"#REF!"}},null,"Not completed",null,{"$error":"#DIV/0!"}]
[]
[null,null,{"$f":"\"patients completed PR in \n\"&C47","v":"patients completed PR in \nEngland"}]
[null,null,{"$f":"IF(_Mtech!G2=1,IF(dataLookup1!C2=0,dataLookup1!B9,IF(dataLookup1!D2=0,dataLookup1!B10,IF(dataLookup1!E2=0,dataLookup1!B11,dataLookup1!B12))),populationFunnel!F10)","v":"England"}]

{"sheet":"PulmonaryRehabGraph","index":10,"n_rows":25,"n_cols":33,"rows_kept":25,"cut":false,"hidden":true,"merged":[[4,7,6,16],[10,6,10,9],[36,1,36,3],[36,5,37,6],[30,1,31,3],[30,5,31,5],[30,6,31,6],[33,1,34,3],[33,5,34,6],[14,1,15,1],[12,2,12,3],[16,2,16,3],[18,2,18,3],[20,2,20,3],[24,2,24,3]]}
[1,null,null,null,null,null,null,null,null,null,null,null,null,null,null,null,null,null,null,null,null,null,null,1,1,null,null,null,null,null,null,true,{"$f":"IF(AF1=TRUE,1,0)","v":1}]
[null,null,null,null,null,null,null,null,null,null,null,null,null,null,null,null,null,null,null,null,null,null,null,null,null,null,null,null,null,null,null,true,{"$f":"IF(AF2=TRUE,1,0)","v":1}]
[null,null,null,null,null,null,null,null,null,null,null,null,null,null,null,null,null,null,null,null,null,null,null,null,null,null,null,null,null,null,null,true,1]
[null,null,null,null,null,null,null,null,null,null,null,null,null,null,null,null,null,null,null,null,null,null,null,"Linear",null,null,null,null,null,null,null,true,{"$f":"IF(AF4=TRUE,1,0)","v":1}]
[null,null,null,null,null,null,null,{"$f":"PulmonaryRehabGraph!$Y$7","v":"Projected pulmonary rehabilitation trends for \nEngland"},null,null,null,null,null,null,null,null,null,null,null,null,null,null,null,"Logarithmic"]
[]
[null,null,null,null,null,null,null,null,null,null,null,null,null,null,null,null,null,null,null,null,null,null,null,null,{"$f":"\"Projected pulmonary rehabilitation trends for \n\"&populationFunnel!C54","v":"Projected pulmonary rehabilitation trends for \nEngland"}]
[null,null,null,null,null,null,null,null,null,null,null,null,null,null,null,null,null,null,null,null,null,null,null,null,{"$f":"_xlfn.XLOOKUP(_Mtech!B26,_Mtech!E12:G12,_Mtech!E13:G13)","v":"ICSs "}]
[]
[]
[null,null,null,null,null,null,"ERROR: cannot choose start year later than or equal to end year"]
[]
[null,null,"COPD register size",null,null,null,null,null,null,null,null,null,null,null,null,null,null,null,null,null,null,null,null,{"$f":"IF(_Mtech!B26<>2,1,2)","v":2}]
[]
[null,null,null,null,null,null,"ERROR: cannot choose start year earlier than or equal to end year"]
[]
[null,null,"Eligible"]
[]
[null,null,"Referral "]
[]
[null,null,"Uptake"]
[]
[]
[]
[null,null,"Completion"]

{"sheet":"PulmonaryRehabTable","index":11,"n_rows":37,"n_cols":12,"rows_kept":37,"cut":false,"hidden":true,"merged":[[19,18,19,20],[9,4,10,9],[18,2,19,2],[18,3,19,5],[18,6,19,8],[18,9,19,11],[18,12,19,14],[18,15,19,17]]}
[]
[]
[]
[]
[]
[]
[]
[]
[]
[null,null,null,null,{"$f":"\"Projected pulmonary rehabilitation trends \nfor \"&populationFunnel!C54","v":"Projected pulmonary rehabilitation trends \nfor England"}]
[]
[null,null,null,1,2,3,4,5,6,7,8,9]
[null,null,null,2022,2023,2024,2025,2026,2027,2028,2029,2030]
[null,null,"Number of patients on COPD register",{"$f":"IF(dashboard!$X$1=1,CalculationSheet!$O132,CalculationSheet!$P132)","v":{"$error":"#DIV/0!"}},{"$f":"IF(dashboard!$X$1=1,CalculationSheet!$O133,CalculationSheet!$P133)","v":{"$error":"#DIV/0!"}},{"$f":"IF(dashboard!$X$1=1,CalculationSheet!$O134,CalculationSheet!$P134)","v":{"$error":"#DIV/0!"}},{"$f":"IF(dashboard!$X$1=1,CalculationSheet!$O135,CalculationSheet!$P135)","v":{"$error":"#DIV/0!"}},{"$f":"IF(dashboard!$X$1=1,CalculationSheet!$O136,CalculationSheet!$P136)","v":{"$error":"#DIV/0!"}},{"$f":"IF(dashboard!$X$1=1,CalculationSheet!$O137,CalculationSheet!$P137)","v":{"$error":"#DIV/0!"}},{"$f":"IF(dashboard!$X$1=1,CalculationSheet!$O138,CalculationSheet!$P138)","v":{"$error":"#DIV/0!"}},{"$f":"IF(dashboard!$X$1=1,CalculationSheet!$O139,CalculationSheet!$P139)","v":{"$error":"#DIV/0!"}},{"$f":"IF(dashboard!$X$1=1,CalculationSheet!$O140,CalculationSheet!$P140)","v":{"$error":"#DIV/0!"}}]
[null,null,"Number of patients eligible for PR",{"$f":"IF(dashboard!$X$1=1,CalculationSheet!Q132,CalculationSheet!R132)","v":{"$error":"#DIV/0!"}},{"$f":"IF(dashboard!$X$1=1,CalculationSheet!Q133,CalculationSheet!R133)","v":{"$error":"#DIV/0!"}},{"$f":"IF(dashboard!$X$1=1,CalculationSheet!$Q134,CalculationSheet!$R134)","v":{"$error":"#DIV/0!"}},{"$f":"IF(dashboard!$X$1=1,CalculationSheet!$Q135,CalculationSheet!$R135)","v":{"$error":"#DIV/0!"}},{"$f":"IF(dashboard!$X$1=1,CalculationSheet!$Q136,CalculationSheet!$R136)","v":{"$error":"#DIV/0!"}},{"$f":"IF(dashboard!$X$1=1,CalculationSheet!$Q137,CalculationSheet!$R137)","v":{"$error":"#DIV/0!"}},{"$f":"IF(dashboard!$X$1=1,CalculationSheet!$Q138,CalculationSheet!$R138)","v":{"$error":"#DIV/0!"}},{"$f":"IF(dashboard!$X$1=1,CalculationSheet!$Q139,CalculationSheet!$R139)","v":{"$error":"#DIV/0!"}},{"$f":"IF(dashboard!$X$1=1,CalculationSheet!$Q140,CalculationSheet!$R140)","v":{"$error":"#DIV/0!"}}]
[null,null,"Number of patients referred to PR",{"$f":"IF(dashboard!$X$1=1,CalculationSheet!$S$132,CalculationSheet!$T$132)","v":{"$error":"#DIV/0!"}},{"$f":"IF(dashboard!$X$1=1,CalculationSheet!$S133,CalculationSheet!$T133)","v":{"$error":"#DIV/0!"}},{"$f":"IF(dashboard!$X$1=1,CalculationSheet!$S134,CalculationSheet!$T134)","v":{"$error":"#DIV/0!"}},{"$f":"IF(dashboard!$X$1=1,CalculationSheet!$S135,CalculationSheet!$T135)","v":{"$error":"#DIV/0!"}},{"$f":"IF(dashboard!$X$1=1,CalculationSheet!$S136,CalculationSheet!$T136)","v":{"$error":"#DIV/0!"}},{"$f":"IF(dashboard!$X$1=1,CalculationSheet!$S137,CalculationSheet!$T137)","v":{"$error":"#DIV/0!"}},{"$f":"IF(dashboard!$X$1=1,CalculationSheet!$S138,CalculationSheet!$T138)","v":{"$error":"#DIV/0!"}},{"$f":"IF(dashboard!$X$1=1,CalculationSheet!$S139,CalculationSheet!$T139)","v":{"$error":"#DIV/0!"}},{"$f":"IF(dashboard!$X$1=1,CalculationSheet!$S140,CalculationSheet!$T140)","v":{"$error":"#DIV/0!"}}]
[null,null,"Number of patients who start PR",{"$f":"IF(dashboard!$X$1=1,CalculationSheet!$U132,CalculationSheet!$V132)","v":{"$error":"#DIV/0!"}},{"$f":"IF(dashboard!$X$1=1,CalculationSheet!$U133,CalculationSheet!$V133)","v":{"$error":"#DIV/0!"}},{"$f":"IF(dashboard!$X$1=1,CalculationSheet!$U134,CalculationSheet!$V134)","v":{"$error":"#DIV/0!"}},{"$f":"IF(dashboard!$X$1=1,CalculationSheet!$U135,CalculationSheet!$V135)","v":{"$error":"#DIV/0!"}},{"$f":"IF(dashboard!$X$1=1,CalculationSheet!$U136,CalculationSheet!$V136)","v":{"$error":"#DIV/0!"}},{"$f":"IF(dashboard!$X$1=1,CalculationSheet!$U137,CalculationSheet!$V137)","v":{"$error":"#DIV/0!"}},{"$f":"IF(dashboard!$X$1=1,CalculationSheet!$U138,CalculationSheet!$V138)","v":{"$error":"#DIV/0!"}},{"$f":"IF(dashboard!$X$1=1,CalculationSheet!$U139,CalculationSheet!$V139)","v":{"$error":"#DIV/0!"}},{"$f":"IF(dashboard!$X$1=1,CalculationSheet!$U140,CalculationSheet!$V140)","v":{"$error":"#DIV/0!"}}]
[null,null,"Number of patients who complete PR",{"$f":"IF(dashboard!$X$1=1,CalculationSheet!$W132,CalculationSheet!$X132)","v":{"$error":"#DIV/0!"}},{"$f":"IF(dashboard!$X$1=1,CalculationSheet!$W133,CalculationSheet!$X133)","v":{"$error":"#DIV/0!"}},{"$f":"IF(dashboard!$X$1=1,CalculationSheet!$W134,CalculationSheet!$X134)","v":{"$error":"#DIV/0!"}},{"$f":"IF(dashboard!$X$1=1,CalculationSheet!$W135,CalculationSheet!$X135)","v":{"$error":"#DIV/0!"}},{"$f":"IF(dashboard!$X$1=1,CalculationSheet!$W136,CalculationSheet!$X136)","v":{"$error":"#DIV/0!"}},{"$f":"IF(dashboard!$X$1=1,CalculationSheet!$W137,CalculationSheet!$X137)","v":{"$error":"#DIV/0!"}},{"$f":"IF(dashboard!$X$1=1,CalculationSheet!$W138,CalculationSheet!$X138)","v":{"$error":"#DIV/0!"}},{"$f":"IF(dashboard!$X$1=1,CalculationSheet!$W139,CalculationSheet!$X139)","v":{"$error":"#DIV/0!"}},{"$f":"IF(dashboard!$X$1=1,CalculationSheet!$W140,CalculationSheet!$X140)","v":{"$error":"#DIV/0!"}}]
[]
[]
[]
[]
[]
[]
[]
[]
[]
["Maximum values",null,"Completion",{"$f":"MAX(D15:D18)","v":{"$error":"#DIV/0!"}},{"$f":"PulmonaryRehabGraph!$AG$4","v":1}]
[null,null,"Register",{"$f":"MAX(G15:G18)","v":{"$error":"#DIV/0!"}},{"$f":"PulmonaryRehabGraph!$AG4","v":1}]
[null,null,"Eligible",{"$f":"MAX(J15:J18)","v":{"$error":"#DIV/0!"}},{"$f":"PulmonaryRehabGraph!$AG1","v":1}]
[null,null,"Referal",{"$f":"MAX(M12:M17)","v":0},{"$f":"PulmonaryRehabGraph!$AG2","v":1}]
[null,null,"Uptake ",{"$f":"MAX(P12:P17)","v":0},{"$f":"PulmonaryRehabGraph!$AG3","v":1}]
[]
[]
[]
[]
[null,null,{"$f":"CEILING(_xlfn.MAXIFS(D29:D32,E29:E32,1),100)","v":{"$error":"#DIV/0!"}}]

{"sheet":"PulmonaryRehabTable1","index":12,"n_rows":40,"n_cols":17,"rows_kept":40,"cut":false,"hidden":true,"merged":[[22,19,22,21],[21,3,22,3],[21,7,22,9],[19,16,19,18],[16,16,16,18],[17,13,17,15],[17,16,17,18],[18,10,18,12],[18,13,18,15],[18,16,18,18],[16,4,16,6],[17,4,17,6],[18,4,18,6],[19,4,19,6],[20,4,20,6],[17,7,17,9],[10,10,10,12],[10,13,10,15],[20,16,20,18],[14,10,14,12],[14,13,14,15],[14,16,14,18],[15,10,15,12],[15,13,15,15],[15,16,15,18],[10,16,10,18],[17,10,17,12],[14,4,14,6],[11,16,11,18],[6,4,7,18],[21,10,22,12],[21,13,22,15],[21,16,22,18],[21,4,22,6],[11,4,11,6],[12,4,12,6],[13,4,13,6],[13,16,13,18],[12,7,12,9],[8,4,9,18],[10,4,10,6],[10,7,10,9],[15,4,15,6],[11,7,11,9],[12,10,12,12],[12,13,12,15],[12,16,12,18],[13,7,13,9],[13,10,13,12],[13,13,13,15],[11,10,11,12],[11,13,11,15],[14,7,14,9],[15,7,15,9],[16,7,16,9],[16,10,16,12],[16,13,16,15],[18,7,18,9],[19,7,19,9],[20,7,20,9],[20,10,20,12],[20,13,20,15],[19,10,19,12],[19,13,19,15]]}
[]
[]
[]
[]
[]
[]
[null,null,null,null,{"$f":"\"Projected pulmonary rehabilitation trends for\n \"&populationFunnel!C54","v":"Projected pulmonary rehabilitation trends for\n England"}]
[]
[null,null,null,null,"Patient numbers"]
[]
[null,null,null,null,"Number of patients who complete PR",null,null,"Predicted COPD register size",null,null,"Number of COPD patients eligible for PR",null,null,"Number of eligible COPD patients referred to PR",null,null,"Number of referred patients who start PR"]
[null,null,1,2022,{"$f":"IF(dashboard!$X$1=1,CalculationSheet!W132,CalculationSheet!X132)","v":{"$error":"#DIV/0!"}},null,null,{"$f":"IF(dashboard!$X$1=1,CalculationSheet!O132,CalculationSheet!P132)","v":{"$error":"#DIV/0!"}},null,null,{"$f":"IF(dashboard!$X$1=1,CalculationSheet!Q132,CalculationSheet!R132)","v":{"$error":"#DIV/0!"}},null,null,{"$f":"IF(dashboard!$X$1=1,CalculationSheet!S132,CalculationSheet!T132)","v":{"$error":"#DIV/0!"}},null,null,{"$f":"IF(dashboard!$X$1=1,CalculationSheet!U132,CalculationSheet!V132)","v":{"$error":"#DIV/0!"}}]
[null,null,2,2023,{"$f":"IF(dashboard!$X$1=1,CalculationSheet!W133,CalculationSheet!X133)","v":{"$error":"#DIV/0!"}},null,null,{"$f":"IF(dashboard!$X$1=1,CalculationSheet!O133,CalculationSheet!P133)","v":{"$error":"#DIV/0!"}},null,null,{"$f":"IF(dashboard!$X$1=1,CalculationSheet!Q133,CalculationSheet!R133)","v":{"$error":"#DIV/0!"}},null,null,{"$f":"IF(dashboard!$X$1=1,CalculationSheet!S133,CalculationSheet!T133)","v":{"$error":"#DIV/0!"}},null,null,{"$f":"IF(dashboard!$X$1=1,CalculationSheet!U133,CalculationSheet!V133)","v":{"$error":"#DIV/0!"}}]
[null,null,3,2024,{"$f":"IF(dashboard!$X$1=1,CalculationSheet!W134,CalculationSheet!X134)","v":{"$error":"#DIV/0!"}},null,null,{"$f":"IF(dashboard!$X$1=1,CalculationSheet!O134,CalculationSheet!P134)","v":{"$error":"#DIV/0!"}},null,null,{"$f":"IF(dashboard!$X$1=1,CalculationSheet!Q134,CalculationSheet!R134)","v":{"$error":"#DIV/0!"}},null,null,{"$f":"IF(dashboard!$X$1=1,CalculationSheet!S134,CalculationSheet!T134)","v":{"$error":"#DIV/0!"}},null,null,{"$f":"IF(dashboard!$X$1=1,CalculationSheet!U134,CalculationSheet!V134)","v":{"$error":"#DIV/0!"}}]
[null,null,4,2025,{"$f":"IF(dashboard!$X$1=1,CalculationSheet!W135,CalculationSheet!X135)","v":{"$error":"#DIV/0!"}},null,null,{"$f":"IF(dashboard!$X$1=1,CalculationSheet!O135,CalculationSheet!P135)","v":{"$error":"#DIV/0!"}},null,null,{"$f":"IF(dashboard!$X$1=1,CalculationSheet!Q135,CalculationSheet!R135)","v":{"$error":"#DIV/0!"}},null,null,{"$f":"IF(dashboard!$X$1=1,CalculationSheet!S135,CalculationSheet!T135)","v":{"$error":"#DIV/0!"}},null,null,{"$f":"IF(dashboard!$X$1=1,CalculationSheet!U135,CalculationSheet!V135)","v":{"$error":"#DIV/0!"}}]
[null,null,null,2026,{"$f":"IF(dashboard!$X$1=1,CalculationSheet!W136,CalculationSheet!X136)","v":{"$error":"#DIV/0!"}},null,null,{"$f":"IF(dashboard!$X$1=1,CalculationSheet!O136,CalculationSheet!P136)","v":{"$error":"#DIV/0!"}},null,null,{"$f":"IF(dashboard!$X$1=1,CalculationSheet!Q136,CalculationSheet!R136)","v":{"$error":"#DIV/0!"}},null,null,{"$f":"IF(dashboard!$X$1=1,CalculationSheet!S136,CalculationSheet!T136)","v":{"$error":"#DIV/0!"}},null,null,{"$f":"IF(dashboard!$X$1=1,CalculationSheet!U136,CalculationSheet!V136)","v":{"$error":"#DIV/0!"}}]
[null,null,5,2027,{"$f":"IF(dashboard!$X$1=1,CalculationSheet!W137,CalculationSheet!X137)","v":{"$error":"#DIV/0!"}},null,null,{"$f":"IF(dashboard!$X$1=1,CalculationSheet!O137,CalculationSheet!P137)","v":{"$error":"#DIV/0!"}},null,null,{"$f":"IF(dashboard!$X$1=1,CalculationSheet!Q137,CalculationSheet!R137)","v":{"$error":"#DIV/0!"}},null,null,{"$f":"IF(dashboard!$X$1=1,CalculationSheet!S137,CalculationSheet!T137)","v":{"$error":"#DIV/0!"}},null,null,{"$f":"IF(dashboard!$X$1=1,CalculationSheet!U137,CalculationSheet!V137)","v":{"$error":"#DIV/0!"}}]
[null,null,6,2028,{"$f":"IF(dashboard!$X$1=1,CalculationSheet!W138,CalculationSheet!X138)","v":{"$error":"#DIV/0!"}},null,null,{"$f":"IF(dashboard!$X$1=1,CalculationSheet!O138,CalculationSheet!P138)","v":{"$error":"#DIV/0!"}},null,null,{"$f":"IF(dashboard!$X$1=1,CalculationSheet!Q138,CalculationSheet!R138)","v":{"$error":"#DIV/0!"}},null,null,{"$f":"IF(dashboard!$X$1=1,CalculationSheet!S138,CalculationSheet!T138)","v":{"$error":"#DIV/0!"}},null,null,{"$f":"IF(dashboard!$X$1=1,CalculationSheet!U138,CalculationSheet!V138)","v":{"$error":"#DIV/0!"}}]
[null,null,7,2029,{"$f":"IF(dashboard!$X$1=1,CalculationSheet!W139,CalculationSheet!X139)","v":{"$error":"#DIV/0!"}},null,null,{"$f":"IF(dashboard!$X$1=1,CalculationSheet!O139,CalculationSheet!P139)","v":{"$error":"#DIV/0!"}},null,null,{"$f":"IF(dashboard!$X$1=1,CalculationSheet!Q139,CalculationSheet!R139)","v":{"$error":"#DIV/0!"}},null,null,{"$f":"IF(dashboard!$X$1=1,CalculationSheet!S139,CalculationSheet!T139)","v":{"$error":"#DIV/0!"}},null,null,{"$f":"IF(dashboard!$X$1=1,CalculationSheet!U139,CalculationSheet!V139)","v":{"$error":"#DIV/0!"}}]
[null,null,8,2030,{"$f":"IF(dashboard!$X$1=1,CalculationSheet!W140,CalculationSheet!X140)","v":{"$error":"#DIV/0!"}},null,null,{"$f":"IF(dashboard!$X$1=1,CalculationSheet!O140,CalculationSheet!P140)","v":{"$error":"#DIV/0!"}},null,null,{"$f":"IF(dashboard!$X$1=1,CalculationSheet!Q140,CalculationSheet!R140)","v":{"$error":"#DIV/0!"}},null,null,{"$f":"IF(dashboard!$X$1=1,CalculationSheet!S140,CalculationSheet!T140)","v":{"$error":"#DIV/0!"}},null,null,{"$f":"IF(dashboard!$X$1=1,CalculationSheet!U140,CalculationSheet!V140)","v":{"$error":"#DIV/0!"}}]
[]
[]
[null,null,10]
[]
[null,null,11]
[]
[]
[]
[]
[]
["Maximum values",null,null,"Completion",{"$f":"MAX(E12:E20)","v":{"$error":"#DIV/0!"}},{"$f":"PulmonaryRehabGraph!$AG$4","v":1}]
[null,null,null,"Register",{"$f":"MAX(H12:H20)","v":{"$error":"#DIV/0!"}},{"$f":"PulmonaryRehabGraph!$AG4","v":1}]
[null,null,null,"Eligible",{"$f":"MAX(K12:K20)","v":{"$error":"#DIV/0!"}},{"$f":"PulmonaryRehabGraph!$AG1","v":1}]
[null,null,null,"Referal",{"$f":"MAX(N12:N20)","v":{"$error":"#DIV/0!"}},{"$f":"PulmonaryRehabGraph!$AG2","v":1}]
[null,null,null,"Uptake ",{"$f":"MAX(Q12:Q20)","v":{"$error":"#DIV/0!"}},{"$f":"PulmonaryRehabGraph!$AG3","v":1}]
[]
[]
[]
[]
[null,null,null,{"$f":"CEILING(_xlfn.MAXIFS(E32:E35,F32:F35,1),100)","v":{"$error":"#DIV/0!"}}]

{"sheet":"comparisons","index":13,"n_rows":52,"n_cols":23,"rows_kept":52,"cut":false,"hidden":true,"merged":[[11,1,12,8]]}
[null,null,null,null,null,null,null,null,null,null,null,null,null,null,null,null,null,null,null,null,null,null,2]
[]
[]
[]
[]
[]
[]
[]
[]
[]
[]
[null,"Referral, uptake and completion: modelled population"]
[]
[null,null,"Eligible patients",null,null,null,{"$f":"populationFunnel!F48","v":{"$error":"#DIV/0!"}}]
[]
[null,null,"Referral",null,{"$f":"populationFunnel!K27","v":0.22539999999999999},null,{"$f":"populationFunnel!F49","v":{"$error":"#DIV/0!"}}]
[]
[null,null,"Uptake",null,{"$f":"populationFunnel!K33","v":0.30309999999999998},null,{"$f":"populationFunnel!F50","v":{"$error":"#DIV/0!"}}]
[]
[null,null,"Completion",null,{"$f":"populationFunnel!K38","v":0.68983022599999999},null,{"$f":"populationFunnel!F51","v":{"$error":"#DIV/0!"}}]
[null,{"$f":"IF(populationFunnel!$A$49,\"Completed populaton includes non-COPD uplift\",\"\")","v":""}]
[]
[]
[]
[null,{"$f":"B43","v":"Referral, uptake and completion: National Respiratory Audit Programme (NRAP)-recommended"}]
[]
[null,null,"Eligible patients",null,null,null,{"$f":"populationFunnel!F48","v":{"$error":"#DIV/0!"}}]
[]
[null,null,"Referal1",null,{"$f":"CPRD_regressionCoefficients!B103","v":0.94},null,{"$f":"E29*G27","v":{"$error":"#DIV/0!"}}]
[]
[null,null,"Uptake1",null,{"$f":"CPRD_regressionCoefficients!C103","v":0.56000000000000005},null,{"$f":"E31*G29","v":{"$error":"#DIV/0!"}}]
[]
[null,null,"Completion1",null,{"$f":"CPRD_regressionCoefficients!D103","v":0.79},null,{"$f":"IF(populationFunnel!A49=TRUE,((comparisons!E33*comparisons!G31)*(1+populationFunnel!K43)),comparisons!E33*comparisons!G31)","v":{"$error":"#DIV/0!"}}]
[null,{"$f":"IF(populationFunnel!$A$49,\"Completed populaton includes non-COPD uplift\",\"\")","v":""}]
[]
[]
[]
[]
[]
[]
[]
[]
[null,"Referral, uptake and completion: National Respiratory Audit Programme (NRAP)-recommended"]
[null,"Comparison between modelled and NRAP-recommended data"]
[null,"NRAP recommendations"]
[]
[]
[]
[null,"Not referred",{"$f":"G27-G29","v":{"$error":"#DIV/0!"}}]
[null,"Not started",{"$f":"G29-G31","v":{"$error":"#DIV/0!"}}]
[null,"Not completed",{"$f":"G31-G33","v":{"$error":"#DIV/0!"}}]
[null,"Total not completed PR",{"$f":"SUM(C49:C51)","v":{"$error":"#DIV/0!"}}]

{"sheet":"planning","index":14,"n_rows":44,"n_cols":33,"rows_kept":44,"cut":false,"hidden":false,"merged":[[17,16,19,18]]}
[]
[]
[]
[]
[null,null,null,null,null,null,null,null,null,null,null,null,null,null,null,null,null,null,null,null,null,null,{"$f":"W17*0.28","v":{"$error":"#DIV/0!"}}]
[]
[]
[]
[]
[null,null,null,null,{"$f":"CalculationSheet!E32","v":2025},null,{"$f":"E10+1","v":2026},null,{"$f":"G10+1","v":2027},null,{"$f":"I10+1","v":2028},null,{"$f":"K10+1","v":2029},null,{"$f":"M10+1","v":2030}]
[null,null,null,null,null,null,null,null,null,null,null,null,null,null,null,null,null,null,null,null,null,2023,{"$f":"E10-1","v":2024},{"$f":"E10","v":2025},{"$f":"E10+1","v":2026},null,{"$f":"Y11+1","v":2027},null,{"$f":"Y11+2","v":2028},null,{"$f":"Y11+3","v":2029},null,{"$f":"Y11+4","v":2030}]
[null,null,null,null,null,null,null,null,null,null,null,null,null,null,null,null,null,null,null,null,"Not referred",{"$f":"V18-V19","v":{"$error":"#DIV/0!"}},{"$f":"W18-W19","v":{"$error":"#DIV/0!"}},{"$f":"X18-X19","v":{"$error":"#DIV/0!"}},{"$f":"Y18-Y19","v":{"$error":"#DIV/0!"}},null,{"$f":"I14-I16","v":{"$error":"#DIV/0!"}},null,{"$f":"K14-K16","v":{"$error":"#DIV/0!"}},null,{"$f":"M14-M16","v":{"$error":"#DIV/0!"}},null,{"$f":"O14-O16","v":{"$error":"#DIV/0!"}}]
[null,null,null,null,null,null,null,null,null,null,null,null,null,null,null,null,null,null,null,null,"Not started",{"$f":"V19-V20","v":{"$error":"#DIV/0!"}},{"$f":"W19-W20","v":{"$error":"#DIV/0!"}},{"$f":"X19-X20","v":{"$error":"#DIV/0!"}},{"$error":"#DIV/0!"},null,{"$f":"I16-I18","v":{"$error":"#DIV/0!"}},null,{"$f":"K16-K18","v":{"$error":"#DIV/0!"}},null,{"$f":"M16-M18","v":{"$error":"#DIV/0!"}},null,{"$f":"O16-O18","v":{"$error":"#DIV/0!"}}]
[null,null,"Modelled total number of patients \nrequiring PR",null,{"$f":"populationFunnel!F48","v":{"$error":"#DIV/0!"}},null,{"$f":"Y18","v":{"$error":"#DIV/0!"}},null,{"$f":"AA18","v":{"$error":"#DIV/0!"}},null,{"$f":"AC18","v":{"$error":"#DIV/0!"}},null,{"$f":"AE18","v":{"$error":"#DIV/0!"}},null,{"$f":"AG18","v":{"$error":"#DIV/0!"}},null,null,null,null,null,"Not completed",{"$f":"V20-V21","v":{"$error":"#DIV/0!"}},{"$f":"W20-W21","v":{"$error":"#DIV/0!"}},{"$f":"X20-X21","v":{"$error":"#DIV/0!"}},{"$error":"#DIV/0!"},null,{"$f":"I18-I20","v":{"$error":"#DIV/0!"}},null,{"$f":"K18-K20","v":{"$error":"#DIV/0!"}},null,{"$f":"M18-M20","v":{"$error":"#DIV/0!"}},null,{"$f":"O18-O20","v":{"$error":"#DIV/0!"}}]
[null,null,null,null,null,null,null,null,null,null,null,null,null,null,null,null,null,null,null,null,"Total who did not complete PR",{"$f":"SUM(V12:V14)","v":{"$error":"#DIV/0!"}},{"$f":"SUM(W12:W14)","v":{"$error":"#DIV/0!"}},{"$f":"SUM(X12:X14)","v":{"$error":"#DIV/0!"}},{"$error":"#DIV/0!"},null,{"$f":"SUM(AA12:AA14)","v":{"$error":"#DIV/0!"}},null,{"$error":"#DIV/0!"},null,{"$error":"#DIV/0!"},null,{"$error":"#DIV/0!"}]
[null,null,"Modelled number of patients who are referred to PR",null,{"$f":"populationFunnel!F49","v":{"$error":"#DIV/0!"}},null,{"$f":"Y19","v":{"$error":"#DIV/0!"}},null,{"$f":"AA19","v":{"$error":"#DIV/0!"}},null,{"$f":"AC19","v":{"$error":"#DIV/0!"}},null,{"$f":"AE19","v":{"$error":"#DIV/0!"}},null,{"$f":"AG19","v":{"$error":"#DIV/0!"}},null,null,null,null,null,null,null,1,2,3,null,4,null,5,null,6,null,7]
[null,null,null,null,null,null,null,null,null,null,null,null,null,null,null,null,null,null,null,null,null,{"$f":"(IF(dashboard!W1=1,_xlfn.XLOOKUP((CalculationSheet!E32-2), CalculationSheet!A115:A140, CalculationSheet!I115:I140),_xlfn.XLOOKUP(CalculationSheet!E32-2, CalculationSheet!A115:A140, CalculationSheet!L115:L140)))*1.26","v":{"$error":"#DIV/0!"}},{"$f":"(IF(dashboard!X1=1,_xlfn.XLOOKUP((CalculationSheet!E32-1), CalculationSheet!A115:A140, CalculationSheet!I115:I140),_xlfn.XLOOKUP(CalculationSheet!E32-1, CalculationSheet!A115:A140, CalculationSheet!L115:L140)))*1.26","v":{"$error":"#DIV/0!"}},{"$f":"(IF(dashboard!X1=1,_xlfn.XLOOKUP((CalculationSheet!E32), CalculationSheet!A115:A140, CalculationSheet!I115:I140),_xlfn.XLOOKUP(CalculationSheet!E32, CalculationSheet!A115:A140, CalculationSheet!L115:L140)))*1.26","v":{"$error":"#DIV/0!"}},{"$f":"(IF(dashboard!X1=1,_xlfn.XLOOKUP((CalculationSheet!E32+1), CalculationSheet!A115:A140, CalculationSheet!I115:I140),_xlfn.XLOOKUP(CalculationSheet!E32+1, CalculationSheet!A115:A140, CalculationSheet!L115:L140)))*1.26","v":{"$error":"#DIV/0!"}},null,{"$f":"(IF(dashboard!X1=1,_xlfn.XLOOKUP((CalculationSheet!E32+2), CalculationSheet!A115:A140, CalculationSheet!I115:I140),_xlfn.XLOOKUP(CalculationSheet!E32+2, CalculationSheet!A115:A140, CalculationSheet!L115:L140)))*1.26","v":{"$error":"#DIV/0!"}},null,{"$f":"(IF(dashboard!X1=1,_xlfn.XLOOKUP((CalculationSheet!E32+3), CalculationSheet!A115:A140, CalculationSheet!I115:I140),_xlfn.XLOOKUP(CalculationSheet!E32+3, CalculationSheet!A115:A140, CalculationSheet!L115:L140)))*1.26","v":{"$error":"#DIV/0!"}},null,{"$f":"(IF(dashboard!X1=1,_xlfn.XLOOKUP((CalculationSheet!E32+4), CalculationSheet!A115:A140, CalculationSheet!I115:I140),_xlfn.XLOOKUP(CalculationSheet!E32+4, CalculationSheet!A115:A140, CalculationSheet!L115:L140)))*1.26","v":{"$error":"#DIV/0!"}},null,{"$f":"(IF(dashboard!X1=1,_xlfn.XLOOKUP((CalculationSheet!E32+5), CalculationSheet!A115:A140, CalculationSheet!I115:I140),_xlfn.XLOOKUP(CalculationSheet!E32+5, CalculationSheet!A115:A140, CalculationSheet!L115:L140)))*1.26","v":{"$error":"#DIV/0!"}}]
[null,null,"Modelled number of patients who start PR",null,{"$f":"populationFunnel!F50","v":{"$error":"#DIV/0!"}},null,{"$f":"Y20","v":{"$error":"#DIV/0!"}},null,{"$f":"AA20","v":{"$error":"#DIV/0!"}},null,{"$f":"AC20","v":{"$error":"#DIV/0!"}},null,{"$f":"AE20","v":{"$error":"#DIV/0!"}},null,{"$f":"AG20","v":{"$error":"#DIV/0!"}},null,null,null,null,null,null,{"$f":"V17*populationFunnel!$K$23","v":{"$error":"#DIV/0!"}},{"$f":"W17*populationFunnel!$K$23","v":{"$error":"#DIV/0!"}},{"$f":"X17*populationFunnel!$K$23","v":{"$error":"#DIV/0!"}},{"$f":"Y17*populationFunnel!$K$23","v":{"$error":"#DIV/0!"}},null,{"$f":"AA17*populationFunnel!$K$23","v":{"$error":"#DIV/0!"}},null,{"$f":"AC17*populationFunnel!$K$23","v":{"$error":"#DIV/0!"}},null,{"$f":"AE17*populationFunnel!$K$23","v":{"$error":"#DIV/0!"}},null,{"$f":"AG17*populationFunnel!$K$23","v":{"$error":"#DIV/0!"}}]
[null,null,null,null,null,null,null,null,null,null,null,null,null,null,null,null,null,null,null,null,null,{"$f":"V18*populationFunnel!$K$27","v":{"$error":"#DIV/0!"}},{"$f":"W18*populationFunnel!$K$27","v":{"$error":"#DIV/0!"}},{"$f":"X18*populationFunnel!$K$27","v":{"$error":"#DIV/0!"}},{"$f":"Y18*populationFunnel!$K$27","v":{"$error":"#DIV/0!"}},null,{"$f":"AA18*populationFunnel!$K$27","v":{"$error":"#DIV/0!"}},null,{"$f":"AC18*populationFunnel!$K$27","v":{"$error":"#DIV/0!"}},null,{"$f":"AE18*populationFunnel!$K$27","v":{"$error":"#DIV/0!"}},null,{"$f":"AG18*populationFunnel!$K$27","v":{"$error":"#DIV/0!"}}]
[null,null,"Modelled number of patients who complete PR",null,{"$f":"populationFunnel!F51","v":{"$error":"#DIV/0!"}},null,{"$f":"Y21","v":{"$error":"#DIV/0!"}},null,{"$f":"AA21","v":{"$error":"#DIV/0!"}},null,{"$f":"AC21","v":{"$error":"#DIV/0!"}},null,{"$f":"AE21","v":{"$error":"#DIV/0!"}},null,{"$f":"AG21","v":{"$error":"#DIV/0!"}},null,null,null,null,null,null,{"$f":"V19*populationFunnel!$K$33","v":{"$error":"#DIV/0!"}},{"$f":"W19*populationFunnel!$K$33","v":{"$error":"#DIV/0!"}},{"$f":"X19*populationFunnel!$K$33","v":{"$error":"#DIV/0!"}},{"$f":"Y19*populationFunnel!$K$33","v":{"$error":"#DIV/0!"}},null,{"$f":"AA19*populationFunnel!$K$33","v":{"$error":"#DIV/0!"}},null,{"$f":"AC19*populationFunnel!$K$33","v":{"$error":"#DIV/0!"}},null,{"$f":"AE19*populationFunnel!$K$33","v":{"$error":"#DIV/0!"}},null,{"$f":"AG19*populationFunnel!$K$33","v":{"$error":"#DIV/0!"}}]
[null,null,null,null,null,null,1,null,2,null,3,null,4,null,5,null,null,null,null,null,null,{"$f":"IF(populationFunnel!$A$49=\"FALSE\",(populationFunnel!$K$38*planning!V20)+(populationFunnel!$K$43*planning!V20*populationFunnel!$K$38),populationFunnel!$K$38*planning!V20)","v":{"$error":"#DIV/0!"}},{"$f":"IF(populationFunnel!$A$49=\"FALSE\",(populationFunnel!$K$38*planning!W20)+(populationFunnel!$K$43*planning!W20*populationFunnel!$K$38),populationFunnel!$K$38*planning!W20)","v":{"$error":"#DIV/0!"}},{"$f":"IF(populationFunnel!$A$49=\"FALSE\",(populationFunnel!$K$38*planning!X20)+(populationFunnel!$K$43*planning!X20*populationFunnel!$K$38),populationFunnel!$K$38*planning!X20)","v":{"$error":"#DIV/0!"}},{"$f":"IF(populationFunnel!$A$49=\"FALSE\",(populationFunnel!$K$38*planning!Y20)+(populationFunnel!$K$43*planning!Y20*populationFunnel!$K$38),populationFunnel!$K$38*planning!Y20)","v":{"$error":"#DIV/0!"}},null,{"$f":"IF(populationFunnel!$A$49=\"FALSE\",(populationFunnel!$K$38*planning!AA20)+(populationFunnel!$K$43*planning!AA20*populationFunnel!$K$38),populationFunnel!$K$38*planning!AA20)","v":{"$error":"#DIV/0!"}},null,{"$f":"IF(populationFunnel!$A$49=\"FALSE\",(populationFunnel!$K$38*planning!AC20)+(populationFunnel!$K$43*planning!AC20*populationFunnel!$K$38),populationFunnel!$K$38*planning!AC20)","v":{"$error":"#DIV/0!"}},null,{"$f":"IF(populationFunnel!$A$49=\"FALSE\",(populationFunnel!$K$38*planning!AE20)+(populationFunnel!$K$43*planning!AE20*populationFunnel!$K$38),populationFunnel!$K$38*planning!AE20)","v":{"$error":"#DIV/0!"}},null,{"$f":"IF(populationFunnel!$A$49=\"FALSE\",(populationFunnel!$K$38*planning!AG20)+(populationFunnel!$K$43*planning!AG20*populationFunnel!$K$38),populationFunnel!$K$38*planning!AG20)","v":{"$error":"#DIV/0!"}}]
[null,null,null,null,null,null,null,null,null,null,null,null,null,null,null,null,null,null,null,null,null,null,1,2,3,null,4,null,5,null,6,null,7]
[null,null,"Number of commissioned places for PR"]
[]
[null,null,"In-year unmet population need ",null,{"$f":"IFERROR(E20-E23,E20)","v":{"$error":"#DIV/0!"}},null,{"$f":"IFERROR(G20-G23,G20)","v":{"$error":"#DIV/0!"}},null,{"$f":"IFERROR(I20-I23,I20)","v":{"$error":"#DIV/0!"}},null,{"$f":"IFERROR(K20-K23,K20)","v":{"$error":"#DIV/0!"}},null,{"$f":"IFERROR(M20-M23,M20)","v":{"$error":"#DIV/0!"}},null,{"$f":"IFERROR(O20-O23,O20)","v":{"$error":"#DIV/0!"}}]
[{"$f":"\"The five-year view for \"&populationFunnel!C54&\" (modelled population)\"","v":"The five-year view for England (modelled population)"}]
[]
[]
[]
[]
[]
[1]
["Register"]
["Eligible",null,null,null,null,null,null,null,null,null,null,null,null,null,"incident patients"]
["Refer",null,null,null,null,null,null,null,null,null,null,null,null,null,"*"]
[null,null,null,null,null,null,null,null,null,null,null,null,null,null,"eligibility"]
[null,null,null,null,null,null,null,null,null,null,null,null,null,null,"+"]
[null,null,null,null,null,null,null,null,null,null,null,null,null,null,"remaining number eligible from last year"]
[null,null,null,null,null,null,null,null,null,null,null,null,null,null,"-"]
[null,null,null,null,null,null,null,null,null,null,null,null,null,null,"number of completers"]
[null,null,null,null,null,null,null,null,null,null,null,null,null,null,"-"]
[null,null,null,null,null,null,null,null,null,null,null,null,null,null,"mortality"]
[null,null,null,null,null,null,null,null,null,null,null,null,null,null,"="]
[null,null,null,null,null,null,null,null,null,null,null,null,null,null,"number requiring PR"]

{"sheet":"comparisonsPlanning","index":15,"n_rows":44,"n_cols":28,"rows_kept":44,"cut":false,"hidden":true,"merged":[[19,19,19,21]]}
[]
[]
[]
[]
[]
[]
[]
[]
[]
[null,null,null,null,2023,null,{"$f":"E10+1","v":2024},null,{"$f":"G10+1","v":2025},null,{"$f":"I10+1","v":2026},null,{"$f":"K10+1","v":2027},null,{"$f":"M10+1","v":2028}]
[]
[null,null,null,null,null,null,null,null,null,null,null,null,null,null,null,null,null,null,null,null,null,2023,null,2024,null,2025,null,2026]
[null,null,null,null,null,null,null,null,null,null,null,null,null,null,null,null,null,null,null,null,"Not referred",{"$f":"G14-G16","v":{"$error":"#DIV/0!"}},null,{"$f":"I14-I16","v":{"$error":"#DIV/0!"}},null,{"$error":"#DIV/0!"},null,{"$error":"#DIV/0!"}]
[null,null,"Modelled total number of patients \nrequiring PR",null,{"$f":"comparisons!G27","v":{"$error":"#DIV/0!"}},null,{"$f":"comparisonsPlanningPopUp!G26","v":{"$error":"#DIV/0!"}},null,{"$f":"comparisonsPlanningPopUp!I26","v":{"$error":"#DIV/0!"}},null,{"$f":"comparisonsPlanningPopUp!K26","v":{"$error":"#DIV/0!"}},null,{"$f":"comparisonsPlanningPopUp!M26","v":{"$error":"#DIV/0!"}},null,{"$f":"comparisonsPlanningPopUp!O26","v":{"$error":"#DIV/0!"}},null,null,null,null,null,"Not started",{"$f":"G16-G18","v":{"$error":"#DIV/0!"}},null,{"$f":"I16-I18","v":{"$error":"#DIV/0!"}},null,{"$error":"#DIV/0!"},null,{"$error":"#DIV/0!"}]
[null,null,null,null,null,null,null,null,null,null,null,null,null,null,null,null,null,null,null,null,"Not completed",{"$f":"G18-G20","v":{"$error":"#DIV/0!"}},null,{"$f":"I18-I20","v":{"$error":"#DIV/0!"}},null,{"$error":"#DIV/0!"},null,{"$error":"#DIV/0!"}]
[null,null,"Modelled number of patients who are referred to PR",null,{"$f":"comparisons!G29","v":{"$error":"#DIV/0!"}},null,{"$f":"comparisonsPlanningPopUp1!I15*comparisonsPlanning!G14","v":{"$error":"#DIV/0!"}},null,{"$f":"comparisonsPlanningPopUp1!K15*comparisonsPlanning!I14","v":{"$error":"#DIV/0!"}},null,{"$f":"comparisonsPlanningPopUp1!M15*comparisonsPlanning!K14","v":{"$error":"#DIV/0!"}},null,{"$f":"comparisonsPlanningPopUp1!O15*comparisonsPlanning!M14","v":{"$error":"#DIV/0!"}},null,{"$f":"comparisonsPlanningPopUp1!Q15*comparisonsPlanning!O14","v":{"$error":"#DIV/0!"}},null,null,null,null,null,"Total",{"$f":"SUM(V13:V15)","v":{"$error":"#DIV/0!"}},null,{"$f":"SUM(X13:X15)","v":{"$error":"#DIV/0!"}},null,{"$error":"#DIV/0!"},null,{"$error":"#DIV/0!"}]
[]
[null,null,"Modelled number of patients who start PR",null,{"$f":"comparisons!G31","v":{"$error":"#DIV/0!"}},null,{"$f":"planningPopUp1!I18*comparisonsPlanning!G16","v":{"$error":"#DIV/0!"}},null,{"$f":"comparisonsPlanningPopUp1!K18*comparisonsPlanning!I16","v":{"$error":"#DIV/0!"}},null,{"$f":"comparisonsPlanningPopUp1!M18*comparisonsPlanning!K16","v":{"$error":"#DIV/0!"}},null,{"$f":"comparisonsPlanningPopUp1!O18*comparisonsPlanning!M16","v":{"$error":"#DIV/0!"}},null,{"$f":"comparisonsPlanningPopUp1!Q18*comparisonsPlanning!O16","v":{"$error":"#DIV/0!"}}]
[]
[null,null,"Modelled number of patients who complete PR",null,{"$f":"comparisons!G33","v":{"$error":"#DIV/0!"}},null,{"$f":"planningPopUp1!I21*comparisonsPlanning!G18","v":{"$error":"#DIV/0!"}},null,{"$f":"comparisonsPlanningPopUp1!K21*comparisonsPlanning!I18","v":{"$error":"#DIV/0!"}},null,{"$f":"comparisonsPlanningPopUp1!M21*comparisonsPlanning!K18","v":{"$error":"#DIV/0!"}},null,{"$f":"comparisonsPlanningPopUp1!O21*comparisonsPlanning!M18","v":{"$error":"#DIV/0!"}},null,{"$f":"comparisonsPlanningPopUp1!Q21*comparisonsPlanning!O18","v":{"$error":"#DIV/0!"}}]
[null,null,null,null,null,null,1,null,2,null,3,null,4,null,5]
[]
[null,null,"Number of commissioned places for PR",null,200,null,200,null,200,null,200,null,200,null,200]
[]
[null,null,"In-year unmet population need ",null,{"$f":"E20-E23","v":{"$error":"#DIV/0!"}},null,{"$f":"G20-G23","v":{"$error":"#DIV/0!"}},null,{"$f":"I20-I23","v":{"$error":"#DIV/0!"}},null,{"$f":"K20-K23","v":{"$error":"#DIV/0!"}},null,{"$f":"M20-M23","v":{"$error":"#DIV/0!"}},null,{"$f":"O20-O23","v":{"$error":"#DIV/0!"}}]
[{"$f":"\"The five-year view for \"&populationFunnel!C54&\" (NRAP-recommended)\"","v":"The five-year view for England (NRAP-recommended)"}]
[]
[]
[]
[]
[]
[1]
["Register"]
["Eligible",null,null,null,null,null,null,null,null,null,null,null,null,null,"incident patients"]
["Refer",null,null,null,null,null,null,null,null,null,null,null,null,null,"*"]
[null,null,null,null,null,null,null,null,null,null,null,null,null,null,"eligibility"]
[null,null,null,null,null,null,null,null,null,null,null,null,null,null,"+"]
[null,null,null,null,null,null,null,null,null,null,null,null,null,null,"remaining number eligible from last year"]
[null,null,null,null,null,null,null,null,null,null,null,null,null,null,"-"]
[null,null,null,null,null,null,null,null,null,null,null,null,null,null,"number of completers"]
[null,null,null,null,null,null,null,null,null,null,null,null,null,null,"-"]
[null,null,null,null,null,null,null,null,null,null,null,null,null,null,"mortality"]
[null,null,null,null,null,null,null,null,null,null,null,null,null,null,"="]
[null,null,null,null,null,null,null,null,null,null,null,null,null,null,"number requiring PR"]

{"sheet":"planningSummary","index":16,"n_rows":44,"n_cols":24,"rows_kept":44,"cut":false,"hidden":true,"merged":[[17,23,19,25],[9,4,9,5],[9,7,9,8],[9,16,9,17],[9,13,9,14],[9,10,9,11],[9,19,9,20]]}
[null,null,null,null,null,null,null,{"$f":"IF($X$1=1,TRUE,FALSE)","v":true},{"$f":"IF($X$1=1,TRUE,FALSE)","v":true},true,{"$f":"IF($X$1=2,TRUE,FALSE)","v":false},{"$f":"IF($X$1=2,TRUE,FALSE)","v":false},false,{"$f":"IF($X$1=3,TRUE,FALSE)","v":false},{"$f":"IF($X$1=3,TRUE,FALSE)","v":false},false,{"$f":"IF($X$1=4,TRUE,FALSE)","v":false},{"$f":"IF($X$1=4,TRUE,FALSE)","v":false},false,{"$f":"IF($X$1=5,TRUE,FALSE)","v":false},{"$f":"IF($X$1=5,TRUE,FALSE)","v":false},{"$f":"U1","v":false},5,1]
[]
[]
[]
[]
[]
[]
[]
[]
[null,null,null,null,2023,null,null,{"$f":"E10+1","v":2024},null,null,{"$f":"H10+1","v":2025},null,null,{"$f":"K10+1","v":2026},null,null,{"$f":"N10+1","v":2027},null,null,{"$f":"Q10+1","v":2028}]
[]
[]
[]
[null,null,"Modelled total number of patients \nrequiring PR",null,{"$f":"planning!E14","v":{"$error":"#DIV/0!"}},{"$f":"comparisonsPlanning!$E14","v":{"$error":"#DIV/0!"}},null,{"$f":"planning!G14","v":{"$error":"#DIV/0!"}},{"$f":"comparisonsPlanning!$G14","v":{"$error":"#DIV/0!"}},null,{"$f":"planning!I14","v":{"$error":"#DIV/0!"}},{"$f":"comparisonsPlanning!$I14","v":{"$error":"#DIV/0!"}},null,{"$f":"planning!K14","v":{"$error":"#DIV/0!"}},{"$f":"comparisonsPlanning!$K14","v":{"$error":"#DIV/0!"}},null,{"$f":"planning!M14","v":{"$error":"#DIV/0!"}},{"$f":"comparisonsPlanning!$M14","v":{"$error":"#DIV/0!"}},null,{"$f":"planning!O14","v":{"$error":"#DIV/0!"}},{"$f":"comparisonsPlanning!$O14","v":{"$error":"#DIV/0!"}}]
[]
[null,null,"Modelled number of patients who are referred to PR",null,{"$f":"planning!E16","v":{"$error":"#DIV/0!"}},{"$f":"comparisonsPlanning!$E16","v":{"$error":"#DIV/0!"}},null,{"$f":"planning!G16","v":{"$error":"#DIV/0!"}},{"$f":"comparisonsPlanning!$G16","v":{"$error":"#DIV/0!"}},null,{"$f":"planning!I16","v":{"$error":"#DIV/0!"}},{"$f":"comparisonsPlanning!$I16","v":{"$error":"#DIV/0!"}},null,{"$f":"planning!K16","v":{"$error":"#DIV/0!"}},{"$f":"comparisonsPlanning!$K16","v":{"$error":"#DIV/0!"}},null,{"$f":"planning!M16","v":{"$error":"#DIV/0!"}},{"$f":"comparisonsPlanning!$M16","v":{"$error":"#DIV/0!"}},null,{"$f":"planning!O16","v":{"$error":"#DIV/0!"}},{"$f":"comparisonsPlanning!$O16","v":{"$error":"#DIV/0!"}}]
[]
[null,null,"Modelled number of patients who start PR",null,{"$f":"planning!E18","v":{"$error":"#DIV/0!"}},{"$f":"comparisonsPlanning!$E18","v":{"$error":"#DIV/0!"}},null,{"$f":"planning!G18","v":{"$error":"#DIV/0!"}},{"$f":"comparisonsPlanning!$G18","v":{"$error":"#DIV/0!"}},null,{"$f":"planning!I18","v":{"$error":"#DIV/0!"}},{"$f":"comparisonsPlanning!$I18","v":{"$error":"#DIV/0!"}},null,{"$f":"planning!K18","v":{"$error":"#DIV/0!"}},{"$f":"comparisonsPlanning!$K18","v":{"$error":"#DIV/0!"}},null,{"$f":"planning!M18","v":{"$error":"#DIV/0!"}},{"$f":"comparisonsPlanning!$M18","v":{"$error":"#DIV/0!"}},null,{"$f":"planning!O18","v":{"$error":"#DIV/0!"}},{"$f":"comparisonsPlanning!$O18","v":{"$error":"#DIV/0!"}}]
[]
[null,null,"Modelled number of patients who complete PR",null,{"$f":"planning!E20","v":{"$error":"#DIV/0!"}},{"$f":"comparisonsPlanning!$E20","v":{"$error":"#DIV/0!"}},null,{"$f":"planning!G20","v":{"$error":"#DIV/0!"}},{"$f":"comparisonsPlanning!$G20","v":{"$error":"#DIV/0!"}},null,{"$f":"planning!I20","v":{"$error":"#DIV/0!"}},{"$f":"comparisonsPlanning!$I20","v":{"$error":"#DIV/0!"}},null,{"$f":"planning!K20","v":{"$error":"#DIV/0!"}},{"$f":"comparisonsPlanning!$K20","v":{"$error":"#DIV/0!"}},null,{"$f":"planning!M20","v":{"$error":"#DIV/0!"}},{"$f":"comparisonsPlanning!$M20","v":{"$error":"#DIV/0!"}},null,{"$f":"planning!O20","v":{"$error":"#DIV/0!"}},{"$f":"comparisonsPlanning!$O20","v":{"$error":"#DIV/0!"}}]
[null,null,null,null,null,null,null,null,1,null,null,2,null,null,3,null,null,4,null,null,5]
[]
[null,null,"Number of commissioned places for PR",null,{"$f":"planning!E23","v":0},{"$f":"comparisonsPlanning!$G23","v":200},null,{"$f":"planning!G23","v":0},{"$f":"comparisonsPlanning!$I23","v":200},null,{"$f":"planning!I23","v":0},{"$f":"comparisonsPlanning!$I23","v":200},null,{"$f":"planning!K23","v":0},{"$f":"comparisonsPlanning!$K23","v":200},null,{"$f":"planning!M23","v":0},{"$f":"comparisonsPlanning!$M23","v":200},null,{"$f":"planning!O23","v":0},{"$f":"comparisonsPlanning!$O23","v":200}]
[]
[null,null,"Unmet population need ",null,{"$f":"planning!E25","v":{"$error":"#DIV/0!"}},{"$f":"comparisonsPlanning!$G25","v":{"$error":"#DIV/0!"}},null,{"$f":"planning!G25","v":{"$error":"#DIV/0!"}},{"$f":"comparisonsPlanning!$I25","v":{"$error":"#DIV/0!"}},null,{"$f":"planning!I25","v":{"$error":"#DIV/0!"}},{"$f":"comparisonsPlanning!$I25","v":{"$error":"#DIV/0!"}},null,{"$f":"planning!K25","v":{"$error":"#DIV/0!"}},{"$f":"comparisonsPlanning!$K25","v":{"$error":"#DIV/0!"}},null,{"$f":"planning!M25","v":{"$error":"#DIV/0!"}},{"$f":"comparisonsPlanning!$M25","v":{"$error":"#DIV/0!"}},null,{"$f":"planning!O25","v":{"$error":"#DIV/0!"}},{"$f":"comparisonsPlanning!$O25","v":{"$error":"#DIV/0!"}}]
[{"$f":"\"The five-year view for \"&populationFunnel!C54&\" (comparison of CPRD-modelled data and WGLL)\"","v":"The five-year view for England (comparison of CPRD-modelled data and WGLL)"}]
[]
[]
[]
[]
[]
[1]
["Register"]
["Eligible",null,null,null,null,null,null,null,null,null,null,null,null,null,null,null,null,null,null,null,"incident patients"]
["Refer",null,null,null,null,null,null,null,null,null,null,null,null,null,null,null,null,null,null,null,"*"]
[null,null,null,null,null,null,null,null,null,null,null,null,null,null,null,null,null,null,null,null,"eligibility"]
[null,null,null,null,null,null,null,null,null,null,null,null,null,null,null,null,null,null,null,null,"+"]
[null,null,null,null,null,null,null,null,null,null,null,null,null,null,null,null,null,null,null,null,"remaining number eligible from last year"]
[null,null,null,null,null,null,null,null,null,null,null,null,null,null,null,null,null,null,null,null,"-"]
[null,null,null,null,null,null,null,null,null,null,null,null,null,null,null,null,null,null,null,null,"number of completers"]
[null,null,null,null,null,null,null,null,null,null,null,null,null,null,null,null,null,null,null,null,"-"]
[null,null,null,null,null,null,null,null,null,null,null,null,null,null,null,null,null,null,null,null,"mortality"]
[null,null,null,null,null,null,null,null,null,null,null,null,null,null,null,null,null,null,null,null,"="]
[null,null,null,null,null,null,null,null,null,null,null,null,null,null,null,null,null,null,null,null,"number requiring PR"]

{"sheet":"healthEconomicsIntro","index":17,"n_rows":37,"n_cols":3,"rows_kept":37,"cut":false,"hidden":false,"merged":[[19,4,20,23],[22,4,23,23],[25,4,26,23],[8,13,8,15],[8,16,8,18],[8,4,8,6],[8,7,8,9],[8,10,8,12],[10,4,11,22],[16,4,17,23],[13,4,14,17]]}
[]
[]
[]
[]
[]
[]
[]
[]
[]
[]
[]
[]
[]
[]
[]
[]
[]
[]
[]
[]
[]
[]
[]
[]
[]
[]
[]
[]
[]
[]
[]
[]
[]
[]
[]
[]
[null,null,11]

{"sheet":"healthEconomicsCalculation","index":18,"n_rows":35,"n_cols":26,"rows_kept":35,"cut":false,"hidden":false,"merged":[[8,2,8,14],[21,20,21,21],[24,20,24,21],[10,9,10,10],[12,9,12,10],[15,15,15,16],[15,9,15,10],[15,12,15,13]]}
[null,null,null,null,null,null,null,null,null,null,null,null,null,null,null,null,null,null,null,null,null,null,null,null,null,{"$f":"workforceModelling4!X1","v":2}]
[]
[]
[]
[]
[]
[]
[]
[null,null,"The economic values of PR completions:"]
[]
[null,null,null,null,null,null,null,null,null,8.5999999999999993E-2]
[]
[null,null,null,null,null,null,null,null,null,2854]
[]
[]
[null,null,null,null,null,null,null,null,null,6.5000000000000002E-2,null,null,20000,null,null,{"$f":"J11*J13","v":245.44399999999999},null,null,{"$f":"(J16*M16)+P16","v":1545.444}]
[]
[]
[]
[]
[]
[null,null,null,null,null,null,null,null,null,null,null,null,null,null,null,null,null,{"$f":"_xlfn.XLOOKUP(Z1,planning!$W$16:$AG$16,planning!$W$21:$AG$21)","v":{"$error":"#DIV/0!"}}]
[]
[]
[null,null,null,null,null,null,null,null,null,null,null,null,null,null,null,null,null,{"$f":"R22*S16","v":{"$error":"#DIV/0!"}}]
[]
[]
[]
[]
[]
[]
[]
[{"$f":"\"Number of patients completing PR in \"&CalculationSheet!D1&\" in \"&_xlfn.XLOOKUP(healthEconomicsCalculation!Z1,planning!$W$16:$AG$16,planning!$W$11:$AG$11)","v":"Number of patients completing PR in England in 2025"},null,11]
[{"$f":"\"Economically beneficial investment in PR in \"&CalculationSheet!D1&\" in \"&_xlfn.XLOOKUP(healthEconomicsCalculation!Z1,planning!$W$16:$AG$16,planning!$W$11:$AG$11)","v":"Economically beneficial investment in PR in England in 2025"}]
[{"$f":"\"Number of patients completing PR (\"&comparisons!B45&\") in \"&CalculationSheet!D1&\" in \"&_xlfn.XLOOKUP(healthEconomicsCalculation!Z1,planning!$E$21:$O$21,planning!$E$10:$O$10)","v":"Number of patients completing PR (NRAP recommendations) in England in 2027"}]

{"sheet":"workforceModelling4","index":19,"n_rows":22,"n_cols":28,"rows_kept":22,"cut":false,"hidden":false,"merged":[]}
[null,null,null,null,null,null,null,null,null,null,null,null,null,null,null,null,null,null,null,null,null,null,null,2,null,null,null,{"$f":"workforceModelling1!$X$1","v":2}]
[]
[]
[]
[]
[]
[]
[]
[null,"Staffing requirements per PR completer"]
[]
[]
[null,null,null,null,null,1314.1000000000001,null,1399.6,null,1343.7]
[]
[]
[null,null,null,null,null,{"$f":"workforceModelling1!L21","v":{"$error":"#DIV/0!"}},null,{"$f":"workforceModelling2!L21","v":{"$error":"#DIV/0!"}},null,{"$f":"workforceModelling3!$D$21","v":{"$error":"#DIV/0!"}}]
[]
[null,null,null,null,null,{"$f":"workforceModelling1!L23","v":{"$error":"#DIV/0!"}},null,{"$f":"workforceModelling2!L23","v":{"$error":"#DIV/0!"}},null,{"$f":"workforceModelling3!$D$23","v":{"$error":"#DIV/0!"}}]
[]
[]
[null,null,null,null,null,{"$f":"F15/F12","v":{"$error":"#DIV/0!"}},null,{"$f":"H15/H12","v":{"$error":"#DIV/0!"}},null,{"$f":"J15/J12","v":{"$error":"#DIV/0!"}}]
[]
[null,null,null,null,null,{"$f":"F17/F12","v":{"$error":"#DIV/0!"}},null,{"$f":"H17/H12","v":{"$error":"#DIV/0!"}},null,{"$f":"J17/J12","v":{"$error":"#DIV/0!"}}]

{"sheet":"workforceModelling1","index":20,"n_rows":23,"n_cols":24,"rows_kept":23,"cut":false,"hidden":false,"merged":[[14,12,16,12],[14,11,16,11],[14,2,16,2],[14,3,16,3],[14,4,16,4],[14,5,16,5],[14,6,16,6],[14,7,16,7],[14,8,16,8],[14,9,16,9],[14,10,16,10]]}
[null,null,null,null,null,null,null,null,null,null,null,null,null,null,null,null,null,null,null,null,null,null,null,{"$f":"workforceModelling4!X1","v":2}]
[]
[]
[]
[]
[]
[]
[]
[]
[]
[]
[]
[]
[]
[null,null,"Assessment","Clinical triage","Supervising exercise class","Education classes","Final outcomes assessment","Discharge","Travel between venues","Group set up and pack down","Documentation","Total hours required per completer","Hours required per 1,000 completers"]
[]
[]
[]
[null,null,1.5,0.17,3,0.75,0.75,0.08,0.75,0.625,1,null,{"$f":"SUM(C19:K19)*1000","v":8625}]
[]
[null,null,{"$f":"C19*_xlfn.XLOOKUP($X$1,planning!$W$22:$AG$22,planning!$W$21:$AG$21)","v":{"$error":"#DIV/0!"}},{"$f":"D19*_xlfn.XLOOKUP($X$1,planning!$W$22:$AG$22,planning!$W$21:$AG$21)","v":{"$error":"#DIV/0!"}},{"$f":"E19*_xlfn.XLOOKUP($X$1,planning!$W$22:$AG$22,planning!$W$21:$AG$21)","v":{"$error":"#DIV/0!"}},{"$f":"F19*_xlfn.XLOOKUP($X$1,planning!$W$22:$AG$22,planning!$W$21:$AG$21)","v":{"$error":"#DIV/0!"}},{"$f":"G19*_xlfn.XLOOKUP($X$1,planning!$W$22:$AG$22,planning!$W$21:$AG$21)","v":{"$error":"#DIV/0!"}},{"$f":"H19*_xlfn.XLOOKUP($X$1,planning!$W$22:$AG$22,planning!$W$21:$AG$21)","v":{"$error":"#DIV/0!"}},{"$f":"I19*_xlfn.XLOOKUP($X$1,planning!$W$22:$AG$22,planning!$W$21:$AG$21)","v":{"$error":"#DIV/0!"}},{"$f":"J19*_xlfn.XLOOKUP($X$1,planning!$W$22:$AG$22,planning!$W$21:$AG$21)","v":{"$error":"#DIV/0!"}},{"$f":"K19*_xlfn.XLOOKUP($X$1,planning!$W$22:$AG$22,planning!$W$21:$AG$21)","v":{"$error":"#DIV/0!"}},{"$f":"SUM(C21:K21)","v":{"$error":"#DIV/0!"}}]
[]
[null,null,{"$f":"C19*_xlfn.XLOOKUP($X$1,comparisonsPlanning!$G$21:$O$21,comparisonsPlanning!$G$20:$O$20)","v":{"$error":"#DIV/0!"}},{"$f":"D19*_xlfn.XLOOKUP($X$1,comparisonsPlanning!$G$21:$O$21,comparisonsPlanning!$G$20:$O$20)","v":{"$error":"#DIV/0!"}},{"$f":"E19*_xlfn.XLOOKUP($X$1,comparisonsPlanning!$G$21:$O$21,comparisonsPlanning!$G$20:$O$20)","v":{"$error":"#DIV/0!"}},{"$f":"F19*_xlfn.XLOOKUP($X$1,comparisonsPlanning!$G$21:$O$21,comparisonsPlanning!$G$20:$O$20)","v":{"$error":"#DIV/0!"}},{"$f":"G19*_xlfn.XLOOKUP($X$1,comparisonsPlanning!$G$21:$O$21,comparisonsPlanning!$G$20:$O$20)","v":{"$error":"#DIV/0!"}},{"$f":"H19*_xlfn.XLOOKUP($X$1,comparisonsPlanning!$G$21:$O$21,comparisonsPlanning!$G$20:$O$20)","v":{"$error":"#DIV/0!"}},{"$f":"I19*_xlfn.XLOOKUP($X$1,comparisonsPlanning!$G$21:$O$21,comparisonsPlanning!$G$20:$O$20)","v":{"$error":"#DIV/0!"}},{"$f":"J19*_xlfn.XLOOKUP($X$1,comparisonsPlanning!$G$21:$O$21,comparisonsPlanning!$G$20:$O$20)","v":{"$error":"#DIV/0!"}},{"$f":"K19*_xlfn.XLOOKUP($X$1,comparisonsPlanning!$G$21:$O$21,comparisonsPlanning!$G$20:$O$20)","v":{"$error":"#DIV/0!"}},{"$f":"SUM(C23:K23)","v":{"$error":"#DIV/0!"}}]

{"sheet":"workforceModelling2","index":21,"n_rows":23,"n_cols":24,"rows_kept":23,"cut":false,"hidden":false,"merged":[[14,8,16,8],[14,9,16,9],[14,10,16,10],[14,11,16,11],[14,12,16,12],[14,7,16,7],[14,2,16,2],[14,3,16,3],[14,4,16,4],[14,5,16,5],[14,6,16,6]]}
[null,null,null,null,null,null,null,null,null,null,null,null,null,null,null,null,null,null,null,null,null,null,null,{"$f":"workforceModelling4!X1","v":2}]
[]
[]
[]
[]
[]
[]
[]
[]
[]
[]
[]
[]
[]
[null,null,"Assessment","Clinical triage","Supervising exercise class","Education classes","Final outcomes assessment","Discharge","Travel between venues","Group set up and pack down","Documentation","Total hours required per completer","Hours required per 1,000 completers"]
[]
[]
[]
[null,null,1,0.16666666666666666,3,0.75,0.75,8.3333333333333329E-2,0.75,0.625,2.5,null,{"$f":"SUM(C19:K19)*1000","v":9625}]
[]
[null,null,{"$f":"C19*_xlfn.XLOOKUP($X$1,planning!$W$22:$AG$22,planning!$W$21:$AG$21)","v":{"$error":"#DIV/0!"}},{"$f":"D19*_xlfn.XLOOKUP($X$1,planning!$W$22:$AG$22,planning!$W$21:$AG$21)","v":{"$error":"#DIV/0!"}},{"$f":"E19*_xlfn.XLOOKUP($X$1,planning!$W$22:$AG$22,planning!$W$21:$AG$21)","v":{"$error":"#DIV/0!"}},{"$f":"F19*_xlfn.XLOOKUP($X$1,planning!$W$22:$AG$22,planning!$W$21:$AG$21)","v":{"$error":"#DIV/0!"}},{"$f":"G19*_xlfn.XLOOKUP($X$1,planning!$W$22:$AG$22,planning!$W$21:$AG$21)","v":{"$error":"#DIV/0!"}},{"$f":"H19*_xlfn.XLOOKUP($X$1,planning!$W$22:$AG$22,planning!$W$21:$AG$21)","v":{"$error":"#DIV/0!"}},{"$f":"I19*_xlfn.XLOOKUP($X$1,planning!$W$22:$AG$22,planning!$W$21:$AG$21)","v":{"$error":"#DIV/0!"}},{"$f":"J19*_xlfn.XLOOKUP($X$1,planning!$W$22:$AG$22,planning!$W$21:$AG$21)","v":{"$error":"#DIV/0!"}},{"$f":"K19*_xlfn.XLOOKUP($X$1,planning!$W$22:$AG$22,planning!$W$21:$AG$21)","v":{"$error":"#DIV/0!"}},{"$f":"SUM(C21:K21)","v":{"$error":"#DIV/0!"}}]
[]
[null,null,{"$f":"C19*_xlfn.XLOOKUP($X$1,comparisonsPlanning!$G$21:$O$21,comparisonsPlanning!$G$20:$O$20)","v":{"$error":"#DIV/0!"}},{"$f":"D19*_xlfn.XLOOKUP($X$1,comparisonsPlanning!$G$21:$O$21,comparisonsPlanning!$G$20:$O$20)","v":{"$error":"#DIV/0!"}},{"$f":"E19*_xlfn.XLOOKUP($X$1,comparisonsPlanning!$G$21:$O$21,comparisonsPlanning!$G$20:$O$20)","v":{"$error":"#DIV/0!"}},{"$f":"F19*_xlfn.XLOOKUP($X$1,comparisonsPlanning!$G$21:$O$21,comparisonsPlanning!$G$20:$O$20)","v":{"$error":"#DIV/0!"}},{"$f":"G19*_xlfn.XLOOKUP($X$1,comparisonsPlanning!$G$21:$O$21,comparisonsPlanning!$G$20:$O$20)","v":{"$error":"#DIV/0!"}},{"$f":"H19*_xlfn.XLOOKUP($X$1,comparisonsPlanning!$G$21:$O$21,comparisonsPlanning!$G$20:$O$20)","v":{"$error":"#DIV/0!"}},{"$f":"I19*_xlfn.XLOOKUP($X$1,comparisonsPlanning!$G$21:$O$21,comparisonsPlanning!$G$20:$O$20)","v":{"$error":"#DIV/0!"}},{"$f":"J19*_xlfn.XLOOKUP($X$1,comparisonsPlanning!$G$21:$O$21,comparisonsPlanning!$G$20:$O$20)","v":{"$error":"#DIV/0!"}},{"$f":"K19*_xlfn.XLOOKUP($X$1,comparisonsPlanning!$G$21:$O$21,comparisonsPlanning!$G$20:$O$20)","v":{"$error":"#DIV/0!"}},{"$f":"SUM(C23:K23)","v":{"$error":"#DIV/0!"}}]

{"sheet":"workforceModelling3","index":22,"n_rows":23,"n_cols":17,"rows_kept":23,"cut":false,"hidden":false,"merged":[[14,5,16,5],[14,3,16,3]]}
[null,null,null,null,null,null,null,null,null,null,null,null,null,null,null,null,1]
[]
[]
[]
[]
[]
[]
[]
[]
[]
[]
[]
[]
[]
[null,null,null,"Appointments and outcomes",null,"Hours required per 1,000 completers"]
[]
[]
[]
[null,null,null,1.25,null,{"$f":"D19*1000","v":1250}]
[]
[null,null,null,{"$f":"D19*_xlfn.XLOOKUP(workforceModelling4!X1,planning!$W$22:$AG$22,planning!$W$21:$AG$21)","v":{"$error":"#DIV/0!"}}]
[]
[null,null,null,{"$f":"D19*_xlfn.XLOOKUP(workforceModelling4!X1,comparisonsPlanning!$G$21:$O$21,comparisonsPlanning!$G$20:$O$20)","v":{"$error":"#DIV/0!"}}]

{"sheet":"summary","index":23,"n_rows":38,"n_cols":33,"rows_kept":38,"cut":false,"hidden":false,"merged":[[14,1,15,5],[14,6,15,6],[19,1,20,5]]}
[null,null,null,null,null,null,null,null,null,null,null,null,null,null,null,null,null,null,null,null,null,null,null,{"$f":"workforceModelling4!X1","v":2},null,2024,1,{"$f":"_xlfn.XLOOKUP(X1,AA1:AA5,Z1:Z5)","v":2025}]
[null,null,null,null,null,null,null,null,null,null,null,null,null,null,null,null,null,null,null,null,null,null,null,null,null,2025,2]
[null,null,null,null,null,null,null,null,null,null,null,null,null,null,null,null,null,null,null,null,null,null,null,null,null,2026,3]
[null,null,null,null,null,null,null,null,null,null,null,null,null,null,null,null,null,null,null,null,null,null,null,null,null,2027,4]
[null,null,null,null,null,null,null,null,null,null,null,null,null,null,null,null,null,null,null,null,null,null,null,null,null,2028,5]
[null,null,null,null,null,null,null,null,null,null,null,null,null,null,null,null,null,null,null,null,null,null,null,null,null,2029,6]
[null,null,null,null,null,null,null,null,null,null,null,null,null,null,null,null,null,null,null,null,null,null,null,null,{"$f":"\"Modelled Outcomes for \"&populationFunnel!C54&\" in \"&_xlfn.XLOOKUP(X1,AA1:AA5,Z1:Z5)","v":"Modelled Outcomes for England in 2025"},2030,7]
[null,null,null,null,null,null,null,null,null,null,null,null,null,null,null,null,null,null,null,null,null,null,null,null,{"$f":"AB1&\" outcomes\"","v":"2025 outcomes"}]
[null,null,null,null,null,null,null,null,null,null,null,null,null,null,null,null,null,null,null,null,null,null,null,null,{"$f":"X28&\" (\"&AB1&\")\"","v":"NRAP recommended outcomes (2025)"}]
[]
[]
[]
[]
[]
[null,{"$f":"\"Modelled* register size in \"&CalculationSheet!E32","v":"Modelled* register size in 2025"},null,null,null,null,{"$f":"populationFunnel!Z4","v":{"$error":"#DIV/0!"}}]
[null,null,null,null,null,null,null,null,null,null,null,null,null,null,null,null,null,null,null,null,null,null,null,"2022 outcomes"]
[]
[null,null,null,null,null,null,null,null,null,null,null,null,null,null,null,null,null,null,null,null,null,null,null,"Number referred",null,null,null,null,null,null,null,null,{"$f":"planningSummary!E16","v":{"$error":"#DIV/0!"}}]
[null,null,null,null,null,null,null,null,null,null,null,null,null,null,null,null,null,null,null,null,null,null,null,"Number started ",null,null,null,null,null,null,null,null,{"$f":"planningSummary!E18","v":{"$error":"#DIV/0!"}}]
[null,{"$f":"\"Modelled* list size in \"&CalculationSheet!E32","v":"Modelled* list size in 2025"},null,null,null,null,{"$f":"populationFunnel!Z5","v":{"$error":"#DIV/0!"}},null,null,null,null,null,null,null,null,null,null,null,null,null,null,null,null,"Number completed",null,null,null,null,null,null,null,null,{"$f":"planningSummary!E20","v":{"$error":"#DIV/0!"}}]
[]
[]
[null,null,null,null,null,null,null,null,null,null,null,null,null,null,null,null,null,null,null,null,null,null,null,{"$f":"_xlfn.XLOOKUP(X1,AA1:AA5,Z1:Z5)&\" outcomes \"","v":"2025 outcomes "}]
[null,null,null,null,null,null,null,null,null,null,null,null,null,null,null,null,null,null,null,null,null,null,null,"Number referred",null,null,null,null,null,{"$f":"_xlfn.XLOOKUP($AB$1,planning!$W$11:$AG$11,planning!W19:AG19)","v":{"$error":"#DIV/0!"}}]
[null,null,null,null,null,null,null,null,null,null,null,null,null,null,null,null,null,null,null,null,null,null,null,"Number started",null,null,null,null,null,{"$f":"_xlfn.XLOOKUP($AB$1,planning!$W$11:$AG$11,planning!W20:AG20)","v":{"$error":"#DIV/0!"}}]
[null,null,null,null,null,null,null,null,null,null,null,null,null,null,null,null,null,null,null,null,null,null,null,"Number completed",null,null,null,null,null,{"$f":"_xlfn.XLOOKUP($AB$1,planning!$W$11:$AG$11,planning!W21:AG21)","v":{"$error":"#DIV/0!"}}]
[]
[null,null,null,null,null,null,null,null,null,null,null,null,null,null,null,null,null,null,null,null,null,null,null,{"$f":"\"NRAP recommended outcomes\"","v":"NRAP recommended outcomes"}]
[null,null,null,null,null,null,null,null,null,null,null,null,null,null,null,null,null,null,null,null,null,null,null,"Number referred",null,null,null,null,null,{"$f":"_xlfn.XLOOKUP(X$1,comparisonsPlanning!G$21:O$21,comparisonsPlanning!G16:O16)","v":{"$error":"#DIV/0!"}}]
[null,null,null,null,null,null,null,null,null,null,null,null,null,null,null,null,null,null,null,null,null,null,null,"Number started",null,null,null,null,null,{"$f":"_xlfn.XLOOKUP(X$1,comparisonsPlanning!G$21:O$21,comparisonsPlanning!G18:O18)","v":{"$error":"#DIV/0!"}}]
[null,null,null,null,null,null,null,null,null,null,null,null,null,null,null,null,null,null,null,null,null,null,null,"Number completed",null,null,null,null,null,{"$f":"_xlfn.XLOOKUP(X$1,comparisonsPlanning!G$21:O$21,comparisonsPlanning!G20:O20)","v":{"$error":"#DIV/0!"}}]
[]
[]
[null,null,null,null,null,null,null,null,null,null,null,null,null,null,null,null,null,null,null,null,null,null,null,{"$f":"\"Economic value in \"&_xlfn.XLOOKUP(X1,AA1:AA5,Z1:Z5)","v":"Economic value in 2025"}]
[null,null,null,null,null,null,null,null,null,null,null,null,null,null,null,null,null,null,null,null,null,null,null,"Modelled completers",null,null,null,null,0,{"$f":"healthEconomicsCalculation!$S$16*summary!AD26","v":{"$error":"#DIV/0!"}}]
[null,null,null,null,null,null,null,null,null,null,null,null,null,null,null,null,null,null,null,null,null,null,null,"NRAP recommended completers",null,null,null,null,0,{"$f":"healthEconomicsCalculation!$S$16*summary!AD31","v":{"$error":"#DIV/0!"}}]
[]
[null,null,null,null,null,null,null,null,null,null,null,null,null,null,null,null,null,null,null,null,null,null,null,{"$f":"\"Cost-effective investment in patients who complete PR in \" &AB1","v":"Cost-effective investment in patients who complete PR in 2025"}]

{"sheet":"populationFunnelPopUp","index":24,"n_rows":45,"n_cols":24,"rows_kept":45,"cut":false,"hidden":true,"merged":[[0,2,0,6],[0,9,0,13],[0,7,0,8],[0,14,0,19]]}
[null,null,null,null,null,null,null,null,null,null,null,null,null,null,null,null,null,null,null,null,null,null,"Eligible",1]
[null,null,null,null,null,null,null,null,null,null,null,null,null,null,null,null,null,null,null,null,null,null,"Referred"]
[null,null,null,null,null,null,null,null,null,null,null,null,null,null,null,null,null,null,null,null,null,null,"Commenced"]
[null,null,null,null,null,null,null,null,null,null,null,null,null,null,null,null,null,null,null,null,null,null,"Completed"]
[]
[]
[]
[]
[{"$f":"IF($X$1=1,TRUE,FALSE)","v":true},"Eligible population"]
[{"$f":"IF($X$1=1,TRUE,FALSE)","v":true}]
[true,"Age",null,null,"% of patients",null,"Gender",null,null,null,null,"IMD decile",null,null,null,null,"Ethnicity"]
[true,null,"35-49",null,0.01,null,null,"% male",null,{"$f":"_xlfn.XLOOKUP(CalculationSheet!$D$1,CPRD_regressionCoefficients!$A$59:$A$68,CPRD_regressionCoefficients!$K$59:$K$68)","v":0.53339999999999999},null,null,1,null,{"$f":"_xlfn.XLOOKUP(CalculationSheet!$D$1,CPRD_regressionCoefficients!$A$59:$A$68,CPRD_regressionCoefficients!$M$59:$M$68)","v":0.1479},null,null,"White ",null,{"$f":"_xlfn.XLOOKUP(CalculationSheet!$D$1,CPRD_regressionCoefficients!$A$59:$A$68,CPRD_regressionCoefficients!$R$59:$R$68)","v":0.80030000000000001}]
[true,null,"50-59",null,{"$f":"_xlfn.XLOOKUP(CalculationSheet!$D$1,CPRD_regressionCoefficients!$A$59:$A$68,CPRD_regressionCoefficients!$G$59:$G$68)","v":0.19350000000000001},null,null,"% female",null,{"$f":"1-J12","v":0.46660000000000001},null,null,2,null,{"$f":"_xlfn.XLOOKUP(CalculationSheet!$D$1,CPRD_regressionCoefficients!$A$59:$A$68,CPRD_regressionCoefficients!$N$59:$N$68)","v":0.1724},null,null,"South Asian",null,{"$f":"_xlfn.XLOOKUP(CalculationSheet!$D$1,CPRD_regressionCoefficients!$A$59:$A$68,CPRD_regressionCoefficients!$S$59:$S$68)","v":1.8100000000000002E-2}]
[true,null,"60-69",null,{"$f":"_xlfn.XLOOKUP(CalculationSheet!$D$1,CPRD_regressionCoefficients!$A$59:$A$68,CPRD_regressionCoefficients!$H$59:$H$68)","v":0.31280000000000002},null,null,null,null,null,null,null,3,null,{"$f":"_xlfn.XLOOKUP(CalculationSheet!$D$1,CPRD_regressionCoefficients!$A$59:$A$68,CPRD_regressionCoefficients!$O$59:$O$68)","v":0.18859999999999999},null,null,"Black",null,{"$f":"_xlfn.XLOOKUP(CalculationSheet!$D$1,CPRD_regressionCoefficients!$A$59:$A$68,CPRD_regressionCoefficients!$T$59:$T$68)","v":1.04E-2}]
[true,null,"70-79",null,{"$f":"_xlfn.XLOOKUP(CalculationSheet!$D$1,CPRD_regressionCoefficients!$A$59:$A$68,CPRD_regressionCoefficients!$I$59:$I$68)","v":0.27789999999999998},null,null,null,null,null,null,null,4,null,{"$f":"_xlfn.XLOOKUP(CalculationSheet!$D$1,CPRD_regressionCoefficients!$A$59:$A$68,CPRD_regressionCoefficients!$P$59:$P$68)","v":0.21779999999999999},null,null,"Other",null,{"$f":"_xlfn.XLOOKUP(CalculationSheet!$D$1,CPRD_regressionCoefficients!$A$59:$A$68,CPRD_regressionCoefficients!$U$59:$U$68)","v":3.3999999999999998E-3}]
[true,null,"80+",null,{"$f":"1-SUM(E12:E15)","v":0.20579999999999998},null,null,null,null,null,null,null,5,null,{"$f":"1-SUM(O12:O15)","v":0.27329999999999999},null,null,"Mixed",null,{"$f":"_xlfn.XLOOKUP(CalculationSheet!$D$1,CPRD_regressionCoefficients!$A$59:$A$68,CPRD_regressionCoefficients!$V$59:$V$68)","v":3.0999999999999999E-3}]
[true,null,null,null,{"$f":"IF(SUM(E12:E16)<>1,\"Total percentage of patients should equal 100%\",\"\")","v":""},null,null,null,null,null,null,null,null,null,{"$f":"IF(SUM(O12:O16)<>1,\"Total percentage of patients should equal 100%\",\"\")","v":""},null,null,"Not Stated",null,{"$f":"1-SUM(T12:T16)","v":0.16470000000000007}]
[{"$f":"IF($X$1=2,TRUE,FALSE)","v":false},"Referred population",null,null,null,null,null,null,null,null,null,null,null,null,null,null,null,null,null,{"$f":"IF(SUM(T12:T17)<>1,\"Total percentage of patients should equal 100%\",\"\")","v":""}]
[{"$f":"IF($X$1=2,TRUE,FALSE)","v":false}]
[false,"Age",null,null,"% of patients",null,"Gender",null,null,null,null,"IMD decile",null,null,null,null,"Ethnicity"]
[false,null,"35-49",null,{"$f":"_xlfn.XLOOKUP(CalculationSheet!$D$1,CPRD_regressionCoefficients!$A$64:$A$72,CPRD_regressionCoefficients!$F$64:$F$72)","v":4.5699999999999998E-2},null,null,"% male",null,{"$f":"_xlfn.XLOOKUP(CalculationSheet!$D$1,CPRD_regressionCoefficients!$A$64:$A$72,CPRD_regressionCoefficients!$K$64:$K$72)","v":0.5181},null,null,1,null,{"$f":"_xlfn.XLOOKUP(CalculationSheet!$D$1,CPRD_regressionCoefficients!$A$64:$A$72,CPRD_regressionCoefficients!$M$64:$M$72)","v":0.13789999999999999},null,null,"White ",null,{"$f":"_xlfn.XLOOKUP(CalculationSheet!$D$1,CPRD_regressionCoefficients!$A$64:$A$72,CPRD_regressionCoefficients!$R$64:$R$72)","v":0.80879999999999996}]
[false,null,"50-59",null,{"$f":"_xlfn.XLOOKUP(CalculationSheet!$D$1,CPRD_regressionCoefficients!$A$64:$A$72,CPRD_regressionCoefficients!$G$64:$G$72)","v":0.14610000000000001},null,null,"% female",null,{"$f":"1-J21","v":0.4819},null,null,2,null,{"$f":"_xlfn.XLOOKUP(CalculationSheet!$D$1,CPRD_regressionCoefficients!$A$64:$A$72,CPRD_regressionCoefficients!$N$64:$N$72)","v":0.1658},null,null,"South Asian",null,{"$f":"_xlfn.XLOOKUP(CalculationSheet!$D$1,CPRD_regressionCoefficients!$A$64:$A$72,CPRD_regressionCoefficients!$S$64:$S$72)","v":1.6799999999999999E-2}]
[false,null,"60-69",null,{"$f":"_xlfn.XLOOKUP(CalculationSheet!$D$1,CPRD_regressionCoefficients!$A$64:$A$72,CPRD_regressionCoefficients!$H$64:$H$72)","v":0.2878},null,null,null,null,null,null,null,3,null,{"$f":"_xlfn.XLOOKUP(CalculationSheet!$D$1,CPRD_regressionCoefficients!$A$64:$A$72,CPRD_regressionCoefficients!$O$64:$O$72)","v":0.18629999999999999},null,null,"Black",null,{"$f":"_xlfn.XLOOKUP(CalculationSheet!$D$1,CPRD_regressionCoefficients!$A$64:$A$72,CPRD_regressionCoefficients!$T$64:$T$72)","v":8.3000000000000001E-3}]
[false,null,"70-79",null,{"$f":"_xlfn.XLOOKUP(CalculationSheet!$D$1,CPRD_regressionCoefficients!$A$64:$A$72,CPRD_regressionCoefficients!$I$64:$I$72)","v":0.32019999999999998},null,null,null,null,null,null,null,4,null,{"$f":"_xlfn.XLOOKUP(CalculationSheet!$D$1,CPRD_regressionCoefficients!$A$64:$A$72,CPRD_regressionCoefficients!$P$64:$P$72)","v":0.2223},null,null,"Other",null,{"$f":"_xlfn.XLOOKUP(CalculationSheet!$D$1,CPRD_regressionCoefficients!$A$64:$A$72,CPRD_regressionCoefficients!$U$64:$U$72)","v":2.7000000000000001E-3}]
[false,null,"80+",null,{"$f":"1-SUM(E21:E24)","v":0.20019999999999993},null,null,null,null,null,null,null,5,null,{"$f":"1-SUM(O21:O24)","v":0.28770000000000007},null,null,"Mixed",null,{"$f":"_xlfn.XLOOKUP(CalculationSheet!$D$1,CPRD_regressionCoefficients!$A$64:$A$72,CPRD_regressionCoefficients!$V$64:$V$72)","v":2.3999999999999998E-3}]
[false,null,null,null,{"$f":"IF(SUM(E21:E25)<>1,\"Total percentage of patients should equal 100%\",\"\")","v":""},null,null,null,null,null,null,null,null,null,{"$f":"IF(SUM(O21:O25)<>1,\"Total percentage of patients should equal 100%\",\"\")","v":""},null,null,"Not Stated",null,{"$f":"1-SUM(T21:T25)","v":0.16100000000000003}]
[{"$f":"IF($X$1=3,TRUE,FALSE)","v":false},"Commencement population",null,null,null,null,null,null,null,null,null,null,null,null,null,null,null,null,null,{"$f":"IF(SUM(T21:T26)<>1,\"Total percentage of patients should equal 100%\",\"\")","v":""}]
[{"$f":"IF($X$1=3,TRUE,FALSE)","v":false}]
[false,"Age",null,null,"% of patients",null,"Gender",null,null,null,null,"IMD decile",null,null,null,null,"Ethnicity"]
[false,null,"35-49",null,{"$f":"_xlfn.XLOOKUP(CalculationSheet!$D$1,CPRD_regressionCoefficients!$A$74:$A$82,CPRD_regressionCoefficients!$F$74:$F$82)","v":3.3799999999999997E-2},null,null,"% male",null,{"$f":"_xlfn.XLOOKUP(CalculationSheet!$D$1,CPRD_regressionCoefficients!$A$74:$A$82,CPRD_regressionCoefficients!$K$74:$K$82)","v":0.52339999999999998},null,null,1,null,{"$f":"_xlfn.XLOOKUP(CalculationSheet!$D$1,CPRD_regressionCoefficients!$A$74:$A$82,CPRD_regressionCoefficients!$M$74:$M$82)","v":0.12920000000000001},null,null,"White ",null,{"$f":"_xlfn.XLOOKUP(CalculationSheet!$D$1,CPRD_regressionCoefficients!$A$74:$A$82,CPRD_regressionCoefficients!$R$74:$R$82)","v":0.83720000000000006}]
[false,null,"50-59",null,{"$f":"_xlfn.XLOOKUP(CalculationSheet!$D$1,CPRD_regressionCoefficients!$A$74:$A$82,CPRD_regressionCoefficients!$G$74:$G$82)","v":0.14199999999999999},null,null,"% female",null,{"$f":"1-J30","v":0.47660000000000002},null,null,2,null,{"$f":"_xlfn.XLOOKUP(CalculationSheet!$D$1,CPRD_regressionCoefficients!$A$74:$A$82,CPRD_regressionCoefficients!$N$74:$N$82)","v":0.16189999999999999},null,null,"South Asian",null,{"$f":"_xlfn.XLOOKUP(CalculationSheet!$D$1,CPRD_regressionCoefficients!$A$74:$A$82,CPRD_regressionCoefficients!$S$74:$S$82)","v":1.5699999999999999E-2}]
[false,null,"60-69",null,{"$f":"_xlfn.XLOOKUP(CalculationSheet!$D$1,CPRD_regressionCoefficients!$A$74:$A$82,CPRD_regressionCoefficients!$H$74:$H$82)","v":0.32319999999999999},null,null,null,null,null,null,null,3,null,{"$f":"_xlfn.XLOOKUP(CalculationSheet!$D$1,CPRD_regressionCoefficients!$A$74:$A$82,CPRD_regressionCoefficients!$O$74:$O$82)","v":0.17879999999999999},null,null,"Black",null,{"$f":"_xlfn.XLOOKUP(CalculationSheet!$D$1,CPRD_regressionCoefficients!$A$74:$A$82,CPRD_regressionCoefficients!$T$74:$T$82)","v":1.0200000000000001E-2}]
[false,null,"70-79",null,{"$f":"_xlfn.XLOOKUP(CalculationSheet!$D$1,CPRD_regressionCoefficients!$A$74:$A$82,CPRD_regressionCoefficients!$I$74:$I$82)","v":0.34739999999999999},null,null,null,null,null,null,null,4,null,{"$f":"_xlfn.XLOOKUP(CalculationSheet!$D$1,CPRD_regressionCoefficients!$A$74:$A$82,CPRD_regressionCoefficients!$P$74:$P$82)","v":0.22420000000000001},null,null,"Other",null,{"$f":"_xlfn.XLOOKUP(CalculationSheet!$D$1,CPRD_regressionCoefficients!$A$74:$A$82,CPRD_regressionCoefficients!$U$74:$U$82)","v":2.5999999999999999E-3}]
[false,null,"80+",null,{"$f":"1-SUM(E30:E33)","v":0.15359999999999996},null,null,null,null,null,null,null,5,null,{"$f":"1-SUM(O30:O33)","v":0.30590000000000006},null,null,"Mixed",null,{"$f":"_xlfn.XLOOKUP(CalculationSheet!$D$1,CPRD_regressionCoefficients!$A$74:$A$82,CPRD_regressionCoefficients!$V$74:$V$82)","v":2.3E-3}]
[false,null,null,null,{"$f":"IF(SUM(E30:E34)<>1,\"Total percentage of patients should equal 100%\",\"\")","v":""},null,null,null,null,null,null,null,null,null,{"$f":"IF(SUM(O30:O34)<>1,\"Total percentage of patients should equal 100%\",\"\")","v":""},null,null,"Not Stated",null,{"$f":"1-SUM(T30:T34)","v":0.1319999999999999}]
[{"$f":"IF($X$1=4,TRUE,FALSE)","v":false},"Completion population",null,null,null,null,null,null,null,null,null,null,null,null,null,null,null,null,null,{"$f":"IF(SUM(T30:T35)<>1,\"Total percentage of patients should equal 100%\",\"\")","v":""}]
[{"$f":"IF($X$1=4,TRUE,FALSE)","v":false}]
[{"$f":"IF($X$1=4,TRUE,FALSE)","v":false},"Age",null,null,"% of patients",null,"Gender",null,null,null,null,"IMD decile",null,null,null,null,"Ethnicity"]
[{"$f":"IF($X$1=4,TRUE,FALSE)","v":false},null,"35-49",null,{"$f":"_xlfn.XLOOKUP(CalculationSheet!$D$1,CPRD_regressionCoefficients!$A$81:$A$88,CPRD_regressionCoefficients!$F$81:$F$88)","v":2.3599999999999999E-2},null,null,"% male",null,{"$f":"_xlfn.XLOOKUP(CalculationSheet!$D$1,CPRD_regressionCoefficients!$A$81:$A$88,CPRD_regressionCoefficients!$K$81:$K$88)","v":0.52900000000000003},null,null,1,null,{"$f":"_xlfn.XLOOKUP(CalculationSheet!$D$1,CPRD_regressionCoefficients!$A$81:$A$88,CPRD_regressionCoefficients!$M$81:$M$88)","v":0.13519999999999999},null,null,"White ",null,{"$f":"_xlfn.XLOOKUP(CalculationSheet!$D$1,CPRD_regressionCoefficients!$A$81:$A$88,CPRD_regressionCoefficients!$R$81:$R$88)","v":0.85709999999999997}]
[{"$f":"IF($X$1=4,TRUE,FALSE)","v":false},null,"50-59",null,{"$f":"_xlfn.XLOOKUP(CalculationSheet!$D$1,CPRD_regressionCoefficients!$A$81:$A$88,CPRD_regressionCoefficients!$G$81:$G$88)","v":0.1144},null,null,"% female",null,{"$f":"1-J39","v":0.47099999999999997},null,null,2,null,{"$f":"_xlfn.XLOOKUP(CalculationSheet!$D$1,CPRD_regressionCoefficients!$A$81:$A$88,CPRD_regressionCoefficients!$N$81:$N$88)","v":0.16589999999999999},null,null,"South Asian",null,{"$f":"_xlfn.XLOOKUP(CalculationSheet!$D$1,CPRD_regressionCoefficients!$A$81:$A$88,CPRD_regressionCoefficients!$S$81:$S$88)","v":1.0800000000000001E-2}]
[false,null,"60-69",null,{"$f":"_xlfn.XLOOKUP(CalculationSheet!$D$1,CPRD_regressionCoefficients!$A$81:$A$88,CPRD_regressionCoefficients!$H$81:$H$88)","v":0.32729999999999998},null,null,null,null,null,null,null,3,null,{"$f":"_xlfn.XLOOKUP(CalculationSheet!$D$1,CPRD_regressionCoefficients!$A$81:$A$88,CPRD_regressionCoefficients!$O$81:$O$88)","v":0.18210000000000001},null,null,"Black",null,{"$f":"_xlfn.XLOOKUP(CalculationSheet!$D$1,CPRD_regressionCoefficients!$A$81:$A$88,CPRD_regressionCoefficients!$T$81:$T$88)","v":8.9999999999999993E-3}]
[false,null,"70-79",null,{"$f":"_xlfn.XLOOKUP(CalculationSheet!$D$1,CPRD_regressionCoefficients!$A$81:$A$88,CPRD_regressionCoefficients!$I$81:$I$88)","v":0.37830000000000003},null,null,null,null,null,null,null,4,null,{"$f":"_xlfn.XLOOKUP(CalculationSheet!$D$1,CPRD_regressionCoefficients!$A$81:$A$88,CPRD_regressionCoefficients!$P$81:$P$88)","v":0.2225},null,null,"Other",null,{"$f":"_xlfn.XLOOKUP(CalculationSheet!$D$1,CPRD_regressionCoefficients!$A$81:$A$88,CPRD_regressionCoefficients!$U$81:$U$88)","v":2.2000000000000001E-3}]
[false,null,"80+",null,{"$f":"1-SUM(E39:E42)","v":0.15639999999999998},null,null,null,null,null,null,null,5,null,{"$f":"1-SUM(O39:O42)","v":0.29430000000000001},null,null,"Mixed",null,{"$f":"_xlfn.XLOOKUP(CalculationSheet!$D$1,CPRD_regressionCoefficients!$A$81:$A$88,CPRD_regressionCoefficients!$V$81:$V$88)","v":1.6999999999999999E-3}]
[{"$f":"A43","v":false},null,null,null,{"$f":"IF(SUM(E39:E43)<>1,\"Total percentage of patients should equal 100%\",\"\")","v":""},null,null,null,null,null,null,null,null,null,{"$f":"IF(SUM(O39:O43)<>1,\"Total percentage of patients should equal 100%\",\"\")","v":""},null,null,"Not Stated",null,{"$f":"1-SUM(T39:T43)","v":0.11919999999999997}]
[{"$f":"A44","v":false},null,null,null,null,null,null,null,null,null,null,null,null,null,null,null,null,null,null,{"$f":"IF(SUM(T39:T44)<>1,\"Total percentage of patients should equal 100%\",\"\")","v":""}]

{"sheet":"planningPopUp","index":25,"n_rows":36,"n_cols":20,"rows_kept":36,"cut":false,"hidden":false,"merged":[[27,16,28,18],[26,3,27,3],[12,2,13,3],[12,4,13,4],[12,14,13,14],[12,6,13,6],[12,12,13,12],[12,10,13,10],[12,8,13,8]]}
[null,null,null,null,null,null,{"$f":"IF($T$1=1,TRUE,FALSE)","v":false},{"$f":"IF($T$1=1,TRUE,FALSE)","v":false},{"$f":"IF($T$1=2,TRUE,FALSE)","v":false},{"$f":"IF($T$1=2,TRUE,FALSE)","v":false},{"$f":"IF($T$1=3,TRUE,FALSE)","v":true},{"$f":"IF($T$1=3,TRUE,FALSE)","v":true},{"$f":"IF($T$1=4,TRUE,FALSE)","v":false},{"$f":"IF($T$1=4,TRUE,FALSE)","v":false},{"$f":"IF($T$1=5,TRUE,FALSE)","v":false},{"$f":"IF($T$1=5,TRUE,FALSE)","v":false},null,null,1,3]
[]
[]
[]
[]
[]
[]
[]
[]
[]
[null,null,null,null,null,null,2023,null,2024,null,2025,null,2026,null,2027]
[null,null,null,"Forecasted list size",null,null,{"$f":"IF(dashboard!X1=1,_xlfn.XLOOKUP(_Mtech!$X$1-1+$T$1, CalculationSheet!A115:A140, CalculationSheet!C115:C140),_xlfn.XLOOKUP(_Mtech!$X$1-1+$T$1, CalculationSheet!A115:A140, CalculationSheet!F115:F140))","v":{"$error":"#DIV/0!"}},null,{"$f":"IF(dashboard!X1=1,_xlfn.XLOOKUP(_Mtech!$X$1-1+$T$1, CalculationSheet!A115:A140, CalculationSheet!C115:C140),_xlfn.XLOOKUP(_Mtech!$X$1-1+$T$1, CalculationSheet!A115:A140, CalculationSheet!F115:F140))","v":{"$error":"#DIV/0!"}},null,{"$f":"IF(dashboard!X1=1,_xlfn.XLOOKUP(_Mtech!$X$1-1+$T$1, CalculationSheet!A115:A140, CalculationSheet!C115:C140),_xlfn.XLOOKUP(_Mtech!$X$1-1+$T$1, CalculationSheet!A115:A140, CalculationSheet!F115:F140))","v":{"$error":"#DIV/0!"}},null,{"$f":"IF(dashboard!X1=1,_xlfn.XLOOKUP(_Mtech!$X$1-1+$T$1, CalculationSheet!A115:A140, CalculationSheet!C115:C140),_xlfn.XLOOKUP(_Mtech!$X$1-1+$T$1, CalculationSheet!A115:A140, CalculationSheet!F115:F140))","v":{"$error":"#DIV/0!"}},null,{"$f":"IF(dashboard!X1=1,_xlfn.XLOOKUP(_Mtech!$X$1-1+$T$1, CalculationSheet!A115:A140, CalculationSheet!C115:C140),_xlfn.XLOOKUP(_Mtech!$X$1-1+$T$1, CalculationSheet!A115:A140, CalculationSheet!F115:F140))","v":{"$error":"#DIV/0!"}}]
[null,null,"New COPD patients (incidence)",null,1.9E-3,null,{"$f":"$E13*G12","v":{"$error":"#DIV/0!"}},null,{"$f":"$E13*I12","v":{"$error":"#DIV/0!"}},null,{"$f":"$E13*K12","v":{"$error":"#DIV/0!"}},null,{"$f":"$E13*M12","v":{"$error":"#DIV/0!"}},null,{"$f":"$E13*O12","v":{"$error":"#DIV/0!"}}]
[]
[]
[null,null,null,"New COPD patients with an MRC score of 3+",0.46,null,{"$f":"G13*$E16","v":{"$error":"#DIV/0!"}},null,{"$f":"I13*$E16","v":{"$error":"#DIV/0!"}},null,{"$f":"K13*$E16","v":{"$error":"#DIV/0!"}},null,{"$f":"M13*$E16","v":{"$error":"#DIV/0!"}},null,{"$f":"O13*$E16","v":{"$error":"#DIV/0!"}}]
[]
[null,null,null,"Remaining eligible patients from previous year (backlog) ",null,null,{"$f":"IF(dashboard!X1=1,_xlfn.XLOOKUP(_Mtech!$X$1-1, planning!$V$11:$AG$11, planning!$V$15:$AG$15),_xlfn.XLOOKUP(_Mtech!$X$1-1, planning!$V$11:$AG$11, planning!$V$15:$AG$15))","v":{"$error":"#DIV/0!"}},null,{"$f":"IF(dashboard!X1=1,_xlfn.XLOOKUP(_Mtech!$X$1-1+$T$1-1, planning!$W$11:$AG$11, planning!$W$15:$AG$15),_xlfn.XLOOKUP(_Mtech!$X$1-1+$T$1-1, planning!$W$11:$AG$11, planning!$W$15:$AG$15))","v":{"$error":"#DIV/0!"}},null,{"$f":"IF(dashboard!$X$1=1,_xlfn.XLOOKUP(_Mtech!$X$1-1+$T$1-1, planning!$W$11:$AG$11, planning!$W$15:$AG$15),_xlfn.XLOOKUP(_Mtech!$X$1-1+$T$1-1, planning!$W$11:$AG$11, planning!$W$15:$AG$15))","v":{"$error":"#DIV/0!"}},null,{"$f":"IF(dashboard!$X$1=1,_xlfn.XLOOKUP(_Mtech!$X$1-1+$T$1-1, planning!$W$11:$AG$11, planning!$W$15:$AG$15),_xlfn.XLOOKUP(_Mtech!$X$1-1+$T$1-1, planning!$W$11:$AG$11, planning!$W$15:$AG$15))","v":{"$error":"#DIV/0!"}},null,{"$f":"IF(dashboard!$X$1=1,_xlfn.XLOOKUP(_Mtech!$X$1-1+$T$1-1, planning!$W$11:$AG$11, planning!$W$15:$AG$15),_xlfn.XLOOKUP(_Mtech!$X$1-1+$T$1-1, planning!$W$11:$AG$11, planning!$W$15:$AG$15))","v":{"$error":"#DIV/0!"}}]
[]
[null,null,null,"Percentage of completers from previous years who repeat PR",0.01,null,{"$f":"E20*planning!V21","v":{"$error":"#DIV/0!"}},null,{"$f":"$E$20*planning!W21","v":{"$error":"#DIV/0!"}},null,{"$f":"$E$20*planning!X21","v":{"$error":"#DIV/0!"}},null,{"$f":"$E$20*planning!Y21","v":{"$error":"#DIV/0!"}},null,{"$f":"$E$20*planning!AA21","v":{"$error":"#DIV/0!"}}]
[]
[null,null,null,"COPD mortality",3.9399999999999999E-3,null,{"$f":"$E$22*(G13+G18)","v":{"$error":"#DIV/0!"}},null,{"$f":"$E$22*(I13+I18)","v":{"$error":"#DIV/0!"}},null,{"$f":"$E$22*(K13+K18)","v":{"$error":"#DIV/0!"}},null,{"$f":"$E$22*(M13+M18)","v":{"$error":"#DIV/0!"}},null,{"$f":"$E$22*(O13+O18)","v":{"$error":"#DIV/0!"}}]
[]
[null,null,null,"Patients who completed PR in the previous year",null,null,{"$f":"populationFunnel!F51","v":{"$error":"#DIV/0!"}},null,{"$f":"planning!G20","v":{"$error":"#DIV/0!"}},null,{"$f":"planning!I20","v":{"$error":"#DIV/0!"}},null,{"$f":"planning!K20","v":{"$error":"#DIV/0!"}},null,{"$f":"planning!M20","v":{"$error":"#DIV/0!"}}]
[]
[null,null,null,{"$f":"\"Total remaining patients requiring PR in \"&_xlfn.XLOOKUP(T1,planning!G21:O21,planning!G10:O10)","v":"Total remaining patients requiring PR in 2028"},null,null,{"$f":"G16+G18+G20-G22","v":{"$error":"#DIV/0!"}},null,{"$f":"I16+I18+I20-I22","v":{"$error":"#DIV/0!"}},null,{"$f":"K16+K18+K20-K22","v":{"$error":"#DIV/0!"}},null,{"$f":"M16+M18+M20-M22","v":{"$error":"#DIV/0!"}},null,{"$f":"O16+O18+O20-O22","v":{"$error":"#DIV/0!"}}]
[]
[]
[]
[null,null,null,null,null,null,1,null,2,null,3,null,4,null,5]
[]
[]
[]
[]
[1]
[{"$f":"\"The modelled* patients requiring PR in \"&populationFunnel!C54","v":"The modelled* patients requiring PR in England"}]

{"sheet":"planningPopUp1","index":26,"n_rows":21,"n_cols":17,"rows_kept":21,"cut":false,"hidden":false,"merged":[[14,1,15,4],[17,1,18,4],[20,1,21,4],[14,6,15,6],[17,6,18,6],[20,6,21,6],[14,8,15,8],[17,8,18,8],[20,8,21,8],[14,10,15,10],[17,10,18,10],[20,10,21,10],[14,16,15,16],[17,16,18,16],[20,16,21,16],[14,12,15,12],[17,12,18,12],[20,12,21,12],[14,14,15,14],[17,14,18,14],[20,14,21,14]]}
[]
[]
[]
[]
[]
[]
[]
[]
[]
[]
[]
[]
[null,null,null,null,null,null,2024,null,{"$f":"G13+1","v":2025},null,{"$f":"I13+1","v":2026},null,{"$f":"K13+1","v":2027},null,{"$f":"M13+1","v":2028},null,{"$f":"O13+1","v":2029}]
[]
[null,"Percentage of patients eligible for PR who are referred",null,null,null,null,{"$f":"populationFunnel!K27","v":0.22539999999999999},null,{"$f":"$G$15","v":0.22539999999999999},null,{"$f":"$G$15","v":0.22539999999999999},null,{"$f":"$G$15","v":0.22539999999999999},null,{"$f":"$G$15","v":0.22539999999999999},null,{"$f":"$G$15","v":0.22539999999999999}]
[]
[]
[null,"Percentage of patients who are referred to PR who start PR",null,null,null,null,{"$f":"populationFunnel!K33","v":0.30309999999999998},null,0.3,null,0.3,null,0.3,null,0.3,null,0.3]
[]
[]
[null,"Percentage of patients who started PR who completed",null,null,null,null,{"$f":"populationFunnel!K38","v":0.68983022599999999},null,0.45,null,0.45,null,0.45,null,0.45,null,0.45]

{"sheet":"planningGraph","index":27,"n_rows":0,"n_cols":0,"rows_kept":0,"cut":false,"hidden":false,"merged":[]}

{"sheet":"predictedComparisons","index":28,"n_rows":16,"n_cols":30,"rows_kept":16,"cut":false,"hidden":true,"merged":[]}
[]
[]
[]
[]
[null,null,null,null,null,null,null,null,null,null,null,null,null,null,null,null,null,null,null,null,null,null,"Modelled from CPRD",null,null,null,null,"Comparison"]
[]
[null,null,null,null,null,null,null,null,null,null,null,null,null,null,null,null,null,null,null,null,null,null,null,"Referral","Uptake","Completion",null,"Referral ","Uptake","Completion"]
[null,"What good looks like",null,null,null,null,null,null,null,null,null,null,null,null,null,null,null,null,null,null,null,null,2022,{"$f":"IF(dashboard!$X$1=1,CalculationSheet!S115,CalculationSheet!T115)","v":{"$error":"#DIV/0!"}},{"$f":"IF(dashboard!$X$1=1,CalculationSheet!U115,CalculationSheet!V115)","v":{"$error":"#DIV/0!"}},{"$f":"IF(dashboard!$X$1=1,CalculationSheet!W115,CalculationSheet!X115)","v":{"$error":"#DIV/0!"}},null,{"$f":"IF(dashboard!$X$1=1,CalculationSheet!S146,CalculationSheet!T146)","v":{"$error":"#DIV/0!"}},{"$f":"IF(dashboard!$X$1=1,CalculationSheet!U146,CalculationSheet!V146)","v":{"$error":"#DIV/0!"}},{"$f":"IF(dashboard!$X$1=1,CalculationSheet!W146,CalculationSheet!X146)","v":{"$error":"#DIV/0!"}}]
[null,null,null,null,null,null,null,null,null,null,null,null,null,null,null,null,null,null,null,null,null,null,2023,{"$f":"IF(dashboard!$X$1=1,CalculationSheet!S116,CalculationSheet!T116)","v":{"$error":"#DIV/0!"}},{"$f":"IF(dashboard!$X$1=1,CalculationSheet!U116,CalculationSheet!V116)","v":{"$error":"#DIV/0!"}},{"$f":"IF(dashboard!$X$1=1,CalculationSheet!W116,CalculationSheet!X116)","v":{"$error":"#DIV/0!"}},null,{"$f":"IF(dashboard!$X$1=1,CalculationSheet!S147,CalculationSheet!T147)","v":{"$error":"#DIV/0!"}},{"$f":"IF(dashboard!$X$1=1,CalculationSheet!U147,CalculationSheet!V147)","v":{"$error":"#DIV/0!"}},{"$f":"IF(dashboard!$X$1=1,CalculationSheet!W147,CalculationSheet!X147)","v":{"$error":"#DIV/0!"}}]
[null,null,null,null,null,null,null,null,null,null,null,null,null,null,null,null,null,null,null,null,null,null,2024,{"$f":"IF(dashboard!$X$1=1,CalculationSheet!S117,CalculationSheet!T117)","v":{"$error":"#DIV/0!"}},{"$f":"IF(dashboard!$X$1=1,CalculationSheet!U117,CalculationSheet!V117)","v":{"$error":"#DIV/0!"}},{"$f":"IF(dashboard!$X$1=1,CalculationSheet!W117,CalculationSheet!X117)","v":{"$error":"#DIV/0!"}},null,{"$f":"IF(dashboard!$X$1=1,CalculationSheet!S148,CalculationSheet!T148)","v":{"$error":"#DIV/0!"}},{"$f":"IF(dashboard!$X$1=1,CalculationSheet!U148,CalculationSheet!V148)","v":{"$error":"#DIV/0!"}},{"$f":"IF(dashboard!$X$1=1,CalculationSheet!W148,CalculationSheet!X148)","v":{"$error":"#DIV/0!"}}]
[null,null,null,null,null,null,null,null,null,null,null,null,null,null,null,null,null,null,null,null,null,null,2025,{"$f":"IF(dashboard!$X$1=1,CalculationSheet!S118,CalculationSheet!T118)","v":{"$error":"#DIV/0!"}},{"$f":"IF(dashboard!$X$1=1,CalculationSheet!U118,CalculationSheet!V118)","v":{"$error":"#DIV/0!"}},{"$f":"IF(dashboard!$X$1=1,CalculationSheet!W118,CalculationSheet!X118)","v":{"$error":"#DIV/0!"}},null,{"$f":"IF(dashboard!$X$1=1,CalculationSheet!S149,CalculationSheet!T149)","v":{"$error":"#DIV/0!"}},{"$f":"IF(dashboard!$X$1=1,CalculationSheet!U149,CalculationSheet!V149)","v":{"$error":"#DIV/0!"}},{"$f":"IF(dashboard!$X$1=1,CalculationSheet!W149,CalculationSheet!X149)","v":{"$error":"#DIV/0!"}}]
[null,null,null,null,null,null,null,null,null,null,null,null,null,null,null,null,null,null,null,null,null,null,2026,{"$f":"IF(dashboard!$X$1=1,CalculationSheet!S119,CalculationSheet!T119)","v":{"$error":"#DIV/0!"}},{"$f":"IF(dashboard!$X$1=1,CalculationSheet!U119,CalculationSheet!V119)","v":{"$error":"#DIV/0!"}},{"$f":"IF(dashboard!$X$1=1,CalculationSheet!W119,CalculationSheet!X119)","v":{"$error":"#DIV/0!"}},null,{"$f":"IF(dashboard!$X$1=1,CalculationSheet!S150,CalculationSheet!T150)","v":{"$error":"#DIV/0!"}},{"$f":"IF(dashboard!$X$1=1,CalculationSheet!U150,CalculationSheet!V150)","v":{"$error":"#DIV/0!"}},{"$f":"IF(dashboard!$X$1=1,CalculationSheet!W150,CalculationSheet!X150)","v":{"$error":"#DIV/0!"}}]
[null,null,null,null,null,null,null,null,null,null,null,null,null,null,null,null,null,null,null,null,null,null,2027,{"$f":"IF(dashboard!$X$1=1,CalculationSheet!S120,CalculationSheet!T120)","v":{"$error":"#DIV/0!"}},{"$f":"IF(dashboard!$X$1=1,CalculationSheet!U120,CalculationSheet!V120)","v":{"$error":"#DIV/0!"}},{"$f":"IF(dashboard!$X$1=1,CalculationSheet!W120,CalculationSheet!X120)","v":{"$error":"#DIV/0!"}},null,{"$f":"IF(dashboard!$X$1=1,CalculationSheet!S151,CalculationSheet!T151)","v":{"$error":"#DIV/0!"}},{"$f":"IF(dashboard!$X$1=1,CalculationSheet!U151,CalculationSheet!V151)","v":{"$error":"#DIV/0!"}},{"$f":"IF(dashboard!$X$1=1,CalculationSheet!W151,CalculationSheet!X151)","v":{"$error":"#DIV/0!"}}]
[null,null,null,null,null,null,null,null,null,null,null,null,null,null,null,null,null,null,null,null,null,null,2028,{"$f":"IF(dashboard!$X$1=1,CalculationSheet!S121,CalculationSheet!T121)","v":{"$error":"#DIV/0!"}},{"$f":"IF(dashboard!$X$1=1,CalculationSheet!U121,CalculationSheet!V121)","v":{"$error":"#DIV/0!"}},{"$f":"IF(dashboard!$X$1=1,CalculationSheet!W121,CalculationSheet!X121)","v":{"$error":"#DIV/0!"}},null,{"$f":"IF(dashboard!$X$1=1,CalculationSheet!S152,CalculationSheet!T152)","v":{"$error":"#DIV/0!"}},{"$f":"IF(dashboard!$X$1=1,CalculationSheet!U152,CalculationSheet!V152)","v":{"$error":"#DIV/0!"}},{"$f":"IF(dashboard!$X$1=1,CalculationSheet!W152,CalculationSheet!X152)","v":{"$error":"#DIV/0!"}}]
[null,null,null,null,null,null,null,null,null,null,null,null,null,null,null,null,null,null,null,null,null,null,2029,{"$f":"IF(dashboard!$X$1=1,CalculationSheet!S122,CalculationSheet!T122)","v":{"$error":"#DIV/0!"}},{"$f":"IF(dashboard!$X$1=1,CalculationSheet!U122,CalculationSheet!V122)","v":{"$error":"#DIV/0!"}},{"$f":"IF(dashboard!$X$1=1,CalculationSheet!W122,CalculationSheet!X122)","v":{"$error":"#DIV/0!"}},null,{"$f":"IF(dashboard!$X$1=1,CalculationSheet!S153,CalculationSheet!T153)","v":{"$error":"#DIV/0!"}},{"$f":"IF(dashboard!$X$1=1,CalculationSheet!U153,CalculationSheet!V153)","v":{"$error":"#DIV/0!"}},{"$f":"IF(dashboard!$X$1=1,CalculationSheet!W153,CalculationSheet!X153)","v":{"$error":"#DIV/0!"}}]
[null,null,null,null,null,null,null,null,null,null,null,null,null,null,null,null,null,null,null,null,null,null,2030,{"$f":"IF(dashboard!$X$1=1,CalculationSheet!S123,CalculationSheet!T123)","v":{"$error":"#DIV/0!"}},{"$f":"IF(dashboard!$X$1=1,CalculationSheet!U123,CalculationSheet!V123)","v":{"$error":"#DIV/0!"}},{"$f":"IF(dashboard!$X$1=1,CalculationSheet!W123,CalculationSheet!X123)","v":{"$error":"#DIV/0!"}},null,{"$f":"IF(dashboard!$X$1=1,CalculationSheet!S154,CalculationSheet!T154)","v":{"$error":"#DIV/0!"}},{"$f":"IF(dashboard!$X$1=1,CalculationSheet!U154,CalculationSheet!V154)","v":{"$error":"#DIV/0!"}},{"$f":"IF(dashboard!$X$1=1,CalculationSheet!W154,CalculationSheet!X154)","v":{"$error":"#DIV/0!"}}]

{"sheet":"comparisonsPlanningPopUp","index":29,"n_rows":36,"n_cols":20,"rows_kept":36,"cut":false,"hidden":true,"merged":[[26,3,27,3],[27,16,28,18],[13,2,13,3]]}
[null,null,null,null,null,null,{"$f":"IF($T$1=1,TRUE,FALSE)","v":false},{"$f":"IF($T$1=1,TRUE,FALSE)","v":false},{"$f":"IF($T$1=2,TRUE,FALSE)","v":false},{"$f":"IF($T$1=2,TRUE,FALSE)","v":false},{"$f":"IF($T$1=3,TRUE,FALSE)","v":true},{"$f":"IF($T$1=3,TRUE,FALSE)","v":true},{"$f":"IF($T$1=4,TRUE,FALSE)","v":false},{"$f":"IF($T$1=4,TRUE,FALSE)","v":false},{"$f":"IF($T$1=5,TRUE,FALSE)","v":false},{"$f":"IF($T$1=5,TRUE,FALSE)","v":false},null,null,1,3]
[]
[]
[]
[]
[]
[]
[]
[]
[]
[null,null,null,null,null,null,2023,null,2024,null,2025,null,2026,null,2027]
[null,null,null,"Forecasted list size",null,null,{"$f":"IF(_Mtech!$G$2=1,CalculationSheet!C133,CalculationSheet!E133)","v":{"$error":"#DIV/0!"}},null,{"$f":"IF(_Mtech!$G$2=1,CalculationSheet!C134,CalculationSheet!E134)","v":{"$error":"#DIV/0!"}},null,{"$f":"IF(_Mtech!$G$2=1,CalculationSheet!C135,CalculationSheet!E135)","v":{"$error":"#DIV/0!"}},null,{"$f":"IF(_Mtech!$G$2=1,CalculationSheet!C136,CalculationSheet!E136)","v":{"$error":"#DIV/0!"}},null,{"$f":"IF(_Mtech!$G$2=1,CalculationSheet!C137,CalculationSheet!E137)","v":{"$error":"#DIV/0!"}}]
[]
[null,null,"New COPD patients (incidence)1",null,{"$f":"planningPopUp!E13","v":1.9E-3},null,{"$f":"$E14*G12","v":{"$error":"#DIV/0!"}},null,{"$f":"$E14*I12","v":{"$error":"#DIV/0!"}},null,{"$f":"$E14*K12","v":{"$error":"#DIV/0!"}},null,{"$f":"$E14*M12","v":{"$error":"#DIV/0!"}},null,{"$f":"$E14*O12","v":{"$error":"#DIV/0!"}}]
[]
[null,null,null,"New COPD patients with an MRC score of 3+2",{"$f":"planningPopUp!E16","v":0.46},null,{"$f":"G14*$E16","v":{"$error":"#DIV/0!"}},null,{"$f":"I14*$E16","v":{"$error":"#DIV/0!"}},null,{"$f":"K14*$E16","v":{"$error":"#DIV/0!"}},null,{"$f":"M14*$E16","v":{"$error":"#DIV/0!"}},null,{"$f":"O14*$E16","v":{"$error":"#DIV/0!"}}]
[]
[null,null,null,"Remaining eligible patients from previous year (backlog) ",null,null,{"$f":"comparisons!C52","v":{"$error":"#DIV/0!"}},null,{"$f":"comparisonsPlanning!V16","v":{"$error":"#DIV/0!"}},null,{"$f":"comparisonsPlanning!X16","v":{"$error":"#DIV/0!"}},null,{"$f":"comparisonsPlanning!Z16","v":{"$error":"#DIV/0!"}},null,{"$f":"comparisonsPlanning!AB16","v":{"$error":"#DIV/0!"}}]
[]
[null,null,null,"Percentage of completers from previous years who repeat PR3",{"$f":"planningPopUp!E20","v":0.01},null,{"$f":"E20*comparisons!G33","v":{"$error":"#DIV/0!"}},null,{"$f":"$E$20*comparisonsPlanning!G20","v":{"$error":"#DIV/0!"}},null,{"$f":"$E$20*comparisonsPlanning!I20","v":{"$error":"#DIV/0!"}},null,{"$f":"$E$20*comparisonsPlanning!K20","v":{"$error":"#DIV/0!"}},null,{"$f":"$E$20*comparisonsPlanning!M20","v":{"$error":"#DIV/0!"}}]
[]
[null,null,null,"In-year COPD mortality4",{"$f":"planningPopUp!E22","v":3.9399999999999999E-3},null,{"$f":"(G14+G18)*$E22","v":{"$error":"#DIV/0!"}},null,{"$f":"(I14+I18)*$E22","v":{"$error":"#DIV/0!"}},null,{"$f":"(K14+K18)*$E22","v":{"$error":"#DIV/0!"}},null,{"$f":"(M14+M18)*$E22","v":{"$error":"#DIV/0!"}},null,{"$f":"(O14+O18)*$E22","v":{"$error":"#DIV/0!"}}]
[]
[null,null,null,"Patients who completed PR in the previous year",null,null,{"$f":"comparisons!G33","v":{"$error":"#DIV/0!"}},null,{"$f":"planning!G20","v":{"$error":"#DIV/0!"}},null,{"$f":"planning!I20","v":{"$error":"#DIV/0!"}},null,{"$f":"planning!K20","v":{"$error":"#DIV/0!"}},null,{"$f":"planning!M20","v":{"$error":"#DIV/0!"}}]
[]
[null,null,null,{"$f":"\"Total remaining patients requiring PR in \"&_xlfn.XLOOKUP(T1,comparisonsPlanning!G21:O21,comparisonsPlanning!G10:O10)","v":"Total remaining patients requiring PR in 2026"},null,null,{"$f":"G16+G18+G20-G22","v":{"$error":"#DIV/0!"}},null,{"$f":"I16+I18+I20-I22","v":{"$error":"#DIV/0!"}},null,{"$f":"K16+K18+K20-K22","v":{"$error":"#DIV/0!"}},null,{"$f":"M16+M18+M20-M22","v":{"$error":"#DIV/0!"}},null,{"$f":"O16+O18+O20-O22","v":{"$error":"#DIV/0!"}}]
[]
[]
[]
[null,null,null,null,null,null,1,null,2,null,3,null,4,null,5]
[]
[]
[]
[]
[1]
[{"$f":"\"Patients requiring PR in \"&populationFunnel!C54&\" (NRAP reccommended)\"","v":"Patients requiring PR in England (NRAP reccommended)"}]

{"sheet":"comparisonsPlanningPopUp1","index":30,"n_rows":21,"n_cols":17,"rows_kept":21,"cut":false,"hidden":true,"merged":[[14,16,15,16],[17,1,18,4],[17,6,18,6],[17,8,18,8],[17,10,18,10],[17,12,18,12],[17,14,18,14],[17,16,18,16],[14,1,15,4],[14,6,15,6],[14,8,15,8],[14,10,15,10],[14,12,15,12],[14,14,15,14],[20,16,21,16],[20,1,21,4],[20,6,21,6],[20,8,21,8],[20,10,21,10],[20,12,21,12],[20,14,21,14]]}
[]
[]
[]
[]
[]
[]
[]
[]
[]
[]
[]
[]
[null,null,null,null,null,null,2023,null,{"$f":"G13+1","v":2024},null,{"$f":"I13+1","v":2025},null,{"$f":"K13+1","v":2026},null,{"$f":"M13+1","v":2027},null,{"$f":"O13+1","v":2028}]
[]
[null,"Percentage of patients eligible for PR who are referred",null,null,null,null,{"$f":"comparisons!E29","v":0.94},null,{"$f":"$G$15","v":0.94},null,{"$f":"$G$15","v":0.94},null,{"$f":"$G$15","v":0.94},null,{"$f":"$G$15","v":0.94},null,{"$f":"$G$15","v":0.94}]
[]
[]
[null,"Percentage of patients who are referred to PR who start PR",null,null,null,null,{"$f":"comparisons!E31","v":0.56000000000000005},null,{"$f":"$G$18","v":0.56000000000000005},null,{"$f":"$G$18","v":0.56000000000000005},null,{"$f":"$G$18","v":0.56000000000000005},null,{"$f":"$G$18","v":0.56000000000000005},null,{"$f":"$G$18","v":0.56000000000000005}]
[]
[]
[null,"Percentage of patients who are start PR who complete",null,null,null,null,{"$f":"comparisons!E33","v":0.79},null,{"$f":"$G$21","v":0.79},null,{"$f":"$G$21","v":0.79},null,{"$f":"$G$21","v":0.79},null,{"$f":"$G$21","v":0.79},null,{"$f":"$G$21","v":0.79}]

{"sheet":"comparisonsPlanningGraph","index":31,"n_rows":0,"n_cols":0,"rows_kept":0,"cut":false,"hidden":true,"merged":[]}

{"sheet":"ICSs","index":32,"n_rows":92,"n_cols":108,"rows_kept":92,"cut":false,"hidden":true,"merged":[]}
["STP ONS code (practice parent)",null,"E54000040","E54000024","E54000017","E54000039","E54000044","E54000021","E54000008","E54000036","E54000018","E54000050","E54000037","E54000041","E54000029","E54000034","E54000043","E54000007","E54000042","E54000048","E54000019","E54000025","E54000051","E54000012","E54000032","E54000015","E54000013","E54000026","E54000022","E54000028","E54000027","E54000020","E54000014","E54000030","E54000011","E54000038","E54000031","E54000009","E54000010","E54000023","E54000052","E54000053","E54000016","E54000054"]
["STP name (practice parent)",null,"Bath and North East Somerset, Swindon and Wiltshire","Bedfordshire, Luton and Milton Keynes","Birmingham and Solihull","Bristol, North Somerset and South Gloucestershire","Buckinghamshire, Oxfordshire and Berkshire West","Cambridgeshire and Peterborough","Cheshire and Merseyside","Cornwall and the Isles of Scilly Health and Social Care Partnership","Coventry and Warwickshire","Cumbria and North East","Devon","Dorset","East London Health and Care Partnership","Frimley Health and Care ICS","Gloucestershire","Greater Manchester Health and Social Care Partnership","Hampshire and the Isle of Wight","Healthier Lancashire and South Cumbria","Herefordshire and Worcestershire","Hertfordshire and West Essex","Humber, Coast and Vale","Joined Up Care Derbyshire","Kent and Medway","Leicester, Leicestershire and Rutland","Lincolnshire","Mid and South Essex","Norfolk and Waveney Health and Care Partnership","North London Partners in Health and Care","North West London Health and Care Partnership","Northamptonshire","Nottingham and Nottinghamshire Health and Care","Our Healthier South East London","Shropshire and Telford and Wrekin","Somerset","South West London Health and Care Partnership","South Yorkshire and Bassetlaw","Staffordshire and Stoke on Trent","Suffolk and North East Essex","Surrey Heartlands Health and Care Partnership","Sussex and East Surrey Health and Care Partnership","The Black Country and West Birmingham","West Yorkshire and Harrogate (Health and Care Partnership)"]
[]
[null,null,1,2,3,4,5,6,7,8,9,10,11,12,13,14,15,16,17,18,19,20,21,22,23,24,25,26,27,28,29,30,31,32,33,34,35,36,37,38,39,40,41,42,43,44,45,46,47,48,49,50,51,52,53,54,55,56,57,58,59,60,61,62,63,64,65,66,67,68,69,70,71,72,73,74,75,76,77,78,79,80,81,82,83,84,85,86,87,88,89,90,91,92,93,94,95,96,97,98,99,100,101,102,103,104,105,106]
["2015/16","COPD Prevalence",1.6396584770866005,1.4956240781928527,{"$f":"AVERAGE(E7:E10)","v":1.669024536924373},1.7024124877260227,1.2823787199638896,1.6728367612628783,{"$f":"AVERAGE(I$8:I$10)","v":2.5807069958456399},2.1228332439023951,{"$f":"AVERAGE(K7:K10)","v":1.6466901868014487},{"$f":"AVERAGE(L$9:L$10)","v":2.9227638587004448},2.1044823419200482,1.9225542859892149,1.1723421774659415,1.1741124080410832,1.7381292240719857,{"$f":"AVERAGE(R$8:R$10)","v":2.3384873468978102},1.7762978219647132,{"$f":"AVERAGE(T$8:T$10)","v":2.5211017552950636},1.9421110663662904,1.4825334237768637,{"$f":"AVERAGE(W$9:W$10)","v":2.3582042260961753},{"$f":"AVERAGE(X$8:X$10)","v":2.2414038935516101},1.9265370532686881,{"$f":"AVERAGE(Z$8:Z$10)","v":1.6754221563226437},{"$f":"AVERAGE(AA$8:AA$10)","v":2.306634483298577},1.8748713229624852,2.1996399000110709,1.1352367675980322,0.99500424412464117,1.8900712813756291,{"$f":"AVERAGE(AG$8:AG$10)","v":1.9966451224888966},1.3246373365699105,{"$f":"AVERAGE(AI$8:AI$10)","v":1.9756894231112101},2.126023806137165,1.0738008960835406,{"$f":"AVERAGE(AL$8:AL$10)","v":2.64044513187629},{"$f":"AVERAGE(AM$8:AM$10)","v":2.3027656784241999},1.9857299981399263,{"$f":"AVERAGE(AO$9:AO$10)","v":1.291023722976945},{"$f":"AVERAGE(AP$9:AP$10)","v":1.9334129568259599},{"$f":"AVERAGE(AQ7:AQ10)","v":1.9540415987108712},{"$f":"AVERAGE(AR$9:AR$10)","v":2.2107023673783699}]
["2016/17","COPD Prevalence",1.6642875190853705,1.5054103481298722,{"$f":"AVERAGE(E7:E10)","v":1.669024536924373},1.7626791425089179,1.2990752289948404,1.6857124818486016,{"$f":"AVERAGE(I$8:I$10)","v":2.5807069958456399},2.1611375074294599,{"$f":"AVERAGE(K7:K10)","v":1.6466901868014487},{"$f":"AVERAGE(L$9:L$10)","v":2.9227638587004448},2.1655532127031631,2.0156974894329309,1.1584985512295132,1.2146515654306738,1.7841597979782138,{"$f":"AVERAGE(R$8:R$10)","v":2.3384873468978102},1.8282706467619103,2.5211017552950636,1.9804579004420508,1.5103772126333985,{"$f":"AVERAGE(W$9:W$10)","v":2.3582042260961753},{"$f":"AVERAGE(X$8:X$10)","v":2.2414038935516101},1.9732088777364369,1.6754221563226437,2.306634483298577,1.8754270107312072,2.1832114062425041,1.1588145408785648,1.0085417091645783,1.8855757428095872,{"$f":"AVERAGE(AG$8:AG$10)","v":1.9966451224888966},1.3375805509802157,1.9756894231112101,2.1862742170359351,1.0983034173314385,{"$f":"AVERAGE(AL$8:AL$10)","v":2.64044513187629},2.3027656784241999,2.0116932723324661,{"$f":"AVERAGE(AO$9:AO$10)","v":1.291023722976945},1.9334129568259599,{"$f":"AVERAGE(AQ7:AQ10)","v":1.9540415987108712},2.2107023673783699]
["2017/18","COPD Prevalence",1.6786578435555044,1.5332831365639814,1.6596186434209119,1.7852678695433062,1.2990686084449172,1.7071105657252557,2.5807069958456399,2.2076680820393904,1.6465046309833253,2.9227638587004448,2.2008150864498002,2.0990678029640364,1.1364673244330568,1.2629737907086593,1.8179560880627486,2.3384873468978102,1.890306106081701,2.5211017552950636,2.0700391854077882,1.5331797048508611,2.3582042260961753,2.2414038935516101,2.0015955862877246,1.6754221563226437,2.306634483298577,1.8983299320871296,2.2233975960908574,1.1664187821957244,1.0084210734316286,1.9094137381487595,1.9966451224888966,1.3338198743499319,1.9756894231112101,2.2533387630652926,1.1086371564674822,2.64044513187629,2.3027656784241999,2.0450035449896822,1.291023722976945,1.9334129568259599,1.9270063944299247,2.2107023673783699]
["2018/19","COPD Prevalence",1.7194310843264899,1.54925746400819,1.6759042016616199,1.81225563021155,1.34219012188231,1.7323151656623601,2.57763639428758,2.19759486310268,1.65811627216005,2.9227638587004448,2.2714986569959099,2.1577832370229699,1.1366064642125899,1.2878419057766199,1.8280913085945101,2.3398955726591599,1.90820080131,2.4752187133167198,2.1407202882355598,1.55370455012113,2.3582042260961753,2.2347748395456999,2.0518631340397602,1.67883237117103,2.2865168035407399,1.9435570190131499,2.2864749211332702,1.1693854169259701,1.00390382732615,1.93193113286742,1.9691676120703101,1.3315504257864701,1.9565468301633,2.32997567882266,1.1210976391484,2.6502578539828598,2.28255847593387,2.05821539975712,1.291023722976945,1.9334129568259599,1.97869950583506,2.2107023673783699]
["2019/20","COPD Prevalence",1.7386930277316099,1.5673951010238101,1.6732974052882701,1.8070712571658401,1.33466154317085,1.7384628012804999,2.57779533645125,2.34939450356124,1.63432722100879,2.9203522529342401,2.30850023250966,2.1926881560980398,1.1284088502204099,1.28834990287536,1.85691929083209,2.3354243410189901,1.9724887644712801,2.5490182869115001,2.1814513115611698,1.54895451074424,2.3652929532250102,2.2544413718219301,2.0542889753106102,1.6810975940420501,2.3294132082298802,1.92157397273422,2.3140207727648501,1.2236991540775799,0.98028385429998099,1.9522897971902999,2.0135671576109,1.3174535838464301,1.9779917198517001,2.3381587577771699,1.11123108575431,2.6487033281161101,2.3179661560559799,2.0864964187001802,1.29514616947359,1.9346135126566699,1.9709600764930499,2.2180124257145799]
["2020/21","COPD Prevalence",1.72453340166306,1.5760547109741001,1.66727789732669,1.81802136580378,1.3263360326959399,1.74139918694254,2.5866892567980901,2.3794009210366398,1.6478126230536301,2.9251754644666499,2.32464505697628,2.1824213416407501,1.0984133154379301,1.28179296792408,1.8558149167539599,2.3401421270152798,1.9950289870614899,2.5390682656569701,2.1542904985311102,1.52916621861348,2.35111549896734,2.2349954692871998,2.0509754910235598,1.6663365037548501,2.30397343812511,1.9022905262276499,2.3113959904393302,1.13648954804458,0.94976160685582101,1.9388444345500899,2.0072005977854799,1.31422969953951,1.99252971931863,2.3034472678324698,1.1021936864633499,2.6223742135299002,2.3077724032827498,2.07436527626199,1.2869012764803001,1.9322124009952499,1.93950041808545,2.2033923090421599]
[null,null,1,2,3,4,5,6,7,8,9,10,11,12,13,14,15,16,17,18,19,20,21,22,23,24,25,26,27,28,29,30,31,32,33,34,35,36,37,38,39,40,41,42,43,44,45,46,47,48,49,50,51,52,53,54,55,56,57,58,59,60,61,62,63,64,65,66,67,68,69,70,71,72,73,74,75,76,77,78,79,80,81,82,83,84,85,86,87,88,89,90,91,92,93,94,95,96,97,98,99,100,101,102,103,104,105,106]
["2015/16","List Size",918240,974309,{"$f":"AVERAGE(E$14,E$15,E$16,E$17)","v":1326935.25},950181,1750185,933265,{"$f":"AVERAGE(I$15,I$16,I$17)","v":2667634.3333333335},557227,{"$f":"AVERAGE(K$14,K$15,K$16,K$17)","v":1013434.25},{"$f":"AVERAGE(L$16,L$17)","v":3123890.5},1148596,769029,2018438,756316,634015,{"$f":"AVERAGE(R$15,R$16,R$17)","v":3117603.3333333335},1805159,{"$f":"AVERAGE(T$15,T$16,T$17)","v":1799330.3333333333},777247,1512546,{"$f":"AVERAGE(W$16,W$17)","v":1759969.5},{"$f":"AVERAGE(X$15,X$16,X$17)","v":1059564.3333333333},1794619,{"$f":"AVERAGE(Z$15,Z$16,Z$17)","v":1158531.3333333333},793817.66666666663,1199709,1029714,1503563,2314965,740025,{"$f":"AVERAGE(AG$15,AG$16,AG$17)","v":1091252},1808495,{"$f":"AVERAGE(AI$15,AI$16,AI$17)","v":507976.33333333331},555403,1587352,{"$f":"AVERAGE(AL$15,AL$16,AL$17)","v":1583632.3333333333},1159960.3333333333,989208,{"$f":"AVERAGE(AO$16,AO$17)","v":1108360.5},1794885,{"$f":"AVERAGE(AQ$14,AQ$15,AQ$16,AQ$17)","v":1475032.25},{"$f":"AVERAGE(AR$16,AR$17)","v":2595475}]
["2016/17","List Size",926102,1005573,{"$f":"AVERAGE(E$14,E$15,E$16,E$17)","v":1326935.25},986226,1819910,950340,{"$f":"AVERAGE(I$15,I$16,I$17)","v":2667634.3333333335},568682,{"$f":"AVERAGE(K$14,K$15,K$16,K$17)","v":1013434.25},{"$f":"AVERAGE(L$16,L$17)","v":3123890.5},1205558,795159,2124215,776272,637555,{"$f":"AVERAGE(R$15,R$16,R$17)","v":3117603.3333333335},1869034,{"$f":"AVERAGE(T$15,T$16,T$17)","v":1799330.3333333333},792443,1545839,{"$f":"AVERAGE(W$16,W$17)","v":1759969.5},{"$f":"AVERAGE(X$15,X$16,X$17)","v":1059564.3333333333},1849120,1158531.3333333333,793817.66666666663,1213377,1063067,1557540,2357959,755207,{"$f":"AVERAGE(AG$15,AG$16,AG$17)","v":1091252},1911212,{"$f":"AVERAGE(AI$15,AI$16,AI$17)","v":507976.33333333331},569279,1634521,1583632.3333333333,1159960.3333333333,1003483,1108360.5,1794885,{"$f":"AVERAGE(AQ$14,AQ$15,AQ$16,AQ$17)","v":1475032.25},{"$f":"AVERAGE(AR$16,AR$17)","v":2595475}]
["2017/18","List Size",935271,1008033,1310060,1008028,1286999,967307,{"$f":"AVERAGE(I$15,I$16,I$17)","v":2667634.3333333335},574407,991798,{"$f":"AVERAGE(L$16,L$17)","v":3123890.5},1224410,800260,2169970,783310,636319,{"$f":"AVERAGE(R$15,R$16,R$17)","v":3117603.3333333335},1870332,{"$f":"AVERAGE(T$15,T$16,T$17)","v":1799330.3333333333},792642,1556569,{"$f":"AVERAGE(W$16,W$17)","v":1759969.5},{"$f":"AVERAGE(X$15,X$16,X$17)","v":1059564.3333333333},1883947,1158531.3333333333,793817.66666666663,1219651,1030405,1566590,2429144,764266,{"$f":"AVERAGE(AG$15,AG$16,AG$17)","v":1091252},1959410,{"$f":"AVERAGE(AI$15,AI$16,AI$17)","v":507976.33333333331},574614,1658613,1583632.3333333333,1159960.3333333333,1009876,1108360.5,1794885,1452045,{"$f":"AVERAGE(AR$16,AR$17)","v":2595475}]
["2018/19","List Size",931878,1022038,1323405,1023807,1872462,983597,2645602,323308,1009700,{"$f":"AVERAGE(L$16,L$17)","v":3123890.5},1180190,804344,2218182,784646,646029,3086548,1920605,1821334,798236,1573079,{"$f":"AVERAGE(W$16,W$17)","v":1759969.5},1048741,1900078,1147762,780401,1223890,1060016,1647019,2513687,776684,1063038,1989260,502518,580564,1686383,1571432,1157955,1007912,1108360.5,1794885,1470764,{"$f":"AVERAGE(AR$16,AR$17)","v":2595475}]
["2019/20","List Size",960204,1038666,1335447,1039306,1901306,998986,2672943,585470,1023724,3121507,1247260,809235,2261503,802577,660718,3125128,1897552,1781274,802860,1589782,1757499,1062791,1914385,1161741,798699,1239869,1066974,1680887,2598023,786205,1106643,2017832,508445,583921,1713325,1589608,1159853,1030771,1103582,1791624,1487194,2592366]
["2020/21","List Size",967856,1050027,1338829,1042507,1910451,1005341,2684358,592376,1028515,3126274,1256751,811484,2284386,804030,666338,3141134,1902228,1795383,807412,1590213,1762440,1067161,1937127,1166091,802353,1242029,1073983,1696716,2650244,790574,1104075,2017836,512966,588379,1710135,1589857,1162073,1036317,1113139,1798146,1490126,2598584]
[]
[null,null,1,2,3,4,5,6,7,8,9,10,11,12,13,14,15,16,17,18,19,20,21,22,23,24,25,26,27,28,29,30,31,32,33,34,35,36,37,38,39,40,41,42,43,44,45,46,47,48,49,50,51,52,53,54,55,56,57,58,59,60,61,62,63,64,65,66,67,68,69,70,71,72,73,74,75,76,77,78,79,80,81,82,83,84,85,86,87,88,89,90,91,92,93,94,95,96,97,98,99,100,101,102,103,104,105,106]
["2015/16","Register",15056,14572,{"$f":"AVERAGE(E$22,E$23,E$24,E$25)","v":22147.25},16176,22444,15612,{"$f":"AVERAGE(I$23,I$24,I$25)","v":68844.333333333328},11829,{"$f":"AVERAGE(K$22,K$23,K$24,K$25)","v":16687.75},{"$f":"AVERAGE(L$24,L$25)","v":91304},24172,14785,23663,8880,11020,{"$f":"AVERAGE(R$23,R$24,R$25)","v":72904.666666666672},32065,{"$f":"AVERAGE(T$23,T$24,T$25)","v":45357.666666666664},15095,22424,{"$f":"AVERAGE(W$24,W$25)","v":41503.5},{"$f":"AVERAGE(X$23,X$24,X$25)","v":23749.333333333332},34574,{"$f":"AVERAGE(Z$23,Z$24,Z$25)","v":19410},18311.666666666668,22493,22650,17069,23034,13987,{"$f":"AVERAGE(AG$23,AG$24,AG$25)","v":21792.333333333332},23956,{"$f":"AVERAGE(AI$23,AI$24,AI$25)","v":10036.666666666666},11808,17045,{"$f":"AVERAGE(AL$23,AL$24,AL$25)","v":41814.333333333336},26711.333333333332,19643,{"$f":"AVERAGE(AO$24,AO$25)","v":14309},34702.5,{"$f":"AVERAGE(AQ$22,AQ$23,AQ$24,AQ$25)","v":28824},{"$f":"AVERAGE(AR$24,AR$25)","v":57378}]
["2016/17","Register",15413,15138,{"$f":"AVERAGE(E$22,E$23,E$24,E$25)","v":22147.25},17384,23642,16020,{"$f":"AVERAGE(I$23,I$24,I$25)","v":68844.333333333328},12290,{"$f":"AVERAGE(K$22,K$23,K$24,K$25)","v":16687.75},{"$f":"AVERAGE(L$24,L$25)","v":91304},26107,16028,24609,9429,11375,{"$f":"AVERAGE(R$23,R$24,R$25)","v":72904.666666666672},34171,{"$f":"AVERAGE(T$23,T$24,T$25)","v":45357.666666666664},15694,23348,{"$f":"AVERAGE(W$24,W$25)","v":41503.5},{"$f":"AVERAGE(X$23,X$24,X$25)","v":23749.333333333332},36487,19410,18311.666666666668,22756,23209,18049,23781,14240,{"$f":"AVERAGE(AG$23,AG$24,AG$25)","v":21792.333333333332},25564,{"$f":"AVERAGE(AI$23,AI$24,AI$25)","v":10036.666666666666},12446,17952,41814.333333333336,26711.333333333332,20187,14309,34702.5,{"$f":"AVERAGE(AQ$22,AQ$23,AQ$24,AQ$25)","v":28824},{"$f":"AVERAGE(AR$24,AR$25)","v":57378}]
["2017/18","Register",15700,15456,21742,17996,16719,16513,{"$f":"AVERAGE(I$23,I$24,I$25)","v":68844.333333333328},12681,16330,{"$f":"AVERAGE(L$24,L$25)","v":91304},26947,16798,24661,9893,11568,{"$f":"AVERAGE(R$23,R$24,R$25)","v":72904.666666666672},35355,{"$f":"AVERAGE(T$23,T$24,T$25)","v":45357.666666666664},16408,23865,{"$f":"AVERAGE(W$24,W$25)","v":41503.5},{"$f":"AVERAGE(X$23,X$24,X$25)","v":23749.333333333332},37709,19410,18311.666666666668,23153,22910,18273,24496,14593,{"$f":"AVERAGE(AG$23,AG$24,AG$25)","v":21792.333333333332},26135,{"$f":"AVERAGE(AI$23,AI$24,AI$25)","v":10036.666666666666},12948,18388,41814.333333333336,26711.333333333332,20652,14309,34702.5,27981,{"$f":"AVERAGE(AR$24,AR$25)","v":57378}]
["2018/19","Register",16023,15834,22179,18554,25132,17039,68194,7105,16742,{"$f":"AVERAGE(L$24,L$25)","v":91304},26808,17356,25212,10105,11810,72222,36649,45082,17088,24441,{"$f":"AVERAGE(W$24,W$25)","v":41503.5},23437,38987,19269,17844,23787,24237,19260,25235,15005,20933,26488,9832,13527,18906,41647,26431,20745,14309,34702.5,29102,{"$f":"AVERAGE(AR$24,AR$25)","v":57378}]
["2019/20","Register",16695,16280,22346,18781,25376,17367,68903,13755,16731,91159,28793,17744,25519,10340,12269,72985,37429,45405,17514,24625,41570,23960,39327,19530,18605,23825,24690,20569,25468,15349,22283,26584,10057,13653,19039,42104,26885,21507,14293,34661,29312,57499]
["2020/21","Register",16691,16549,22322,18953,25339,17507,69436,14095,16948,91449,29215,17710,25092,10306,12366,73507,37950,45586,17394,24317,41437,23851,39730,19431,18486,23627,24824,19283,25171,15328,22161,26519,10221,13553,18849,41692,26818,21497,14325,34744,28901,57257]
[]
[]
[]
[]
[]
[]
[]
[]
[]
[]
[]
[]
[]
[]
[]
[]
[]
[]
[]
[]
[]
[]
[]
[]
[]
[918240,null,15056,1.6396584770866005,926102,15413,1.6642875190853705,935271,15700,1.6786578435555044,931878,16023,1.7194310843264899,960204,16695,1.7386930277316099,967856,16691,1.72453340166306]
[974309,null,14572,1.4956240781928527,1005573,15138,1.5054103481298722,1008033,15456,1.5332831365639814,1022038,15834,1.54925746400819,1038666,16280,1.5673951010238101,1050027,16549,1.5760547109741001]
[{"$error":"#N/A"},null,{"$error":"#N/A"},{"$error":"#N/A"},{"$error":"#N/A"},{"$error":"#N/A"},{"$error":"#N/A"},1310060,21742,1.6596186434209119,1323405,22179,1.6759042016616199,1335447,22346,1.6732974052882701,1338829,22322,1.66727789732669]
[950181,null,16176,1.7024124877260227,986226,17384,1.7626791425089179,1008028,17996,1.7852678695433062,1023807,18554,1.81225563021155,1039306,18781,1.8070712571658401,1042507,18953,1.81802136580378]
[1750185,null,22444,1.2823787199638896,1819910,23642,1.2990752289948404,1286999,16719,1.2990686084449172,1872462,25132,1.34219012188231,1901306,25376,1.33466154317085,1910451,25339,1.3263360326959399]
[933265,null,15612,1.6728367612628783,950340,16020,1.6857124818486016,967307,16513,1.7071105657252557,983597,17039,1.7323151656623601,998986,17367,1.7384628012804999,1005341,17507,1.74139918694254]
[{"$error":"#N/A"},null,{"$error":"#N/A"},{"$error":"#N/A"},{"$error":"#N/A"},{"$error":"#N/A"},{"$error":"#N/A"},{"$error":"#N/A"},{"$error":"#N/A"},{"$error":"#N/A"},2645602,68194,2.57763639428758,2672943,68903,2.57779533645125,2684358,69436,2.5866892567980901]
[557227,null,11829,2.1228332439023951,568682,12290,2.1611375074294599,574407,12681,2.2076680820393904,323308,7105,2.19759486310268,585470,13755,2.34939450356124,592376,14095,2.3794009210366398]
[{"$error":"#N/A"},null,{"$error":"#N/A"},{"$error":"#N/A"},{"$error":"#N/A"},{"$error":"#N/A"},{"$error":"#N/A"},991798,16330,1.6465046309833253,1009700,16742,1.65811627216005,1023724,16731,1.63432722100879,1028515,16948,1.6478126230536301]
[{"$error":"#N/A"},null,{"$error":"#N/A"},{"$error":"#N/A"},{"$error":"#N/A"},{"$error":"#N/A"},{"$error":"#N/A"},{"$error":"#N/A"},{"$error":"#N/A"},{"$error":"#N/A"},{"$error":"#N/A"},{"$error":"#N/A"},{"$error":"#N/A"},3121507,91159,2.9203522529342401,3126274,91449,2.9251754644666499]
[1148596,null,24172,2.1044823419200482,1205558,26107,2.1655532127031631,1224410,26947,2.2008150864498002,1180190,26808,2.2714986569959099,1247260,28793,2.30850023250966,1256751,29215,2.32464505697628]
[769029,null,14785,1.9225542859892149,795159,16028,2.0156974894329309,800260,16798,2.0990678029640364,804344,17356,2.1577832370229699,809235,17744,2.1926881560980398,811484,17710,2.1824213416407501]
[2018438,null,23663,1.1723421774659415,2124215,24609,1.1584985512295132,2169970,24661,1.1364673244330568,2218182,25212,1.1366064642125899,2261503,25519,1.1284088502204099,2284386,25092,1.0984133154379301]
[756316,null,8880,1.1741124080410832,776272,9429,1.2146515654306738,783310,9893,1.2629737907086593,784646,10105,1.2878419057766199,802577,10340,1.28834990287536,804030,10306,1.28179296792408]
[634015,null,11020,1.7381292240719857,637555,11375,1.7841597979782138,636319,11568,1.8179560880627486,646029,11810,1.8280913085945101,660718,12269,1.85691929083209,666338,12366,1.8558149167539599]
[{"$error":"#N/A"},null,{"$error":"#N/A"},{"$error":"#N/A"},{"$error":"#N/A"},{"$error":"#N/A"},{"$error":"#N/A"},{"$error":"#N/A"},{"$error":"#N/A"},{"$error":"#N/A"},3086548,72222,2.3398955726591599,3125128,72985,2.3354243410189901,3141134,73507,2.3401421270152798]
[1805159,null,32065,1.7762978219647132,1869034,34171,1.8282706467619103,1870332,35355,1.890306106081701,1920605,36649,1.90820080131,1897552,37429,1.9724887644712801,1902228,37950,1.9950289870614899]
[{"$error":"#N/A"},null,{"$error":"#N/A"},{"$error":"#N/A"},{"$error":"#N/A"},{"$error":"#N/A"},{"$error":"#N/A"},{"$error":"#N/A"},{"$error":"#N/A"},{"$error":"#N/A"},1821334,45082,2.4752187133167198,1781274,45405,2.5490182869115001,1795383,45586,2.5390682656569701]
[777247,null,15095,1.9421110663662904,792443,15694,1.9804579004420508,792642,16408,2.0700391854077882,798236,17088,2.1407202882355598,802860,17514,2.1814513115611698,807412,17394,2.1542904985311102]
[1512546,null,22424,1.4825334237768637,1545839,23348,1.5103772126333985,1556569,23865,1.5331797048508611,1573079,24441,1.55370455012113,1589782,24625,1.54895451074424,1590213,24317,1.52916621861348]
[{"$error":"#N/A"},null,{"$error":"#N/A"},{"$error":"#N/A"},{"$error":"#N/A"},{"$error":"#N/A"},{"$error":"#N/A"},{"$error":"#N/A"},{"$error":"#N/A"},{"$error":"#N/A"},{"$error":"#N/A"},{"$error":"#N/A"},{"$error":"#N/A"},1757499,41570,2.3652929532250102,1762440,41437,2.35111549896734]
[{"$error":"#N/A"},null,{"$error":"#N/A"},{"$error":"#N/A"},{"$error":"#N/A"},{"$error":"#N/A"},{"$error":"#N/A"},{"$error":"#N/A"},{"$error":"#N/A"},{"$error":"#N/A"},1048741,23437,2.2347748395456999,1062791,23960,2.2544413718219301,1067161,23851,2.2349954692871998]
[1794619,null,34574,1.9265370532686881,1849120,36487,1.9732088777364369,1883947,37709,2.0015955862877246,1900078,38987,2.0518631340397602,1914385,39327,2.0542889753106102,1937127,39730,2.0509754910235598]
[{"$error":"#N/A"},null,{"$error":"#N/A"},{"$error":"#N/A"},{"$error":"#N/A"},{"$error":"#N/A"},{"$error":"#N/A"},{"$error":"#N/A"},{"$error":"#N/A"},{"$error":"#N/A"},1147762,19269,1.67883237117103,1161741,19530,1.6810975940420501,1166091,19431,1.6663365037548501]
[{"$error":"#N/A"},null,{"$error":"#N/A"},{"$error":"#N/A"},{"$error":"#N/A"},{"$error":"#N/A"},{"$error":"#N/A"},{"$error":"#N/A"},{"$error":"#N/A"},{"$error":"#N/A"},780401,17844,2.2865168035407399,798699,18605,2.3294132082298802,802353,18486,2.30397343812511]
[1199709,null,22493,1.8748713229624852,1213377,22756,1.8754270107312072,1219651,23153,1.8983299320871296,1223890,23787,1.9435570190131499,1239869,23825,1.92157397273422,1242029,23627,1.9022905262276499]
[1029714,null,22650,2.1996399000110709,1063067,23209,2.1832114062425041,1030405,22910,2.2233975960908574,1060016,24237,2.2864749211332702,1066974,24690,2.3140207727648501,1073983,24824,2.3113959904393302]
[1503563,null,17069,1.1352367675980322,1557540,18049,1.1588145408785648,1566590,18273,1.1664187821957244,1647019,19260,1.1693854169259701,1680887,20569,1.2236991540775799,1696716,19283,1.13648954804458]
[2314965,null,23034,0.99500424412464117,2357959,23781,1.0085417091645783,2429144,24496,1.0084210734316286,2513687,25235,1.00390382732615,2598023,25468,0.98028385429998099,2650244,25171,0.94976160685582101]
[740025,null,13987,1.8900712813756291,755207,14240,1.8855757428095872,764266,14593,1.9094137381487595,776684,15005,1.93193113286742,786205,15349,1.9522897971902999,790574,15328,1.9388444345500899]
[{"$error":"#N/A"},null,{"$error":"#N/A"},{"$error":"#N/A"},{"$error":"#N/A"},{"$error":"#N/A"},{"$error":"#N/A"},{"$error":"#N/A"},{"$error":"#N/A"},{"$error":"#N/A"},1063038,20933,1.9691676120703101,1106643,22283,2.0135671576109,1104075,22161,2.0072005977854799]
[1808495,null,23956,1.3246373365699105,1911212,25564,1.3375805509802157,1959410,26135,1.3338198743499319,1989260,26488,1.3315504257864701,2017832,26584,1.3174535838464301,2017836,26519,1.31422969953951]
[{"$error":"#N/A"},null,{"$error":"#N/A"},{"$error":"#N/A"},{"$error":"#N/A"},{"$error":"#N/A"},{"$error":"#N/A"},{"$error":"#N/A"},{"$error":"#N/A"},{"$error":"#N/A"},502518,9832,1.9565468301633,508445,10057,1.9779917198517001,512966,10221,1.99252971931863]
[555403,null,11808,2.126023806137165,569279,12446,2.1862742170359351,574614,12948,2.2533387630652926,580564,13527,2.32997567882266,583921,13653,2.3381587577771699,588379,13553,2.3034472678324698]
[1587352,null,17045,1.0738008960835406,1634521,17952,1.0983034173314385,1658613,18388,1.1086371564674822,1686383,18906,1.1210976391484,1713325,19039,1.11123108575431,1710135,18849,1.1021936864633499]
[{"$error":"#N/A"},null,{"$error":"#N/A"},{"$error":"#N/A"},{"$error":"#N/A"},{"$error":"#N/A"},{"$error":"#N/A"},{"$error":"#N/A"},{"$error":"#N/A"},{"$error":"#N/A"},1571432,41647,2.6502578539828598,1589608,42104,2.6487033281161101,1589857,41692,2.6223742135299002]
[{"$error":"#N/A"},null,{"$error":"#N/A"},{"$error":"#N/A"},{"$error":"#N/A"},{"$error":"#N/A"},{"$error":"#N/A"},{"$error":"#N/A"},{"$error":"#N/A"},{"$error":"#N/A"},1157955,26431,2.28255847593387,1159853,26885,2.3179661560559799,1162073,26818,2.3077724032827498]
[989208,null,19643,1.9857299981399263,1003483,20187,2.0116932723324661,1009876,20652,2.0450035449896822,1007912,20745,2.05821539975712,1030771,21507,2.0864964187001802,1036317,21497,2.07436527626199]
[{"$error":"#N/A"},null,{"$error":"#N/A"},{"$error":"#N/A"},{"$error":"#N/A"},{"$error":"#N/A"},{"$error":"#N/A"},{"$error":"#N/A"},{"$error":"#N/A"},{"$error":"#N/A"},{"$error":"#N/A"},{"$error":"#N/A"},{"$error":"#N/A"},1103582,14293,1.29514616947359,1113139,14325,1.2869012764803001]
[{"$error":"#N/A"},null,{"$error":"#N/A"},{"$error":"#N/A"},{"$error":"#N/A"},{"$error":"#N/A"},{"$error":"#N/A"},{"$error":"#N/A"},{"$error":"#N/A"},{"$error":"#N/A"},{"$error":"#N/A"},{"$error":"#N/A"},{"$error":"#N/A"},1791624,34661,1.9346135126566699,1798146,34744,1.9322124009952499]
[{"$error":"#N/A"},null,{"$error":"#N/A"},{"$error":"#N/A"},{"$error":"#N/A"},{"$error":"#N/A"},{"$error":"#N/A"},1452045,27981,1.9270063944299247,1470764,29102,1.97869950583506,1487194,29312,1.9709600764930499,1490126,28901,1.93950041808545]
[{"$error":"#N/A"},null,{"$error":"#N/A"},{"$error":"#N/A"},{"$error":"#N/A"},{"$error":"#N/A"},{"$error":"#N/A"},{"$error":"#N/A"},{"$error":"#N/A"},{"$error":"#N/A"},{"$error":"#N/A"},{"$error":"#N/A"},{"$error":"#N/A"},2592366,57499,2.2180124257145799,2598584,57257,2.2033923090421599]

{"sheet":"CCGs","index":33,"n_rows":36,"n_cols":108,"rows_kept":36,"cut":false,"hidden":true,"merged":[]}
["CCG ODS code (practice parent)",null,"02P","99E","02Q","92G","M1J4Y","15A","15E","D2P2L","00Q","00R","00T","36J","09D","15C","14Y","00V","02T","06H","04Y","99F","27D","00X","84H","B2M3M","15M","15N","02X","11J","01A","03W","02Y","05D","97R","06K","D4U1Y","02M","11M","01E","01F","D9Y0V","18C","06N","01D","03F","06L","91Q","11N","X2C4Y","01J","15F","04C","71E","99A","14L","06Q","01K","13T","26A","93C","01H","06T","03H","A3A8R","03K","05G","99C","W2U3Z","42D","78H","00L","52R","00Y","10Q","10R","03L","01G","03N","M2L0M","11X","72Q","05Q","01T","00N","36L","99G","01V","01X","05V","01W","05W","00P","92A","01Y","16C","07G","02A","03Q","03R","02E","07H","02G","04V","07K","70F","02H","12F"]
["CCG ONS code (practice parent)",null,"E38000006","E38000007","E38000008","E38000231","E38000249","E38000221","E38000220","E38000250","E38000014","E38000015","E38000016","E38000232","E38000021","E38000222","E38000223","E38000024","E38000025","E38000026","E38000028","E38000030","E38000233","E38000034","E38000234","E38000251","E38000229","E38000230","E38000044","E38000045","E38000050","E38000051","E38000052","E38000053","E38000235","E38000049","E38000252","E38000226","E38000062","E38000227","E38000068","E38000253","E38000236","E38000079","E38000080","E38000085","E38000086","E38000237","E38000089","E38000254","E38000091","E38000225","E38000097","E38000238","E38000101","E38000217","E38000106","E38000228","E38000212","E38000239","E38000240","E38000215","E38000117","E38000119","E38000255","E38000122","E38000126","E38000127","E38000256","E38000241","E38000242","E38000130","E38000243","E38000135","E38000136","E38000137","E38000141","E38000143","E38000146","E38000257","E38000150","E38000244","E38000153","E38000161","E38000163","E38000245","E38000168","E38000170","E38000172","E38000173","E38000174","E38000175","E38000176","E38000246","E38000182","E38000247","E38000185","E38000187","E38000188","E38000190","E38000194","E38000197","E38000200","E38000201","E38000204","E38000248","E38000205","E38000208"]
["CCG name (practice parent)",null,"NHS Barnsley CCG","NHS Basildon and Brentwood CCG","NHS Bassetlaw CCG","NHS Bath and North East Somerset, Swindon and Wiltshire CCG","NHS Bedfordshire, Luton and Milton Keynes CCG","NHS Berkshire West CCG","NHS Birmingham and Solihull CCG","NHS Black Country and West Birmingham CCG","NHS Blackburn with Darwen CCG","NHS Blackpool CCG","NHS Bolton CCG","NHS Bradford District and Craven CCG","NHS Brighton and Hove CCG","NHS Bristol, North Somerset and South Gloucestershire CCG","NHS Buckinghamshire CCG","NHS Bury CCG","NHS Calderdale CCG","NHS Cambridgeshire and Peterborough CCG","NHS Cannock Chase CCG","NHS Castle Point and Rochford CCG","NHS Cheshire CCG","NHS Chorley and South Ribble CCG","NHS County Durham CCG","NHS Coventry and Warwickshire CCG","NHS Derby and Derbyshire CCG","NHS Devon CCG","NHS Doncaster CCG","NHS Dorset CCG","NHS East Lancashire CCG","NHS East Leicestershire and Rutland CCG","NHS East Riding of Yorkshire CCG","NHS East Staffordshire CCG","NHS East Sussex CCG","NHS East and North Hertfordshire CCG","NHS Frimley CCG","NHS Fylde and Wyre CCG","NHS Gloucestershire CCG","NHS Greater Preston CCG","NHS Halton CCG","NHS Hampshire, Southampton and Isle of Wight CCG","NHS Herefordshire CCG","NHS Herts Valley CCG","NHS Heywood, Middleton and Rochdale CCG","NHS Hull CCG","NHS Ipswich and East Suffolk CCG","NHS Kent and Medway CCG","NHS Kernow CCG","NHS Kirklees CCG","NHS Knowsley CCG","NHS Leeds CCG","NHS Leicester City CCG","NHS Lincolnshire CCG","NHS Liverpool CCG","NHS Manchester CCG","NHS Mid Essex CCG","NHS Morecambe Bay CCG","NHS Newcastle Gateshead CCG","NHS Norfolk and Waveney CCG","NHS North Central London CCG","NHS North Cumbria CCG","NHS North East Essex CCG","NHS North East Lincolnshire CCG","NHS North East London CCG","NHS North Lincolnshire CCG","NHS North Staffordshire CCG","NHS North Tyneside CCG","NHS North West London CCG","NHS North Yorkshire CCG","NHS Northamptonshire CCG","NHS Northumberland CCG","NHS Nottingham and Nottinghamshire CCG","NHS Oldham CCG","NHS Oxfordshire CCG","NHS Portsmouth CCG","NHS Rotherham CCG","NHS Salford CCG","NHS Sheffield CCG","NHS Shropshire, Telford and Wrekin CCG","NHS Somerset CCG","NHS South East London CCG","NHS South East Staffordshire and Seisdon Peninsula CCG","NHS South Sefton CCG","NHS South Tyneside CCG","NHS South West London CCG","NHS Southend CCG","NHS Southport and Formby CCG","NHS St Helens CCG","NHS Stafford and Surrounds CCG","NHS Stockport CCG","NHS Stoke on Trent CCG","NHS Sunderland CCG","NHS Surrey Heartlands CCG","NHS Tameside and Glossop CCG","NHS Tees Valley CCG","NHS Thurrock CCG","NHS Trafford CCG","NHS Vale of York CCG","NHS Wakefield CCG","NHS Warrington CCG","NHS West Essex CCG","NHS West Lancashire CCG","NHS West Leicestershire CCG","NHS West Suffolk CCG","NHS West Sussex CCG","NHS Wigan Borough CCG","NHS Wirral CCG"]
[]
[null,null,1,2,3,4,5,6,7,8,9,10,11,12,13,14,15,16,17,18,19,20,21,22,23,24,25,26,27,28,29,30,31,32,33,34,35,36,37,38,39,40,41,42,43,44,45,46,47,48,49,50,51,52,53,54,55,56,57,58,59,60,61,62,63,64,65,66,67,68,69,70,71,72,73,74,75,76,77,78,79,80,81,82,83,84,85,86,87,88,89,90,91,92,93,94,95,96,97,98,99,100,101,102,103,104,105,106]
["2012/13","COPD Prevalence",3.0773716330638723,1.8615513683876379,2.4309836504958455,{"$f":"AVERAGE($F$13:$F$14)","v":1.7316132146973349},{"$f":"AVERAGE($G$14,$G$13)","v":1.5666620268257851},{"$f":"AVERAGE(H$11:H$14)","v":1.2310725344134275},1.6733941336601574,{"$f":"AVERAGE(J$13:J$14)","v":1.9572714174033301},2.1479108026931497,3.1056475790302231,2.1687346080318775,{"$f":"AVERAGE(N$13:N$14)","v":2.1492839100889354},1.2435815948592861,{"$f":"AVERAGE($P$11:$P$14)","v":1.7985084813970527},{"$f":"AVERAGE(Q$12:Q$14)","v":1.3423867399694103},2.0056271829589063,1.9057578912476132,1.5955770881659941,2.1627903466803504,2.0164347176493376,{"$f":"AVERAGE(W$13:W$14)","v":2.0200775838766347},2.0428617245487035,{"$f":"AVERAGE(Y$13:Y$14)","v":3.13652427970043},1.6418509860437851,{"$f":"AVERAGE(AA$11:AA$14)","v":2.2340853114484647},2.271465668775265,2.5813837248673837,1.7587848536915953,2.3857609998613722,1.5655940788873044,2.0894252751342441,1.6286090598315897,{"$f":"AVERAGE(AI$13:AI$14)","v":2.358358167120775},1.4822493054683028,1.2850714353997201,2.4082750952986025,1.643833408548772,1.951182513308904,2.4957238376613278,{"$f":"AVERAGE(AP$13:AP$14)","v":1.952393138980945},2.1642768835275801,1.2584541102443876,2.3065055400471435,2.4367817675277132,1.6130892131865879,{"$f":"AVERAGE(AV$13:AV$14)","v":2.05391737979068},1.9217717833333032,2.1191590270495801,3.4705407586763521,{"$f":"AVERAGE(AZ$11:AZ$14)","v":2.0002984737551772},1.3595537387067196,{"$f":"AVERAGE(BB$13:BB$14)","v":2.3173060292934249},2.8332134270818847,{"$f":"AVERAGE(BD$9:BD$14)","v":1.9619578411517775},1.3470889047239805,2.1593194122196442,{"$f":"AVERAGE(BG8:BG14)","v":2.419024069679792},{"$f":"AVERAGE(BH$13:BH$14)","v":2.3127083816020901},1.17713473695724,2.1606616489711814,2.1363480313917282,2.1813706546490126,{"$f":"AVERAGE(BM$13:BM$14)","v":1.114622059996405},1.9635566709672858,2.0577076209658531,2.3000408648487998,{"$f":"AVERAGE(BQ$13:BQ$14)","v":0.96461389209543658},2.201335875602505,1.9455671158701948,2.4470753517690245,2.0133450335625351,2.2392582016204012,1.2128072211848338,1.7952546110205112,2.6196126106117106,2.7922018220266147,1.9436480406160188,{"$f":"AVERAGE(CB$13:CB$14)","v":1.985260719585165},1.9161923450787579,1.31462625829404,1.6743466510708744,2.8514866808101784,3.5549226487151273,{"$f":"AVERAGE(CH$13:CH$14)","v":1.1047531002588848},1.8398731196648279,1.9884620105560331,3.0244427093298034,1.3448149758154104,2.1414068673047879,2.3203461967941834,3.1647353034412316,{"$f":"AVERAGE(CP$13:CP$14)","v":1.291023722976945},2.5500140884756268,3.0408161757307104,1.7429632203668819,1.6933686630284099,1.665375794489131,2.737284663010592,1.7801738997203813,1.6016571668404165,2.1247331803120559,1.6408246444475594,1.903863092991066,{"$f":"AVERAGE(DB$13:DB$14)","v":1.83135146151573},2.2153092299875627,2.359662870792302]
["2013/14","COPD Prevalence",3.1289983956901501,1.8765433943655132,2.4746057678647535,1.7316132146973349,1.5666620268257851,1.2310725344134275,1.6733941336601574,1.9572714174033301,2.172783217774418,3.358846006434304,2.2341860050642448,2.1492839100889354,1.2587403370260777,1.7985084813970527,1.3423867399694103,2.0558316311494571,2.0150350834071484,1.6177671671797449,2.2044961205374913,2.0711336440218293,2.0200775838766347,2.1945995693744567,3.13652427970043,1.6418509860437851,2.2340853114484647,2.271465668775265,2.6156281368234113,1.8150616696767725,2.4202923510796324,1.6288134485987413,2.1783842874563475,1.7000242022427412,2.358358167120775,1.5025619720260353,1.2850714353997201,2.5157650182542319,1.6838798739686456,2.0063648199045279,2.545598300867395,1.952393138980945,2.1642768835275801,1.2547509396438032,2.3017354567296957,2.5471570608233383,1.6594322004142219,2.05391737979068,2.0009013713721591,2.1191590270495801,3.4574782430187927,{"$f":"AVERAGE(AZ$11:AZ$14)","v":2.0002984737551772},1.4175832342449466,2.3173060292934249,2.844705021326289,{"$f":"AVERAGE(BD$9:BD$14)","v":1.9619578411517775},1.4338019879155519,2.2419767217622284,{"$f":"AVERAGE(BG8:BG14)","v":2.419024069679792},2.3127083816020901,1.17713473695724,2.2246489799606635,2.2186233839218543,2.2447923790042039,1.114622059996405,2.0435654746848475,2.1233763357238136,2.3930895137820452,0.96461389209543658,2.201335875602505,1.9455671158701948,2.5085632434452263,2.0133450335625351,2.238821326419326,1.2533170792287673,1.885472305553523,2.6899759124002656,2.7657486908106534,1.9719467707958689,1.985260719585165,1.9992531577649839,1.31462625829404,1.7138960092185407,2.8588764596149003,3.6245335127059173,1.1047531002588848,1.9285462769847506,2.0254757294245489,3.0688823371750202,1.4004985058595094,2.1920217708748173,2.411146215642352,3.2265803046659469,1.291023722976945,2.6294491631484971,3.0408161757307104,1.800407184763098,1.8222109661896924,1.6135122281629652,2.8119390150954668,1.8129319322162263,1.6448003250325878,2.1385310774837869,1.6904261120199424,1.9424980674762486,1.83135146151573,2.2559624536045848,2.2999678010526345]
["2014/15","COPD Prevalence",3.1650942832203368,1.9094745711350416,2.4980188430043144,1.7316132146973349,1.5666620268257851,1.2310725344134275,1.6733941336601574,1.9572714174033301,2.2847440898622926,3.633008510588756,2.238313363870942,2.1492839100889354,1.2822611804923412,1.7985084813970527,1.3423867399694103,2.1378739386351935,2.1077315740493328,1.6476804605024664,2.2566866905735363,2.1440696122216911,2.0200775838766347,2.2527518932462485,3.13652427970043,1.6418509860437851,2.2340853114484647,2.271465668775265,2.6379503602882304,1.8624376709382895,2.4457840044385954,1.6929756551403319,2.2478166481613444,1.6685724274050822,2.358358167120775,1.5179497732163834,1.2850714353997201,2.6547674341450467,1.7153076342890754,2.0381578134137124,2.5770158470761082,1.952393138980945,2.1642768835275801,1.2711945834107345,2.3559987317974986,2.622652749894109,1.687332161085052,2.05391737979068,2.0755822151836947,2.1191590270495801,3.5203657006571181,2.0002984737551772,1.4347469335004102,2.3173060292934249,2.8847335720261533,1.9619578411517775,1.5000973576604693,2.2688574031604412,2.3896647297610532,2.3127083816020901,1.17713473695724,2.2708746451758364,2.2451724783010212,2.2992795867102704,1.114622059996405,2.114400831664327,2.1825811273110434,2.4487927151307178,0.96461389209543658,2.201335875602505,1.9455671158701948,2.5461511235850405,2.0133450335625351,2.2203645557231986,1.2883310480610344,1.9522925374772484,2.7415264720435428,2.7042633420788489,2.0080184311364788,1.985260719585165,2.0388954650697024,1.31462625829404,1.7418315155195367,2.8103282441713966,3.7203992813454665,1.1047531002588848,2.0503418137763929,2.0126593592316633,3.0177232196745054,1.4872774236095847,2.2129598791791834,2.4748760976846911,3.2204801083842565,1.291023722976945,2.6775967539288583,3.0408161757307104,1.8324079347000759,1.8784632589739927,1.6522828904269562,2.8272280312997715,1.7999107792726163,1.6936274755913472,2.1788765808672697,1.7621004493196246,2.0032743457478754,1.83135146151573,2.314968495704806,2.4026755772515886]
["2015/16","COPD Prevalence",3.1481142624783978,1.935333323610483,2.5361599162137272,1.7316132146973349,1.5666620268257851,1.2310725344134275,1.6733941336601574,1.9572714174033301,2.2437164314445814,3.6992616687923427,2.2519845200829471,2.1492839100889354,1.3400256486668385,1.7985084813970527,1.3423867399694103,2.1243461246655753,2.2000100686959665,1.6728367612628783,2.2793426868521967,2.1826477057427209,2.0200775838766347,2.3205495452902078,3.13652427970043,1.6418509860437851,2.2340853114484647,2.271465668775265,2.6820227609842555,1.9225542859892149,2.4923734394108399,1.7348914567999303,2.329212752114509,1.6842165873741335,2.358358167120775,1.5482679949145752,1.2850714353997201,2.7864385641470557,1.7381292240719857,2.0434616102202541,2.6143112587010666,1.952393138980945,2.1642768835275801,1.3056944760172766,2.4029830133959398,2.6569683142870884,1.7229594891239275,2.05391737979068,2.1228332439023951,2.1191590270495801,3.5435861091424519,2.0002984737551772,1.4167311644976601,2.3173060292934249,2.9250532067705981,1.9354198536403855,1.5465364757997848,2.1609964743991266,2.3997489529839466,2.3127083816020901,1.17713473695724,2.3980165697355424,2.2400294579216382,2.4128380970650296,1.114622059996405,2.1709665222070331,2.2562546542768467,2.4995391705069125,0.96461389209543658,2.201335875602505,1.9455671158701948,2.6142716721602235,2.0133450335625351,2.2493550056775549,1.3435093076079203,2.0049848197955393,2.8315674803934114,2.6762741975006126,2.0573144573144573,1.985260719585165,2.126023806137165,1.31462625829404,1.7644537245737515,2.8630861820580829,3.7260546290081069,1.1047531002588848,2.1319698496252757,2.0711874808223381,3.0016143310940997,1.5682964515931412,2.2521575809739223,2.4869515097823651,3.3112606982846202,1.291023722976945,2.7341637336395328,3.0408161757307104,1.9067500116620797,1.8972554184826149,1.6931756918437537,2.8525344737253566,1.8301134133800963,1.7261397179403084,2.1350232457257099,1.8295920065291633,2.0601677872798554,1.83135146151573,2.4311947967277749,2.4450397584725945]
["2016/17","COPD Prevalence",3.1613135499092282,1.9239045135812469,2.4673960174777356,1.7316132146973349,1.5666620268257851,{"$f":"AVERAGE(H$11:H$14)","v":1.2310725344134275},{"$f":"AVERAGE(I$11:I$14)","v":1.6733941336601574},1.9572714174033301,2.2647111285004922,3.7278733519012848,2.25441364383133,2.1492839100889354,1.3978714830253745,{"$f":"AVERAGE($P$11:$P$14)","v":1.7985084813970527},1.3423867399694103,2.110915701695451,2.2540340016841531,1.6857124818486016,2.3897753913635333,2.2148058252427183,2.0200775838766347,2.3530899077122647,3.13652427970043,1.6418509860437851,{"$f":"AVERAGE(AA$11:AA$14)","v":2.2340853114484647},{"$f":"AVERAGE(AB$11:AB$14)","v":2.271465668775265},2.7154708138853718,2.0156974894329309,2.5588031115299237,1.7454354265312297,2.3604974769689613,1.7119133924301546,2.358358167120775,1.5676845882003829,1.2850714353997201,2.8978506008788183,1.7841597979782138,2.1291581401989244,2.7192578963508125,1.952393138980945,2.1642768835275801,1.349162345215964,2.4320216179699377,2.5914406971846957,1.7479289442875494,2.05391737979068,2.1611375074294599,2.1191590270495801,3.528490403264787,2.0002984737551772,1.3872869727762642,2.3173060292934249,3.0160700249952668,1.9414879647800902,1.5626043748811731,2.2193334515943057,2.420509827561713,2.3127083816020901,1.17713473695724,2.4171736614409585,2.2291994615928639,2.4153914238464584,1.114622059996405,2.2505825955716952,2.3448415324656224,2.5705998524539835,0.96461389209543658,2.201335875602505,1.9455671158701948,2.6873691793506658,2.0133450335625351,2.2914688192465968,1.3556364313764704,1.9262146293831188,2.8110789582472098,2.6140832002035297,2.0477524137515157,1.985260719585165,2.1862742170359351,1.31462625829404,1.7460169404950674,2.8949103375527425,3.7345353409417861,1.1047531002588848,2.122394594080137,2.1392614071120777,3.0340825209356783,1.633108108108108,2.2934209846567133,2.4879076922008521,3.3422262267617429,1.291023722976945,2.8272051510021474,3.0408161757307104,1.8696962031138606,1.9527804131089694,1.6678445618367466,2.8462592253669841,1.8486244855359288,1.7364191495010588,2.2874200727735188,1.8535991083231809,2.1334576644506789,1.83135146151573,2.5313347819148282,2.4372333729631444]
["2017/18","COPD Prevalence",3.2558336086545601,1.9206081506280399,2.5666328834835799,1.7316132146973349,1.5666620268257851,1.19484950283188,1.68397132060939,1.9572714174033301,2.2321785742859399,3.7025921030607698,2.29015782033906,2.1492839100889354,1.4373495897745301,1.7584716514277801,{"$f":"AVERAGE(Q$12:Q$14)","v":1.3423867399694103},2.1424900238503599,2.2582624383007199,1.7078109845899601,2.4939921898468,2.29306585769314,2.0200775838766347,2.3518251995289798,3.13652427970043,1.6418509860437851,2.2067257006259999,2.1888072715185101,2.7588845158822299,2.0826218385828401,2.5957153671064499,1.76401744866475,2.4438538555659299,1.85241292813709,2.358358167120775,1.56569129381008,1.2850714353997201,2.8594675595307799,1.8103118946764301,2.0608758364099198,2.7879822569089798,1.952393138980945,2.1642768835275801,1.3918667418966399,2.4673153585665899,2.7269953515085201,1.77344470837669,2.05391737979068,2.1185322494480801,2.1191590270495801,3.5584881424122301,1.96042157000453,1.39675163756665,2.3173060292934249,3.0075436096735202,1.97270932057189,1.57281664618525,2.2781355084385599,2.42094475054822,2.3127083816020901,1.17713473695724,2.4278100290261202,2.1907695575973198,2.54444244927276,1.114622059996405,2.32526934323301,2.4103852049969001,2.6204846114526599,0.96461389209543658,2.201335875602505,1.9455671158701948,2.73790014202994,2.0133450335625351,2.36884603699973,1.3776972563070999,2.08043828610244,2.9269320663627001,2.5595035047371701,2.0688120264241401,1.985260719585165,2.2541137307707402,1.31462625829404,1.8397980261647899,3.08308398679323,3.72094531072714,1.1047531002588848,2.1534685721732298,2.12461591853664,3.0655440535613199,1.7096826120784501,2.2768317643575098,2.57635118515006,3.3932020224670301,1.291023722976945,2.9077429283181901,3.0408161757307104,1.87083738681434,1.96076808475418,1.72418622107451,2.8737510439973302,1.83962173854783,1.77104580840564,2.3002008752421301,1.8929397499516001,2.1751969289459598,1.83135146151573,2.59938979432552,2.5383170413620602]
["2018/19","COPD Prevalence",3.3168488601310901,1.9506599857242799,2.6622999313295699,{"$f":"AVERAGE($F$13:$F$14)","v":1.7316132146973349},{"$f":"AVERAGE($G$14,$G$13)","v":1.5666620268257851},1.2419800940418899,1.6759042016616199,{"$f":"AVERAGE(J$13:J$14)","v":1.9572714174033301},2.1133379330577098,3.7337680976382699,2.2980570391181101,{"$f":"AVERAGE(N$13:N$14)","v":2.1492839100889354},1.42182397760846,1.81225563021155,1.3609740814885201,2.17485334927416,2.2860518815167601,1.7323151656623601,2.6086566762785601,2.3601440964089,{"$f":"AVERAGE(W$13:W$14)","v":2.0200775838766347},2.3811195420300799,{"$f":"AVERAGE(Y$13:Y$14)","v":3.13652427970043},{"$f":"AVERAGE(Z$13:Z$14)","v":1.6418509860437851},2.2347748395456999,2.2714986569959099,2.8470070362585602,2.1577832370229699,2.49933395912127,1.79869306192626,2.52826330523063,1.8500365001564301,{"$f":"AVERAGE(AI$13:AI$14)","v":2.358358167120775},1.58977659525058,{"$f":"AVERAGE(AK$13:AK$14)","v":1.2850714353997201},2.9126867430662302,1.8280913085945101,1.9213886498561501,2.8660017804064801,{"$f":"AVERAGE(AP$13:AP$14)","v":1.952393138980945},{"$f":"AVERAGE(AQ$13:AQ$14)","v":2.1642768835275801},1.4318682632161299,2.5291086893886701,2.8100446977093299,1.80739745957137,{"$f":"AVERAGE(AV$13:AV$14)","v":2.05391737979068},2.19759486310268,{"$f":"AVERAGE(AX$13:AX$14)","v":2.1191590270495801},3.58415187287856,2.0010839157693998,1.3789163119750101,{"$f":"AVERAGE(BB$13:BB$14)","v":2.3173060292934249},3.0878982679625699,1.98721050917514,1.6001420544626701,2.2729990263456101,2.4300368301574,{"$f":"AVERAGE(BH$13:BH$14)","v":2.3127083816020901},{"$f":"AVERAGE(BI$13:BI$14)","v":1.17713473695724},2.4740391886823798,2.2349926857428701,2.6576666627468,{"$f":"AVERAGE(BM$13:BM$14)","v":1.114622059996405},2.4088635531846498,2.56162197850567,2.6436510670704099,{"$f":"AVERAGE(BQ$13:BQ$14)","v":0.96461389209543658},2.201335875602505,1.9455671158701948,2.8003770974515301,2.0133450335625351,2.36075677391631,1.40062185449659,2.0935812321557599,3.0029166650904302,2.5162305654438599,2.1027795361685002,1.985260719585165,2.32997567882266,1.31462625829404,1.8955440092492299,3.0816601449740202,3.7454991141113498,1.1047531002588848,2.19307970899722,2.1676527134853298,3.1270674147656998,1.8279707041345801,2.3217769630075198,2.6565929026165098,3.4917784585049798,1.291023722976945,3.02886890676763,3.0408161757307104,1.9941603307218601,1.9805233477498301,1.7641399368547901,2.8514434473416901,1.8258202977267199,1.7355416130179799,2.2664782217653898,1.8922655746179,2.2254278148836102,1.83135146151573,2.6453681853936,2.5870351699187499]
["2019/20","COPD Prevalence",3.2795486343451601,1.90791998000556,2.70532776247373,1.7386930277316099,1.55726934267747,1.25075800764725,1.6664231150429301,1.9750424167212099,2.1645748976517298,3.7641147147869001,2.3007221175369601,2.1611067193675901,1.4809772610199401,1.8052852781451001,1.3323272609679899,2.1580058248769598,2.2962939616473901,1.7347147399388301,2.6659358561521298,2.3266818301581398,2.0182926589807999,2.4059712850124799,3.1276614596235701,1.6358893490339399,2.2598452363349599,2.3009116896103601,2.8689279834885402,2.19347965636396,2.6258421997346599,1.8221429398268401,2.5548776120180499,1.8310662661782,2.3547886884915998,1.61241011903053,1.28834990287536,2.9750287186464899,1.8498342567050701,2.0814411497574099,2.8901430830691299,1.93366417364552,2.1742632685240499,1.4458186008084599,2.5421418415324202,2.87324055956601,1.85689617433179,2.0568592685578002,2.34939450356124,2.1364352476880999,3.5944365719185001,2.02406504503351,1.37790439474256,2.3306386204617402,3.1179095103773,1.96780787449732,1.6095720035980401,2.2704715729932499,2.43024673211487,2.3140207727648501,1.2177799258699,2.4881214930712798,2.2208321169912599,2.73909688797443,1.1308308045548801,2.4568144535335601,2.6122329179870798,2.6451013130691798,0.97946617733505204,2.21599769790584,1.9522897971902999,2.80522027250904,2.0194894693395899,2.37573553268789,1.3858676722444001,2.0282519842102098,3.0213042132987198,2.4735407463107402,2.08605750815601,1.9779917198517001,2.3381587577771699,1.31502281704857,1.88783904479857,2.99763864956283,3.7411469402942701,1.10731251405442,2.19072988811934,2.0555794298811101,3.01113254224496,1.89238516465949,2.3255961642269698,2.7099466000191201,3.4716865232421901,1.29514616947359,3.0271897548621398,3.0317252927073701,1.9309434792170701,2.0034803027444101,1.7320585529714301,2.8417869980706101,1.8184124452981301,1.6648909949592099,2.3601689716218801,1.88241271612379,2.2761170840842699,1.8413258640620001,2.6473303538129498,2.6047002200386702]
["2020/21","COPD Prevalence",3.23720726072857,1.86538529235752,2.6967469398616299,1.72453340166306,1.5760547109741001,1.23670253313269,1.66727789732669,1.93950041808545,2.1692880057030801,3.8172258101388801,2.2826371395151601,2.1374611008102802,1.4982000641073101,1.81802136580378,1.3338588774517199,2.1629148517904602,2.3081946539959901,1.74139918694254,2.6726912967721002,2.3383234824625698,2.02186250877247,2.32136554689255,3.1453870997772899,1.6478126230536301,2.2349954692871998,2.32464505697628,2.8226585426434601,2.1824213416407501,2.5711159737417901,1.8009275188429801,2.5501136060312102,1.79816288034118,2.3619276457499501,1.57701707459457,1.28179296792408,2.9348687455320301,1.8558149167539599,2.1009895965491001,2.8910093931713101,1.97112210431637,2.1542904985311102,1.4248288046145401,2.5464323682071202,2.85095597662546,1.8200406538290399,2.0509754910235598,2.3794009210366398,2.10188280641106,3.6133432171979201,2.0156233642132699,1.37473660757669,2.30397343812511,3.0671604234571799,1.9671115242458399,1.61469696628905,2.3016600178692399,2.4420166646313399,2.3113959904393302,1.13648954804458,2.5141312887674201,2.2056504053792301,2.7727592679493198,1.0984133154379301,2.4788815724600402,2.5959674560163499,2.6164314222618401,0.94976160685582101,2.18667405329917,1.9388444345500899,2.8120309380785402,2.0072005977854799,2.3415576648827701,1.38490865195896,2.1687731437214199,2.9959239130434798,2.55760392531948,2.0758344607079402,1.99252971931863,2.3034472678324698,1.31422969953951,1.9065512246815099,2.9993170314484701,3.6799555704215101,1.1021936864633499,2.1610825964609002,2.1780649679298398,2.98514198604961,1.87032418952618,2.3330806039079701,2.6966451425620299,3.5114992455763301,1.2869012764803001,2.9956461633800999,3.0499070587540502,1.8781759243034899,2.01407514948695,1.70352905135205,2.8090164679012202,1.8402990146109399,1.6538126632665799,2.3452231645602901,1.85750163926314,2.2991875689563401,1.82137705896946,2.6738127584611,2.6929844015672399]
[]
[null,null,1,2,3,4,5,6,7,8,9,10,11,12,13,14,15,16,17,18,19,20,21,22,23,24,25,26,27,28,29,30,31,32,33,34,35,36,37,38,39,40,41,42,43,44,45,46,47,48,49,50,51,52,53,54,55,56,57,58,59,60,61,62,63,64,65,66,67,68,69,70,71,72,73,74,75,76,77,78,79,80,81,82,83,84,85,86,87,88,89,90,91,92,93,94,95,96,97,98,99,100,101,102,103,104,105,106]
["2012/13","List Size",250376,264618,111930,{"$f":"AVERAGE($F$24,$F$25)","v":964030},{"$f":"AVERAGE(G$24,G$25)","v":1036421.5},{"$f":"AVERAGE(H$24,H$25,H$23,H$22)","v":547856},1309939.5,{"$f":"AVERAGE(J$24,J$25)","v":1479148.5},169467,172782,297639,{"$f":"AVERAGE(N$24,N$25)","v":639039.5},300503,{"$f":"AVERAGE(P$24,P$25,P$23,P$22)","v":1008548.25},{"$f":"AVERAGE(Q$24,Q$25,Q$23)","v":564985.66666666663},185528,214193,875984,132514,180715,{"$f":"AVERAGE(W$24,W$25)","v":775232.5},174608,{"$f":"AVERAGE(Y$24,Y$25)","v":555798.5},1023155,{"$f":"AVERAGE(AA$24,AA$25,AA$23,AA$22)","v":1051679.5},1203030.25,310105,771726,367891,317643,300944,135146,{"$f":"AVERAGE(AI$24,AI$25)","v":534779},573048,{"$f":"AVERAGE(AK$24,AK$25)","v":803303.5},151104,620440,210949,128620,{"$f":"AVERAGE(AP$24,AP$25)","v":1646735},797862.5,609319,221027,290383,390245,{"$f":"AVERAGE(AV$24,AV$25)","v":1910169},558443,{"$f":"AVERAGE(AX$24,AX$25)","v":445736},161070,{"$f":"AVERAGE(AZ$22:AZ$26)","v":714273.6},378433,{"$f":"AVERAGE(BB$24,BB$25)","v":797570},496221,{"$f":"AVERAGE(BD$20,BD$21,BD$22,BD$23,BD$24,BD$25)","v":647090.66666666663},381712,161625,{"$f":"AVERAGE(BG$19,BG$20,BG$21,BG$22,BG$23,BG$24,BG$25)","v":521918.14285714284},{"$f":"AVERAGE(BH$24,BH$25)","v":1070478.5},1644930.5,524145,332062,168197,{"$f":"AVERAGE(BM$24,BM$25)","v":2264111.5},169743,213490,215344,{"$f":"AVERAGE(BQ$24,BQ$25)","v":2612047.5},432063.5,788389.5,321731,{"$f":"AVERAGE(BU$24,BU$25)","v":1089302},240928,693515,217685,256641,250161,578294,{"$f":"AVERAGE(CB$24,CB$25)","v":510705.5},548327,{"$f":"AVERAGE(CD$24,CD$25)","v":2005212.5},212023,155077,154490,{"$f":"AVERAGE(CH$24,CH$25)","v":1708891.5},184741,122205,193391,144927,299943,280303,283910,{"$f":"AVERAGE(CP$24,CP$25)","v":1108360.5},241332,{"$f":"AVERAGE(CR$24,CR$25)","v":710349.5},164031,227948,331817,356302,208856,295444,111967,370972,238410,{"$f":"AVERAGE(DB$24,DB$25)","v":894104},320813,331149]
["2013/14","List Size",252445,267673,112624,964030,1036421.5,547856,1309939.5,1479148.5,169322,172202,297379,639039.5,303478,{"$f":"AVERAGE(P$24,P$25,P$23,P$22)","v":1008548.25},564985.66666666663,196806,215629,891352,133137,180674,775232.5,176023,555798.5,1023155,1051679.5,1203030.25,310824,777935,371608,321461,300957,136351,534779,577680,803303.5,150650,625876,207390,129007,1646735,797862.5,616457,223918,288557,393026,1910169,559148,445736,160753,{"$f":"AVERAGE(AZ$22:AZ$26)","v":714273.6},376768,797570,500087,{"$f":"AVERAGE(BD$20,BD$21,BD$22,BD$23,BD$24,BD$25)","v":647090.66666666663},377179,160751,{"$f":"AVERAGE(BG$19,BG$20,BG$21,BG$22,BG$23,BG$24,BG$25)","v":521918.14285714284},1070478.5,1644930.5,520127,330971,168167,2264111.5,169997,203167,215788,2612047.5,432063.5,788389.5,321140,1089302,242985,700541,218672,257809,253783,583890,510705.5,551656,2005212.5,212615,154921,154613,1708891.5,184595,122391,194012,145234,301320,274102,283458,1108360.5,239708,710349.5,166018,236910,346945,358187,211260,295355,111946,372273,240618,894104,320883,332309]
["2014/15","List Size",250893,270598,113570,964030,1036421.5,547856,1309939.5,1479148.5,170216,171786,299958,639039.5,305398,{"$f":"AVERAGE(P$24,P$25,P$23,P$22)","v":1008548.25},564985.66666666663,198094,217058,910310,131343,182037,775232.5,177605,555798.5,1023155,1051679.5,1203030.25,312250,783543,373091,322450,301715,137303,534779,583155,803303.5,150710,632423,210337,127279,1646735,797862.5,624452,223939,290393,396958,1910169,553146,445736,161006,714273.6,381461,797570,504414,{"$f":"AVERAGE(BD$20,BD$21,BD$22,BD$23,BD$24,BD$25)","v":647090.66666666663},380042,159155,504757,1070478.5,1644930.5,518919,336767,168792,2264111.5,170261,215433,216229,2612047.5,432063.5,788389.5,322094,1089302,245230,711075,218666,258688,258037,586399,510705.5,556723,2005212.5,214085,147634,154177,1708891.5,184896,123071,190541,145568,303259,283893,283436,1108360.5,242755,710349.5,168576,237854,351090,361025,212955,298767,112122,375234,243102,894104,322337,333087]
["2015/16","List Size",245925,274268,110758,964030,1036421.5,547856,1309939.5,1479148.5,172036,170926,302844,639039.5,298651,{"$f":"AVERAGE(P$24,P$25,P$23,P$22)","v":1008548.25},564985.66666666663,200344,218499,933265,129862,183676,775232.5,179785,555798.5,1023155,1051679.5,1203030.25,314837,769029,372055,322268,299715,138937,534779,574190,803303.5,147536,634015,203674,125272,1646735,797862.5,633456,224471,291046,400880,1910169,557227,445736,159443,714273.6,390194,797570,511683,604675,384666,335262,506678,1070478.5,1644930.5,291616,342183,166816,2264111.5,171905,216199,217000,2612047.5,432063.5,788389.5,322499,1089302,249227,698246,217059,257949,261184,582750,510705.5,555403,2005212.5,216951,148546,154936,1708891.5,185603,123842,192030,146911,299757,281067,273642,1108360.5,240366,710349.5,171496,238397,346863,364553,201299,304900,106041,378609,246145,894104,322105,329238]
["2016/17","List Size",261094,276521,119924,964030,1036421.5,547856,1309939.5,1479148.5,173797,172699,306776,639039.5,302746,{"$f":"AVERAGE(P$24,P$25,P$23,P$22)","v":1008548.25},564985.66666666663,202424,219695,950340,132230,184576,775232.5,181931,555798.5,1023155,1051679.5,1203030.25,317514,795159,378849,327139,305783,144283,534779,593104,803303.5,151112,637555,210130,130440,1646735,797862.5,643881,230919,308670,404021,1910169,568682,445736,163441,714273.6,402296,797570,522899,628281,389222,360784,520882,1070478.5,1644930.5,323146,350664,171732,2264111.5,172933,217584,218237,2612047.5,432063.5,788389.5,323439,1089302,252720,730063,239641,266090,267283,596996,510705.5,569279,2005212.5,225141,151680,156405,1708891.5,189126,124155,196435,148000,309712,287993,284122,1108360.5,246321,710349.5,173932,240324,363643,369362,203124,308854,113228,385790,248798,894104,325836,343176]
["2017/18","List Size",260302,278089,112482,964030,1036421.5,534628,1256791,1479148.5,174986,173257,309149,639039.5,288378,941670,564985.66666666663,173163,218398,890848,133160,171081,775232.5,183432,555798.5,1023155,1035788,1137149,308458,787661,381783,328965,304028,141923,534779,587536,803303.5,170836,594207,209377,131206,1646735,797862.5,593735,233290,278585,407512,1910169,310734,445736,165042,875679,407159,797570,515138,641098,384088,345853,523969,1070478.5,1644930.5,319712,301264,167070,2264111.5,178861,214613,213243,2612047.5,432063.5,788389.5,320355,1089302,250164,743487,225241,260990,272631,593094,510705.5,559954,2005212.5,217850,155072,154235,1708891.5,184168,118139,192527,149092,307313,280513,276494,1108360.5,235234,710349.5,160356,241640,357038,357999,208956,307389,111512,392564,250598,894104,324153,334316]
["2018/19","List Size",262267,281597,113586,964030,1036421.5,548479,1323405,1479148.5,184069,174194,312873,639039.5,308688,1023807,564963,205761,221736,983597,133862,185709,775232.5,185165,555798.5,1023155,1048741,1180190,323041,804344,401627,332686,306139,143835,534779,602852,803303.5,178186,646029,230094,132554,1646735,797862.5,652574,236012,301134,411033,1910169,323308,445736,166455,889368,416559,797570,541501,657102,394215,351254,530815,1070478.5,1644930.5,325298,343849,170074,2264111.5,180334,218104,220604,2612047.5,432063.5,788389.5,326706,1089302,258307,759020,232568,264343,278949,608195,510705.5,580564,2005212.5,218829,155890,157469,1708891.5,189414,121191,198013,148963,314199,294362,284010,1108360.5,249334,710349.5,172955,243471,361706,377984,219463,317653,116745,398517,253030,894104,330540,337220]
["2019/20","List Size",263024,284079,119431,960204,1022816,550786,1320733,1468171,178557,174729,316292,632500,326136,1026209,556620,207043,222097,992901,131361,185973,763913,178722,553033,1017795,1055028,1238031,325592,805387,384410,336911,307138,145489,506882,592033,802577,179326,647085,212497,133419,1621326,788313,631822,238421,301019,411170,1883211,585470,443683,167954,890337,423324,792787,550914,673643,397994,341559,534061,1066974,1593145,302437,359685,163302,2243837,181658,218051,216211,2573851,430912,786205,295770,1074529,249649,760823,214569,265018,265975,605688,508445,583921,1992589,212730,156690,158561,1707648,187700,125658,190792,150128,314930,292884,280008,1103582,251124,709497,181880,238485,361997,374729,220742,314435,114102,401506,257456,877194,327122,329942]
["2020/21","List Size",264271,284070,120256,967856,1050027,557531,1338829,1490126,179552,174970,317177,645579,324456,1042507,573374,207544,222035,1005341,135444,185432,786552,187002,558564,1028515,1067161,1256751,326111,811484,391192,340047,307202,146316,562676,606398,804030,180451,666338,216755,134140,1672144,807412,662255,239865,303407,415705,1937127,592376,447789,168625,897886,421899,802353,554389,677745,400137,351442,532265,1073983,1696716,327111,361390,170480,2284386,182542,217183,223243,2650244,433215,790574,331113,1104075,260852,779546,230084,264960,289607,614259,512966,588379,2017836,216097,156669,158453,1710135,189766,125662,199421,150776,317863,296257,284323,1113139,251732,711202,182624,243834,365594,385295,220725,321560,114019,404145,259222,911014,334915,338175]
[null,"Register",8555,5299,3243,16691,16549,6895,22322,28901,3895,6679,7240,13799,4861,18953,7648,4489,5125,17507,3620,4336,15903,4341,17569,16948,23851,29215,9205,17710,10058,6124,7834,2631,13290,9563,10306,5296,12366,4554,3878,32960,17394,9436,6108,8650,7566,39730,14095,9412,6093,18098,5800,18486,17004,13332,6461,8089,12998,24824,19283,8224,7971,4727,25092,4525,5638,5841,25171,9473,15328,9311,22161,6108,10796,4990,7938,7407,12751,10221,13553,26519,4120,4699,5831,18849,4101,2737,5953,2820,7416,7989,9984,14325,7541,21691,3430,4911,6228,10823,4062,5318,2674,7507,5960,16593,8955,9107]
[null,null,1,2,3,4,5,6,7,8,9,10,11,12,13,14,15,16,17,18,19,20,21,22,23,24,25,26,27,28,29,30,31,32,33,34,35,36,37,38,39,40,41,42,43,44,45,46,47,48,49,50,51,52,53,54,55,56,57,58,59,60,61,62,63,64,65,66,67,68,69,70,71,72,73,74,75,76,77,78,79,80,81,82,83,84,85,86,87,88,89,90,91,92,93,94,95,96,97,98,99,100,101,102,103,104,105,106]
["2012/13","Register",7705,4926,2721,{"$f":"AVERAGE($F$35,$F$26)","v":16693},{"$f":"AVERAGE(G$35,G$26)","v":16238.5},{"$f":"AVERAGE(H$35,H$26,H$34,H$33)","v":6746},21918.5,{"$f":"AVERAGE(J$35,J$26)","v":28949},3640,5366,6455,{"$f":"AVERAGE(N$35,N$26)","v":13734},3737,{"$f":"AVERAGE(P$35,P$26,P$34,P$33)","v":18148},{"$f":"AVERAGE(Q$35,Q$26,Q$34)","v":7584.333333333333},3721,4082,13977,2866,3644,{"$f":"AVERAGE(W$35,W$26)","v":15660.5},3567,{"$f":"AVERAGE(Y$35,Y$26)","v":17433},16799,{"$f":"AVERAGE(AA$35,AA$26,AA$34,AA$33)","v":23496.75},27349.75,8005,13573,8777,4973,6288,2201,{"$f":"AVERAGE(AI$35,AI$26)","v":12613},8494,{"$f":"AVERAGE(AK$35,AK$26)","v":10323},3639,10199,4116,3210,{"$f":"AVERAGE(AP$35,AP$26)","v":32155.5},17267,7668,5098,7076,6295,{"$f":"AVERAGE(AV$35,AV$26)","v":39232.5},10732,{"$f":"AVERAGE(AX$35,AX$26)","v":9445.5},5590,{"$error":"#N/A"},5145,{"$f":"AVERAGE(BB$35,BB$26)","v":18481.5},14059,{"$f":"AVERAGE(BD$31,BD$32,BD$33,BD$34,BD$35,BD$26)","v":12699},5142,3490,{"$f":"AVERAGE(BG$30,BG$31,BG$32,BG$33,BG$34,BG$35,BG$26)","v":12627.142857142857},{"$f":"AVERAGE(BH$35,BH$26)","v":24757},19342,11325,7094,3669,{"$f":"AVERAGE(BM$35,BM$26)","v":25233},3333,4393,4953,{"$f":"AVERAGE(BQ$35,BQ$26)","v":25190.5},9511,15338.5,7873,{"$f":"AVERAGE(BU$35,BU$26)","v":21930.5},5395,8411,3908,6723,6985,11240,{"$f":"AVERAGE(CB$35,CB$26)","v":10139},10507,{"$f":"AVERAGE(CD$35,CD$26)","v":26361},3550,4422,5492,{"$f":"AVERAGE(CH$35,CH$26)","v":18879},3399,2430,5849,1949,6423,6504,8985,{"$f":"AVERAGE(CP$35,CP$26)","v":14309},6154,{"$f":"AVERAGE(CR$35,CR$26)","v":21600.5},2859,3860,5526,9753,3718,4732,2379,6087,4539,{"$f":"AVERAGE(DB$35,DB$26)","v":16372.5},7107,7814]
["2013/14","Register",7899,5023,2787,16693,16238.5,6746,21918.5,28949,3679,5784,6644,13734,3820,{"$f":"AVERAGE(P$35,P$26,P$34,P$33)","v":18148},7584.333333333333,4046,4345,14420,2935,3742,15660.5,3863,17433,16799,23496.75,27349.75,8130,14120,8994,5236,6556,2318,12613,8680,10323,3790,10539,4161,3284,32155.5,17267,7735,5154,7350,6522,39232.5,11188,9445.5,5558,{"$error":"#N/A"},5341,18481.5,14226,{"$f":"AVERAGE(BD$31,BD$32,BD$33,BD$34,BD$35,BD$26)","v":12699},5408,3604,{"$f":"AVERAGE(BG$30,BG$31,BG$32,BG$33,BG$34,BG$35,BG$26)","v":12627.142857142857},24757,19342,11571,7343,3775,25233,3474,4314,5164,25190.5,9511,15338.5,8056,21930.5,5440,8780,4123,6935,7019,11514,10139,11029,26361,3644,4429,5604,18879,3560,2479,5954,2034,6605,6609,9146,14309,6303,21600.5,2989,4317,5598,10072,3830,4858,2394,6293,4674,16372.5,7239,7643]
["2014/15","Register",7941,5167,2837,16693,16238.5,6746,21918.5,28949,3889,6241,6714,13734,3916,{"$f":"AVERAGE(P$35,P$26,P$34,P$33)","v":18148},7584.333333333333,4235,4575,14999,2964,3903,15660.5,4001,17433,16799,23496.75,27349.75,8237,14593,9125,5459,6782,2291,12613,8852,10323,4001,10848,4287,3280,32155.5,17267,7938,5276,7616,6698,39232.5,11481,9445.5,5668,{"$error":"#N/A"},5473,18481.5,14551,{"$f":"AVERAGE(BD$31,BD$32,BD$33,BD$34,BD$35,BD$26)","v":12699},5701,3611,12062,24757,19342,11784,7561,3881,25233,3600,4702,5295,25190.5,9511,15338.5,8201,21930.5,5445,9161,4269,7092,6978,11775,10139,11351,26361,3729,4149,5736,18879,3791,2477,5750,2165,6711,7026,9128,14309,6500,21600.5,3089,4468,5801,10207,3833,5060,2443,6612,4870,16372.5,7462,8003]
["2015/16","Register",7742,5308,2809,16693,16238.5,6746,21918.5,28949,3860,6323,6820,13734,4002,{"$f":"AVERAGE(P$35,P$26,P$34,P$33)","v":18148},7584.333333333333,4256,4807,15612,2960,4009,15660.5,4172,17433,16799,23496.75,27349.75,8444,14785,9273,5591,6981,2340,12613,8890,10323,4111,11020,4162,3275,32155.5,17267,8271,5394,7733,6907,39232.5,11829,9445.5,5650,{"$error":"#N/A"},5528,18481.5,14967,11703,5949,7245,12159,24757,19342,6993,7665,4025,25233,3732,4878,5424,25190.5,9511,15338.5,8431,21930.5,5606,9381,4352,7304,6990,11989,10139,11808,26361,3828,4253,5773,18879,3957,2565,5764,2304,6751,6990,9061,14309,6572,21600.5,3270,4523,5873,10399,3684,5263,2264,6927,5071,16372.5,7831,8050]
["2016/17","Register",8254,5320,2959,16693,16238.5,6746,21918.5,28949,3936,6438,6916,13734,4232,{"$f":"AVERAGE(P$35,P$26,P$34,P$33)","v":18148},7584.333333333333,4273,4952,16020,3160,4088,15660.5,4281,17433,16799,23496.75,27349.75,8622,16028,9694,5710,7218,2470,12613,9298,10323,4379,11375,4474,3547,32155.5,17267,8687,5616,7999,7062,39232.5,12290,9445.5,5767,{"$error":"#N/A"},5581,18481.5,15771,12198,6082,8007,12608,24757,19342,7811,7817,4148,25233,3892,5102,5610,25190.5,9511,15338.5,8692,21930.5,5791,9897,4616,7480,6987,12225,10139,12446,26361,3931,4391,5841,18879,4014,2656,5960,2417,7103,7165,9496,14309,6964,21600.5,3252,4693,6065,10513,3755,5363,2590,7151,5308,16372.5,8248,8364]
["2017/18","Register",8475,5341,2887,16693,16238.5,6388,21164,28949,3906,6415,7080,13734,4145,16559,7584.333333333333,3710,4932,15214,3321,3923,15660.5,4314,17433,16799,22857,24890,8510,16404,9910,5803,7430,2629,12613,9199,10323,4885,10757,4315,3658,32155.5,17267,8264,5756,7597,7227,39232.5,6583,9445.5,5873,17167,5687,18481.5,15493,12647,6041,7879,12685,24757,19342,7762,6600,4251,25233,4159,5173,5588,25190.5,9511,15338.5,8771,21930.5,5926,10243,4686,7639,6978,12270,10139,12622,26361,4008,4781,5739,18879,3966,2510,5902,2549,6997,7227,9382,14309,6840,21600.5,3000,4738,6156,10288,3844,5444,2565,7431,5451,16372.5,8426,8486]
["2018/19","Register",8699,5493,3024,16693,16238.5,6812,22179,28949,3890,6504,7190,13734,4389,18554,7689,4475,5069,17039,3492,4383,15660.5,4409,17433,16799,23437,26808,9197,17356,10038,5984,7740,2661,12613,9584,10323,5190,11810,4421,3799,32155.5,17267,9344,5969,8462,7429,39232.5,7105,9445.5,5966,17797,5744,18481.5,16721,13058,6308,7984,12899,24757,19342,8048,7685,4520,25233,4344,5587,5832,25190.5,9511,15338.5,9149,21930.5,6098,10631,4869,7938,7019,12789,10139,13527,26361,4148,4804,5898,18879,4154,2627,6192,2723,7295,7820,9917,14309,7552,21600.5,3449,4822,6381,10778,4007,5513,2646,7541,5631,16372.5,8744,8724]
["2019/20","Register",8626,5420,3231,16695,15928,6889,22009,28997,3865,6577,7277,13669,4830,18526,7416,4468,5100,17224,3502,4327,15418,4300,17297,16650,23842,28486,9341,17666,10094,6139,7847,2664,11936,9546,10340,5335,11970,4423,3856,31351,17140,9135,6061,8649,7635,38735,13755,9479,6037,18021,5833,18477,17177,13256,6406,7755,12979,24690,19401,7525,7988,4473,25374,4463,5696,5719,25210,9549,15349,8297,21700,5931,10544,4352,8007,6579,12635,10057,13653,26203,4016,4697,5932,18909,4112,2583,5745,2841,7324,7937,9721,14293,7602,21510,3512,4778,6270,10649,4014,5235,2693,7558,5860,16152,8660,8594]
["2020/21","Register",8555,5299,3243,16691,16549,6895,22322,28901,3895,6679,7240,13799,4861,18953,7648,4489,5125,17507,3620,4336,15903,4341,17569,16948,23851,29215,9205,17710,10058,6124,7834,2631,13290,9563,10306,5296,12366,4554,3878,32960,17394,9436,6108,8650,7566,39730,14095,9412,6093,18098,5800,18486,17004,13332,6461,8089,12998,24824,19283,8224,7971,4727,25092,4525,5638,5841,25171,9473,15328,9311,22161,6108,10796,4990,7938,7407,12751,10221,13553,26519,4120,4699,5831,18849,4101,2737,5953,2820,7416,7989,9984,14325,7541,21691,3430,4911,6228,10823,4062,5318,2674,7507,5960,16593,8955,9107]

{"sheet":"prevalencedata","index":34,"n_rows":107,"n_cols":44,"rows_kept":107,"cut":false,"hidden":true,"merged":[]}
[null,"Country",2009,2010,2011,2012,2013,2014,2015,2016,2017,2018,2019,2020,null,"Region",2012,2013,2014,2015,2016,2017,2018,2019,2020,null,"ICSName",2015,2016,2017,2018,2019,2020,null,"CCG Name",2012,2013,2014,2015,2016,2017,2018,2019,2020]
[1,"England",{"$f":"1.57074219150978/100","v":1.5707421915097799E-2},{"$f":"1.62949939697815/100","v":1.6294993969781499E-2},{"$f":"1.6902271545/100","v":1.6902271545E-2},{"$f":"1.740693653/100","v":1.740693653E-2},{"$f":"1.78414916305114/100","v":1.7841491630511398E-2},{"$f":"1.82087419519292/100","v":1.8208741951929199E-2},{"$f":"1.853139763/100","v":1.8531397629999998E-2},{"$f":"1.8747613160676/100","v":1.8747613160676E-2},{"$f":"1.90325648605894/100","v":1.90325648605894E-2},{"$f":"1.92663110907307/100","v":1.9266311090730699E-2},{"$f":"1.93814081767908/100","v":1.93814081767908E-2},{"$f":"1.92771641144337/100","v":1.9277164114433702E-2},3,"London",{"$f":"TRANSPOSE(_xlfn.XLOOKUP(P2,#REF!,#REF!))","v":{"$error":"#REF!"}},null,null,null,null,null,null,null,null,{"$f":"_xlfn.XLOOKUP(AA2,popdata!L:L,popdata!M:M)","v":2},"North West London Health and Care Partnership",{"$f":"TRANSPOSE(_xlfn.XLOOKUP(AA2,ICSs!$2:$2,ICSs!$5:$10))","v":0.99500424412464117},1.0085417091645783,1.0084210734316286,1.00390382732615,0.98028385429998099,0.94976160685582101,2,"NHS North West London CCG",{"$f":"TRANSPOSE(_xlfn.XLOOKUP(AI2,CCGs!$3:$3,CCGs!$6:$14))","v":0.96461389209543658},0.96461389209543658,0.96461389209543658,0.96461389209543658,0.96461389209543658,0.96461389209543658,0.96461389209543658,0.97946617733505204,0.94976160685582101]
[1,"England",1.5707421915097799,1.6294993969781499,1.6902271545000001,1.7406936529999999,1.7841491630511395,1.8208741951929237,1.8531397629999999,1.8747613160675962,1.90325648605894,1.9266311090730699,1.93814081767908,1.92771641144337,3,"London",{"$f":"TRANSPOSE(_xlfn.XLOOKUP(P3,#REF!,#REF!))","v":{"$error":"#REF!"}},null,null,null,null,null,null,null,null,{"$f":"_xlfn.XLOOKUP(AA3,popdata!L:L,popdata!M:M)","v":3},"North London Partners in Health and Care",{"$f":"TRANSPOSE(_xlfn.XLOOKUP(AA3,ICSs!$2:$2,ICSs!$5:$10))","v":1.1352367675980322},1.1588145408785648,1.1664187821957244,1.1693854169259701,1.2236991540775799,1.13648954804458,3,"NHS North Central London CCG",{"$f":"TRANSPOSE(_xlfn.XLOOKUP(AI3,CCGs!$3:$3,CCGs!$6:$14))","v":1.17713473695724},1.17713473695724,1.17713473695724,1.17713473695724,1.17713473695724,1.17713473695724,1.17713473695724,1.2177799258699,1.13648954804458]
[1,"England",1.5707421915097799,1.6294993969781499,1.6902271545000001,1.7406936529999999,1.7841491630511395,1.8208741951929237,1.8531397629999999,1.8747613160675962,1.90325648605894,1.9266311090730699,1.93814081767908,1.92771641144337,3,"London",{"$f":"TRANSPOSE(_xlfn.XLOOKUP(P4,#REF!,#REF!))","v":{"$error":"#REF!"}},null,null,null,null,null,null,null,null,{"$f":"_xlfn.XLOOKUP(AA4,popdata!L:L,popdata!M:M)","v":4},"East London Health and Care Partnership",{"$f":"TRANSPOSE(_xlfn.XLOOKUP(AA4,ICSs!$2:$2,ICSs!$5:$10))","v":1.1723421774659415},1.1584985512295132,1.1364673244330568,1.1366064642125899,1.1284088502204099,1.0984133154379301,4,"NHS North East London CCG",{"$f":"TRANSPOSE(_xlfn.XLOOKUP(AI4,CCGs!$3:$3,CCGs!$6:$14))","v":1.114622059996405},1.114622059996405,1.114622059996405,1.114622059996405,1.114622059996405,1.114622059996405,1.114622059996405,1.1308308045548801,1.0984133154379301]
[1,"England",1.5707421915097799,1.6294993969781499,1.6902271545000001,1.7406936529999999,1.7841491630511395,1.8208741951929237,1.8531397629999999,1.8747613160675962,1.90325648605894,1.9266311090730699,1.93814081767908,1.92771641144337,3,"London",{"$f":"TRANSPOSE(_xlfn.XLOOKUP(P5,#REF!,#REF!))","v":{"$error":"#REF!"}},null,null,null,null,null,null,null,null,{"$f":"_xlfn.XLOOKUP(AA5,popdata!L:L,popdata!M:M)","v":5},"Our Healthier South East London",{"$f":"TRANSPOSE(_xlfn.XLOOKUP(AA5,ICSs!$2:$2,ICSs!$5:$10))","v":1.3246373365699105},1.3375805509802157,1.3338198743499319,1.3315504257864701,1.3174535838464301,1.31422969953951,5,"NHS South East London CCG",{"$f":"TRANSPOSE(_xlfn.XLOOKUP(AI5,CCGs!$3:$3,CCGs!$6:$14))","v":1.31462625829404},1.31462625829404,1.31462625829404,1.31462625829404,1.31462625829404,1.31462625829404,1.31462625829404,1.31502281704857,1.31422969953951]
[1,"England",1.5707421915097799,1.6294993969781499,1.6902271545000001,1.7406936529999999,1.7841491630511395,1.8208741951929237,1.8531397629999999,1.8747613160675962,1.90325648605894,1.9266311090730699,1.93814081767908,1.92771641144337,3,"London",{"$f":"TRANSPOSE(_xlfn.XLOOKUP(P6,#REF!,#REF!))","v":{"$error":"#REF!"}},null,null,null,null,null,null,null,null,{"$f":"_xlfn.XLOOKUP(AA6,popdata!L:L,popdata!M:M)","v":6},"South West London Health and Care Partnership",{"$f":"TRANSPOSE(_xlfn.XLOOKUP(AA6,ICSs!$2:$2,ICSs!$5:$10))","v":1.0738008960835406},1.0983034173314385,1.1086371564674822,1.1210976391484,1.11123108575431,1.1021936864633499,6,"NHS South West London CCG",{"$f":"TRANSPOSE(_xlfn.XLOOKUP(AI6,CCGs!$3:$3,CCGs!$6:$14))","v":1.1047531002588848},1.1047531002588848,1.1047531002588848,1.1047531002588848,1.1047531002588848,1.1047531002588848,1.1047531002588848,1.10731251405442,1.1021936864633499]
[1,"England",1.5707421915097799,1.6294993969781499,1.6902271545000001,1.7406936529999999,1.7841491630511395,1.8208741951929237,1.8531397629999999,1.8747613160675962,1.90325648605894,1.9266311090730699,1.93814081767908,1.92771641144337,2,"Midlands and East of England",{"$f":"TRANSPOSE(_xlfn.XLOOKUP(P7,#REF!,#REF!))","v":{"$error":"#REF!"}},null,null,null,null,null,null,null,null,{"$f":"_xlfn.XLOOKUP(AA7,popdata!L:L,popdata!M:M)","v":2},"Staffordshire and Stoke on Trent",{"$f":"TRANSPOSE(_xlfn.XLOOKUP(AA7,ICSs!$2:$2,ICSs!$5:$10))","v":2.3027656784241999},2.3027656784241999,2.3027656784241999,2.28255847593387,2.3179661560559799,2.3077724032827498,2,"NHS Cannock Chase CCG",{"$f":"TRANSPOSE(_xlfn.XLOOKUP(AI7,CCGs!$3:$3,CCGs!$6:$14))","v":2.1627903466803504},2.2044961205374913,2.2566866905735363,2.2793426868521967,2.3897753913635333,2.4939921898468,2.6086566762785601,2.6659358561521298,2.6726912967721002]
[1,"England",1.5707421915097799,1.6294993969781499,1.6902271545000001,1.7406936529999999,1.7841491630511395,1.8208741951929237,1.8531397629999999,1.8747613160675962,1.90325648605894,1.9266311090730699,1.93814081767908,1.92771641144337,2,"Midlands and East of England",{"$f":"TRANSPOSE(_xlfn.XLOOKUP(P8,#REF!,#REF!))","v":{"$error":"#REF!"}},null,null,null,null,null,null,null,null,{"$f":"_xlfn.XLOOKUP(AA8,popdata!L:L,popdata!M:M)","v":2},"Staffordshire and Stoke on Trent",{"$f":"TRANSPOSE(_xlfn.XLOOKUP(AA8,ICSs!$2:$2,ICSs!$5:$10))","v":2.3027656784241999},2.3027656784241999,2.3027656784241999,2.28255847593387,2.3179661560559799,2.3077724032827498,3,"NHS East Staffordshire CCG",{"$f":"TRANSPOSE(_xlfn.XLOOKUP(AI8,CCGs!$3:$3,CCGs!$6:$14))","v":1.6286090598315897},1.7000242022427412,1.6685724274050822,1.6842165873741335,1.7119133924301546,1.85241292813709,1.8500365001564301,1.8310662661782,1.79816288034118]
[1,"England",1.5707421915097799,1.6294993969781499,1.6902271545000001,1.7406936529999999,1.7841491630511395,1.8208741951929237,1.8531397629999999,1.8747613160675962,1.90325648605894,1.9266311090730699,1.93814081767908,1.92771641144337,2,"Midlands and East of England",{"$f":"TRANSPOSE(_xlfn.XLOOKUP(P9,#REF!,#REF!))","v":{"$error":"#REF!"}},null,null,null,null,null,null,null,null,{"$f":"_xlfn.XLOOKUP(AA9,popdata!L:L,popdata!M:M)","v":2},"Staffordshire and Stoke on Trent",{"$f":"TRANSPOSE(_xlfn.XLOOKUP(AA9,ICSs!$2:$2,ICSs!$5:$10))","v":2.3027656784241999},2.3027656784241999,2.3027656784241999,2.28255847593387,2.3179661560559799,2.3077724032827498,4,"NHS North Staffordshire CCG",{"$f":"TRANSPOSE(_xlfn.XLOOKUP(AI9,CCGs!$3:$3,CCGs!$6:$14))","v":2.0577076209658531},2.1233763357238136,2.1825811273110434,2.2562546542768467,2.3448415324656224,2.4103852049969001,2.56162197850567,2.6122329179870798,2.5959674560163499]
[1,"England",1.5707421915097799,1.6294993969781499,1.6902271545000001,1.7406936529999999,1.7841491630511395,1.8208741951929237,1.8531397629999999,1.8747613160675962,1.90325648605894,1.9266311090730699,1.93814081767908,1.92771641144337,2,"Midlands and East of England",{"$f":"TRANSPOSE(_xlfn.XLOOKUP(P10,#REF!,#REF!))","v":{"$error":"#REF!"}},null,null,null,null,null,null,null,null,{"$f":"_xlfn.XLOOKUP(AA10,popdata!L:L,popdata!M:M)","v":2},"Staffordshire and Stoke on Trent",{"$f":"TRANSPOSE(_xlfn.XLOOKUP(AA10,ICSs!$2:$2,ICSs!$5:$10))","v":2.3027656784241999},2.3027656784241999,2.3027656784241999,2.28255847593387,2.3179661560559799,2.3077724032827498,5,"NHS South East Staffordshire and Seisdon Peninsula CCG",{"$f":"TRANSPOSE(_xlfn.XLOOKUP(AI10,CCGs!$3:$3,CCGs!$6:$14))","v":1.6743466510708744},1.7138960092185407,1.7418315155195367,1.7644537245737515,1.7460169404950674,1.8397980261647899,1.8955440092492299,1.88783904479857,1.9065512246815099]
[1,"England",1.5707421915097799,1.6294993969781499,1.6902271545000001,1.7406936529999999,1.7841491630511395,1.8208741951929237,1.8531397629999999,1.8747613160675962,1.90325648605894,1.9266311090730699,1.93814081767908,1.92771641144337,2,"Midlands and East of England",{"$f":"TRANSPOSE(_xlfn.XLOOKUP(P11,#REF!,#REF!))","v":{"$error":"#REF!"}},null,null,null,null,null,null,null,null,{"$f":"_xlfn.XLOOKUP(AA11,popdata!L:L,popdata!M:M)","v":2},"Staffordshire and Stoke on Trent",{"$f":"TRANSPOSE(_xlfn.XLOOKUP(AA11,ICSs!$2:$2,ICSs!$5:$10))","v":2.3027656784241999},2.3027656784241999,2.3027656784241999,2.28255847593387,2.3179661560559799,2.3077724032827498,6,"NHS Stafford and Surrounds CCG",{"$f":"TRANSPOSE(_xlfn.XLOOKUP(AI11,CCGs!$3:$3,CCGs!$6:$14))","v":1.3448149758154104},1.4004985058595094,1.4872774236095847,1.5682964515931412,1.633108108108108,1.7096826120784501,1.8279707041345801,1.89238516465949,1.87032418952618]
[1,"England",1.5707421915097799,1.6294993969781499,1.6902271545000001,1.7406936529999999,1.7841491630511395,1.8208741951929237,1.8531397629999999,1.8747613160675962,1.90325648605894,1.9266311090730699,1.93814081767908,1.92771641144337,2,"Midlands and East of England",{"$f":"TRANSPOSE(_xlfn.XLOOKUP(P12,#REF!,#REF!))","v":{"$error":"#REF!"}},null,null,null,null,null,null,null,null,{"$f":"_xlfn.XLOOKUP(AA12,popdata!L:L,popdata!M:M)","v":2},"Staffordshire and Stoke on Trent",{"$f":"TRANSPOSE(_xlfn.XLOOKUP(AA12,ICSs!$2:$2,ICSs!$5:$10))","v":2.3027656784241999},2.3027656784241999,2.3027656784241999,2.28255847593387,2.3179661560559799,2.3077724032827498,7,"NHS Stoke on Trent CCG",{"$f":"TRANSPOSE(_xlfn.XLOOKUP(AI12,CCGs!$3:$3,CCGs!$6:$14))","v":2.3203461967941834},2.411146215642352,2.4748760976846911,2.4869515097823651,2.4879076922008521,2.57635118515006,2.6565929026165098,2.7099466000191201,2.6966451425620299]
[1,"England",1.5707421915097799,1.6294993969781499,1.6902271545000001,1.7406936529999999,1.7841491630511395,1.8208741951929237,1.8531397629999999,1.8747613160675962,1.90325648605894,1.9266311090730699,1.93814081767908,1.92771641144337,2,"Midlands and East of England",{"$f":"TRANSPOSE(_xlfn.XLOOKUP(P13,#REF!,#REF!))","v":{"$error":"#REF!"}},null,null,null,null,null,null,null,null,{"$f":"_xlfn.XLOOKUP(AA13,popdata!L:L,popdata!M:M)","v":3},"Shropshire and Telford and Wrekin",{"$f":"TRANSPOSE(_xlfn.XLOOKUP(AA13,ICSs!$2:$2,ICSs!$5:$10))","v":1.9756894231112101},1.9756894231112101,1.9756894231112101,1.9565468301633,1.9779917198517001,1.99252971931863,1,"NHS Shropshire, Telford and Wrekin CCG",{"$f":"TRANSPOSE(_xlfn.XLOOKUP(AI13,CCGs!$3:$3,CCGs!$6:$14))","v":1.985260719585165},1.985260719585165,1.985260719585165,1.985260719585165,1.985260719585165,1.985260719585165,1.985260719585165,1.9779917198517001,1.99252971931863]
[1,"England",1.5707421915097799,1.6294993969781499,1.6902271545000001,1.7406936529999999,1.7841491630511395,1.8208741951929237,1.8531397629999999,1.8747613160675962,1.90325648605894,1.9266311090730699,1.93814081767908,1.92771641144337,2,"Midlands and East of England",{"$f":"TRANSPOSE(_xlfn.XLOOKUP(P14,#REF!,#REF!))","v":{"$error":"#REF!"}},null,null,null,null,null,null,null,null,{"$f":"_xlfn.XLOOKUP(AA14,popdata!L:L,popdata!M:M)","v":4},"Joined Up Care Derbyshire",{"$f":"TRANSPOSE(_xlfn.XLOOKUP(AA14,ICSs!$2:$2,ICSs!$5:$10))","v":2.2414038935516101},2.2414038935516101,2.2414038935516101,2.2347748395456999,2.2544413718219301,2.2349954692871998,1,"NHS Derby and Derbyshire CCG",{"$f":"TRANSPOSE(_xlfn.XLOOKUP(AI14,CCGs!$3:$3,CCGs!$6:$14))","v":2.2340853114484647},2.2340853114484647,2.2340853114484647,2.2340853114484647,2.2340853114484647,2.2067257006259999,2.2347748395456999,2.2598452363349599,2.2349954692871998]
[1,"England",1.5707421915097799,1.6294993969781499,1.6902271545000001,1.7406936529999999,1.7841491630511395,1.8208741951929237,1.8531397629999999,1.8747613160675962,1.90325648605894,1.9266311090730699,1.93814081767908,1.92771641144337,2,"Midlands and East of England",{"$f":"TRANSPOSE(_xlfn.XLOOKUP(P15,#REF!,#REF!))","v":{"$error":"#REF!"}},null,null,null,null,null,null,null,null,{"$f":"_xlfn.XLOOKUP(AA15,popdata!L:L,popdata!M:M)","v":5},"Lincolnshire",{"$f":"TRANSPOSE(_xlfn.XLOOKUP(AA15,ICSs!$2:$2,ICSs!$5:$10))","v":2.306634483298577},2.306634483298577,2.306634483298577,2.2865168035407399,2.3294132082298802,2.30397343812511,1,"NHS Lincolnshire CCG",{"$f":"TRANSPOSE(_xlfn.XLOOKUP(AI15,CCGs!$3:$3,CCGs!$6:$14))","v":2.3173060292934249},2.3173060292934249,2.3173060292934249,2.3173060292934249,2.3173060292934249,2.3173060292934249,2.3173060292934249,2.3306386204617402,2.30397343812511]
[1,"England",1.5707421915097799,1.6294993969781499,1.6902271545000001,1.7406936529999999,1.7841491630511395,1.8208741951929237,1.8531397629999999,1.8747613160675962,1.90325648605894,1.9266311090730699,1.93814081767908,1.92771641144337,2,"Midlands and East of England",{"$f":"TRANSPOSE(_xlfn.XLOOKUP(P16,#REF!,#REF!))","v":{"$error":"#REF!"}},null,null,null,null,null,null,null,null,{"$f":"_xlfn.XLOOKUP(AA16,popdata!L:L,popdata!M:M)","v":6},"Nottingham and Nottinghamshire Health and Care",{"$f":"TRANSPOSE(_xlfn.XLOOKUP(AA16,ICSs!$2:$2,ICSs!$5:$10))","v":1.9966451224888966},1.9966451224888966,1.9966451224888966,1.9691676120703101,2.0135671576109,2.0072005977854799,1,"NHS Nottingham and Nottinghamshire CCG",{"$f":"TRANSPOSE(_xlfn.XLOOKUP(AI16,CCGs!$3:$3,CCGs!$6:$14))","v":2.0133450335625351},2.0133450335625351,2.0133450335625351,2.0133450335625351,2.0133450335625351,2.0133450335625351,2.0133450335625351,2.0194894693395899,2.0072005977854799]
[1,"England",1.5707421915097799,1.6294993969781499,1.6902271545000001,1.7406936529999999,1.7841491630511395,1.8208741951929237,1.8531397629999999,1.8747613160675962,1.90325648605894,1.9266311090730699,1.93814081767908,1.92771641144337,2,"Midlands and East of England",{"$f":"TRANSPOSE(_xlfn.XLOOKUP(P17,#REF!,#REF!))","v":{"$error":"#REF!"}},null,null,null,null,null,null,null,null,{"$f":"_xlfn.XLOOKUP(AA17,popdata!L:L,popdata!M:M)","v":7},"Leicester, Leicestershire and Rutland",{"$f":"TRANSPOSE(_xlfn.XLOOKUP(AA17,ICSs!$2:$2,ICSs!$5:$10))","v":1.6754221563226437},1.6754221563226437,1.6754221563226437,1.67883237117103,1.6810975940420501,1.6663365037548501,2,"NHS East Leicestershire and Rutland CCG",{"$f":"TRANSPOSE(_xlfn.XLOOKUP(AI17,CCGs!$3:$3,CCGs!$6:$14))","v":1.5655940788873044},1.6288134485987413,1.6929756551403319,1.7348914567999303,1.7454354265312297,1.76401744866475,1.79869306192626,1.8221429398268401,1.8009275188429801]
[1,"England",1.5707421915097799,1.6294993969781499,1.6902271545000001,1.7406936529999999,1.7841491630511395,1.8208741951929237,1.8531397629999999,1.8747613160675962,1.90325648605894,1.9266311090730699,1.93814081767908,1.92771641144337,2,"Midlands and East of England",{"$f":"TRANSPOSE(_xlfn.XLOOKUP(P18,#REF!,#REF!))","v":{"$error":"#REF!"}},null,null,null,null,null,null,null,null,{"$f":"_xlfn.XLOOKUP(AA18,popdata!L:L,popdata!M:M)","v":7},"Leicester, Leicestershire and Rutland",{"$f":"TRANSPOSE(_xlfn.XLOOKUP(AA18,ICSs!$2:$2,ICSs!$5:$10))","v":1.6754221563226437},1.6754221563226437,1.6754221563226437,1.67883237117103,1.6810975940420501,1.6663365037548501,3,"NHS Leicester City CCG",{"$f":"TRANSPOSE(_xlfn.XLOOKUP(AI18,CCGs!$3:$3,CCGs!$6:$14))","v":1.3595537387067196},1.4175832342449466,1.4347469335004102,1.4167311644976601,1.3872869727762642,1.39675163756665,1.3789163119750101,1.37790439474256,1.37473660757669]
[1,"England",1.5707421915097799,1.6294993969781499,1.6902271545000001,1.7406936529999999,1.7841491630511395,1.8208741951929237,1.8531397629999999,1.8747613160675962,1.90325648605894,1.9266311090730699,1.93814081767908,1.92771641144337,2,"Midlands and East of England",{"$f":"TRANSPOSE(_xlfn.XLOOKUP(P19,#REF!,#REF!))","v":{"$error":"#REF!"}},null,null,null,null,null,null,null,null,{"$f":"_xlfn.XLOOKUP(AA19,popdata!L:L,popdata!M:M)","v":7},"Leicester, Leicestershire and Rutland",{"$f":"TRANSPOSE(_xlfn.XLOOKUP(AA19,ICSs!$2:$2,ICSs!$5:$10))","v":1.6754221563226437},1.6754221563226437,1.6754221563226437,1.67883237117103,1.6810975940420501,1.6663365037548501,4,"NHS West Leicestershire CCG",{"$f":"TRANSPOSE(_xlfn.XLOOKUP(AI19,CCGs!$3:$3,CCGs!$6:$14))","v":1.6408246444475594},1.6904261120199424,1.7621004493196246,1.8295920065291633,1.8535991083231809,1.8929397499516001,1.8922655746179,1.88241271612379,1.85750163926314]
[1,"England",1.5707421915097799,1.6294993969781499,1.6902271545000001,1.7406936529999999,1.7841491630511395,1.8208741951929237,1.8531397629999999,1.8747613160675962,1.90325648605894,1.9266311090730699,1.93814081767908,1.92771641144337,2,"Midlands and East of England",{"$f":"TRANSPOSE(_xlfn.XLOOKUP(P20,#REF!,#REF!))","v":{"$error":"#REF!"}},null,null,null,null,null,null,null,null,{"$f":"_xlfn.XLOOKUP(AA20,popdata!L:L,popdata!M:M)","v":8},"The Black Country and West Birmingham",{"$f":"TRANSPOSE(_xlfn.XLOOKUP(AA20,ICSs!$2:$2,ICSs!$5:$10))","v":1.9540415987108712},1.9540415987108712,1.9270063944299247,1.97869950583506,1.9709600764930499,1.93950041808545,1,"NHS Black Country and West Birmingham CCG",{"$f":"TRANSPOSE(_xlfn.XLOOKUP(AI20,CCGs!$3:$3,CCGs!$6:$14))","v":1.9572714174033301},1.9572714174033301,1.9572714174033301,1.9572714174033301,1.9572714174033301,1.9572714174033301,1.9572714174033301,1.9750424167212099,1.93950041808545]
[1,"England",1.5707421915097799,1.6294993969781499,1.6902271545000001,1.7406936529999999,1.7841491630511395,1.8208741951929237,1.8531397629999999,1.8747613160675962,1.90325648605894,1.9266311090730699,1.93814081767908,1.92771641144337,2,"Midlands and East of England",{"$f":"TRANSPOSE(_xlfn.XLOOKUP(P21,#REF!,#REF!))","v":{"$error":"#REF!"}},null,null,null,null,null,null,null,null,{"$f":"_xlfn.XLOOKUP(AA21,popdata!L:L,popdata!M:M)","v":9},"Birmingham and Solihull",{"$f":"TRANSPOSE(_xlfn.XLOOKUP(AA21,ICSs!$2:$2,ICSs!$5:$10))","v":1.669024536924373},1.669024536924373,1.6596186434209119,1.6759042016616199,1.6732974052882701,1.66727789732669,1,"NHS Birmingham and Solihull CCG",{"$f":"TRANSPOSE(_xlfn.XLOOKUP(AI21,CCGs!$3:$3,CCGs!$6:$14))","v":1.6733941336601574},1.6733941336601574,1.6733941336601574,1.6733941336601574,1.6733941336601574,1.68397132060939,1.6759042016616199,1.6664231150429301,1.66727789732669]
[1,"England",1.5707421915097799,1.6294993969781499,1.6902271545000001,1.7406936529999999,1.7841491630511395,1.8208741951929237,1.8531397629999999,1.8747613160675962,1.90325648605894,1.9266311090730699,1.93814081767908,1.92771641144337,2,"Midlands and East of England",{"$f":"TRANSPOSE(_xlfn.XLOOKUP(P22,#REF!,#REF!))","v":{"$error":"#REF!"}},null,null,null,null,null,null,null,null,{"$f":"_xlfn.XLOOKUP(AA22,popdata!L:L,popdata!M:M)","v":10},"Coventry and Warwickshire",{"$f":"TRANSPOSE(_xlfn.XLOOKUP(AA22,ICSs!$2:$2,ICSs!$5:$10))","v":1.6466901868014487},1.6466901868014487,1.6465046309833253,1.65811627216005,1.63432722100879,1.6478126230536301,1,"NHS Coventry and Warwickshire CCG",{"$f":"TRANSPOSE(_xlfn.XLOOKUP(AI22,CCGs!$3:$3,CCGs!$6:$14))","v":1.6418509860437851},1.6418509860437851,1.6418509860437851,1.6418509860437851,1.6418509860437851,1.6418509860437851,1.6418509860437851,1.6358893490339399,1.6478126230536301]
[1,"England",1.5707421915097799,1.6294993969781499,1.6902271545000001,1.7406936529999999,1.7841491630511395,1.8208741951929237,1.8531397629999999,1.8747613160675962,1.90325648605894,1.9266311090730699,1.93814081767908,1.92771641144337,2,"Midlands and East of England",{"$f":"TRANSPOSE(_xlfn.XLOOKUP(P23,#REF!,#REF!))","v":{"$error":"#REF!"}},null,null,null,null,null,null,null,null,{"$f":"_xlfn.XLOOKUP(AA23,popdata!L:L,popdata!M:M)","v":11},"Herefordshire and Worcestershire",{"$f":"TRANSPOSE(_xlfn.XLOOKUP(AA23,ICSs!$2:$2,ICSs!$5:$10))","v":1.9421110663662904},1.9804579004420508,2.0700391854077882,2.1407202882355598,2.1814513115611698,2.1542904985311102,1,"NHS Herefordshire CCG",{"$f":"TRANSPOSE(_xlfn.XLOOKUP(AI23,CCGs!$3:$3,CCGs!$6:$14))","v":2.1642768835275801},2.1642768835275801,2.1642768835275801,2.1642768835275801,2.1642768835275801,2.1642768835275801,2.1642768835275801,2.1742632685240499,2.1542904985311102]
[1,"England",1.5707421915097799,1.6294993969781499,1.6902271545000001,1.7406936529999999,1.7841491630511395,1.8208741951929237,1.8531397629999999,1.8747613160675962,1.90325648605894,1.9266311090730699,1.93814081767908,1.92771641144337,2,"Midlands and East of England",{"$f":"TRANSPOSE(_xlfn.XLOOKUP(P24,#REF!,#REF!))","v":{"$error":"#REF!"}},null,null,null,null,null,null,null,null,{"$f":"_xlfn.XLOOKUP(AA24,popdata!L:L,popdata!M:M)","v":12},"Northamptonshire",{"$f":"TRANSPOSE(_xlfn.XLOOKUP(AA24,ICSs!$2:$2,ICSs!$5:$10))","v":1.8900712813756291},1.8855757428095872,1.9094137381487595,1.93193113286742,1.9522897971902999,1.9388444345500899,1,"NHS Northamptonshire CCG",{"$f":"TRANSPOSE(_xlfn.XLOOKUP(AI24,CCGs!$3:$3,CCGs!$6:$14))","v":1.9455671158701948},1.9455671158701948,1.9455671158701948,1.9455671158701948,1.9455671158701948,1.9455671158701948,1.9455671158701948,1.9522897971902999,1.9388444345500899]
[1,"England",1.5707421915097799,1.6294993969781499,1.6902271545000001,1.7406936529999999,1.7841491630511395,1.8208741951929237,1.8531397629999999,1.8747613160675962,1.90325648605894,1.9266311090730699,1.93814081767908,1.92771641144337,2,"Midlands and East of England",{"$f":"TRANSPOSE(_xlfn.XLOOKUP(P25,#REF!,#REF!))","v":{"$error":"#REF!"}},null,null,null,null,null,null,null,null,{"$f":"_xlfn.XLOOKUP(AA25,popdata!L:L,popdata!M:M)","v":13},"Cambridgeshire and Peterborough",{"$f":"TRANSPOSE(_xlfn.XLOOKUP(AA25,ICSs!$2:$2,ICSs!$5:$10))","v":1.6728367612628783},1.6857124818486016,1.7071105657252557,1.7323151656623601,1.7384628012804999,1.74139918694254,1,"NHS Cambridgeshire and Peterborough CCG",{"$f":"TRANSPOSE(_xlfn.XLOOKUP(AI25,CCGs!$3:$3,CCGs!$6:$14))","v":1.5955770881659941},1.6177671671797449,1.6476804605024664,1.6728367612628783,1.6857124818486016,1.7078109845899601,1.7323151656623601,1.7347147399388301,1.74139918694254]
[1,"England",1.5707421915097799,1.6294993969781499,1.6902271545000001,1.7406936529999999,1.7841491630511395,1.8208741951929237,1.8531397629999999,1.8747613160675962,1.90325648605894,1.9266311090730699,1.93814081767908,1.92771641144337,2,"Midlands and East of England",{"$f":"TRANSPOSE(_xlfn.XLOOKUP(P26,#REF!,#REF!))","v":{"$error":"#REF!"}},null,null,null,null,null,null,null,null,{"$f":"_xlfn.XLOOKUP(AA26,popdata!L:L,popdata!M:M)","v":14},"Norfolk and Waveney Health and Care Partnership",{"$f":"TRANSPOSE(_xlfn.XLOOKUP(AA26,ICSs!$2:$2,ICSs!$5:$10))","v":2.1996399000110709},2.1832114062425041,2.2233975960908574,2.2864749211332702,2.3140207727648501,2.3113959904393302,1,"NHS Norfolk and Waveney CCG",{"$f":"TRANSPOSE(_xlfn.XLOOKUP(AI26,CCGs!$3:$3,CCGs!$6:$14))","v":2.3127083816020901},2.3127083816020901,2.3127083816020901,2.3127083816020901,2.3127083816020901,2.3127083816020901,2.3127083816020901,2.3140207727648501,2.3113959904393302]
[1,"England",1.5707421915097799,1.6294993969781499,1.6902271545000001,1.7406936529999999,1.7841491630511395,1.8208741951929237,1.8531397629999999,1.8747613160675962,1.90325648605894,1.9266311090730699,1.93814081767908,1.92771641144337,2,"Midlands and East of England",{"$f":"TRANSPOSE(_xlfn.XLOOKUP(P27,#REF!,#REF!))","v":{"$error":"#REF!"}},null,null,null,null,null,null,null,null,{"$f":"_xlfn.XLOOKUP(AA27,popdata!L:L,popdata!M:M)","v":15},"Suffolk and North East Essex",{"$f":"TRANSPOSE(_xlfn.XLOOKUP(AA27,ICSs!$2:$2,ICSs!$5:$10))","v":1.9857299981399263},2.0116932723324661,2.0450035449896822,2.05821539975712,2.0864964187001802,2.07436527626199,2,"NHS Ipswich and East Suffolk CCG",{"$f":"TRANSPOSE(_xlfn.XLOOKUP(AI27,CCGs!$3:$3,CCGs!$6:$14))","v":1.6130892131865879},1.6594322004142219,1.687332161085052,1.7229594891239275,1.7479289442875494,1.77344470837669,1.80739745957137,1.85689617433179,1.8200406538290399]
[1,"England",1.5707421915097799,1.6294993969781499,1.6902271545000001,1.7406936529999999,1.7841491630511395,1.8208741951929237,1.8531397629999999,1.8747613160675962,1.90325648605894,1.9266311090730699,1.93814081767908,1.92771641144337,2,"Midlands and East of England",{"$f":"TRANSPOSE(_xlfn.XLOOKUP(P28,#REF!,#REF!))","v":{"$error":"#REF!"}},null,null,null,null,null,null,null,null,{"$f":"_xlfn.XLOOKUP(AA28,popdata!L:L,popdata!M:M)","v":15},"Suffolk and North East Essex",{"$f":"TRANSPOSE(_xlfn.XLOOKUP(AA28,ICSs!$2:$2,ICSs!$5:$10))","v":1.9857299981399263},2.0116932723324661,2.0450035449896822,2.05821539975712,2.0864964187001802,2.07436527626199,3,"NHS North East Essex CCG",{"$f":"TRANSPOSE(_xlfn.XLOOKUP(AI28,CCGs!$3:$3,CCGs!$6:$14))","v":2.1363480313917282},2.2186233839218543,2.2451724783010212,2.2400294579216382,2.2291994615928639,2.1907695575973198,2.2349926857428701,2.2208321169912599,2.2056504053792301]
[1,"England",1.5707421915097799,1.6294993969781499,1.6902271545000001,1.7406936529999999,1.7841491630511395,1.8208741951929237,1.8531397629999999,1.8747613160675962,1.90325648605894,1.9266311090730699,1.93814081767908,1.92771641144337,2,"Midlands and East of England",{"$f":"TRANSPOSE(_xlfn.XLOOKUP(P29,#REF!,#REF!))","v":{"$error":"#REF!"}},null,null,null,null,null,null,null,null,{"$f":"_xlfn.XLOOKUP(AA29,popdata!L:L,popdata!M:M)","v":15},"Suffolk and North East Essex",{"$f":"TRANSPOSE(_xlfn.XLOOKUP(AA29,ICSs!$2:$2,ICSs!$5:$10))","v":1.9857299981399263},2.0116932723324661,2.0450035449896822,2.05821539975712,2.0864964187001802,2.07436527626199,4,"NHS West Suffolk CCG",{"$f":"TRANSPOSE(_xlfn.XLOOKUP(AI29,CCGs!$3:$3,CCGs!$6:$14))","v":1.903863092991066},1.9424980674762486,2.0032743457478754,2.0601677872798554,2.1334576644506789,2.1751969289459598,2.2254278148836102,2.2761170840842699,2.2991875689563401]
[1,"England",1.5707421915097799,1.6294993969781499,1.6902271545000001,1.7406936529999999,1.7841491630511395,1.8208741951929237,1.8531397629999999,1.8747613160675962,1.90325648605894,1.9266311090730699,1.93814081767908,1.92771641144337,2,"Midlands and East of England",{"$f":"TRANSPOSE(_xlfn.XLOOKUP(P30,#REF!,#REF!))","v":{"$error":"#REF!"}},null,null,null,null,null,null,null,null,{"$f":"_xlfn.XLOOKUP(AA30,popdata!L:L,popdata!M:M)","v":16},"Bedfordshire, Luton and Milton Keynes",{"$f":"TRANSPOSE(_xlfn.XLOOKUP(AA30,ICSs!$2:$2,ICSs!$5:$10))","v":1.4956240781928527},1.5054103481298722,1.5332831365639814,1.54925746400819,1.5673951010238101,1.5760547109741001,1,"NHS Bedfordshire, Luton and Milton Keynes CCG",{"$f":"TRANSPOSE(_xlfn.XLOOKUP(AI30,CCGs!$3:$3,CCGs!$6:$14))","v":1.5666620268257851},1.5666620268257851,1.5666620268257851,1.5666620268257851,1.5666620268257851,1.5666620268257851,1.5666620268257851,1.55726934267747,1.5760547109741001]
[1,"England",1.5707421915097799,1.6294993969781499,1.6902271545000001,1.7406936529999999,1.7841491630511395,1.8208741951929237,1.8531397629999999,1.8747613160675962,1.90325648605894,1.9266311090730699,1.93814081767908,1.92771641144337,2,"Midlands and East of England",{"$f":"TRANSPOSE(_xlfn.XLOOKUP(P31,#REF!,#REF!))","v":{"$error":"#REF!"}},null,null,null,null,null,null,null,null,{"$f":"_xlfn.XLOOKUP(AA31,popdata!L:L,popdata!M:M)","v":17},"Hertfordshire and West Essex",{"$f":"TRANSPOSE(_xlfn.XLOOKUP(AA31,ICSs!$2:$2,ICSs!$5:$10))","v":1.4825334237768637},1.5103772126333985,1.5331797048508611,1.55370455012113,1.54895451074424,1.52916621861348,2,"NHS East and North Hertfordshire CCG",{"$f":"TRANSPOSE(_xlfn.XLOOKUP(AI31,CCGs!$3:$3,CCGs!$6:$14))","v":1.4822493054683028},1.5025619720260353,1.5179497732163834,1.5482679949145752,1.5676845882003829,1.56569129381008,1.58977659525058,1.61241011903053,1.57701707459457]
[1,"England",1.5707421915097799,1.6294993969781499,1.6902271545000001,1.7406936529999999,1.7841491630511395,1.8208741951929237,1.8531397629999999,1.8747613160675962,1.90325648605894,1.9266311090730699,1.93814081767908,1.92771641144337,2,"Midlands and East of England",{"$f":"TRANSPOSE(_xlfn.XLOOKUP(P32,#REF!,#REF!))","v":{"$error":"#REF!"}},null,null,null,null,null,null,null,null,{"$f":"_xlfn.XLOOKUP(AA32,popdata!L:L,popdata!M:M)","v":17},"Hertfordshire and West Essex",{"$f":"TRANSPOSE(_xlfn.XLOOKUP(AA32,ICSs!$2:$2,ICSs!$5:$10))","v":1.4825334237768637},1.5103772126333985,1.5331797048508611,1.55370455012113,1.54895451074424,1.52916621861348,3,"NHS Herts Valley CCG",{"$f":"TRANSPOSE(_xlfn.XLOOKUP(AI32,CCGs!$3:$3,CCGs!$6:$14))","v":1.2584541102443876},1.2547509396438032,1.2711945834107345,1.3056944760172766,1.349162345215964,1.3918667418966399,1.4318682632161299,1.4458186008084599,1.4248288046145401]
[1,"England",1.5707421915097799,1.6294993969781499,1.6902271545000001,1.7406936529999999,1.7841491630511395,1.8208741951929237,1.8531397629999999,1.8747613160675962,1.90325648605894,1.9266311090730699,1.93814081767908,1.92771641144337,2,"Midlands and East of England",{"$f":"TRANSPOSE(_xlfn.XLOOKUP(P33,#REF!,#REF!))","v":{"$error":"#REF!"}},null,null,null,null,null,null,null,null,{"$f":"_xlfn.XLOOKUP(AA33,popdata!L:L,popdata!M:M)","v":17},"Hertfordshire and West Essex",{"$f":"TRANSPOSE(_xlfn.XLOOKUP(AA33,ICSs!$2:$2,ICSs!$5:$10))","v":1.4825334237768637},1.5103772126333985,1.5331797048508611,1.55370455012113,1.54895451074424,1.52916621861348,4,"NHS West Essex CCG",{"$f":"TRANSPOSE(_xlfn.XLOOKUP(AI33,CCGs!$3:$3,CCGs!$6:$14))","v":1.6016571668404165},1.6448003250325878,1.6936274755913472,1.7261397179403084,1.7364191495010588,1.77104580840564,1.7355416130179799,1.6648909949592099,1.6538126632665799]
[1,"England",1.5707421915097799,1.6294993969781499,1.6902271545000001,1.7406936529999999,1.7841491630511395,1.8208741951929237,1.8531397629999999,1.8747613160675962,1.90325648605894,1.9266311090730699,1.93814081767908,1.92771641144337,2,"Midlands and East of England",{"$f":"TRANSPOSE(_xlfn.XLOOKUP(P34,#REF!,#REF!))","v":{"$error":"#REF!"}},null,null,null,null,null,null,null,null,{"$f":"_xlfn.XLOOKUP(AA34,popdata!L:L,popdata!M:M)","v":18},"Mid and South Essex",{"$f":"TRANSPOSE(_xlfn.XLOOKUP(AA34,ICSs!$2:$2,ICSs!$5:$10))","v":1.8748713229624852},1.8754270107312072,1.8983299320871296,1.9435570190131499,1.92157397273422,1.9022905262276499,2,"NHS Basildon and Brentwood CCG",{"$f":"TRANSPOSE(_xlfn.XLOOKUP(AI34,CCGs!$3:$3,CCGs!$6:$14))","v":1.8615513683876379},1.8765433943655132,1.9094745711350416,1.935333323610483,1.9239045135812469,1.9206081506280399,1.9506599857242799,1.90791998000556,1.86538529235752]
[1,"England",1.5707421915097799,1.6294993969781499,1.6902271545000001,1.7406936529999999,1.7841491630511395,1.8208741951929237,1.8531397629999999,1.8747613160675962,1.90325648605894,1.9266311090730699,1.93814081767908,1.92771641144337,2,"Midlands and East of England",{"$f":"TRANSPOSE(_xlfn.XLOOKUP(P35,#REF!,#REF!))","v":{"$error":"#REF!"}},null,null,null,null,null,null,null,null,{"$f":"_xlfn.XLOOKUP(AA35,popdata!L:L,popdata!M:M)","v":18},"Mid and South Essex",{"$f":"TRANSPOSE(_xlfn.XLOOKUP(AA35,ICSs!$2:$2,ICSs!$5:$10))","v":1.8748713229624852},1.8754270107312072,1.8983299320871296,1.9435570190131499,1.92157397273422,1.9022905262276499,3,"NHS Castle Point and Rochford CCG",{"$f":"TRANSPOSE(_xlfn.XLOOKUP(AI35,CCGs!$3:$3,CCGs!$6:$14))","v":2.0164347176493376},2.0711336440218293,2.1440696122216911,2.1826477057427209,2.2148058252427183,2.29306585769314,2.3601440964089,2.3266818301581398,2.3383234824625698]
[1,"England",1.5707421915097799,1.6294993969781499,1.6902271545000001,1.7406936529999999,1.7841491630511395,1.8208741951929237,1.8531397629999999,1.8747613160675962,1.90325648605894,1.9266311090730699,1.93814081767908,1.92771641144337,2,"Midlands and East of England",{"$f":"TRANSPOSE(_xlfn.XLOOKUP(P36,#REF!,#REF!))","v":{"$error":"#REF!"}},null,null,null,null,null,null,null,null,{"$f":"_xlfn.XLOOKUP(AA36,popdata!L:L,popdata!M:M)","v":18},"Mid and South Essex",{"$f":"TRANSPOSE(_xlfn.XLOOKUP(AA36,ICSs!$2:$2,ICSs!$5:$10))","v":1.8748713229624852},1.8754270107312072,1.8983299320871296,1.9435570190131499,1.92157397273422,1.9022905262276499,4,"NHS Mid Essex CCG",{"$f":"TRANSPOSE(_xlfn.XLOOKUP(AI36,CCGs!$3:$3,CCGs!$6:$14))","v":1.3470889047239805},1.4338019879155519,1.5000973576604693,1.5465364757997848,1.5626043748811731,1.57281664618525,1.6001420544626701,1.6095720035980401,1.61469696628905]
[1,"England",1.5707421915097799,1.6294993969781499,1.6902271545000001,1.7406936529999999,1.7841491630511395,1.8208741951929237,1.8531397629999999,1.8747613160675962,1.90325648605894,1.9266311090730699,1.93814081767908,1.92771641144337,2,"Midlands and East of England",{"$f":"TRANSPOSE(_xlfn.XLOOKUP(P37,#REF!,#REF!))","v":{"$error":"#REF!"}},null,null,null,null,null,null,null,null,{"$f":"_xlfn.XLOOKUP(AA37,popdata!L:L,popdata!M:M)","v":18},"Mid and South Essex",{"$f":"TRANSPOSE(_xlfn.XLOOKUP(AA37,ICSs!$2:$2,ICSs!$5:$10))","v":1.8748713229624852},1.8754270107312072,1.8983299320871296,1.9435570190131499,1.92157397273422,1.9022905262276499,5,"NHS Southend CCG",{"$f":"TRANSPOSE(_xlfn.XLOOKUP(AI37,CCGs!$3:$3,CCGs!$6:$14))","v":1.8398731196648279},1.9285462769847506,2.0503418137763929,2.1319698496252757,2.122394594080137,2.1534685721732298,2.19307970899722,2.19072988811934,2.1610825964609002]
[1,"England",1.5707421915097799,1.6294993969781499,1.6902271545000001,1.7406936529999999,1.7841491630511395,1.8208741951929237,1.8531397629999999,1.8747613160675962,1.90325648605894,1.9266311090730699,1.93814081767908,1.92771641144337,2,"Midlands and East of England",{"$f":"TRANSPOSE(_xlfn.XLOOKUP(P38,#REF!,#REF!))","v":{"$error":"#REF!"}},null,null,null,null,null,null,null,null,{"$f":"_xlfn.XLOOKUP(AA38,popdata!L:L,popdata!M:M)","v":18},"Mid and South Essex",{"$f":"TRANSPOSE(_xlfn.XLOOKUP(AA38,ICSs!$2:$2,ICSs!$5:$10))","v":1.8748713229624852},1.8754270107312072,1.8983299320871296,1.9435570190131499,1.92157397273422,1.9022905262276499,6,"NHS Thurrock CCG",{"$f":"TRANSPOSE(_xlfn.XLOOKUP(AI38,CCGs!$3:$3,CCGs!$6:$14))","v":1.7429632203668819},1.800407184763098,1.8324079347000759,1.9067500116620797,1.8696962031138606,1.87083738681434,1.9941603307218601,1.9309434792170701,1.8781759243034899]
[1,"England",1.5707421915097799,1.6294993969781499,1.6902271545000001,1.7406936529999999,1.7841491630511395,1.8208741951929237,1.8531397629999999,1.8747613160675962,1.90325648605894,1.9266311090730699,1.93814081767908,1.92771641144337,1,"North of England",{"$f":"TRANSPOSE(_xlfn.XLOOKUP(P39,#REF!,#REF!))","v":{"$error":"#REF!"}},null,null,null,null,null,null,null,null,{"$f":"_xlfn.XLOOKUP(AA39,popdata!L:L,popdata!M:M)","v":2},"Greater Manchester Health and Social Care Partnership",{"$f":"TRANSPOSE(_xlfn.XLOOKUP(AA39,ICSs!$2:$2,ICSs!$5:$10))","v":2.3384873468978102},2.3384873468978102,2.3384873468978102,2.3398955726591599,2.3354243410189901,2.3401421270152798,2,"NHS Bolton CCG",{"$f":"TRANSPOSE(_xlfn.XLOOKUP(AI39,CCGs!$3:$3,CCGs!$6:$14))","v":2.1687346080318775},2.2341860050642448,2.238313363870942,2.2519845200829471,2.25441364383133,2.29015782033906,2.2980570391181101,2.3007221175369601,2.2826371395151601]
[1,"England",1.5707421915097799,1.6294993969781499,1.6902271545000001,1.7406936529999999,1.7841491630511395,1.8208741951929237,1.8531397629999999,1.8747613160675962,1.90325648605894,1.9266311090730699,1.93814081767908,1.92771641144337,1,"North of England",{"$f":"TRANSPOSE(_xlfn.XLOOKUP(P40,#REF!,#REF!))","v":{"$error":"#REF!"}},null,null,null,null,null,null,null,null,{"$f":"_xlfn.XLOOKUP(AA40,popdata!L:L,popdata!M:M)","v":2},"Greater Manchester Health and Social Care Partnership",{"$f":"TRANSPOSE(_xlfn.XLOOKUP(AA40,ICSs!$2:$2,ICSs!$5:$10))","v":2.3384873468978102},2.3384873468978102,2.3384873468978102,2.3398955726591599,2.3354243410189901,2.3401421270152798,3,"NHS Bury CCG",{"$f":"TRANSPOSE(_xlfn.XLOOKUP(AI40,CCGs!$3:$3,CCGs!$6:$14))","v":2.0056271829589063},2.0558316311494571,2.1378739386351935,2.1243461246655753,2.110915701695451,2.1424900238503599,2.17485334927416,2.1580058248769598,2.1629148517904602]
[1,"England",1.5707421915097799,1.6294993969781499,1.6902271545000001,1.7406936529999999,1.7841491630511395,1.8208741951929237,1.8531397629999999,1.8747613160675962,1.90325648605894,1.9266311090730699,1.93814081767908,1.92771641144337,1,"North of England",{"$f":"TRANSPOSE(_xlfn.XLOOKUP(P41,#REF!,#REF!))","v":{"$error":"#REF!"}},null,null,null,null,null,null,null,null,{"$f":"_xlfn.XLOOKUP(AA41,popdata!L:L,popdata!M:M)","v":2},"Greater Manchester Health and Social Care Partnership",{"$f":"TRANSPOSE(_xlfn.XLOOKUP(AA41,ICSs!$2:$2,ICSs!$5:$10))","v":2.3384873468978102},2.3384873468978102,2.3384873468978102,2.3398955726591599,2.3354243410189901,2.3401421270152798,4,"NHS Heywood, Middleton and Rochdale CCG",{"$f":"TRANSPOSE(_xlfn.XLOOKUP(AI41,CCGs!$3:$3,CCGs!$6:$14))","v":2.3065055400471435},2.3017354567296957,2.3559987317974986,2.4029830133959398,2.4320216179699377,2.4673153585665899,2.5291086893886701,2.5421418415324202,2.5464323682071202]
[1,"England",1.5707421915097799,1.6294993969781499,1.6902271545000001,1.7406936529999999,1.7841491630511395,1.8208741951929237,1.8531397629999999,1.8747613160675962,1.90325648605894,1.9266311090730699,1.93814081767908,1.92771641144337,1,"North of England",{"$f":"TRANSPOSE(_xlfn.XLOOKUP(P42,#REF!,#REF!))","v":{"$error":"#REF!"}},null,null,null,null,null,null,null,null,{"$f":"_xlfn.XLOOKUP(AA42,popdata!L:L,popdata!M:M)","v":2},"Greater Manchester Health and Social Care Partnership",{"$f":"TRANSPOSE(_xlfn.XLOOKUP(AA42,ICSs!$2:$2,ICSs!$5:$10))","v":2.3384873468978102},2.3384873468978102,2.3384873468978102,2.3398955726591599,2.3354243410189901,2.3401421270152798,5,"NHS Oldham CCG",{"$f":"TRANSPOSE(_xlfn.XLOOKUP(AI42,CCGs!$3:$3,CCGs!$6:$14))","v":2.2392582016204012},2.238821326419326,2.2203645557231986,2.2493550056775549,2.2914688192465968,2.36884603699973,2.36075677391631,2.37573553268789,2.3415576648827701]
[1,"England",1.5707421915097799,1.6294993969781499,1.6902271545000001,1.7406936529999999,1.7841491630511395,1.8208741951929237,1.8531397629999999,1.8747613160675962,1.90325648605894,1.9266311090730699,1.93814081767908,1.92771641144337,1,"North of England",{"$f":"TRANSPOSE(_xlfn.XLOOKUP(P43,#REF!,#REF!))","v":{"$error":"#REF!"}},null,null,null,null,null,null,null,null,{"$f":"_xlfn.XLOOKUP(AA43,popdata!L:L,popdata!M:M)","v":2},"Greater Manchester Health and Social Care Partnership",{"$f":"TRANSPOSE(_xlfn.XLOOKUP(AA43,ICSs!$2:$2,ICSs!$5:$10))","v":2.3384873468978102},2.3384873468978102,2.3384873468978102,2.3398955726591599,2.3354243410189901,2.3401421270152798,6,"NHS Salford CCG",{"$f":"TRANSPOSE(_xlfn.XLOOKUP(AI43,CCGs!$3:$3,CCGs!$6:$14))","v":2.7922018220266147},2.7657486908106534,2.7042633420788489,2.6762741975006126,2.6140832002035297,2.5595035047371701,2.5162305654438599,2.4735407463107402,2.55760392531948]
[1,"England",1.5707421915097799,1.6294993969781499,1.6902271545000001,1.7406936529999999,1.7841491630511395,1.8208741951929237,1.8531397629999999,1.8747613160675962,1.90325648605894,1.9266311090730699,1.93814081767908,1.92771641144337,1,"North of England",{"$f":"TRANSPOSE(_xlfn.XLOOKUP(P44,#REF!,#REF!))","v":{"$error":"#REF!"}},null,null,null,null,null,null,null,null,{"$f":"_xlfn.XLOOKUP(AA44,popdata!L:L,popdata!M:M)","v":2},"Greater Manchester Health and Social Care Partnership",{"$f":"TRANSPOSE(_xlfn.XLOOKUP(AA44,ICSs!$2:$2,ICSs!$5:$10))","v":2.3384873468978102},2.3384873468978102,2.3384873468978102,2.3398955726591599,2.3354243410189901,2.3401421270152798,7,"NHS Stockport CCG",{"$f":"TRANSPOSE(_xlfn.XLOOKUP(AI44,CCGs!$3:$3,CCGs!$6:$14))","v":2.1414068673047879},2.1920217708748173,2.2129598791791834,2.2521575809739223,2.2934209846567133,2.2768317643575098,2.3217769630075198,2.3255961642269698,2.3330806039079701]
[1,"England",1.5707421915097799,1.6294993969781499,1.6902271545000001,1.7406936529999999,1.7841491630511395,1.8208741951929237,1.8531397629999999,1.8747613160675962,1.90325648605894,1.9266311090730699,1.93814081767908,1.92771641144337,1,"North of England",{"$f":"TRANSPOSE(_xlfn.XLOOKUP(P45,#REF!,#REF!))","v":{"$error":"#REF!"}},null,null,null,null,null,null,null,null,{"$f":"_xlfn.XLOOKUP(AA45,popdata!L:L,popdata!M:M)","v":2},"Greater Manchester Health and Social Care Partnership",{"$f":"TRANSPOSE(_xlfn.XLOOKUP(AA45,ICSs!$2:$2,ICSs!$5:$10))","v":2.3384873468978102},2.3384873468978102,2.3384873468978102,2.3398955726591599,2.3354243410189901,2.3401421270152798,8,"NHS Tameside and Glossop CCG",{"$f":"TRANSPOSE(_xlfn.XLOOKUP(AI45,CCGs!$3:$3,CCGs!$6:$14))","v":2.5500140884756268},2.6294491631484971,2.6775967539288583,2.7341637336395328,2.8272051510021474,2.9077429283181901,3.02886890676763,3.0271897548621398,2.9956461633800999]
[1,"England",1.5707421915097799,1.6294993969781499,1.6902271545000001,1.7406936529999999,1.7841491630511395,1.8208741951929237,1.8531397629999999,1.8747613160675962,1.90325648605894,1.9266311090730699,1.93814081767908,1.92771641144337,1,"North of England",{"$f":"TRANSPOSE(_xlfn.XLOOKUP(P46,#REF!,#REF!))","v":{"$error":"#REF!"}},null,null,null,null,null,null,null,null,{"$f":"_xlfn.XLOOKUP(AA46,popdata!L:L,popdata!M:M)","v":2},"Greater Manchester Health and Social Care Partnership",{"$f":"TRANSPOSE(_xlfn.XLOOKUP(AA46,ICSs!$2:$2,ICSs!$5:$10))","v":2.3384873468978102},2.3384873468978102,2.3384873468978102,2.3398955726591599,2.3354243410189901,2.3401421270152798,9,"NHS Trafford CCG",{"$f":"TRANSPOSE(_xlfn.XLOOKUP(AI46,CCGs!$3:$3,CCGs!$6:$14))","v":1.6933686630284099},1.8222109661896924,1.8784632589739927,1.8972554184826149,1.9527804131089694,1.96076808475418,1.9805233477498301,2.0034803027444101,2.01407514948695]
[1,"England",1.5707421915097799,1.6294993969781499,1.6902271545000001,1.7406936529999999,1.7841491630511395,1.8208741951929237,1.8531397629999999,1.8747613160675962,1.90325648605894,1.9266311090730699,1.93814081767908,1.92771641144337,1,"North of England",{"$f":"TRANSPOSE(_xlfn.XLOOKUP(P47,#REF!,#REF!))","v":{"$error":"#REF!"}},null,null,null,null,null,null,null,null,{"$f":"_xlfn.XLOOKUP(AA47,popdata!L:L,popdata!M:M)","v":2},"Greater Manchester Health and Social Care Partnership",{"$f":"TRANSPOSE(_xlfn.XLOOKUP(AA47,ICSs!$2:$2,ICSs!$5:$10))","v":2.3384873468978102},2.3384873468978102,2.3384873468978102,2.3398955726591599,2.3354243410189901,2.3401421270152798,10,"NHS Wigan Borough CCG",{"$f":"TRANSPOSE(_xlfn.XLOOKUP(AI47,CCGs!$3:$3,CCGs!$6:$14))","v":2.2153092299875627},2.2559624536045848,2.314968495704806,2.4311947967277749,2.5313347819148282,2.59938979432552,2.6453681853936,2.6473303538129498,2.6738127584611]
[1,"England",1.5707421915097799,1.6294993969781499,1.6902271545000001,1.7406936529999999,1.7841491630511395,1.8208741951929237,1.8531397629999999,1.8747613160675962,1.90325648605894,1.9266311090730699,1.93814081767908,1.92771641144337,1,"North of England",{"$f":"TRANSPOSE(_xlfn.XLOOKUP(P48,#REF!,#REF!))","v":{"$error":"#REF!"}},null,null,null,null,null,null,null,null,{"$f":"_xlfn.XLOOKUP(AA48,popdata!L:L,popdata!M:M)","v":2},"Greater Manchester Health and Social Care Partnership",{"$f":"TRANSPOSE(_xlfn.XLOOKUP(AA48,ICSs!$2:$2,ICSs!$5:$10))","v":2.3384873468978102},2.3384873468978102,2.3384873468978102,2.3398955726591599,2.3354243410189901,2.3401421270152798,11,"NHS Manchester CCG",{"$f":"TRANSPOSE(_xlfn.XLOOKUP(AI48,CCGs!$3:$3,CCGs!$6:$14))","v":1.9619578411517775},1.9619578411517775,1.9619578411517775,1.9354198536403855,1.9414879647800902,1.97270932057189,1.98721050917514,1.96780787449732,1.9671115242458399]
[1,"England",1.5707421915097799,1.6294993969781499,1.6902271545000001,1.7406936529999999,1.7841491630511395,1.8208741951929237,1.8531397629999999,1.8747613160675962,1.90325648605894,1.9266311090730699,1.93814081767908,1.92771641144337,1,"North of England",{"$f":"TRANSPOSE(_xlfn.XLOOKUP(P49,#REF!,#REF!))","v":{"$error":"#REF!"}},null,null,null,null,null,null,null,null,{"$f":"_xlfn.XLOOKUP(AA49,popdata!L:L,popdata!M:M)","v":3},"Cheshire and Merseyside",{"$f":"TRANSPOSE(_xlfn.XLOOKUP(AA49,ICSs!$2:$2,ICSs!$5:$10))","v":2.5807069958456399},2.5807069958456399,2.5807069958456399,2.57763639428758,2.57779533645125,2.5866892567980901,2,"NHS Halton CCG",{"$f":"TRANSPOSE(_xlfn.XLOOKUP(AI49,CCGs!$3:$3,CCGs!$6:$14))","v":2.4957238376613278},2.545598300867395,2.5770158470761082,2.6143112587010666,2.7192578963508125,2.7879822569089798,2.8660017804064801,2.8901430830691299,2.8910093931713101]
[1,"England",1.5707421915097799,1.6294993969781499,1.6902271545000001,1.7406936529999999,1.7841491630511395,1.8208741951929237,1.8531397629999999,1.8747613160675962,1.90325648605894,1.9266311090730699,1.93814081767908,1.92771641144337,1,"North of England",{"$f":"TRANSPOSE(_xlfn.XLOOKUP(P50,#REF!,#REF!))","v":{"$error":"#REF!"}},null,null,null,null,null,null,null,null,{"$f":"_xlfn.XLOOKUP(AA50,popdata!L:L,popdata!M:M)","v":3},"Cheshire and Merseyside",{"$f":"TRANSPOSE(_xlfn.XLOOKUP(AA50,ICSs!$2:$2,ICSs!$5:$10))","v":2.5807069958456399},2.5807069958456399,2.5807069958456399,2.57763639428758,2.57779533645125,2.5866892567980901,3,"NHS Knowsley CCG",{"$f":"TRANSPOSE(_xlfn.XLOOKUP(AI50,CCGs!$3:$3,CCGs!$6:$14))","v":3.4705407586763521},3.4574782430187927,3.5203657006571181,3.5435861091424519,3.528490403264787,3.5584881424122301,3.58415187287856,3.5944365719185001,3.6133432171979201]
[1,"England",1.5707421915097799,1.6294993969781499,1.6902271545000001,1.7406936529999999,1.7841491630511395,1.8208741951929237,1.8531397629999999,1.8747613160675962,1.90325648605894,1.9266311090730699,1.93814081767908,1.92771641144337,1,"North of England",{"$f":"TRANSPOSE(_xlfn.XLOOKUP(P51,#REF!,#REF!))","v":{"$error":"#REF!"}},null,null,null,null,null,null,null,null,{"$f":"_xlfn.XLOOKUP(AA51,popdata!L:L,popdata!M:M)","v":3},"Cheshire and Merseyside",{"$f":"TRANSPOSE(_xlfn.XLOOKUP(AA51,ICSs!$2:$2,ICSs!$5:$10))","v":2.5807069958456399},2.5807069958456399,2.5807069958456399,2.57763639428758,2.57779533645125,2.5866892567980901,4,"NHS Liverpool CCG",{"$f":"TRANSPOSE(_xlfn.XLOOKUP(AI51,CCGs!$3:$3,CCGs!$6:$14))","v":2.8332134270818847},2.844705021326289,2.8847335720261533,2.9250532067705981,3.0160700249952668,3.0075436096735202,3.0878982679625699,3.1179095103773,3.0671604234571799]
[1,"England",1.5707421915097799,1.6294993969781499,1.6902271545000001,1.7406936529999999,1.7841491630511395,1.8208741951929237,1.8531397629999999,1.8747613160675962,1.90325648605894,1.9266311090730699,1.93814081767908,1.92771641144337,1,"North of England",{"$f":"TRANSPOSE(_xlfn.XLOOKUP(P52,#REF!,#REF!))","v":{"$error":"#REF!"}},null,null,null,null,null,null,null,null,{"$f":"_xlfn.XLOOKUP(AA52,popdata!L:L,popdata!M:M)","v":3},"Cheshire and Merseyside",{"$f":"TRANSPOSE(_xlfn.XLOOKUP(AA52,ICSs!$2:$2,ICSs!$5:$10))","v":2.5807069958456399},2.5807069958456399,2.5807069958456399,2.57763639428758,2.57779533645125,2.5866892567980901,5,"NHS South Sefton CCG",{"$f":"TRANSPOSE(_xlfn.XLOOKUP(AI52,CCGs!$3:$3,CCGs!$6:$14))","v":2.8514866808101784},2.8588764596149003,2.8103282441713966,2.8630861820580829,2.8949103375527425,3.08308398679323,3.0816601449740202,2.99763864956283,2.9993170314484701]
[1,"England",1.5707421915097799,1.6294993969781499,1.6902271545000001,1.7406936529999999,1.7841491630511395,1.8208741951929237,1.8531397629999999,1.8747613160675962,1.90325648605894,1.9266311090730699,1.93814081767908,1.92771641144337,1,"North of England",{"$f":"TRANSPOSE(_xlfn.XLOOKUP(P53,#REF!,#REF!))","v":{"$error":"#REF!"}},null,null,null,null,null,null,null,null,{"$f":"_xlfn.XLOOKUP(AA53,popdata!L:L,popdata!M:M)","v":3},"Cheshire and Merseyside",{"$f":"TRANSPOSE(_xlfn.XLOOKUP(AA53,ICSs!$2:$2,ICSs!$5:$10))","v":2.5807069958456399},2.5807069958456399,2.5807069958456399,2.57763639428758,2.57779533645125,2.5866892567980901,6,"NHS Southport and Formby CCG",{"$f":"TRANSPOSE(_xlfn.XLOOKUP(AI53,CCGs!$3:$3,CCGs!$6:$14))","v":1.9884620105560331},2.0254757294245489,2.0126593592316633,2.0711874808223381,2.1392614071120777,2.12461591853664,2.1676527134853298,2.0555794298811101,2.1780649679298398]
[1,"England",1.5707421915097799,1.6294993969781499,1.6902271545000001,1.7406936529999999,1.7841491630511395,1.8208741951929237,1.8531397629999999,1.8747613160675962,1.90325648605894,1.9266311090730699,1.93814081767908,1.92771641144337,1,"North of England",{"$f":"TRANSPOSE(_xlfn.XLOOKUP(P54,#REF!,#REF!))","v":{"$error":"#REF!"}},null,null,null,null,null,null,null,null,{"$f":"_xlfn.XLOOKUP(AA54,popdata!L:L,popdata!M:M)","v":3},"Cheshire and Merseyside",{"$f":"TRANSPOSE(_xlfn.XLOOKUP(AA54,ICSs!$2:$2,ICSs!$5:$10))","v":2.5807069958456399},2.5807069958456399,2.5807069958456399,2.57763639428758,2.57779533645125,2.5866892567980901,7,"NHS St Helens CCG",{"$f":"TRANSPOSE(_xlfn.XLOOKUP(AI54,CCGs!$3:$3,CCGs!$6:$14))","v":3.0244427093298034},3.0688823371750202,3.0177232196745054,3.0016143310940997,3.0340825209356783,3.0655440535613199,3.1270674147656998,3.01113254224496,2.98514198604961]
[1,"England",1.5707421915097799,1.6294993969781499,1.6902271545000001,1.7406936529999999,1.7841491630511395,1.8208741951929237,1.8531397629999999,1.8747613160675962,1.90325648605894,1.9266311090730699,1.93814081767908,1.92771641144337,1,"North of England",{"$f":"TRANSPOSE(_xlfn.XLOOKUP(P55,#REF!,#REF!))","v":{"$error":"#REF!"}},null,null,null,null,null,null,null,null,{"$f":"_xlfn.XLOOKUP(AA55,popdata!L:L,popdata!M:M)","v":3},"Cheshire and Merseyside",{"$f":"TRANSPOSE(_xlfn.XLOOKUP(AA55,ICSs!$2:$2,ICSs!$5:$10))","v":2.5807069958456399},2.5807069958456399,2.5807069958456399,2.57763639428758,2.57779533645125,2.5866892567980901,8,"NHS Warrington CCG",{"$f":"TRANSPOSE(_xlfn.XLOOKUP(AI55,CCGs!$3:$3,CCGs!$6:$14))","v":1.7801738997203813},1.8129319322162263,1.7999107792726163,1.8301134133800963,1.8486244855359288,1.83962173854783,1.8258202977267199,1.8184124452981301,1.8402990146109399]
[1,"England",1.5707421915097799,1.6294993969781499,1.6902271545000001,1.7406936529999999,1.7841491630511395,1.8208741951929237,1.8531397629999999,1.8747613160675962,1.90325648605894,1.9266311090730699,1.93814081767908,1.92771641144337,1,"North of England",{"$f":"TRANSPOSE(_xlfn.XLOOKUP(P56,#REF!,#REF!))","v":{"$error":"#REF!"}},null,null,null,null,null,null,null,null,{"$f":"_xlfn.XLOOKUP(AA56,popdata!L:L,popdata!M:M)","v":3},"Cheshire and Merseyside",{"$f":"TRANSPOSE(_xlfn.XLOOKUP(AA56,ICSs!$2:$2,ICSs!$5:$10))","v":2.5807069958456399},2.5807069958456399,2.5807069958456399,2.57763639428758,2.57779533645125,2.5866892567980901,9,"NHS Wirral CCG",{"$f":"TRANSPOSE(_xlfn.XLOOKUP(AI56,CCGs!$3:$3,CCGs!$6:$14))","v":2.359662870792302},2.2999678010526345,2.4026755772515886,2.4450397584725945,2.4372333729631444,2.5383170413620602,2.5870351699187499,2.6047002200386702,2.6929844015672399]
[1,"England",1.5707421915097799,1.6294993969781499,1.6902271545000001,1.7406936529999999,1.7841491630511395,1.8208741951929237,1.8531397629999999,1.8747613160675962,1.90325648605894,1.9266311090730699,1.93814081767908,1.92771641144337,1,"North of England",{"$f":"TRANSPOSE(_xlfn.XLOOKUP(P57,#REF!,#REF!))","v":{"$error":"#REF!"}},null,null,null,null,null,null,null,null,{"$f":"_xlfn.XLOOKUP(AA57,popdata!L:L,popdata!M:M)","v":3},"Cheshire and Merseyside",{"$f":"TRANSPOSE(_xlfn.XLOOKUP(AA57,ICSs!$2:$2,ICSs!$5:$10))","v":2.5807069958456399},2.5807069958456399,2.5807069958456399,2.57763639428758,2.57779533645125,2.5866892567980901,10,"NHS Cheshire CCG",{"$f":"TRANSPOSE(_xlfn.XLOOKUP(AI57,CCGs!$3:$3,CCGs!$6:$14))","v":2.0200775838766347},2.0200775838766347,2.0200775838766347,2.0200775838766347,2.0200775838766347,2.0200775838766347,2.0200775838766347,2.0182926589807999,2.02186250877247]
[1,"England",1.5707421915097799,1.6294993969781499,1.6902271545000001,1.7406936529999999,1.7841491630511395,1.8208741951929237,1.8531397629999999,1.8747613160675962,1.90325648605894,1.9266311090730699,1.93814081767908,1.92771641144337,1,"North of England",{"$f":"TRANSPOSE(_xlfn.XLOOKUP(P58,#REF!,#REF!))","v":{"$error":"#REF!"}},null,null,null,null,null,null,null,null,{"$f":"_xlfn.XLOOKUP(AA58,popdata!L:L,popdata!M:M)","v":4},"South Yorkshire and Bassetlaw",{"$f":"TRANSPOSE(_xlfn.XLOOKUP(AA58,ICSs!$2:$2,ICSs!$5:$10))","v":2.64044513187629},2.64044513187629,2.64044513187629,2.6502578539828598,2.6487033281161101,2.6223742135299002,2,"NHS Barnsley CCG",{"$f":"TRANSPOSE(_xlfn.XLOOKUP(AI58,CCGs!$3:$3,CCGs!$6:$14))","v":3.0773716330638723},3.1289983956901501,3.1650942832203368,3.1481142624783978,3.1613135499092282,3.2558336086545601,3.3168488601310901,3.2795486343451601,3.23720726072857]
[1,"England",1.5707421915097799,1.6294993969781499,1.6902271545000001,1.7406936529999999,1.7841491630511395,1.8208741951929237,1.8531397629999999,1.8747613160675962,1.90325648605894,1.9266311090730699,1.93814081767908,1.92771641144337,1,"North of England",{"$f":"TRANSPOSE(_xlfn.XLOOKUP(P59,#REF!,#REF!))","v":{"$error":"#REF!"}},null,null,null,null,null,null,null,null,{"$f":"_xlfn.XLOOKUP(AA59,popdata!L:L,popdata!M:M)","v":4},"South Yorkshire and Bassetlaw",{"$f":"TRANSPOSE(_xlfn.XLOOKUP(AA59,ICSs!$2:$2,ICSs!$5:$10))","v":2.64044513187629},2.64044513187629,2.64044513187629,2.6502578539828598,2.6487033281161101,2.6223742135299002,3,"NHS Bassetlaw CCG",{"$f":"TRANSPOSE(_xlfn.XLOOKUP(AI59,CCGs!$3:$3,CCGs!$6:$14))","v":2.4309836504958455},2.4746057678647535,2.4980188430043144,2.5361599162137272,2.4673960174777356,2.5666328834835799,2.6622999313295699,2.70532776247373,2.6967469398616299]
[1,"England",1.5707421915097799,1.6294993969781499,1.6902271545000001,1.7406936529999999,1.7841491630511395,1.8208741951929237,1.8531397629999999,1.8747613160675962,1.90325648605894,1.9266311090730699,1.93814081767908,1.92771641144337,1,"North of England",{"$f":"TRANSPOSE(_xlfn.XLOOKUP(P60,#REF!,#REF!))","v":{"$error":"#REF!"}},null,null,null,null,null,null,null,null,{"$f":"_xlfn.XLOOKUP(AA60,popdata!L:L,popdata!M:M)","v":4},"South Yorkshire and Bassetlaw",{"$f":"TRANSPOSE(_xlfn.XLOOKUP(AA60,ICSs!$2:$2,ICSs!$5:$10))","v":2.64044513187629},2.64044513187629,2.64044513187629,2.6502578539828598,2.6487033281161101,2.6223742135299002,4,"NHS Doncaster CCG",{"$f":"TRANSPOSE(_xlfn.XLOOKUP(AI60,CCGs!$3:$3,CCGs!$6:$14))","v":2.5813837248673837},2.6156281368234113,2.6379503602882304,2.6820227609842555,2.7154708138853718,2.7588845158822299,2.8470070362585602,2.8689279834885402,2.8226585426434601]
[1,"England",1.5707421915097799,1.6294993969781499,1.6902271545000001,1.7406936529999999,1.7841491630511395,1.8208741951929237,1.8531397629999999,1.8747613160675962,1.90325648605894,1.9266311090730699,1.93814081767908,1.92771641144337,1,"North of England",{"$f":"TRANSPOSE(_xlfn.XLOOKUP(P61,#REF!,#REF!))","v":{"$error":"#REF!"}},null,null,null,null,null,null,null,null,{"$f":"_xlfn.XLOOKUP(AA61,popdata!L:L,popdata!M:M)","v":4},"South Yorkshire and Bassetlaw",{"$f":"TRANSPOSE(_xlfn.XLOOKUP(AA61,ICSs!$2:$2,ICSs!$5:$10))","v":2.64044513187629},2.64044513187629,2.64044513187629,2.6502578539828598,2.6487033281161101,2.6223742135299002,5,"NHS Rotherham CCG",{"$f":"TRANSPOSE(_xlfn.XLOOKUP(AI61,CCGs!$3:$3,CCGs!$6:$14))","v":2.6196126106117106},2.6899759124002656,2.7415264720435428,2.8315674803934114,2.8110789582472098,2.9269320663627001,3.0029166650904302,3.0213042132987198,2.9959239130434798]
[1,"England",1.5707421915097799,1.6294993969781499,1.6902271545000001,1.7406936529999999,1.7841491630511395,1.8208741951929237,1.8531397629999999,1.8747613160675962,1.90325648605894,1.9266311090730699,1.93814081767908,1.92771641144337,1,"North of England",{"$f":"TRANSPOSE(_xlfn.XLOOKUP(P62,#REF!,#REF!))","v":{"$error":"#REF!"}},null,null,null,null,null,null,null,null,{"$f":"_xlfn.XLOOKUP(AA62,popdata!L:L,popdata!M:M)","v":4},"South Yorkshire and Bassetlaw",{"$f":"TRANSPOSE(_xlfn.XLOOKUP(AA62,ICSs!$2:$2,ICSs!$5:$10))","v":2.64044513187629},2.64044513187629,2.64044513187629,2.6502578539828598,2.6487033281161101,2.6223742135299002,6,"NHS Sheffield CCG",{"$f":"TRANSPOSE(_xlfn.XLOOKUP(AI62,CCGs!$3:$3,CCGs!$6:$14))","v":1.9436480406160188},1.9719467707958689,2.0080184311364788,2.0573144573144573,2.0477524137515157,2.0688120264241401,2.1027795361685002,2.08605750815601,2.0758344607079402]
[1,"England",1.5707421915097799,1.6294993969781499,1.6902271545000001,1.7406936529999999,1.7841491630511395,1.8208741951929237,1.8531397629999999,1.8747613160675962,1.90325648605894,1.9266311090730699,1.93814081767908,1.92771641144337,1,"North of England",{"$f":"TRANSPOSE(_xlfn.XLOOKUP(P63,#REF!,#REF!))","v":{"$error":"#REF!"}},null,null,null,null,null,null,null,null,{"$f":"_xlfn.XLOOKUP(AA63,popdata!L:L,popdata!M:M)","v":5},"Healthier Lancashire and South Cumbria",{"$f":"TRANSPOSE(_xlfn.XLOOKUP(AA63,ICSs!$2:$2,ICSs!$5:$10))","v":2.5211017552950636},2.5211017552950636,2.5211017552950636,2.4752187133167198,2.5490182869115001,2.5390682656569701,2,"NHS Blackburn with Darwen CCG",{"$f":"TRANSPOSE(_xlfn.XLOOKUP(AI63,CCGs!$3:$3,CCGs!$6:$14))","v":2.1479108026931497},2.172783217774418,2.2847440898622926,2.2437164314445814,2.2647111285004922,2.2321785742859399,2.1133379330577098,2.1645748976517298,2.1692880057030801]
[1,"England",1.5707421915097799,1.6294993969781499,1.6902271545000001,1.7406936529999999,1.7841491630511395,1.8208741951929237,1.8531397629999999,1.8747613160675962,1.90325648605894,1.9266311090730699,1.93814081767908,1.92771641144337,1,"North of England",{"$f":"TRANSPOSE(_xlfn.XLOOKUP(P64,#REF!,#REF!))","v":{"$error":"#REF!"}},null,null,null,null,null,null,null,null,{"$f":"_xlfn.XLOOKUP(AA64,popdata!L:L,popdata!M:M)","v":5},"Healthier Lancashire and South Cumbria",{"$f":"TRANSPOSE(_xlfn.XLOOKUP(AA64,ICSs!$2:$2,ICSs!$5:$10))","v":2.5211017552950636},2.5211017552950636,2.5211017552950636,2.4752187133167198,2.5490182869115001,2.5390682656569701,3,"NHS Blackpool CCG",{"$f":"TRANSPOSE(_xlfn.XLOOKUP(AI64,CCGs!$3:$3,CCGs!$6:$14))","v":3.1056475790302231},3.358846006434304,3.633008510588756,3.6992616687923427,3.7278733519012848,3.7025921030607698,3.7337680976382699,3.7641147147869001,3.8172258101388801]
[1,"England",1.5707421915097799,1.6294993969781499,1.6902271545000001,1.7406936529999999,1.7841491630511395,1.8208741951929237,1.8531397629999999,1.8747613160675962,1.90325648605894,1.9266311090730699,1.93814081767908,1.92771641144337,1,"North of England",{"$f":"TRANSPOSE(_xlfn.XLOOKUP(P65,#REF!,#REF!))","v":{"$error":"#REF!"}},null,null,null,null,null,null,null,null,{"$f":"_xlfn.XLOOKUP(AA65,popdata!L:L,popdata!M:M)","v":5},"Healthier Lancashire and South Cumbria",{"$f":"TRANSPOSE(_xlfn.XLOOKUP(AA65,ICSs!$2:$2,ICSs!$5:$10))","v":2.5211017552950636},2.5211017552950636,2.5211017552950636,2.4752187133167198,2.5490182869115001,2.5390682656569701,4,"NHS Chorley and South Ribble CCG",{"$f":"TRANSPOSE(_xlfn.XLOOKUP(AI65,CCGs!$3:$3,CCGs!$6:$14))","v":2.0428617245487035},2.1945995693744567,2.2527518932462485,2.3205495452902078,2.3530899077122647,2.3518251995289798,2.3811195420300799,2.4059712850124799,2.32136554689255]
[1,"England",1.5707421915097799,1.6294993969781499,1.6902271545000001,1.7406936529999999,1.7841491630511395,1.8208741951929237,1.8531397629999999,1.8747613160675962,1.90325648605894,1.9266311090730699,1.93814081767908,1.92771641144337,1,"North of England",{"$f":"TRANSPOSE(_xlfn.XLOOKUP(P66,#REF!,#REF!))","v":{"$error":"#REF!"}},null,null,null,null,null,null,null,null,{"$f":"_xlfn.XLOOKUP(AA66,popdata!L:L,popdata!M:M)","v":5},"Healthier Lancashire and South Cumbria",{"$f":"TRANSPOSE(_xlfn.XLOOKUP(AA66,ICSs!$2:$2,ICSs!$5:$10))","v":2.5211017552950636},2.5211017552950636,2.5211017552950636,2.4752187133167198,2.5490182869115001,2.5390682656569701,5,"NHS East Lancashire CCG",{"$f":"TRANSPOSE(_xlfn.XLOOKUP(AI66,CCGs!$3:$3,CCGs!$6:$14))","v":2.3857609998613722},2.4202923510796324,2.4457840044385954,2.4923734394108399,2.5588031115299237,2.5957153671064499,2.49933395912127,2.6258421997346599,2.5711159737417901]
[1,"England",1.5707421915097799,1.6294993969781499,1.6902271545000001,1.7406936529999999,1.7841491630511395,1.8208741951929237,1.8531397629999999,1.8747613160675962,1.90325648605894,1.9266311090730699,1.93814081767908,1.92771641144337,1,"North of England",{"$f":"TRANSPOSE(_xlfn.XLOOKUP(P67,#REF!,#REF!))","v":{"$error":"#REF!"}},null,null,null,null,null,null,null,null,{"$f":"_xlfn.XLOOKUP(AA67,popdata!L:L,popdata!M:M)","v":5},"Healthier Lancashire and South Cumbria",{"$f":"TRANSPOSE(_xlfn.XLOOKUP(AA67,ICSs!$2:$2,ICSs!$5:$10))","v":2.5211017552950636},2.5211017552950636,2.5211017552950636,2.4752187133167198,2.5490182869115001,2.5390682656569701,6,"NHS West Lancashire CCG",{"$f":"TRANSPOSE(_xlfn.XLOOKUP(AI67,CCGs!$3:$3,CCGs!$6:$14))","v":2.1247331803120559},2.1385310774837869,2.1788765808672697,2.1350232457257099,2.2874200727735188,2.3002008752421301,2.2664782217653898,2.3601689716218801,2.3452231645602901]
[1,"England",1.5707421915097799,1.6294993969781499,1.6902271545000001,1.7406936529999999,1.7841491630511395,1.8208741951929237,1.8531397629999999,1.8747613160675962,1.90325648605894,1.9266311090730699,1.93814081767908,1.92771641144337,1,"North of England",{"$f":"TRANSPOSE(_xlfn.XLOOKUP(P68,#REF!,#REF!))","v":{"$error":"#REF!"}},null,null,null,null,null,null,null,null,{"$f":"_xlfn.XLOOKUP(AA68,popdata!L:L,popdata!M:M)","v":5},"Healthier Lancashire and South Cumbria",{"$f":"TRANSPOSE(_xlfn.XLOOKUP(AA68,ICSs!$2:$2,ICSs!$5:$10))","v":2.5211017552950636},2.5211017552950636,2.5211017552950636,2.4752187133167198,2.5490182869115001,2.5390682656569701,7,"NHS Fylde and Wyre CCG",{"$f":"TRANSPOSE(_xlfn.XLOOKUP(AI68,CCGs!$3:$3,CCGs!$6:$14))","v":2.4082750952986025},2.5157650182542319,2.6547674341450467,2.7864385641470557,2.8978506008788183,2.8594675595307799,2.9126867430662302,2.9750287186464899,2.9348687455320301]
[1,"England",1.5707421915097799,1.6294993969781499,1.6902271545000001,1.7406936529999999,1.7841491630511395,1.8208741951929237,1.8531397629999999,1.8747613160675962,1.90325648605894,1.9266311090730699,1.93814081767908,1.92771641144337,1,"North of England",{"$f":"TRANSPOSE(_xlfn.XLOOKUP(P69,#REF!,#REF!))","v":{"$error":"#REF!"}},null,null,null,null,null,null,null,null,{"$f":"_xlfn.XLOOKUP(AA69,popdata!L:L,popdata!M:M)","v":5},"Healthier Lancashire and South Cumbria",{"$f":"TRANSPOSE(_xlfn.XLOOKUP(AA69,ICSs!$2:$2,ICSs!$5:$10))","v":2.5211017552950636},2.5211017552950636,2.5211017552950636,2.4752187133167198,2.5490182869115001,2.5390682656569701,8,"NHS Greater Preston CCG",{"$f":"TRANSPOSE(_xlfn.XLOOKUP(AI69,CCGs!$3:$3,CCGs!$6:$14))","v":1.951182513308904},2.0063648199045279,2.0381578134137124,2.0434616102202541,2.1291581401989244,2.0608758364099198,1.9213886498561501,2.0814411497574099,2.1009895965491001]
[1,"England",1.5707421915097799,1.6294993969781499,1.6902271545000001,1.7406936529999999,1.7841491630511395,1.8208741951929237,1.8531397629999999,1.8747613160675962,1.90325648605894,1.9266311090730699,1.93814081767908,1.92771641144337,1,"North of England",{"$f":"TRANSPOSE(_xlfn.XLOOKUP(P70,#REF!,#REF!))","v":{"$error":"#REF!"}},null,null,null,null,null,null,null,null,{"$f":"_xlfn.XLOOKUP(AA70,popdata!L:L,popdata!M:M)","v":5},"Healthier Lancashire and South Cumbria",{"$f":"TRANSPOSE(_xlfn.XLOOKUP(AA70,ICSs!$2:$2,ICSs!$5:$10))","v":2.5211017552950636},2.5211017552950636,2.5211017552950636,2.4752187133167198,2.5490182869115001,2.5390682656569701,9,"NHS Morecambe Bay CCG",{"$f":"TRANSPOSE(_xlfn.XLOOKUP(AI70,CCGs!$3:$3,CCGs!$6:$14))","v":2.1593194122196442},2.2419767217622284,2.2688574031604412,2.1609964743991266,2.2193334515943057,2.2781355084385599,2.2729990263456101,2.2704715729932499,2.3016600178692399]
[1,"England",1.5707421915097799,1.6294993969781499,1.6902271545000001,1.7406936529999999,1.7841491630511395,1.8208741951929237,1.8531397629999999,1.8747613160675962,1.90325648605894,1.9266311090730699,1.93814081767908,1.92771641144337,1,"North of England",{"$f":"TRANSPOSE(_xlfn.XLOOKUP(P71,#REF!,#REF!))","v":{"$error":"#REF!"}},null,null,null,null,null,null,null,null,{"$f":"_xlfn.XLOOKUP(AA71,popdata!L:L,popdata!M:M)","v":6},"Cumbria and North East",{"$f":"TRANSPOSE(_xlfn.XLOOKUP(AA71,ICSs!$2:$2,ICSs!$5:$10))","v":2.9227638587004448},2.9227638587004448,2.9227638587004448,2.9227638587004448,2.9203522529342401,2.9251754644666499,2,"NHS North Tyneside CCG",{"$f":"TRANSPOSE(_xlfn.XLOOKUP(AI71,CCGs!$3:$3,CCGs!$6:$14))","v":2.3000408648487998},2.3930895137820452,2.4487927151307178,2.4995391705069125,2.5705998524539835,2.6204846114526599,2.6436510670704099,2.6451013130691798,2.6164314222618401]
[1,"England",1.5707421915097799,1.6294993969781499,1.6902271545000001,1.7406936529999999,1.7841491630511395,1.8208741951929237,1.8531397629999999,1.8747613160675962,1.90325648605894,1.9266311090730699,1.93814081767908,1.92771641144337,1,"North of England",{"$f":"TRANSPOSE(_xlfn.XLOOKUP(P72,#REF!,#REF!))","v":{"$error":"#REF!"}},null,null,null,null,null,null,null,null,{"$f":"_xlfn.XLOOKUP(AA72,popdata!L:L,popdata!M:M)","v":6},"Cumbria and North East",{"$f":"TRANSPOSE(_xlfn.XLOOKUP(AA72,ICSs!$2:$2,ICSs!$5:$10))","v":2.9227638587004448},2.9227638587004448,2.9227638587004448,2.9227638587004448,2.9203522529342401,2.9251754644666499,3,"NHS Northumberland CCG",{"$f":"TRANSPOSE(_xlfn.XLOOKUP(AI72,CCGs!$3:$3,CCGs!$6:$14))","v":2.4470753517690245},2.5085632434452263,2.5461511235850405,2.6142716721602235,2.6873691793506658,2.73790014202994,2.8003770974515301,2.80522027250904,2.8120309380785402]
[1,"England",1.5707421915097799,1.6294993969781499,1.6902271545000001,1.7406936529999999,1.7841491630511395,1.8208741951929237,1.8531397629999999,1.8747613160675962,1.90325648605894,1.9266311090730699,1.93814081767908,1.92771641144337,1,"North of England",{"$f":"TRANSPOSE(_xlfn.XLOOKUP(P73,#REF!,#REF!))","v":{"$error":"#REF!"}},null,null,null,null,null,null,null,null,{"$f":"_xlfn.XLOOKUP(AA73,popdata!L:L,popdata!M:M)","v":6},"Cumbria and North East",{"$f":"TRANSPOSE(_xlfn.XLOOKUP(AA73,ICSs!$2:$2,ICSs!$5:$10))","v":2.9227638587004448},2.9227638587004448,2.9227638587004448,2.9227638587004448,2.9203522529342401,2.9251754644666499,4,"NHS South Tyneside CCG",{"$f":"TRANSPOSE(_xlfn.XLOOKUP(AI73,CCGs!$3:$3,CCGs!$6:$14))","v":3.5549226487151273},3.6245335127059173,3.7203992813454665,3.7260546290081069,3.7345353409417861,3.72094531072714,3.7454991141113498,3.7411469402942701,3.6799555704215101]
[1,"England",1.5707421915097799,1.6294993969781499,1.6902271545000001,1.7406936529999999,1.7841491630511395,1.8208741951929237,1.8531397629999999,1.8747613160675962,1.90325648605894,1.9266311090730699,1.93814081767908,1.92771641144337,1,"North of England",{"$f":"TRANSPOSE(_xlfn.XLOOKUP(P74,#REF!,#REF!))","v":{"$error":"#REF!"}},null,null,null,null,null,null,null,null,{"$f":"_xlfn.XLOOKUP(AA74,popdata!L:L,popdata!M:M)","v":6},"Cumbria and North East",{"$f":"TRANSPOSE(_xlfn.XLOOKUP(AA74,ICSs!$2:$2,ICSs!$5:$10))","v":2.9227638587004448},2.9227638587004448,2.9227638587004448,2.9227638587004448,2.9203522529342401,2.9251754644666499,5,"NHS Sunderland CCG",{"$f":"TRANSPOSE(_xlfn.XLOOKUP(AI74,CCGs!$3:$3,CCGs!$6:$14))","v":3.1647353034412316},3.2265803046659469,3.2204801083842565,3.3112606982846202,3.3422262267617429,3.3932020224670301,3.4917784585049798,3.4716865232421901,3.5114992455763301]
[1,"England",1.5707421915097799,1.6294993969781499,1.6902271545000001,1.7406936529999999,1.7841491630511395,1.8208741951929237,1.8531397629999999,1.8747613160675962,1.90325648605894,1.9266311090730699,1.93814081767908,1.92771641144337,1,"North of England",{"$f":"TRANSPOSE(_xlfn.XLOOKUP(P75,#REF!,#REF!))","v":{"$error":"#REF!"}},null,null,null,null,null,null,null,null,{"$f":"_xlfn.XLOOKUP(AA75,popdata!L:L,popdata!M:M)","v":6},"Cumbria and North East",{"$f":"TRANSPOSE(_xlfn.XLOOKUP(AA75,ICSs!$2:$2,ICSs!$5:$10))","v":2.9227638587004448},2.9227638587004448,2.9227638587004448,2.9227638587004448,2.9203522529342401,2.9251754644666499,6,"NHS Newcastle Gateshead CCG",{"$f":"TRANSPOSE(_xlfn.XLOOKUP(AI75,CCGs!$3:$3,CCGs!$6:$14))","v":2.419024069679792},2.419024069679792,2.3896647297610532,2.3997489529839466,2.420509827561713,2.42094475054822,2.4300368301574,2.43024673211487,2.4420166646313399]
[1,"England",1.5707421915097799,1.6294993969781499,1.6902271545000001,1.7406936529999999,1.7841491630511395,1.8208741951929237,1.8531397629999999,1.8747613160675962,1.90325648605894,1.9266311090730699,1.93814081767908,1.92771641144337,1,"North of England",{"$f":"TRANSPOSE(_xlfn.XLOOKUP(P76,#REF!,#REF!))","v":{"$error":"#REF!"}},null,null,null,null,null,null,null,null,{"$f":"_xlfn.XLOOKUP(AA76,popdata!L:L,popdata!M:M)","v":6},"Cumbria and North East",{"$f":"TRANSPOSE(_xlfn.XLOOKUP(AA76,ICSs!$2:$2,ICSs!$5:$10))","v":2.9227638587004448},2.9227638587004448,2.9227638587004448,2.9227638587004448,2.9203522529342401,2.9251754644666499,7,"NHS North Cumbria CCG",{"$f":"TRANSPOSE(_xlfn.XLOOKUP(AI76,CCGs!$3:$3,CCGs!$6:$14))","v":2.1606616489711814},2.2246489799606635,2.2708746451758364,2.3980165697355424,2.4171736614409585,2.4278100290261202,2.4740391886823798,2.4881214930712798,2.5141312887674201]
[1,"England",1.5707421915097799,1.6294993969781499,1.6902271545000001,1.7406936529999999,1.7841491630511395,1.8208741951929237,1.8531397629999999,1.8747613160675962,1.90325648605894,1.9266311090730699,1.93814081767908,1.92771641144337,1,"North of England",{"$f":"TRANSPOSE(_xlfn.XLOOKUP(P77,#REF!,#REF!))","v":{"$error":"#REF!"}},null,null,null,null,null,null,null,null,{"$f":"_xlfn.XLOOKUP(AA77,popdata!L:L,popdata!M:M)","v":6},"Cumbria and North East",{"$f":"TRANSPOSE(_xlfn.XLOOKUP(AA77,ICSs!$2:$2,ICSs!$5:$10))","v":2.9227638587004448},2.9227638587004448,2.9227638587004448,2.9227638587004448,2.9203522529342401,2.9251754644666499,8,"NHS County Durham CCG",{"$f":"TRANSPOSE(_xlfn.XLOOKUP(AI77,CCGs!$3:$3,CCGs!$6:$14))","v":3.13652427970043},3.13652427970043,3.13652427970043,3.13652427970043,3.13652427970043,3.13652427970043,3.13652427970043,3.1276614596235701,3.1453870997772899]
[1,"England",1.5707421915097799,1.6294993969781499,1.6902271545000001,1.7406936529999999,1.7841491630511395,1.8208741951929237,1.8531397629999999,1.8747613160675962,1.90325648605894,1.9266311090730699,1.93814081767908,1.92771641144337,1,"North of England",{"$f":"TRANSPOSE(_xlfn.XLOOKUP(P78,#REF!,#REF!))","v":{"$error":"#REF!"}},null,null,null,null,null,null,null,null,{"$f":"_xlfn.XLOOKUP(AA78,popdata!L:L,popdata!M:M)","v":6},"Cumbria and North East",{"$f":"TRANSPOSE(_xlfn.XLOOKUP(AA78,ICSs!$2:$2,ICSs!$5:$10))","v":2.9227638587004448},2.9227638587004448,2.9227638587004448,2.9227638587004448,2.9203522529342401,2.9251754644666499,9,"NHS Tees Valley CCG",{"$f":"TRANSPOSE(_xlfn.XLOOKUP(AI78,CCGs!$3:$3,CCGs!$6:$14))","v":3.0408161757307104},3.0408161757307104,3.0408161757307104,3.0408161757307104,3.0408161757307104,3.0408161757307104,3.0408161757307104,3.0317252927073701,3.0499070587540502]
[1,"England",1.5707421915097799,1.6294993969781499,1.6902271545000001,1.7406936529999999,1.7841491630511395,1.8208741951929237,1.8531397629999999,1.8747613160675962,1.90325648605894,1.9266311090730699,1.93814081767908,1.92771641144337,1,"North of England",{"$f":"TRANSPOSE(_xlfn.XLOOKUP(P79,#REF!,#REF!))","v":{"$error":"#REF!"}},null,null,null,null,null,null,null,null,{"$f":"_xlfn.XLOOKUP(AA79,popdata!L:L,popdata!M:M)","v":7},"Humber, Coast and Vale",{"$f":"TRANSPOSE(_xlfn.XLOOKUP(AA79,ICSs!$2:$2,ICSs!$5:$10))","v":2.3582042260961753},2.3582042260961753,2.3582042260961753,2.3582042260961753,2.3652929532250102,2.35111549896734,2,"NHS East Riding of Yorkshire CCG",{"$f":"TRANSPOSE(_xlfn.XLOOKUP(AI79,CCGs!$3:$3,CCGs!$6:$14))","v":2.0894252751342441},2.1783842874563475,2.2478166481613444,2.329212752114509,2.3604974769689613,2.4438538555659299,2.52826330523063,2.5548776120180499,2.5501136060312102]
[1,"England",1.5707421915097799,1.6294993969781499,1.6902271545000001,1.7406936529999999,1.7841491630511395,1.8208741951929237,1.8531397629999999,1.8747613160675962,1.90325648605894,1.9266311090730699,1.93814081767908,1.92771641144337,1,"North of England",{"$f":"TRANSPOSE(_xlfn.XLOOKUP(P80,#REF!,#REF!))","v":{"$error":"#REF!"}},null,null,null,null,null,null,null,null,{"$f":"_xlfn.XLOOKUP(AA80,popdata!L:L,popdata!M:M)","v":7},"Humber, Coast and Vale",{"$f":"TRANSPOSE(_xlfn.XLOOKUP(AA80,ICSs!$2:$2,ICSs!$5:$10))","v":2.3582042260961753},2.3582042260961753,2.3582042260961753,2.3582042260961753,2.3652929532250102,2.35111549896734,3,"NHS Hull CCG",{"$f":"TRANSPOSE(_xlfn.XLOOKUP(AI80,CCGs!$3:$3,CCGs!$6:$14))","v":2.4367817675277132},2.5471570608233383,2.622652749894109,2.6569683142870884,2.5914406971846957,2.7269953515085201,2.8100446977093299,2.87324055956601,2.85095597662546]
[1,"England",1.5707421915097799,1.6294993969781499,1.6902271545000001,1.7406936529999999,1.7841491630511395,1.8208741951929237,1.8531397629999999,1.8747613160675962,1.90325648605894,1.9266311090730699,1.93814081767908,1.92771641144337,1,"North of England",{"$f":"TRANSPOSE(_xlfn.XLOOKUP(P81,#REF!,#REF!))","v":{"$error":"#REF!"}},null,null,null,null,null,null,null,null,{"$f":"_xlfn.XLOOKUP(AA81,popdata!L:L,popdata!M:M)","v":7},"Humber, Coast and Vale",{"$f":"TRANSPOSE(_xlfn.XLOOKUP(AA81,ICSs!$2:$2,ICSs!$5:$10))","v":2.3582042260961753},2.3582042260961753,2.3582042260961753,2.3582042260961753,2.3652929532250102,2.35111549896734,4,"NHS North East Lincolnshire CCG",{"$f":"TRANSPOSE(_xlfn.XLOOKUP(AI81,CCGs!$3:$3,CCGs!$6:$14))","v":2.1813706546490126},2.2447923790042039,2.2992795867102704,2.4128380970650296,2.4153914238464584,2.54444244927276,2.6576666627468,2.73909688797443,2.7727592679493198]
[1,"England",1.5707421915097799,1.6294993969781499,1.6902271545000001,1.7406936529999999,1.7841491630511395,1.8208741951929237,1.8531397629999999,1.8747613160675962,1.90325648605894,1.9266311090730699,1.93814081767908,1.92771641144337,1,"North of England",{"$f":"TRANSPOSE(_xlfn.XLOOKUP(P82,#REF!,#REF!))","v":{"$error":"#REF!"}},null,null,null,null,null,null,null,null,{"$f":"_xlfn.XLOOKUP(AA82,popdata!L:L,popdata!M:M)","v":7},"Humber, Coast and Vale",{"$f":"TRANSPOSE(_xlfn.XLOOKUP(AA82,ICSs!$2:$2,ICSs!$5:$10))","v":2.3582042260961753},2.3582042260961753,2.3582042260961753,2.3582042260961753,2.3652929532250102,2.35111549896734,5,"NHS North Lincolnshire CCG",{"$f":"TRANSPOSE(_xlfn.XLOOKUP(AI82,CCGs!$3:$3,CCGs!$6:$14))","v":1.9635566709672858},2.0435654746848475,2.114400831664327,2.1709665222070331,2.2505825955716952,2.32526934323301,2.4088635531846498,2.4568144535335601,2.4788815724600402]
[1,"England",1.5707421915097799,1.6294993969781499,1.6902271545000001,1.7406936529999999,1.7841491630511395,1.8208741951929237,1.8531397629999999,1.8747613160675962,1.90325648605894,1.9266311090730699,1.93814081767908,1.92771641144337,1,"North of England",{"$f":"TRANSPOSE(_xlfn.XLOOKUP(P83,#REF!,#REF!))","v":{"$error":"#REF!"}},null,null,null,null,null,null,null,null,{"$f":"_xlfn.XLOOKUP(AA83,popdata!L:L,popdata!M:M)","v":7},"Humber, Coast and Vale",{"$f":"TRANSPOSE(_xlfn.XLOOKUP(AA83,ICSs!$2:$2,ICSs!$5:$10))","v":2.3582042260961753},2.3582042260961753,2.3582042260961753,2.3582042260961753,2.3652929532250102,2.35111549896734,6,"NHS Vale of York CCG",{"$f":"TRANSPOSE(_xlfn.XLOOKUP(AI83,CCGs!$3:$3,CCGs!$6:$14))","v":1.665375794489131},1.6135122281629652,1.6522828904269562,1.6931756918437537,1.6678445618367466,1.72418622107451,1.7641399368547901,1.7320585529714301,1.70352905135205]
[1,"England",1.5707421915097799,1.6294993969781499,1.6902271545000001,1.7406936529999999,1.7841491630511395,1.8208741951929237,1.8531397629999999,1.8747613160675962,1.90325648605894,1.9266311090730699,1.93814081767908,1.92771641144337,1,"North of England",{"$f":"TRANSPOSE(_xlfn.XLOOKUP(P84,#REF!,#REF!))","v":{"$error":"#REF!"}},null,null,null,null,null,null,null,null,{"$f":"_xlfn.XLOOKUP(AA84,popdata!L:L,popdata!M:M)","v":7},"Humber, Coast and Vale",{"$f":"TRANSPOSE(_xlfn.XLOOKUP(AA84,ICSs!$2:$2,ICSs!$5:$10))","v":2.3582042260961753},2.3582042260961753,2.3582042260961753,2.3582042260961753,2.3652929532250102,2.35111549896734,7,"NHS North Yorkshire CCG",{"$f":"TRANSPOSE(_xlfn.XLOOKUP(AI84,CCGs!$3:$3,CCGs!$6:$14))","v":2.201335875602505},2.201335875602505,2.201335875602505,2.201335875602505,2.201335875602505,2.201335875602505,2.201335875602505,2.21599769790584,2.18667405329917]
[1,"England",1.5707421915097799,1.6294993969781499,1.6902271545000001,1.7406936529999999,1.7841491630511395,1.8208741951929237,1.8531397629999999,1.8747613160675962,1.90325648605894,1.9266311090730699,1.93814081767908,1.92771641144337,1,"North of England",{"$f":"TRANSPOSE(_xlfn.XLOOKUP(P85,#REF!,#REF!))","v":{"$error":"#REF!"}},null,null,null,null,null,null,null,null,{"$f":"_xlfn.XLOOKUP(AA85,popdata!L:L,popdata!M:M)","v":8},"West Yorkshire and Harrogate (Health and Care Partnership)",{"$f":"TRANSPOSE(_xlfn.XLOOKUP(AA85,ICSs!$2:$2,ICSs!$5:$10))","v":2.2107023673783699},2.2107023673783699,2.2107023673783699,2.2107023673783699,2.2180124257145799,2.2033923090421599,2,"NHS Calderdale CCG",{"$f":"TRANSPOSE(_xlfn.XLOOKUP(AI85,CCGs!$3:$3,CCGs!$6:$14))","v":1.9057578912476132},2.0150350834071484,2.1077315740493328,2.2000100686959665,2.2540340016841531,2.2582624383007199,2.2860518815167601,2.2962939616473901,2.3081946539959901]
[1,"England",1.5707421915097799,1.6294993969781499,1.6902271545000001,1.7406936529999999,1.7841491630511395,1.8208741951929237,1.8531397629999999,1.8747613160675962,1.90325648605894,1.9266311090730699,1.93814081767908,1.92771641144337,1,"North of England",{"$f":"TRANSPOSE(_xlfn.XLOOKUP(P86,#REF!,#REF!))","v":{"$error":"#REF!"}},null,null,null,null,null,null,null,null,{"$f":"_xlfn.XLOOKUP(AA86,popdata!L:L,popdata!M:M)","v":8},"West Yorkshire and Harrogate (Health and Care Partnership)",{"$f":"TRANSPOSE(_xlfn.XLOOKUP(AA86,ICSs!$2:$2,ICSs!$5:$10))","v":2.2107023673783699},2.2107023673783699,2.2107023673783699,2.2107023673783699,2.2180124257145799,2.2033923090421599,3,"NHS Kirklees CCG",{"$f":"TRANSPOSE(_xlfn.XLOOKUP(AI86,CCGs!$3:$3,CCGs!$6:$14))","v":2.1191590270495801},2.1191590270495801,2.1191590270495801,2.1191590270495801,2.1191590270495801,2.1191590270495801,2.1191590270495801,2.1364352476880999,2.10188280641106]
[1,"England",1.5707421915097799,1.6294993969781499,1.6902271545000001,1.7406936529999999,1.7841491630511395,1.8208741951929237,1.8531397629999999,1.8747613160675962,1.90325648605894,1.9266311090730699,1.93814081767908,1.92771641144337,1,"North of England",{"$f":"TRANSPOSE(_xlfn.XLOOKUP(P87,#REF!,#REF!))","v":{"$error":"#REF!"}},null,null,null,null,null,null,null,null,{"$f":"_xlfn.XLOOKUP(AA87,popdata!L:L,popdata!M:M)","v":8},"West Yorkshire and Harrogate (Health and Care Partnership)",{"$f":"TRANSPOSE(_xlfn.XLOOKUP(AA87,ICSs!$2:$2,ICSs!$5:$10))","v":2.2107023673783699},2.2107023673783699,2.2107023673783699,2.2107023673783699,2.2180124257145799,2.2033923090421599,4,"NHS Wakefield CCG",{"$f":"TRANSPOSE(_xlfn.XLOOKUP(AI87,CCGs!$3:$3,CCGs!$6:$14))","v":2.737284663010592},2.8119390150954668,2.8272280312997715,2.8525344737253566,2.8462592253669841,2.8737510439973302,2.8514434473416901,2.8417869980706101,2.8090164679012202]
[1,"England",1.5707421915097799,1.6294993969781499,1.6902271545000001,1.7406936529999999,1.7841491630511395,1.8208741951929237,1.8531397629999999,1.8747613160675962,1.90325648605894,1.9266311090730699,1.93814081767908,1.92771641144337,1,"North of England",{"$f":"TRANSPOSE(_xlfn.XLOOKUP(P88,#REF!,#REF!))","v":{"$error":"#REF!"}},null,null,null,null,null,null,null,null,{"$f":"_xlfn.XLOOKUP(AA88,popdata!L:L,popdata!M:M)","v":8},"West Yorkshire and Harrogate (Health and Care Partnership)",{"$f":"TRANSPOSE(_xlfn.XLOOKUP(AA88,ICSs!$2:$2,ICSs!$5:$10))","v":2.2107023673783699},2.2107023673783699,2.2107023673783699,2.2107023673783699,2.2180124257145799,2.2033923090421599,5,"NHS Leeds CCG",{"$f":"TRANSPOSE(_xlfn.XLOOKUP(AI88,CCGs!$3:$3,CCGs!$6:$14))","v":2.0002984737551772},2.0002984737551772,2.0002984737551772,2.0002984737551772,2.0002984737551772,1.96042157000453,2.0010839157693998,2.02406504503351,2.0156233642132699]
[1,"England",1.5707421915097799,1.6294993969781499,1.6902271545000001,1.7406936529999999,1.7841491630511395,1.8208741951929237,1.8531397629999999,1.8747613160675962,1.90325648605894,1.9266311090730699,1.93814081767908,1.92771641144337,1,"North of England",{"$f":"TRANSPOSE(_xlfn.XLOOKUP(P89,#REF!,#REF!))","v":{"$error":"#REF!"}},null,null,null,null,null,null,null,null,{"$f":"_xlfn.XLOOKUP(AA89,popdata!L:L,popdata!M:M)","v":8},"West Yorkshire and Harrogate (Health and Care Partnership)",{"$f":"TRANSPOSE(_xlfn.XLOOKUP(AA89,ICSs!$2:$2,ICSs!$5:$10))","v":2.2107023673783699},2.2107023673783699,2.2107023673783699,2.2107023673783699,2.2180124257145799,2.2033923090421599,6,"NHS Bradford District and Craven CCG",{"$f":"TRANSPOSE(_xlfn.XLOOKUP(AI89,CCGs!$3:$3,CCGs!$6:$14))","v":2.1492839100889354},2.1492839100889354,2.1492839100889354,2.1492839100889354,2.1492839100889354,2.1492839100889354,2.1492839100889354,2.1611067193675901,2.1374611008102802]
[1,"England",1.5707421915097799,1.6294993969781499,1.6902271545000001,1.7406936529999999,1.7841491630511395,1.8208741951929237,1.8531397629999999,1.8747613160675962,1.90325648605894,1.9266311090730699,1.93814081767908,1.92771641144337,4,"South of England",{"$f":"TRANSPOSE(_xlfn.XLOOKUP(P90,#REF!,#REF!))","v":{"$error":"#REF!"}},null,null,null,null,null,null,null,null,{"$f":"_xlfn.XLOOKUP(AA90,popdata!L:L,popdata!M:M)","v":2},"Kent and Medway",{"$f":"TRANSPOSE(_xlfn.XLOOKUP(AA90,ICSs!$2:$2,ICSs!$5:$10))","v":1.9265370532686881},1.9732088777364369,2.0015955862877246,2.0518631340397602,2.0542889753106102,2.0509754910235598,1,"NHS Kent and Medway CCG",{"$f":"TRANSPOSE(_xlfn.XLOOKUP(AI90,CCGs!$3:$3,CCGs!$6:$14))","v":2.05391737979068},2.05391737979068,2.05391737979068,2.05391737979068,2.05391737979068,2.05391737979068,2.05391737979068,2.0568592685578002,2.0509754910235598]
[1,"England",1.5707421915097799,1.6294993969781499,1.6902271545000001,1.7406936529999999,1.7841491630511395,1.8208741951929237,1.8531397629999999,1.8747613160675962,1.90325648605894,1.9266311090730699,1.93814081767908,1.92771641144337,4,"South of England",{"$f":"TRANSPOSE(_xlfn.XLOOKUP(P91,#REF!,#REF!))","v":{"$error":"#REF!"}},null,null,null,null,null,null,null,null,{"$f":"_xlfn.XLOOKUP(AA91,popdata!L:L,popdata!M:M)","v":3},"Frimley Health and Care ICS",{"$f":"TRANSPOSE(_xlfn.XLOOKUP(AA91,ICSs!$2:$2,ICSs!$5:$10))","v":1.1741124080410832},1.2146515654306738,1.2629737907086593,1.2878419057766199,1.28834990287536,1.28179296792408,1,"NHS Frimley CCG",{"$f":"TRANSPOSE(_xlfn.XLOOKUP(AI91,CCGs!$3:$3,CCGs!$6:$14))","v":1.2850714353997201},1.2850714353997201,1.2850714353997201,1.2850714353997201,1.2850714353997201,1.2850714353997201,1.2850714353997201,1.28834990287536,1.28179296792408]
[1,"England",1.5707421915097799,1.6294993969781499,1.6902271545000001,1.7406936529999999,1.7841491630511395,1.8208741951929237,1.8531397629999999,1.8747613160675962,1.90325648605894,1.9266311090730699,1.93814081767908,1.92771641144337,4,"South of England",{"$f":"TRANSPOSE(_xlfn.XLOOKUP(P92,#REF!,#REF!))","v":{"$error":"#REF!"}},null,null,null,null,null,null,null,null,{"$f":"_xlfn.XLOOKUP(AA92,popdata!L:L,popdata!M:M)","v":4},"Cornwall and the Isles of Scilly Health and Social Care Partnership",{"$f":"TRANSPOSE(_xlfn.XLOOKUP(AA92,ICSs!$2:$2,ICSs!$5:$10))","v":2.1228332439023951},2.1611375074294599,2.2076680820393904,2.19759486310268,2.34939450356124,2.3794009210366398,1,"NHS Kernow CCG",{"$f":"TRANSPOSE(_xlfn.XLOOKUP(AI92,CCGs!$3:$3,CCGs!$6:$14))","v":1.9217717833333032},2.0009013713721591,2.0755822151836947,2.1228332439023951,2.1611375074294599,2.1185322494480801,2.19759486310268,2.34939450356124,2.3794009210366398]
[1,"England",1.5707421915097799,1.6294993969781499,1.6902271545000001,1.7406936529999999,1.7841491630511395,1.8208741951929237,1.8531397629999999,1.8747613160675962,1.90325648605894,1.9266311090730699,1.93814081767908,1.92771641144337,4,"South of England",{"$f":"TRANSPOSE(_xlfn.XLOOKUP(P93,#REF!,#REF!))","v":{"$error":"#REF!"}},null,null,null,null,null,null,null,null,{"$f":"_xlfn.XLOOKUP(AA93,popdata!L:L,popdata!M:M)","v":5},"Devon",{"$f":"TRANSPOSE(_xlfn.XLOOKUP(AA93,ICSs!$2:$2,ICSs!$5:$10))","v":2.1044823419200482},2.1655532127031631,2.2008150864498002,2.2714986569959099,2.30850023250966,2.32464505697628,1,"NHS Devon CCG",{"$f":"TRANSPOSE(_xlfn.XLOOKUP(AI93,CCGs!$3:$3,CCGs!$6:$14))","v":2.271465668775265},2.271465668775265,2.271465668775265,2.271465668775265,2.271465668775265,2.1888072715185101,2.2714986569959099,2.3009116896103601,2.32464505697628]
[1,"England",1.5707421915097799,1.6294993969781499,1.6902271545000001,1.7406936529999999,1.7841491630511395,1.8208741951929237,1.8531397629999999,1.8747613160675962,1.90325648605894,1.9266311090730699,1.93814081767908,1.92771641144337,4,"South of England",{"$f":"TRANSPOSE(_xlfn.XLOOKUP(P94,#REF!,#REF!))","v":{"$error":"#REF!"}},null,null,null,null,null,null,null,null,{"$f":"_xlfn.XLOOKUP(AA94,popdata!L:L,popdata!M:M)","v":6},"Somerset",{"$f":"TRANSPOSE(_xlfn.XLOOKUP(AA94,ICSs!$2:$2,ICSs!$5:$10))","v":2.126023806137165},2.1862742170359351,2.2533387630652926,2.32997567882266,2.3381587577771699,2.3034472678324698,1,"NHS Somerset CCG",{"$f":"TRANSPOSE(_xlfn.XLOOKUP(AI94,CCGs!$3:$3,CCGs!$6:$14))","v":1.9161923450787579},1.9992531577649839,2.0388954650697024,2.126023806137165,2.1862742170359351,2.2541137307707402,2.32997567882266,2.3381587577771699,2.3034472678324698]
[1,"England",1.5707421915097799,1.6294993969781499,1.6902271545000001,1.7406936529999999,1.7841491630511395,1.8208741951929237,1.8531397629999999,1.8747613160675962,1.90325648605894,1.9266311090730699,1.93814081767908,1.92771641144337,4,"South of England",{"$f":"TRANSPOSE(_xlfn.XLOOKUP(P95,#REF!,#REF!))","v":{"$error":"#REF!"}},null,null,null,null,null,null,null,null,{"$f":"_xlfn.XLOOKUP(AA95,popdata!L:L,popdata!M:M)","v":7},"Bristol, North Somerset and South Gloucestershire",{"$f":"TRANSPOSE(_xlfn.XLOOKUP(AA95,ICSs!$2:$2,ICSs!$5:$10))","v":1.7024124877260227},1.7626791425089179,1.7852678695433062,1.81225563021155,1.8070712571658401,1.81802136580378,1,"NHS Bristol, North Somerset and South Gloucestershire CCG",{"$f":"TRANSPOSE(_xlfn.XLOOKUP(AI95,CCGs!$3:$3,CCGs!$6:$14))","v":1.7985084813970527},1.7985084813970527,1.7985084813970527,1.7985084813970527,1.7985084813970527,1.7584716514277801,1.81225563021155,1.8052852781451001,1.81802136580378]
[1,"England",1.5707421915097799,1.6294993969781499,1.6902271545000001,1.7406936529999999,1.7841491630511395,1.8208741951929237,1.8531397629999999,1.8747613160675962,1.90325648605894,1.9266311090730699,1.93814081767908,1.92771641144337,4,"South of England",{"$f":"TRANSPOSE(_xlfn.XLOOKUP(P96,#REF!,#REF!))","v":{"$error":"#REF!"}},null,null,null,null,null,null,null,null,{"$f":"_xlfn.XLOOKUP(AA96,popdata!L:L,popdata!M:M)","v":8},"Bath and North East Somerset, Swindon and Wiltshire",{"$f":"TRANSPOSE(_xlfn.XLOOKUP(AA96,ICSs!$2:$2,ICSs!$5:$10))","v":1.6396584770866005},1.6642875190853705,1.6786578435555044,1.7194310843264899,1.7386930277316099,1.72453340166306,1,"NHS Bath and North East Somerset, Swindon and Wiltshire CCG",{"$f":"TRANSPOSE(_xlfn.XLOOKUP(AI96,CCGs!$3:$3,CCGs!$6:$14))","v":1.7316132146973349},1.7316132146973349,1.7316132146973349,1.7316132146973349,1.7316132146973349,1.7316132146973349,1.7316132146973349,1.7386930277316099,1.72453340166306]
[1,"England",1.5707421915097799,1.6294993969781499,1.6902271545000001,1.7406936529999999,1.7841491630511395,1.8208741951929237,1.8531397629999999,1.8747613160675962,1.90325648605894,1.9266311090730699,1.93814081767908,1.92771641144337,4,"South of England",{"$f":"TRANSPOSE(_xlfn.XLOOKUP(P97,#REF!,#REF!))","v":{"$error":"#REF!"}},null,null,null,null,null,null,null,null,{"$f":"_xlfn.XLOOKUP(AA97,popdata!L:L,popdata!M:M)","v":9},"Dorset",{"$f":"TRANSPOSE(_xlfn.XLOOKUP(AA97,ICSs!$2:$2,ICSs!$5:$10))","v":1.9225542859892149},2.0156974894329309,2.0990678029640364,2.1577832370229699,2.1926881560980398,2.1824213416407501,1,"NHS Dorset CCG",{"$f":"TRANSPOSE(_xlfn.XLOOKUP(AI97,CCGs!$3:$3,CCGs!$6:$14))","v":1.7587848536915953},1.8150616696767725,1.8624376709382895,1.9225542859892149,2.0156974894329309,2.0826218385828401,2.1577832370229699,2.19347965636396,2.1824213416407501]
[1,"England",1.5707421915097799,1.6294993969781499,1.6902271545000001,1.7406936529999999,1.7841491630511395,1.8208741951929237,1.8531397629999999,1.8747613160675962,1.90325648605894,1.9266311090730699,1.93814081767908,1.92771641144337,4,"South of England",{"$f":"TRANSPOSE(_xlfn.XLOOKUP(P98,#REF!,#REF!))","v":{"$error":"#REF!"}},null,null,null,null,null,null,null,null,{"$f":"_xlfn.XLOOKUP(AA98,popdata!L:L,popdata!M:M)","v":10},"Hampshire and the Isle of Wight",{"$f":"TRANSPOSE(_xlfn.XLOOKUP(AA98,ICSs!$2:$2,ICSs!$5:$10))","v":1.7762978219647132},1.8282706467619103,1.890306106081701,1.90820080131,1.9724887644712801,1.9950289870614899,2,"NHS Hampshire, Southampton and Isle of Wight CCG",{"$f":"TRANSPOSE(_xlfn.XLOOKUP(AI98,CCGs!$3:$3,CCGs!$6:$14))","v":1.952393138980945},1.952393138980945,1.952393138980945,1.952393138980945,1.952393138980945,1.952393138980945,1.952393138980945,1.93366417364552,1.97112210431637]
[1,"England",1.5707421915097799,1.6294993969781499,1.6902271545000001,1.7406936529999999,1.7841491630511395,1.8208741951929237,1.8531397629999999,1.8747613160675962,1.90325648605894,1.9266311090730699,1.93814081767908,1.92771641144337,4,"South of England",{"$f":"TRANSPOSE(_xlfn.XLOOKUP(P99,#REF!,#REF!))","v":{"$error":"#REF!"}},null,null,null,null,null,null,null,null,{"$f":"_xlfn.XLOOKUP(AA99,popdata!L:L,popdata!M:M)","v":10},"Hampshire and the Isle of Wight",{"$f":"TRANSPOSE(_xlfn.XLOOKUP(AA99,ICSs!$2:$2,ICSs!$5:$10))","v":1.7762978219647132},1.8282706467619103,1.890306106081701,1.90820080131,1.9724887644712801,1.9950289870614899,3,"NHS Portsmouth CCG",{"$f":"TRANSPOSE(_xlfn.XLOOKUP(AI99,CCGs!$3:$3,CCGs!$6:$14))","v":1.7952546110205112},1.885472305553523,1.9522925374772484,2.0049848197955393,1.9262146293831188,2.08043828610244,2.0935812321557599,2.0282519842102098,2.1687731437214199]
[1,"England",1.5707421915097799,1.6294993969781499,1.6902271545000001,1.7406936529999999,1.7841491630511395,1.8208741951929237,1.8531397629999999,1.8747613160675962,1.90325648605894,1.9266311090730699,1.93814081767908,1.92771641144337,4,"South of England",{"$f":"TRANSPOSE(_xlfn.XLOOKUP(P100,#REF!,#REF!))","v":{"$error":"#REF!"}},null,null,null,null,null,null,null,null,{"$f":"_xlfn.XLOOKUP(AA100,popdata!L:L,popdata!M:M)","v":11},"Gloucestershire",{"$f":"TRANSPOSE(_xlfn.XLOOKUP(AA100,ICSs!$2:$2,ICSs!$5:$10))","v":1.7381292240719857},1.7841597979782138,1.8179560880627486,1.8280913085945101,1.85691929083209,1.8558149167539599,1,"NHS Gloucestershire CCG",{"$f":"TRANSPOSE(_xlfn.XLOOKUP(AI100,CCGs!$3:$3,CCGs!$6:$14))","v":1.643833408548772},1.6838798739686456,1.7153076342890754,1.7381292240719857,1.7841597979782138,1.8103118946764301,1.8280913085945101,1.8498342567050701,1.8558149167539599]
[1,"England",1.5707421915097799,1.6294993969781499,1.6902271545000001,1.7406936529999999,1.7841491630511395,1.8208741951929237,1.8531397629999999,1.8747613160675962,1.90325648605894,1.9266311090730699,1.93814081767908,1.92771641144337,4,"South of England",{"$f":"TRANSPOSE(_xlfn.XLOOKUP(P101,#REF!,#REF!))","v":{"$error":"#REF!"}},null,null,null,null,null,null,null,null,{"$f":"_xlfn.XLOOKUP(AA101,popdata!L:L,popdata!M:M)","v":12},"Buckinghamshire, Oxfordshire and Berkshire West",{"$f":"TRANSPOSE(_xlfn.XLOOKUP(AA101,ICSs!$2:$2,ICSs!$5:$10))","v":1.2823787199638896},1.2990752289948404,1.2990686084449172,1.34219012188231,1.33466154317085,1.3263360326959399,2,"NHS Oxfordshire CCG",{"$f":"TRANSPOSE(_xlfn.XLOOKUP(AI101,CCGs!$3:$3,CCGs!$6:$14))","v":1.2128072211848338},1.2533170792287673,1.2883310480610344,1.3435093076079203,1.3556364313764704,1.3776972563070999,1.40062185449659,1.3858676722444001,1.38490865195896]
[1,"England",1.5707421915097799,1.6294993969781499,1.6902271545000001,1.7406936529999999,1.7841491630511395,1.8208741951929237,1.8531397629999999,1.8747613160675962,1.90325648605894,1.9266311090730699,1.93814081767908,1.92771641144337,4,"South of England",{"$f":"TRANSPOSE(_xlfn.XLOOKUP(P102,#REF!,#REF!))","v":{"$error":"#REF!"}},null,null,null,null,null,null,null,null,{"$f":"_xlfn.XLOOKUP(AA102,popdata!L:L,popdata!M:M)","v":12},"Buckinghamshire, Oxfordshire and Berkshire West",{"$f":"TRANSPOSE(_xlfn.XLOOKUP(AA102,ICSs!$2:$2,ICSs!$5:$10))","v":1.2823787199638896},1.2990752289948404,1.2990686084449172,1.34219012188231,1.33466154317085,1.3263360326959399,3,"NHS Berkshire West CCG",{"$f":"TRANSPOSE(_xlfn.XLOOKUP(AI102,CCGs!$3:$3,CCGs!$6:$14))","v":1.2310725344134275},1.2310725344134275,1.2310725344134275,1.2310725344134275,1.2310725344134275,1.19484950283188,1.2419800940418899,1.25075800764725,1.23670253313269]
[1,"England",1.5707421915097799,1.6294993969781499,1.6902271545000001,1.7406936529999999,1.7841491630511395,1.8208741951929237,1.8531397629999999,1.8747613160675962,1.90325648605894,1.9266311090730699,1.93814081767908,1.92771641144337,4,"South of England",{"$f":"TRANSPOSE(_xlfn.XLOOKUP(P103,#REF!,#REF!))","v":{"$error":"#REF!"}},null,null,null,null,null,null,null,null,{"$f":"_xlfn.XLOOKUP(AA103,popdata!L:L,popdata!M:M)","v":12},"Buckinghamshire, Oxfordshire and Berkshire West",{"$f":"TRANSPOSE(_xlfn.XLOOKUP(AA103,ICSs!$2:$2,ICSs!$5:$10))","v":1.2823787199638896},1.2990752289948404,1.2990686084449172,1.34219012188231,1.33466154317085,1.3263360326959399,4,"NHS Buckinghamshire CCG",{"$f":"TRANSPOSE(_xlfn.XLOOKUP(AI103,CCGs!$3:$3,CCGs!$6:$14))","v":1.3423867399694103},1.3423867399694103,1.3423867399694103,1.3423867399694103,1.3423867399694103,1.3423867399694103,1.3609740814885201,1.3323272609679899,1.3338588774517199]
[1,"England",1.5707421915097799,1.6294993969781499,1.6902271545000001,1.7406936529999999,1.7841491630511395,1.8208741951929237,1.8531397629999999,1.8747613160675962,1.90325648605894,1.9266311090730699,1.93814081767908,1.92771641144337,4,"South of England",{"$f":"TRANSPOSE(_xlfn.XLOOKUP(P104,#REF!,#REF!))","v":{"$error":"#REF!"}},null,null,null,null,null,null,null,null,{"$f":"_xlfn.XLOOKUP(AA104,popdata!L:L,popdata!M:M)","v":13},"Surrey Heartlands Health and Care Partnership",{"$f":"TRANSPOSE(_xlfn.XLOOKUP(AA104,ICSs!$2:$2,ICSs!$5:$10))","v":1.291023722976945},1.291023722976945,1.291023722976945,1.291023722976945,1.29514616947359,1.2869012764803001,1,"NHS Surrey Heartlands CCG",{"$f":"TRANSPOSE(_xlfn.XLOOKUP(AI104,CCGs!$3:$3,CCGs!$6:$14))","v":1.291023722976945},1.291023722976945,1.291023722976945,1.291023722976945,1.291023722976945,1.291023722976945,1.291023722976945,1.29514616947359,1.2869012764803001]
[1,"England",1.5707421915097799,1.6294993969781499,1.6902271545000001,1.7406936529999999,1.7841491630511395,1.8208741951929237,1.8531397629999999,1.8747613160675962,1.90325648605894,1.9266311090730699,1.93814081767908,1.92771641144337,4,"South of England",{"$f":"TRANSPOSE(_xlfn.XLOOKUP(P105,#REF!,#REF!))","v":{"$error":"#REF!"}},null,null,null,null,null,null,null,null,{"$f":"_xlfn.XLOOKUP(AA105,popdata!L:L,popdata!M:M)","v":14},"Sussex and East Surrey Health and Care Partnership",{"$f":"TRANSPOSE(_xlfn.XLOOKUP(AA105,ICSs!$2:$2,ICSs!$5:$10))","v":1.9334129568259599},1.9334129568259599,1.9334129568259599,1.9334129568259599,1.9346135126566699,1.9322124009952499,2,"NHS Brighton and Hove CCG",{"$f":"TRANSPOSE(_xlfn.XLOOKUP(AI105,CCGs!$3:$3,CCGs!$6:$14))","v":1.2435815948592861},1.2587403370260777,1.2822611804923412,1.3400256486668385,1.3978714830253745,1.4373495897745301,1.42182397760846,1.4809772610199401,1.4982000641073101]
[1,"England",1.5707421915097799,1.6294993969781499,1.6902271545000001,1.7406936529999999,1.7841491630511395,1.8208741951929237,1.8531397629999999,1.8747613160675962,1.90325648605894,1.9266311090730699,1.93814081767908,1.92771641144337,4,"South of England",{"$f":"TRANSPOSE(_xlfn.XLOOKUP(P106,#REF!,#REF!))","v":{"$error":"#REF!"}},null,null,null,null,null,null,null,null,{"$f":"_xlfn.XLOOKUP(AA106,popdata!L:L,popdata!M:M)","v":14},"Sussex and East Surrey Health and Care Partnership",{"$f":"TRANSPOSE(_xlfn.XLOOKUP(AA106,ICSs!$2:$2,ICSs!$5:$10))","v":1.9334129568259599},1.9334129568259599,1.9334129568259599,1.9334129568259599,1.9346135126566699,1.9322124009952499,3,"NHS East Sussex CCG",{"$f":"TRANSPOSE(_xlfn.XLOOKUP(AI106,CCGs!$3:$3,CCGs!$6:$14))","v":2.358358167120775},2.358358167120775,2.358358167120775,2.358358167120775,2.358358167120775,2.358358167120775,2.358358167120775,2.3547886884915998,2.3619276457499501]
[1,"England",1.5707421915097799,1.6294993969781499,1.6902271545000001,1.7406936529999999,1.7841491630511395,1.8208741951929237,1.8531397629999999,1.8747613160675962,1.90325648605894,1.9266311090730699,1.93814081767908,1.92771641144337,4,"South of England",{"$f":"TRANSPOSE(_xlfn.XLOOKUP(P107,#REF!,#REF!))","v":{"$error":"#REF!"}},null,null,null,null,null,null,null,null,{"$f":"_xlfn.XLOOKUP(AA107,popdata!L:L,popdata!M:M)","v":14},"Sussex and East Surrey Health and Care Partnership",{"$f":"TRANSPOSE(_xlfn.XLOOKUP(AA107,ICSs!$2:$2,ICSs!$5:$10))","v":1.9334129568259599},1.9334129568259599,1.9334129568259599,1.9334129568259599,1.9346135126566699,1.9322124009952499,4,"NHS West Sussex CCG",{"$f":"TRANSPOSE(_xlfn.XLOOKUP(AI107,CCGs!$3:$3,CCGs!$6:$14))","v":1.83135146151573},1.83135146151573,1.83135146151573,1.83135146151573,1.83135146151573,1.83135146151573,1.83135146151573,1.8413258640620001,1.82137705896946]

{"sheet":"listdata","index":35,"n_rows":107,"n_cols":44,"rows_kept":107,"cut":false,"hidden":true,"merged":[]}
[null,"Country",2009,2010,2011,2012,2013,2014,2015,2016,2017,2018,2019,2020,null,"Region",2012,2013,2014,2015,2016,2017,2018,2019,2020,null,"ICSName",2015,2016,2017,2018,2019,2020,null,"CCG Name",2012,2013,2014,2015,2016,2017,2018,2019,2020]
[1,"England",1.5707421915097799,1.6294993969781499,1.6902271545000001,1.7406936529999999,1.7841491630511395,1.8208741951929237,1.8531397629999999,1.8747613160675962,1.90325648605894,1.9266311090730699,1.93814081767908,1.92771641144337,3,"London",{"$f":"TRANSPOSE(_xlfn.XLOOKUP(P2,#REF!,#REF!))","v":{"$error":"#REF!"}},null,null,null,null,null,null,null,null,{"$f":"_xlfn.XLOOKUP(AA2,popdata!L:L,popdata!M:M)","v":2},"North West London Health and Care Partnership",{"$f":"TRANSPOSE(_xlfn.XLOOKUP(AA2,ICSs!$2:$2,ICSs!$20:$25))","v":23034},23781,24496,25235,25468,25171,2,"NHS North West London CCG",{"$f":"TRANSPOSE(_xlfn.XLOOKUP(AI2,CCGs!$3:$3,CCGs!$28:$36))","v":25190.5},25190.5,25190.5,25190.5,25190.5,25190.5,25190.5,25210,25171]
[1,"England",1.5707421915097799,1.6294993969781499,1.6902271545000001,1.7406936529999999,1.7841491630511395,1.8208741951929237,1.8531397629999999,1.8747613160675962,1.90325648605894,1.9266311090730699,1.93814081767908,1.92771641144337,3,"London",{"$f":"TRANSPOSE(_xlfn.XLOOKUP(P3,#REF!,#REF!))","v":{"$error":"#REF!"}},null,null,null,null,null,null,null,null,{"$f":"_xlfn.XLOOKUP(AA3,popdata!L:L,popdata!M:M)","v":3},"North London Partners in Health and Care",{"$f":"TRANSPOSE(_xlfn.XLOOKUP(AA3,ICSs!$2:$2,ICSs!$20:$25))","v":17069},18049,18273,19260,20569,19283,3,"NHS North Central London CCG",{"$f":"TRANSPOSE(_xlfn.XLOOKUP(AI3,CCGs!$3:$3,CCGs!$28:$36))","v":19342},19342,19342,19342,19342,19342,19342,19401,19283]
[1,"England",1.5707421915097799,1.6294993969781499,1.6902271545000001,1.7406936529999999,1.7841491630511395,1.8208741951929237,1.8531397629999999,1.8747613160675962,1.90325648605894,1.9266311090730699,1.93814081767908,1.92771641144337,3,"London",{"$f":"TRANSPOSE(_xlfn.XLOOKUP(P4,#REF!,#REF!))","v":{"$error":"#REF!"}},null,null,null,null,null,null,null,null,{"$f":"_xlfn.XLOOKUP(AA4,popdata!L:L,popdata!M:M)","v":4},"East London Health and Care Partnership",{"$f":"TRANSPOSE(_xlfn.XLOOKUP(AA4,ICSs!$2:$2,ICSs!$20:$25))","v":23663},24609,24661,25212,25519,25092,4,"NHS North East London CCG",{"$f":"TRANSPOSE(_xlfn.XLOOKUP(AI4,CCGs!$3:$3,CCGs!$28:$36))","v":25233},25233,25233,25233,25233,25233,25233,25374,25092]
[1,"England",1.5707421915097799,1.6294993969781499,1.6902271545000001,1.7406936529999999,1.7841491630511395,1.8208741951929237,1.8531397629999999,1.8747613160675962,1.90325648605894,1.9266311090730699,1.93814081767908,1.92771641144337,3,"London",{"$f":"TRANSPOSE(_xlfn.XLOOKUP(P5,#REF!,#REF!))","v":{"$error":"#REF!"}},null,null,null,null,null,null,null,null,{"$f":"_xlfn.XLOOKUP(AA5,popdata!L:L,popdata!M:M)","v":5},"Our Healthier South East London",{"$f":"TRANSPOSE(_xlfn.XLOOKUP(AA5,ICSs!$2:$2,ICSs!$20:$25))","v":23956},25564,26135,26488,26584,26519,5,"NHS South East London CCG",{"$f":"TRANSPOSE(_xlfn.XLOOKUP(AI5,CCGs!$3:$3,CCGs!$28:$36))","v":26361},26361,26361,26361,26361,26361,26361,26203,26519]
[1,"England",1.5707421915097799,1.6294993969781499,1.6902271545000001,1.7406936529999999,1.7841491630511395,1.8208741951929237,1.8531397629999999,1.8747613160675962,1.90325648605894,1.9266311090730699,1.93814081767908,1.92771641144337,3,"London",{"$f":"TRANSPOSE(_xlfn.XLOOKUP(P6,#REF!,#REF!))","v":{"$error":"#REF!"}},null,null,null,null,null,null,null,null,{"$f":"_xlfn.XLOOKUP(AA6,popdata!L:L,popdata!M:M)","v":6},"South West London Health and Care Partnership",{"$f":"TRANSPOSE(_xlfn.XLOOKUP(AA6,ICSs!$2:$2,ICSs!$20:$25))","v":17045},17952,18388,18906,19039,18849,6,"NHS South West London CCG",{"$f":"TRANSPOSE(_xlfn.XLOOKUP(AI6,CCGs!$3:$3,CCGs!$28:$36))","v":18879},18879,18879,18879,18879,18879,18879,18909,18849]
[1,"England",1.5707421915097799,1.6294993969781499,1.6902271545000001,1.7406936529999999,1.7841491630511395,1.8208741951929237,1.8531397629999999,1.8747613160675962,1.90325648605894,1.9266311090730699,1.93814081767908,1.92771641144337,2,"Midlands and East of England",{"$f":"TRANSPOSE(_xlfn.XLOOKUP(P7,#REF!,#REF!))","v":{"$error":"#REF!"}},null,null,null,null,null,null,null,null,{"$f":"_xlfn.XLOOKUP(AA7,popdata!L:L,popdata!M:M)","v":2},"Staffordshire and Stoke on Trent",{"$f":"TRANSPOSE(_xlfn.XLOOKUP(AA7,ICSs!$2:$2,ICSs!$20:$25))","v":26711.333333333332},26711.333333333332,26711.333333333332,26431,26885,26818,2,"NHS Cannock Chase CCG",{"$f":"TRANSPOSE(_xlfn.XLOOKUP(AI7,CCGs!$3:$3,CCGs!$28:$36))","v":2866},2935,2964,2960,3160,3321,3492,3502,3620]
[1,"England",1.5707421915097799,1.6294993969781499,1.6902271545000001,1.7406936529999999,1.7841491630511395,1.8208741951929237,1.8531397629999999,1.8747613160675962,1.90325648605894,1.9266311090730699,1.93814081767908,1.92771641144337,2,"Midlands and East of England",{"$f":"TRANSPOSE(_xlfn.XLOOKUP(P8,#REF!,#REF!))","v":{"$error":"#REF!"}},null,null,null,null,null,null,null,null,{"$f":"_xlfn.XLOOKUP(AA8,popdata!L:L,popdata!M:M)","v":2},"Staffordshire and Stoke on Trent",{"$f":"TRANSPOSE(_xlfn.XLOOKUP(AA8,ICSs!$2:$2,ICSs!$20:$25))","v":26711.333333333332},26711.333333333332,26711.333333333332,26431,26885,26818,3,"NHS East Staffordshire CCG",{"$f":"TRANSPOSE(_xlfn.XLOOKUP(AI8,CCGs!$3:$3,CCGs!$28:$36))","v":2201},2318,2291,2340,2470,2629,2661,2664,2631]
[1,"England",1.5707421915097799,1.6294993969781499,1.6902271545000001,1.7406936529999999,1.7841491630511395,1.8208741951929237,1.8531397629999999,1.8747613160675962,1.90325648605894,1.9266311090730699,1.93814081767908,1.92771641144337,2,"Midlands and East of England",{"$f":"TRANSPOSE(_xlfn.XLOOKUP(P9,#REF!,#REF!))","v":{"$error":"#REF!"}},null,null,null,null,null,null,null,null,{"$f":"_xlfn.XLOOKUP(AA9,popdata!L:L,popdata!M:M)","v":2},"Staffordshire and Stoke on Trent",{"$f":"TRANSPOSE(_xlfn.XLOOKUP(AA9,ICSs!$2:$2,ICSs!$20:$25))","v":26711.333333333332},26711.333333333332,26711.333333333332,26431,26885,26818,4,"NHS North Staffordshire CCG",{"$f":"TRANSPOSE(_xlfn.XLOOKUP(AI9,CCGs!$3:$3,CCGs!$28:$36))","v":4393},4314,4702,4878,5102,5173,5587,5696,5638]
[1,"England",1.5707421915097799,1.6294993969781499,1.6902271545000001,1.7406936529999999,1.7841491630511395,1.8208741951929237,1.8531397629999999,1.8747613160675962,1.90325648605894,1.9266311090730699,1.93814081767908,1.92771641144337,2,"Midlands and East of England",{"$f":"TRANSPOSE(_xlfn.XLOOKUP(P10,#REF!,#REF!))","v":{"$error":"#REF!"}},null,null,null,null,null,null,null,null,{"$f":"_xlfn.XLOOKUP(AA10,popdata!L:L,popdata!M:M)","v":2},"Staffordshire and Stoke on Trent",{"$f":"TRANSPOSE(_xlfn.XLOOKUP(AA10,ICSs!$2:$2,ICSs!$20:$25))","v":26711.333333333332},26711.333333333332,26711.333333333332,26431,26885,26818,5,"NHS South East Staffordshire and Seisdon Peninsula CCG",{"$f":"TRANSPOSE(_xlfn.XLOOKUP(AI10,CCGs!$3:$3,CCGs!$28:$36))","v":3550},3644,3729,3828,3931,4008,4148,4016,4120]
[1,"England",1.5707421915097799,1.6294993969781499,1.6902271545000001,1.7406936529999999,1.7841491630511395,1.8208741951929237,1.8531397629999999,1.8747613160675962,1.90325648605894,1.9266311090730699,1.93814081767908,1.92771641144337,2,"Midlands and East of England",{"$f":"TRANSPOSE(_xlfn.XLOOKUP(P11,#REF!,#REF!))","v":{"$error":"#REF!"}},null,null,null,null,null,null,null,null,{"$f":"_xlfn.XLOOKUP(AA11,popdata!L:L,popdata!M:M)","v":2},"Staffordshire and Stoke on Trent",{"$f":"TRANSPOSE(_xlfn.XLOOKUP(AA11,ICSs!$2:$2,ICSs!$20:$25))","v":26711.333333333332},26711.333333333332,26711.333333333332,26431,26885,26818,6,"NHS Stafford and Surrounds CCG",{"$f":"TRANSPOSE(_xlfn.XLOOKUP(AI11,CCGs!$3:$3,CCGs!$28:$36))","v":1949},2034,2165,2304,2417,2549,2723,2841,2820]
[1,"England",1.5707421915097799,1.6294993969781499,1.6902271545000001,1.7406936529999999,1.7841491630511395,1.8208741951929237,1.8531397629999999,1.8747613160675962,1.90325648605894,1.9266311090730699,1.93814081767908,1.92771641144337,2,"Midlands and East of England",{"$f":"TRANSPOSE(_xlfn.XLOOKUP(P12,#REF!,#REF!))","v":{"$error":"#REF!"}},null,null,null,null,null,null,null,null,{"$f":"_xlfn.XLOOKUP(AA12,popdata!L:L,popdata!M:M)","v":2},"Staffordshire and Stoke on Trent",{"$f":"TRANSPOSE(_xlfn.XLOOKUP(AA12,ICSs!$2:$2,ICSs!$20:$25))","v":26711.333333333332},26711.333333333332,26711.333333333332,26431,26885,26818,7,"NHS Stoke on Trent CCG",{"$f":"TRANSPOSE(_xlfn.XLOOKUP(AI12,CCGs!$3:$3,CCGs!$28:$36))","v":6504},6609,7026,6990,7165,7227,7820,7937,7989]
[1,"England",1.5707421915097799,1.6294993969781499,1.6902271545000001,1.7406936529999999,1.7841491630511395,1.8208741951929237,1.8531397629999999,1.8747613160675962,1.90325648605894,1.9266311090730699,1.93814081767908,1.92771641144337,2,"Midlands and East of England",{"$f":"TRANSPOSE(_xlfn.XLOOKUP(P13,#REF!,#REF!))","v":{"$error":"#REF!"}},null,null,null,null,null,null,null,null,{"$f":"_xlfn.XLOOKUP(AA13,popdata!L:L,popdata!M:M)","v":3},"Shropshire and Telford and Wrekin",{"$f":"TRANSPOSE(_xlfn.XLOOKUP(AA13,ICSs!$2:$2,ICSs!$20:$25))","v":10036.666666666666},10036.666666666666,10036.666666666666,9832,10057,10221,1,"NHS Shropshire, Telford and Wrekin CCG",{"$f":"TRANSPOSE(_xlfn.XLOOKUP(AI13,CCGs!$3:$3,CCGs!$28:$36))","v":10139},10139,10139,10139,10139,10139,10139,10057,10221]
[1,"England",1.5707421915097799,1.6294993969781499,1.6902271545000001,1.7406936529999999,1.7841491630511395,1.8208741951929237,1.8531397629999999,1.8747613160675962,1.90325648605894,1.9266311090730699,1.93814081767908,1.92771641144337,2,"Midlands and East of England",{"$f":"TRANSPOSE(_xlfn.XLOOKUP(P14,#REF!,#REF!))","v":{"$error":"#REF!"}},null,null,null,null,null,null,null,null,{"$f":"_xlfn.XLOOKUP(AA14,popdata!L:L,popdata!M:M)","v":4},"Joined Up Care Derbyshire",{"$f":"TRANSPOSE(_xlfn.XLOOKUP(AA14,ICSs!$2:$2,ICSs!$20:$25))","v":23749.333333333332},23749.333333333332,23749.333333333332,23437,23960,23851,1,"NHS Derby and Derbyshire CCG",{"$f":"TRANSPOSE(_xlfn.XLOOKUP(AI14,CCGs!$3:$3,CCGs!$28:$36))","v":23496.75},23496.75,23496.75,23496.75,23496.75,22857,23437,23842,23851]
[1,"England",1.5707421915097799,1.6294993969781499,1.6902271545000001,1.7406936529999999,1.7841491630511395,1.8208741951929237,1.8531397629999999,1.8747613160675962,1.90325648605894,1.9266311090730699,1.93814081767908,1.92771641144337,2,"Midlands and East of England",{"$f":"TRANSPOSE(_xlfn.XLOOKUP(P15,#REF!,#REF!))","v":{"$error":"#REF!"}},null,null,null,null,null,null,null,null,{"$f":"_xlfn.XLOOKUP(AA15,popdata!L:L,popdata!M:M)","v":5},"Lincolnshire",{"$f":"TRANSPOSE(_xlfn.XLOOKUP(AA15,ICSs!$2:$2,ICSs!$20:$25))","v":18311.666666666668},18311.666666666668,18311.666666666668,17844,18605,18486,1,"NHS Lincolnshire CCG",{"$f":"TRANSPOSE(_xlfn.XLOOKUP(AI15,CCGs!$3:$3,CCGs!$28:$36))","v":18481.5},18481.5,18481.5,18481.5,18481.5,18481.5,18481.5,18477,18486]
[1,"England",1.5707421915097799,1.6294993969781499,1.6902271545000001,1.7406936529999999,1.7841491630511395,1.8208741951929237,1.8531397629999999,1.8747613160675962,1.90325648605894,1.9266311090730699,1.93814081767908,1.92771641144337,2,"Midlands and East of England",{"$f":"TRANSPOSE(_xlfn.XLOOKUP(P16,#REF!,#REF!))","v":{"$error":"#REF!"}},null,null,null,null,null,null,null,null,{"$f":"_xlfn.XLOOKUP(AA16,popdata!L:L,popdata!M:M)","v":6},"Nottingham and Nottinghamshire Health and Care",{"$f":"TRANSPOSE(_xlfn.XLOOKUP(AA16,ICSs!$2:$2,ICSs!$20:$25))","v":21792.333333333332},21792.333333333332,21792.333333333332,20933,22283,22161,1,"NHS Nottingham and Nottinghamshire CCG",{"$f":"TRANSPOSE(_xlfn.XLOOKUP(AI16,CCGs!$3:$3,CCGs!$28:$36))","v":21930.5},21930.5,21930.5,21930.5,21930.5,21930.5,21930.5,21700,22161]
[1,"England",1.5707421915097799,1.6294993969781499,1.6902271545000001,1.7406936529999999,1.7841491630511395,1.8208741951929237,1.8531397629999999,1.8747613160675962,1.90325648605894,1.9266311090730699,1.93814081767908,1.92771641144337,2,"Midlands and East of England",{"$f":"TRANSPOSE(_xlfn.XLOOKUP(P17,#REF!,#REF!))","v":{"$error":"#REF!"}},null,null,null,null,null,null,null,null,{"$f":"_xlfn.XLOOKUP(AA17,popdata!L:L,popdata!M:M)","v":7},"Leicester, Leicestershire and Rutland",{"$f":"TRANSPOSE(_xlfn.XLOOKUP(AA17,ICSs!$2:$2,ICSs!$20:$25))","v":19410},19410,19410,19269,19530,19431,2,"NHS East Leicestershire and Rutland CCG",{"$f":"TRANSPOSE(_xlfn.XLOOKUP(AI17,CCGs!$3:$3,CCGs!$28:$36))","v":4973},5236,5459,5591,5710,5803,5984,6139,6124]
[1,"England",1.5707421915097799,1.6294993969781499,1.6902271545000001,1.7406936529999999,1.7841491630511395,1.8208741951929237,1.8531397629999999,1.8747613160675962,1.90325648605894,1.9266311090730699,1.93814081767908,1.92771641144337,2,"Midlands and East of England",{"$f":"TRANSPOSE(_xlfn.XLOOKUP(P18,#REF!,#REF!))","v":{"$error":"#REF!"}},null,null,null,null,null,null,null,null,{"$f":"_xlfn.XLOOKUP(AA18,popdata!L:L,popdata!M:M)","v":7},"Leicester, Leicestershire and Rutland",{"$f":"TRANSPOSE(_xlfn.XLOOKUP(AA18,ICSs!$2:$2,ICSs!$20:$25))","v":19410},19410,19410,19269,19530,19431,3,"NHS Leicester City CCG",{"$f":"TRANSPOSE(_xlfn.XLOOKUP(AI18,CCGs!$3:$3,CCGs!$28:$36))","v":5145},5341,5473,5528,5581,5687,5744,5833,5800]
[1,"England",1.5707421915097799,1.6294993969781499,1.6902271545000001,1.7406936529999999,1.7841491630511395,1.8208741951929237,1.8531397629999999,1.8747613160675962,1.90325648605894,1.9266311090730699,1.93814081767908,1.92771641144337,2,"Midlands and East of England",{"$f":"TRANSPOSE(_xlfn.XLOOKUP(P19,#REF!,#REF!))","v":{"$error":"#REF!"}},null,null,null,null,null,null,null,null,{"$f":"_xlfn.XLOOKUP(AA19,popdata!L:L,popdata!M:M)","v":7},"Leicester, Leicestershire and Rutland",{"$f":"TRANSPOSE(_xlfn.XLOOKUP(AA19,ICSs!$2:$2,ICSs!$20:$25))","v":19410},19410,19410,19269,19530,19431,4,"NHS West Leicestershire CCG",{"$f":"TRANSPOSE(_xlfn.XLOOKUP(AI19,CCGs!$3:$3,CCGs!$28:$36))","v":6087},6293,6612,6927,7151,7431,7541,7558,7507]
[1,"England",1.5707421915097799,1.6294993969781499,1.6902271545000001,1.7406936529999999,1.7841491630511395,1.8208741951929237,1.8531397629999999,1.8747613160675962,1.90325648605894,1.9266311090730699,1.93814081767908,1.92771641144337,2,"Midlands and East of England",{"$f":"TRANSPOSE(_xlfn.XLOOKUP(P20,#REF!,#REF!))","v":{"$error":"#REF!"}},null,null,null,null,null,null,null,null,{"$f":"_xlfn.XLOOKUP(AA20,popdata!L:L,popdata!M:M)","v":8},"The Black Country and West Birmingham",{"$f":"TRANSPOSE(_xlfn.XLOOKUP(AA20,ICSs!$2:$2,ICSs!$20:$25))","v":28824},28824,27981,29102,29312,28901,1,"NHS Black Country and West Birmingham CCG",{"$f":"TRANSPOSE(_xlfn.XLOOKUP(AI20,CCGs!$3:$3,CCGs!$28:$36))","v":28949},28949,28949,28949,28949,28949,28949,28997,28901]
[1,"England",1.5707421915097799,1.6294993969781499,1.6902271545000001,1.7406936529999999,1.7841491630511395,1.8208741951929237,1.8531397629999999,1.8747613160675962,1.90325648605894,1.9266311090730699,1.93814081767908,1.92771641144337,2,"Midlands and East of England",{"$f":"TRANSPOSE(_xlfn.XLOOKUP(P21,#REF!,#REF!))","v":{"$error":"#REF!"}},null,null,null,null,null,null,null,null,{"$f":"_xlfn.XLOOKUP(AA21,popdata!L:L,popdata!M:M)","v":9},"Birmingham and Solihull",{"$f":"TRANSPOSE(_xlfn.XLOOKUP(AA21,ICSs!$2:$2,ICSs!$20:$25))","v":22147.25},22147.25,21742,22179,22346,22322,1,"NHS Birmingham and Solihull CCG",{"$f":"TRANSPOSE(_xlfn.XLOOKUP(AI21,CCGs!$3:$3,CCGs!$28:$36))","v":21918.5},21918.5,21918.5,21918.5,21918.5,21164,22179,22009,22322]
[1,"England",1.5707421915097799,1.6294993969781499,1.6902271545000001,1.7406936529999999,1.7841491630511395,1.8208741951929237,1.8531397629999999,1.8747613160675962,1.90325648605894,1.9266311090730699,1.93814081767908,1.92771641144337,2,"Midlands and East of England",{"$f":"TRANSPOSE(_xlfn.XLOOKUP(P22,#REF!,#REF!))","v":{"$error":"#REF!"}},null,null,null,null,null,null,null,null,{"$f":"_xlfn.XLOOKUP(AA22,popdata!L:L,popdata!M:M)","v":10},"Coventry and Warwickshire",{"$f":"TRANSPOSE(_xlfn.XLOOKUP(AA22,ICSs!$2:$2,ICSs!$20:$25))","v":16687.75},16687.75,16330,16742,16731,16948,1,"NHS Coventry and Warwickshire CCG",{"$f":"TRANSPOSE(_xlfn.XLOOKUP(AI22,CCGs!$3:$3,CCGs!$28:$36))","v":16799},16799,16799,16799,16799,16799,16799,16650,16948]
[1,"England",1.5707421915097799,1.6294993969781499,1.6902271545000001,1.7406936529999999,1.7841491630511395,1.8208741951929237,1.8531397629999999,1.8747613160675962,1.90325648605894,1.9266311090730699,1.93814081767908,1.92771641144337,2,"Midlands and East of England",{"$f":"TRANSPOSE(_xlfn.XLOOKUP(P23,#REF!,#REF!))","v":{"$error":"#REF!"}},null,null,null,null,null,null,null,null,{"$f":"_xlfn.XLOOKUP(AA23,popdata!L:L,popdata!M:M)","v":11},"Herefordshire and Worcestershire",{"$f":"TRANSPOSE(_xlfn.XLOOKUP(AA23,ICSs!$2:$2,ICSs!$20:$25))","v":15095},15694,16408,17088,17514,17394,1,"NHS Herefordshire CCG",{"$f":"TRANSPOSE(_xlfn.XLOOKUP(AI23,CCGs!$3:$3,CCGs!$28:$36))","v":17267},17267,17267,17267,17267,17267,17267,17140,17394]
[1,"England",1.5707421915097799,1.6294993969781499,1.6902271545000001,1.7406936529999999,1.7841491630511395,1.8208741951929237,1.8531397629999999,1.8747613160675962,1.90325648605894,1.9266311090730699,1.93814081767908,1.92771641144337,2,"Midlands and East of England",{"$f":"TRANSPOSE(_xlfn.XLOOKUP(P24,#REF!,#REF!))","v":{"$error":"#REF!"}},null,null,null,null,null,null,null,null,{"$f":"_xlfn.XLOOKUP(AA24,popdata!L:L,popdata!M:M)","v":12},"Northamptonshire",{"$f":"TRANSPOSE(_xlfn.XLOOKUP(AA24,ICSs!$2:$2,ICSs!$20:$25))","v":13987},14240,14593,15005,15349,15328,1,"NHS Northamptonshire CCG",{"$f":"TRANSPOSE(_xlfn.XLOOKUP(AI24,CCGs!$3:$3,CCGs!$28:$36))","v":15338.5},15338.5,15338.5,15338.5,15338.5,15338.5,15338.5,15349,15328]
[1,"England",1.5707421915097799,1.6294993969781499,1.6902271545000001,1.7406936529999999,1.7841491630511395,1.8208741951929237,1.8531397629999999,1.8747613160675962,1.90325648605894,1.9266311090730699,1.93814081767908,1.92771641144337,2,"Midlands and East of England",{"$f":"TRANSPOSE(_xlfn.XLOOKUP(P25,#REF!,#REF!))","v":{"$error":"#REF!"}},null,null,null,null,null,null,null,null,{"$f":"_xlfn.XLOOKUP(AA25,popdata!L:L,popdata!M:M)","v":13},"Cambridgeshire and Peterborough",{"$f":"TRANSPOSE(_xlfn.XLOOKUP(AA25,ICSs!$2:$2,ICSs!$20:$25))","v":15612},16020,16513,17039,17367,17507,1,"NHS Cambridgeshire and Peterborough CCG",{"$f":"TRANSPOSE(_xlfn.XLOOKUP(AI25,CCGs!$3:$3,CCGs!$28:$36))","v":13977},14420,14999,15612,16020,15214,17039,17224,17507]
[1,"England",1.5707421915097799,1.6294993969781499,1.6902271545000001,1.7406936529999999,1.7841491630511395,1.8208741951929237,1.8531397629999999,1.8747613160675962,1.90325648605894,1.9266311090730699,1.93814081767908,1.92771641144337,2,"Midlands and East of England",{"$f":"TRANSPOSE(_xlfn.XLOOKUP(P26,#REF!,#REF!))","v":{"$error":"#REF!"}},null,null,null,null,null,null,null,null,{"$f":"_xlfn.XLOOKUP(AA26,popdata!L:L,popdata!M:M)","v":14},"Norfolk and Waveney Health and Care Partnership",{"$f":"TRANSPOSE(_xlfn.XLOOKUP(AA26,ICSs!$2:$2,ICSs!$20:$25))","v":22650},23209,22910,24237,24690,24824,1,"NHS Norfolk and Waveney CCG",{"$f":"TRANSPOSE(_xlfn.XLOOKUP(AI26,CCGs!$3:$3,CCGs!$28:$36))","v":24757},24757,24757,24757,24757,24757,24757,24690,24824]
[1,"England",1.5707421915097799,1.6294993969781499,1.6902271545000001,1.7406936529999999,1.7841491630511395,1.8208741951929237,1.8531397629999999,1.8747613160675962,1.90325648605894,1.9266311090730699,1.93814081767908,1.92771641144337,2,"Midlands and East of England",{"$f":"TRANSPOSE(_xlfn.XLOOKUP(P27,#REF!,#REF!))","v":{"$error":"#REF!"}},null,null,null,null,null,null,null,null,{"$f":"_xlfn.XLOOKUP(AA27,popdata!L:L,popdata!M:M)","v":15},"Suffolk and North East Essex",{"$f":"TRANSPOSE(_xlfn.XLOOKUP(AA27,ICSs!$2:$2,ICSs!$20:$25))","v":19643},20187,20652,20745,21507,21497,2,"NHS Ipswich and East Suffolk CCG",{"$f":"TRANSPOSE(_xlfn.XLOOKUP(AI27,CCGs!$3:$3,CCGs!$28:$36))","v":6295},6522,6698,6907,7062,7227,7429,7635,7566]
[1,"England",1.5707421915097799,1.6294993969781499,1.6902271545000001,1.7406936529999999,1.7841491630511395,1.8208741951929237,1.8531397629999999,1.8747613160675962,1.90325648605894,1.9266311090730699,1.93814081767908,1.92771641144337,2,"Midlands and East of England",{"$f":"TRANSPOSE(_xlfn.XLOOKUP(P28,#REF!,#REF!))","v":{"$error":"#REF!"}},null,null,null,null,null,null,null,null,{"$f":"_xlfn.XLOOKUP(AA28,popdata!L:L,popdata!M:M)","v":15},"Suffolk and North East Essex",{"$f":"TRANSPOSE(_xlfn.XLOOKUP(AA28,ICSs!$2:$2,ICSs!$20:$25))","v":19643},20187,20652,20745,21507,21497,3,"NHS North East Essex CCG",{"$f":"TRANSPOSE(_xlfn.XLOOKUP(AI28,CCGs!$3:$3,CCGs!$28:$36))","v":7094},7343,7561,7665,7817,6600,7685,7988,7971]
[1,"England",1.5707421915097799,1.6294993969781499,1.6902271545000001,1.7406936529999999,1.7841491630511395,1.8208741951929237,1.8531397629999999,1.8747613160675962,1.90325648605894,1.9266311090730699,1.93814081767908,1.92771641144337,2,"Midlands and East of England",{"$f":"TRANSPOSE(_xlfn.XLOOKUP(P29,#REF!,#REF!))","v":{"$error":"#REF!"}},null,null,null,null,null,null,null,null,{"$f":"_xlfn.XLOOKUP(AA29,popdata!L:L,popdata!M:M)","v":15},"Suffolk and North East Essex",{"$f":"TRANSPOSE(_xlfn.XLOOKUP(AA29,ICSs!$2:$2,ICSs!$20:$25))","v":19643},20187,20652,20745,21507,21497,4,"NHS West Suffolk CCG",{"$f":"TRANSPOSE(_xlfn.XLOOKUP(AI29,CCGs!$3:$3,CCGs!$28:$36))","v":4539},4674,4870,5071,5308,5451,5631,5860,5960]
[1,"England",1.5707421915097799,1.6294993969781499,1.6902271545000001,1.7406936529999999,1.7841491630511395,1.8208741951929237,1.8531397629999999,1.8747613160675962,1.90325648605894,1.9266311090730699,1.93814081767908,1.92771641144337,2,"Midlands and East of England",{"$f":"TRANSPOSE(_xlfn.XLOOKUP(P30,#REF!,#REF!))","v":{"$error":"#REF!"}},null,null,null,null,null,null,null,null,{"$f":"_xlfn.XLOOKUP(AA30,popdata!L:L,popdata!M:M)","v":16},"Bedfordshire, Luton and Milton Keynes",{"$f":"TRANSPOSE(_xlfn.XLOOKUP(AA30,ICSs!$2:$2,ICSs!$20:$25))","v":14572},15138,15456,15834,16280,16549,1,"NHS Bedfordshire, Luton and Milton Keynes CCG",{"$f":"TRANSPOSE(_xlfn.XLOOKUP(AI30,CCGs!$3:$3,CCGs!$28:$36))","v":16238.5},16238.5,16238.5,16238.5,16238.5,16238.5,16238.5,15928,16549]
[1,"England",1.5707421915097799,1.6294993969781499,1.6902271545000001,1.7406936529999999,1.7841491630511395,1.8208741951929237,1.8531397629999999,1.8747613160675962,1.90325648605894,1.9266311090730699,1.93814081767908,1.92771641144337,2,"Midlands and East of England",{"$f":"TRANSPOSE(_xlfn.XLOOKUP(P31,#REF!,#REF!))","v":{"$error":"#REF!"}},null,null,null,null,null,null,null,null,{"$f":"_xlfn.XLOOKUP(AA31,popdata!L:L,popdata!M:M)","v":17},"Hertfordshire and West Essex",{"$f":"TRANSPOSE(_xlfn.XLOOKUP(AA31,ICSs!$2:$2,ICSs!$20:$25))","v":22424},23348,23865,24441,24625,24317,2,"NHS East and North Hertfordshire CCG",{"$f":"TRANSPOSE(_xlfn.XLOOKUP(AI31,CCGs!$3:$3,CCGs!$28:$36))","v":8494},8680,8852,8890,9298,9199,9584,9546,9563]
[1,"England",1.5707421915097799,1.6294993969781499,1.6902271545000001,1.7406936529999999,1.7841491630511395,1.8208741951929237,1.8531397629999999,1.8747613160675962,1.90325648605894,1.9266311090730699,1.93814081767908,1.92771641144337,2,"Midlands and East of England",{"$f":"TRANSPOSE(_xlfn.XLOOKUP(P32,#REF!,#REF!))","v":{"$error":"#REF!"}},null,null,null,null,null,null,null,null,{"$f":"_xlfn.XLOOKUP(AA32,popdata!L:L,popdata!M:M)","v":17},"Hertfordshire and West Essex",{"$f":"TRANSPOSE(_xlfn.XLOOKUP(AA32,ICSs!$2:$2,ICSs!$20:$25))","v":22424},23348,23865,24441,24625,24317,3,"NHS Herts Valley CCG",{"$f":"TRANSPOSE(_xlfn.XLOOKUP(AI32,CCGs!$3:$3,CCGs!$28:$36))","v":7668},7735,7938,8271,8687,8264,9344,9135,9436]
[1,"England",1.5707421915097799,1.6294993969781499,1.6902271545000001,1.7406936529999999,1.7841491630511395,1.8208741951929237,1.8531397629999999,1.8747613160675962,1.90325648605894,1.9266311090730699,1.93814081767908,1.92771641144337,2,"Midlands and East of England",{"$f":"TRANSPOSE(_xlfn.XLOOKUP(P33,#REF!,#REF!))","v":{"$error":"#REF!"}},null,null,null,null,null,null,null,null,{"$f":"_xlfn.XLOOKUP(AA33,popdata!L:L,popdata!M:M)","v":17},"Hertfordshire and West Essex",{"$f":"TRANSPOSE(_xlfn.XLOOKUP(AA33,ICSs!$2:$2,ICSs!$20:$25))","v":22424},23348,23865,24441,24625,24317,4,"NHS West Essex CCG",{"$f":"TRANSPOSE(_xlfn.XLOOKUP(AI33,CCGs!$3:$3,CCGs!$28:$36))","v":4732},4858,5060,5263,5363,5444,5513,5235,5318]
[1,"England",1.5707421915097799,1.6294993969781499,1.6902271545000001,1.7406936529999999,1.7841491630511395,1.8208741951929237,1.8531397629999999,1.8747613160675962,1.90325648605894,1.9266311090730699,1.93814081767908,1.92771641144337,2,"Midlands and East of England",{"$f":"TRANSPOSE(_xlfn.XLOOKUP(P34,#REF!,#REF!))","v":{"$error":"#REF!"}},null,null,null,null,null,null,null,null,{"$f":"_xlfn.XLOOKUP(AA34,popdata!L:L,popdata!M:M)","v":18},"Mid and South Essex",{"$f":"TRANSPOSE(_xlfn.XLOOKUP(AA34,ICSs!$2:$2,ICSs!$20:$25))","v":22493},22756,23153,23787,23825,23627,2,"NHS Basildon and Brentwood CCG",{"$f":"TRANSPOSE(_xlfn.XLOOKUP(AI34,CCGs!$3:$3,CCGs!$28:$36))","v":4926},5023,5167,5308,5320,5341,5493,5420,5299]
[1,"England",1.5707421915097799,1.6294993969781499,1.6902271545000001,1.7406936529999999,1.7841491630511395,1.8208741951929237,1.8531397629999999,1.8747613160675962,1.90325648605894,1.9266311090730699,1.93814081767908,1.92771641144337,2,"Midlands and East of England",{"$f":"TRANSPOSE(_xlfn.XLOOKUP(P35,#REF!,#REF!))","v":{"$error":"#REF!"}},null,null,null,null,null,null,null,null,{"$f":"_xlfn.XLOOKUP(AA35,popdata!L:L,popdata!M:M)","v":18},"Mid and South Essex",{"$f":"TRANSPOSE(_xlfn.XLOOKUP(AA35,ICSs!$2:$2,ICSs!$20:$25))","v":22493},22756,23153,23787,23825,23627,3,"NHS Castle Point and Rochford CCG",{"$f":"TRANSPOSE(_xlfn.XLOOKUP(AI35,CCGs!$3:$3,CCGs!$28:$36))","v":3644},3742,3903,4009,4088,3923,4383,4327,4336]
[1,"England",1.5707421915097799,1.6294993969781499,1.6902271545000001,1.7406936529999999,1.7841491630511395,1.8208741951929237,1.8531397629999999,1.8747613160675962,1.90325648605894,1.9266311090730699,1.93814081767908,1.92771641144337,2,"Midlands and East of England",{"$f":"TRANSPOSE(_xlfn.XLOOKUP(P36,#REF!,#REF!))","v":{"$error":"#REF!"}},null,null,null,null,null,null,null,null,{"$f":"_xlfn.XLOOKUP(AA36,popdata!L:L,popdata!M:M)","v":18},"Mid and South Essex",{"$f":"TRANSPOSE(_xlfn.XLOOKUP(AA36,ICSs!$2:$2,ICSs!$20:$25))","v":22493},22756,23153,23787,23825,23627,4,"NHS Mid Essex CCG",{"$f":"TRANSPOSE(_xlfn.XLOOKUP(AI36,CCGs!$3:$3,CCGs!$28:$36))","v":5142},5408,5701,5949,6082,6041,6308,6406,6461]
[1,"England",1.5707421915097799,1.6294993969781499,1.6902271545000001,1.7406936529999999,1.7841491630511395,1.8208741951929237,1.8531397629999999,1.8747613160675962,1.90325648605894,1.9266311090730699,1.93814081767908,1.92771641144337,2,"Midlands and East of England",{"$f":"TRANSPOSE(_xlfn.XLOOKUP(P37,#REF!,#REF!))","v":{"$error":"#REF!"}},null,null,null,null,null,null,null,null,{"$f":"_xlfn.XLOOKUP(AA37,popdata!L:L,popdata!M:M)","v":18},"Mid and South Essex",{"$f":"TRANSPOSE(_xlfn.XLOOKUP(AA37,ICSs!$2:$2,ICSs!$20:$25))","v":22493},22756,23153,23787,23825,23627,5,"NHS Southend CCG",{"$f":"TRANSPOSE(_xlfn.XLOOKUP(AI37,CCGs!$3:$3,CCGs!$28:$36))","v":3399},3560,3791,3957,4014,3966,4154,4112,4101]
[1,"England",1.5707421915097799,1.6294993969781499,1.6902271545000001,1.7406936529999999,1.7841491630511395,1.8208741951929237,1.8531397629999999,1.8747613160675962,1.90325648605894,1.9266311090730699,1.93814081767908,1.92771641144337,2,"Midlands and East of England",{"$f":"TRANSPOSE(_xlfn.XLOOKUP(P38,#REF!,#REF!))","v":{"$error":"#REF!"}},null,null,null,null,null,null,null,null,{"$f":"_xlfn.XLOOKUP(AA38,popdata!L:L,popdata!M:M)","v":18},"Mid and South Essex",{"$f":"TRANSPOSE(_xlfn.XLOOKUP(AA38,ICSs!$2:$2,ICSs!$20:$25))","v":22493},22756,23153,23787,23825,23627,6,"NHS Thurrock CCG",{"$f":"TRANSPOSE(_xlfn.XLOOKUP(AI38,CCGs!$3:$3,CCGs!$28:$36))","v":2859},2989,3089,3270,3252,3000,3449,3512,3430]
[1,"England",1.5707421915097799,1.6294993969781499,1.6902271545000001,1.7406936529999999,1.7841491630511395,1.8208741951929237,1.8531397629999999,1.8747613160675962,1.90325648605894,1.9266311090730699,1.93814081767908,1.92771641144337,1,"North of England",{"$f":"TRANSPOSE(_xlfn.XLOOKUP(P39,#REF!,#REF!))","v":{"$error":"#REF!"}},null,null,null,null,null,null,null,null,{"$f":"_xlfn.XLOOKUP(AA39,popdata!L:L,popdata!M:M)","v":2},"Greater Manchester Health and Social Care Partnership",{"$f":"TRANSPOSE(_xlfn.XLOOKUP(AA39,ICSs!$2:$2,ICSs!$20:$25))","v":72904.666666666672},72904.666666666672,72904.666666666672,72222,72985,73507,2,"NHS Bolton CCG",{"$f":"TRANSPOSE(_xlfn.XLOOKUP(AI39,CCGs!$3:$3,CCGs!$28:$36))","v":6455},6644,6714,6820,6916,7080,7190,7277,7240]
[1,"England",1.5707421915097799,1.6294993969781499,1.6902271545000001,1.7406936529999999,1.7841491630511395,1.8208741951929237,1.8531397629999999,1.8747613160675962,1.90325648605894,1.9266311090730699,1.93814081767908,1.92771641144337,1,"North of England",{"$f":"TRANSPOSE(_xlfn.XLOOKUP(P40,#REF!,#REF!))","v":{"$error":"#REF!"}},null,null,null,null,null,null,null,null,{"$f":"_xlfn.XLOOKUP(AA40,popdata!L:L,popdata!M:M)","v":2},"Greater Manchester Health and Social Care Partnership",{"$f":"TRANSPOSE(_xlfn.XLOOKUP(AA40,ICSs!$2:$2,ICSs!$20:$25))","v":72904.666666666672},72904.666666666672,72904.666666666672,72222,72985,73507,3,"NHS Bury CCG",{"$f":"TRANSPOSE(_xlfn.XLOOKUP(AI40,CCGs!$3:$3,CCGs!$28:$36))","v":3721},4046,4235,4256,4273,3710,4475,4468,4489]
[1,"England",1.5707421915097799,1.6294993969781499,1.6902271545000001,1.7406936529999999,1.7841491630511395,1.8208741951929237,1.8531397629999999,1.8747613160675962,1.90325648605894,1.9266311090730699,1.93814081767908,1.92771641144337,1,"North of England",{"$f":"TRANSPOSE(_xlfn.XLOOKUP(P41,#REF!,#REF!))","v":{"$error":"#REF!"}},null,null,null,null,null,null,null,null,{"$f":"_xlfn.XLOOKUP(AA41,popdata!L:L,popdata!M:M)","v":2},"Greater Manchester Health and Social Care Partnership",{"$f":"TRANSPOSE(_xlfn.XLOOKUP(AA41,ICSs!$2:$2,ICSs!$20:$25))","v":72904.666666666672},72904.666666666672,72904.666666666672,72222,72985,73507,4,"NHS Heywood, Middleton and Rochdale CCG",{"$f":"TRANSPOSE(_xlfn.XLOOKUP(AI41,CCGs!$3:$3,CCGs!$28:$36))","v":5098},5154,5276,5394,5616,5756,5969,6061,6108]
[1,"England",1.5707421915097799,1.6294993969781499,1.6902271545000001,1.7406936529999999,1.7841491630511395,1.8208741951929237,1.8531397629999999,1.8747613160675962,1.90325648605894,1.9266311090730699,1.93814081767908,1.92771641144337,1,"North of England",{"$f":"TRANSPOSE(_xlfn.XLOOKUP(P42,#REF!,#REF!))","v":{"$error":"#REF!"}},null,null,null,null,null,null,null,null,{"$f":"_xlfn.XLOOKUP(AA42,popdata!L:L,popdata!M:M)","v":2},"Greater Manchester Health and Social Care Partnership",{"$f":"TRANSPOSE(_xlfn.XLOOKUP(AA42,ICSs!$2:$2,ICSs!$20:$25))","v":72904.666666666672},72904.666666666672,72904.666666666672,72222,72985,73507,5,"NHS Oldham CCG",{"$f":"TRANSPOSE(_xlfn.XLOOKUP(AI42,CCGs!$3:$3,CCGs!$28:$36))","v":5395},5440,5445,5606,5791,5926,6098,5931,6108]
[1,"England",1.5707421915097799,1.6294993969781499,1.6902271545000001,1.7406936529999999,1.7841491630511395,1.8208741951929237,1.8531397629999999,1.8747613160675962,1.90325648605894,1.9266311090730699,1.93814081767908,1.92771641144337,1,"North of England",{"$f":"TRANSPOSE(_xlfn.XLOOKUP(P43,#REF!,#REF!))","v":{"$error":"#REF!"}},null,null,null,null,null,null,null,null,{"$f":"_xlfn.XLOOKUP(AA43,popdata!L:L,popdata!M:M)","v":2},"Greater Manchester Health and Social Care Partnership",{"$f":"TRANSPOSE(_xlfn.XLOOKUP(AA43,ICSs!$2:$2,ICSs!$20:$25))","v":72904.666666666672},72904.666666666672,72904.666666666672,72222,72985,73507,6,"NHS Salford CCG",{"$f":"TRANSPOSE(_xlfn.XLOOKUP(AI43,CCGs!$3:$3,CCGs!$28:$36))","v":6985},7019,6978,6990,6987,6978,7019,6579,7407]
[1,"England",1.5707421915097799,1.6294993969781499,1.6902271545000001,1.7406936529999999,1.7841491630511395,1.8208741951929237,1.8531397629999999,1.8747613160675962,1.90325648605894,1.9266311090730699,1.93814081767908,1.92771641144337,1,"North of England",{"$f":"TRANSPOSE(_xlfn.XLOOKUP(P44,#REF!,#REF!))","v":{"$error":"#REF!"}},null,null,null,null,null,null,null,null,{"$f":"_xlfn.XLOOKUP(AA44,popdata!L:L,popdata!M:M)","v":2},"Greater Manchester Health and Social Care Partnership",{"$f":"TRANSPOSE(_xlfn.XLOOKUP(AA44,ICSs!$2:$2,ICSs!$20:$25))","v":72904.666666666672},72904.666666666672,72904.666666666672,72222,72985,73507,7,"NHS Stockport CCG",{"$f":"TRANSPOSE(_xlfn.XLOOKUP(AI44,CCGs!$3:$3,CCGs!$28:$36))","v":6423},6605,6711,6751,7103,6997,7295,7324,7416]
[1,"England",1.5707421915097799,1.6294993969781499,1.6902271545000001,1.7406936529999999,1.7841491630511395,1.8208741951929237,1.8531397629999999,1.8747613160675962,1.90325648605894,1.9266311090730699,1.93814081767908,1.92771641144337,1,"North of England",{"$f":"TRANSPOSE(_xlfn.XLOOKUP(P45,#REF!,#REF!))","v":{"$error":"#REF!"}},null,null,null,null,null,null,null,null,{"$f":"_xlfn.XLOOKUP(AA45,popdata!L:L,popdata!M:M)","v":2},"Greater Manchester Health and Social Care Partnership",{"$f":"TRANSPOSE(_xlfn.XLOOKUP(AA45,ICSs!$2:$2,ICSs!$20:$25))","v":72904.666666666672},72904.666666666672,72904.666666666672,72222,72985,73507,8,"NHS Tameside and Glossop CCG",{"$f":"TRANSPOSE(_xlfn.XLOOKUP(AI45,CCGs!$3:$3,CCGs!$28:$36))","v":6154},6303,6500,6572,6964,6840,7552,7602,7541]
[1,"England",1.5707421915097799,1.6294993969781499,1.6902271545000001,1.7406936529999999,1.7841491630511395,1.8208741951929237,1.8531397629999999,1.8747613160675962,1.90325648605894,1.9266311090730699,1.93814081767908,1.92771641144337,1,"North of England",{"$f":"TRANSPOSE(_xlfn.XLOOKUP(P46,#REF!,#REF!))","v":{"$error":"#REF!"}},null,null,null,null,null,null,null,null,{"$f":"_xlfn.XLOOKUP(AA46,popdata!L:L,popdata!M:M)","v":2},"Greater Manchester Health and Social Care Partnership",{"$f":"TRANSPOSE(_xlfn.XLOOKUP(AA46,ICSs!$2:$2,ICSs!$20:$25))","v":72904.666666666672},72904.666666666672,72904.666666666672,72222,72985,73507,9,"NHS Trafford CCG",{"$f":"TRANSPOSE(_xlfn.XLOOKUP(AI46,CCGs!$3:$3,CCGs!$28:$36))","v":3860},4317,4468,4523,4693,4738,4822,4778,4911]
[1,"England",1.5707421915097799,1.6294993969781499,1.6902271545000001,1.7406936529999999,1.7841491630511395,1.8208741951929237,1.8531397629999999,1.8747613160675962,1.90325648605894,1.9266311090730699,1.93814081767908,1.92771641144337,1,"North of England",{"$f":"TRANSPOSE(_xlfn.XLOOKUP(P47,#REF!,#REF!))","v":{"$error":"#REF!"}},null,null,null,null,null,null,null,null,{"$f":"_xlfn.XLOOKUP(AA47,popdata!L:L,popdata!M:M)","v":2},"Greater Manchester Health and Social Care Partnership",{"$f":"TRANSPOSE(_xlfn.XLOOKUP(AA47,ICSs!$2:$2,ICSs!$20:$25))","v":72904.666666666672},72904.666666666672,72904.666666666672,72222,72985,73507,10,"NHS Wigan Borough CCG",{"$f":"TRANSPOSE(_xlfn.XLOOKUP(AI47,CCGs!$3:$3,CCGs!$28:$36))","v":7107},7239,7462,7831,8248,8426,8744,8660,8955]
[1,"England",1.5707421915097799,1.6294993969781499,1.6902271545000001,1.7406936529999999,1.7841491630511395,1.8208741951929237,1.8531397629999999,1.8747613160675962,1.90325648605894,1.9266311090730699,1.93814081767908,1.92771641144337,1,"North of England",{"$f":"TRANSPOSE(_xlfn.XLOOKUP(P48,#REF!,#REF!))","v":{"$error":"#REF!"}},null,null,null,null,null,null,null,null,{"$f":"_xlfn.XLOOKUP(AA48,popdata!L:L,popdata!M:M)","v":2},"Greater Manchester Health and Social Care Partnership",{"$f":"TRANSPOSE(_xlfn.XLOOKUP(AA48,ICSs!$2:$2,ICSs!$20:$25))","v":72904.666666666672},72904.666666666672,72904.666666666672,72222,72985,73507,11,"NHS Manchester CCG",{"$f":"TRANSPOSE(_xlfn.XLOOKUP(AI48,CCGs!$3:$3,CCGs!$28:$36))","v":12699},12699,12699,11703,12198,12647,13058,13256,13332]
[1,"England",1.5707421915097799,1.6294993969781499,1.6902271545000001,1.7406936529999999,1.7841491630511395,1.8208741951929237,1.8531397629999999,1.8747613160675962,1.90325648605894,1.9266311090730699,1.93814081767908,1.92771641144337,1,"North of England",{"$f":"TRANSPOSE(_xlfn.XLOOKUP(P49,#REF!,#REF!))","v":{"$error":"#REF!"}},null,null,null,null,null,null,null,null,{"$f":"_xlfn.XLOOKUP(AA49,popdata!L:L,popdata!M:M)","v":3},"Cheshire and Merseyside",{"$f":"TRANSPOSE(_xlfn.XLOOKUP(AA49,ICSs!$2:$2,ICSs!$20:$25))","v":68844.333333333328},68844.333333333328,68844.333333333328,68194,68903,69436,2,"NHS Halton CCG",{"$f":"TRANSPOSE(_xlfn.XLOOKUP(AI49,CCGs!$3:$3,CCGs!$28:$36))","v":3210},3284,3280,3275,3547,3658,3799,3856,3878]
[1,"England",1.5707421915097799,1.6294993969781499,1.6902271545000001,1.7406936529999999,1.7841491630511395,1.8208741951929237,1.8531397629999999,1.8747613160675962,1.90325648605894,1.9266311090730699,1.93814081767908,1.92771641144337,1,"North of England",{"$f":"TRANSPOSE(_xlfn.XLOOKUP(P50,#REF!,#REF!))","v":{"$error":"#REF!"}},null,null,null,null,null,null,null,null,{"$f":"_xlfn.XLOOKUP(AA50,popdata!L:L,popdata!M:M)","v":3},"Cheshire and Merseyside",{"$f":"TRANSPOSE(_xlfn.XLOOKUP(AA50,ICSs!$2:$2,ICSs!$20:$25))","v":68844.333333333328},68844.333333333328,68844.333333333328,68194,68903,69436,3,"NHS Knowsley CCG",{"$f":"TRANSPOSE(_xlfn.XLOOKUP(AI50,CCGs!$3:$3,CCGs!$28:$36))","v":5590},5558,5668,5650,5767,5873,5966,6037,6093]
[1,"England",1.5707421915097799,1.6294993969781499,1.6902271545000001,1.7406936529999999,1.7841491630511395,1.8208741951929237,1.8531397629999999,1.8747613160675962,1.90325648605894,1.9266311090730699,1.93814081767908,1.92771641144337,1,"North of England",{"$f":"TRANSPOSE(_xlfn.XLOOKUP(P51,#REF!,#REF!))","v":{"$error":"#REF!"}},null,null,null,null,null,null,null,null,{"$f":"_xlfn.XLOOKUP(AA51,popdata!L:L,popdata!M:M)","v":3},"Cheshire and Merseyside",{"$f":"TRANSPOSE(_xlfn.XLOOKUP(AA51,ICSs!$2:$2,ICSs!$20:$25))","v":68844.333333333328},68844.333333333328,68844.333333333328,68194,68903,69436,4,"NHS Liverpool CCG",{"$f":"TRANSPOSE(_xlfn.XLOOKUP(AI51,CCGs!$3:$3,CCGs!$28:$36))","v":14059},14226,14551,14967,15771,15493,16721,17177,17004]
[1,"England",1.5707421915097799,1.6294993969781499,1.6902271545000001,1.7406936529999999,1.7841491630511395,1.8208741951929237,1.8531397629999999,1.8747613160675962,1.90325648605894,1.9266311090730699,1.93814081767908,1.92771641144337,1,"North of England",{"$f":"TRANSPOSE(_xlfn.XLOOKUP(P52,#REF!,#REF!))","v":{"$error":"#REF!"}},null,null,null,null,null,null,null,null,{"$f":"_xlfn.XLOOKUP(AA52,popdata!L:L,popdata!M:M)","v":3},"Cheshire and Merseyside",{"$f":"TRANSPOSE(_xlfn.XLOOKUP(AA52,ICSs!$2:$2,ICSs!$20:$25))","v":68844.333333333328},68844.333333333328,68844.333333333328,68194,68903,69436,5,"NHS South Sefton CCG",{"$f":"TRANSPOSE(_xlfn.XLOOKUP(AI52,CCGs!$3:$3,CCGs!$28:$36))","v":4422},4429,4149,4253,4391,4781,4804,4697,4699]
[1,"England",1.5707421915097799,1.6294993969781499,1.6902271545000001,1.7406936529999999,1.7841491630511395,1.8208741951929237,1.8531397629999999,1.8747613160675962,1.90325648605894,1.9266311090730699,1.93814081767908,1.92771641144337,1,"North of England",{"$f":"TRANSPOSE(_xlfn.XLOOKUP(P53,#REF!,#REF!))","v":{"$error":"#REF!"}},null,null,null,null,null,null,null,null,{"$f":"_xlfn.XLOOKUP(AA53,popdata!L:L,popdata!M:M)","v":3},"Cheshire and Merseyside",{"$f":"TRANSPOSE(_xlfn.XLOOKUP(AA53,ICSs!$2:$2,ICSs!$20:$25))","v":68844.333333333328},68844.333333333328,68844.333333333328,68194,68903,69436,6,"NHS Southport and Formby CCG",{"$f":"TRANSPOSE(_xlfn.XLOOKUP(AI53,CCGs!$3:$3,CCGs!$28:$36))","v":2430},2479,2477,2565,2656,2510,2627,2583,2737]
[1,"England",1.5707421915097799,1.6294993969781499,1.6902271545000001,1.7406936529999999,1.7841491630511395,1.8208741951929237,1.8531397629999999,1.8747613160675962,1.90325648605894,1.9266311090730699,1.93814081767908,1.92771641144337,1,"North of England",{"$f":"TRANSPOSE(_xlfn.XLOOKUP(P54,#REF!,#REF!))","v":{"$error":"#REF!"}},null,null,null,null,null,null,null,null,{"$f":"_xlfn.XLOOKUP(AA54,popdata!L:L,popdata!M:M)","v":3},"Cheshire and Merseyside",{"$f":"TRANSPOSE(_xlfn.XLOOKUP(AA54,ICSs!$2:$2,ICSs!$20:$25))","v":68844.333333333328},68844.333333333328,68844.333333333328,68194,68903,69436,7,"NHS St Helens CCG",{"$f":"TRANSPOSE(_xlfn.XLOOKUP(AI54,CCGs!$3:$3,CCGs!$28:$36))","v":5849},5954,5750,5764,5960,5902,6192,5745,5953]
[1,"England",1.5707421915097799,1.6294993969781499,1.6902271545000001,1.7406936529999999,1.7841491630511395,1.8208741951929237,1.8531397629999999,1.8747613160675962,1.90325648605894,1.9266311090730699,1.93814081767908,1.92771641144337,1,"North of England",{"$f":"TRANSPOSE(_xlfn.XLOOKUP(P55,#REF!,#REF!))","v":{"$error":"#REF!"}},null,null,null,null,null,null,null,null,{"$f":"_xlfn.XLOOKUP(AA55,popdata!L:L,popdata!M:M)","v":3},"Cheshire and Merseyside",{"$f":"TRANSPOSE(_xlfn.XLOOKUP(AA55,ICSs!$2:$2,ICSs!$20:$25))","v":68844.333333333328},68844.333333333328,68844.333333333328,68194,68903,69436,8,"NHS Warrington CCG",{"$f":"TRANSPOSE(_xlfn.XLOOKUP(AI55,CCGs!$3:$3,CCGs!$28:$36))","v":3718},3830,3833,3684,3755,3844,4007,4014,4062]
[1,"England",1.5707421915097799,1.6294993969781499,1.6902271545000001,1.7406936529999999,1.7841491630511395,1.8208741951929237,1.8531397629999999,1.8747613160675962,1.90325648605894,1.9266311090730699,1.93814081767908,1.92771641144337,1,"North of England",{"$f":"TRANSPOSE(_xlfn.XLOOKUP(P56,#REF!,#REF!))","v":{"$error":"#REF!"}},null,null,null,null,null,null,null,null,{"$f":"_xlfn.XLOOKUP(AA56,popdata!L:L,popdata!M:M)","v":3},"Cheshire and Merseyside",{"$f":"TRANSPOSE(_xlfn.XLOOKUP(AA56,ICSs!$2:$2,ICSs!$20:$25))","v":68844.333333333328},68844.333333333328,68844.333333333328,68194,68903,69436,9,"NHS Wirral CCG",{"$f":"TRANSPOSE(_xlfn.XLOOKUP(AI56,CCGs!$3:$3,CCGs!$28:$36))","v":7814},7643,8003,8050,8364,8486,8724,8594,9107]
[1,"England",1.5707421915097799,1.6294993969781499,1.6902271545000001,1.7406936529999999,1.7841491630511395,1.8208741951929237,1.8531397629999999,1.8747613160675962,1.90325648605894,1.9266311090730699,1.93814081767908,1.92771641144337,1,"North of England",{"$f":"TRANSPOSE(_xlfn.XLOOKUP(P57,#REF!,#REF!))","v":{"$error":"#REF!"}},null,null,null,null,null,null,null,null,{"$f":"_xlfn.XLOOKUP(AA57,popdata!L:L,popdata!M:M)","v":3},"Cheshire and Merseyside",{"$f":"TRANSPOSE(_xlfn.XLOOKUP(AA57,ICSs!$2:$2,ICSs!$20:$25))","v":68844.333333333328},68844.333333333328,68844.333333333328,68194,68903,69436,10,"NHS Cheshire CCG",{"$f":"TRANSPOSE(_xlfn.XLOOKUP(AI57,CCGs!$3:$3,CCGs!$28:$36))","v":15660.5},15660.5,15660.5,15660.5,15660.5,15660.5,15660.5,15418,15903]
[1,"England",1.5707421915097799,1.6294993969781499,1.6902271545000001,1.7406936529999999,1.7841491630511395,1.8208741951929237,1.8531397629999999,1.8747613160675962,1.90325648605894,1.9266311090730699,1.93814081767908,1.92771641144337,1,"North of England",{"$f":"TRANSPOSE(_xlfn.XLOOKUP(P58,#REF!,#REF!))","v":{"$error":"#REF!"}},null,null,null,null,null,null,null,null,{"$f":"_xlfn.XLOOKUP(AA58,popdata!L:L,popdata!M:M)","v":4},"South Yorkshire and Bassetlaw",{"$f":"TRANSPOSE(_xlfn.XLOOKUP(AA58,ICSs!$2:$2,ICSs!$20:$25))","v":41814.333333333336},41814.333333333336,41814.333333333336,41647,42104,41692,2,"NHS Barnsley CCG",{"$f":"TRANSPOSE(_xlfn.XLOOKUP(AI58,CCGs!$3:$3,CCGs!$28:$36))","v":7705},7899,7941,7742,8254,8475,8699,8626,8555]
[1,"England",1.5707421915097799,1.6294993969781499,1.6902271545000001,1.7406936529999999,1.7841491630511395,1.8208741951929237,1.8531397629999999,1.8747613160675962,1.90325648605894,1.9266311090730699,1.93814081767908,1.92771641144337,1,"North of England",{"$f":"TRANSPOSE(_xlfn.XLOOKUP(P59,#REF!,#REF!))","v":{"$error":"#REF!"}},null,null,null,null,null,null,null,null,{"$f":"_xlfn.XLOOKUP(AA59,popdata!L:L,popdata!M:M)","v":4},"South Yorkshire and Bassetlaw",{"$f":"TRANSPOSE(_xlfn.XLOOKUP(AA59,ICSs!$2:$2,ICSs!$20:$25))","v":41814.333333333336},41814.333333333336,41814.333333333336,41647,42104,41692,3,"NHS Bassetlaw CCG",{"$f":"TRANSPOSE(_xlfn.XLOOKUP(AI59,CCGs!$3:$3,CCGs!$28:$36))","v":2721},2787,2837,2809,2959,2887,3024,3231,3243]
[1,"England",1.5707421915097799,1.6294993969781499,1.6902271545000001,1.7406936529999999,1.7841491630511395,1.8208741951929237,1.8531397629999999,1.8747613160675962,1.90325648605894,1.9266311090730699,1.93814081767908,1.92771641144337,1,"North of England",{"$f":"TRANSPOSE(_xlfn.XLOOKUP(P60,#REF!,#REF!))","v":{"$error":"#REF!"}},null,null,null,null,null,null,null,null,{"$f":"_xlfn.XLOOKUP(AA60,popdata!L:L,popdata!M:M)","v":4},"South Yorkshire and Bassetlaw",{"$f":"TRANSPOSE(_xlfn.XLOOKUP(AA60,ICSs!$2:$2,ICSs!$20:$25))","v":41814.333333333336},41814.333333333336,41814.333333333336,41647,42104,41692,4,"NHS Doncaster CCG",{"$f":"TRANSPOSE(_xlfn.XLOOKUP(AI60,CCGs!$3:$3,CCGs!$28:$36))","v":8005},8130,8237,8444,8622,8510,9197,9341,9205]
[1,"England",1.5707421915097799,1.6294993969781499,1.6902271545000001,1.7406936529999999,1.7841491630511395,1.8208741951929237,1.8531397629999999,1.8747613160675962,1.90325648605894,1.9266311090730699,1.93814081767908,1.92771641144337,1,"North of England",{"$f":"TRANSPOSE(_xlfn.XLOOKUP(P61,#REF!,#REF!))","v":{"$error":"#REF!"}},null,null,null,null,null,null,null,null,{"$f":"_xlfn.XLOOKUP(AA61,popdata!L:L,popdata!M:M)","v":4},"South Yorkshire and Bassetlaw",{"$f":"TRANSPOSE(_xlfn.XLOOKUP(AA61,ICSs!$2:$2,ICSs!$20:$25))","v":41814.333333333336},41814.333333333336,41814.333333333336,41647,42104,41692,5,"NHS Rotherham CCG",{"$f":"TRANSPOSE(_xlfn.XLOOKUP(AI61,CCGs!$3:$3,CCGs!$28:$36))","v":6723},6935,7092,7304,7480,7639,7938,8007,7938]
[1,"England",1.5707421915097799,1.6294993969781499,1.6902271545000001,1.7406936529999999,1.7841491630511395,1.8208741951929237,1.8531397629999999,1.8747613160675962,1.90325648605894,1.9266311090730699,1.93814081767908,1.92771641144337,1,"North of England",{"$f":"TRANSPOSE(_xlfn.XLOOKUP(P62,#REF!,#REF!))","v":{"$error":"#REF!"}},null,null,null,null,null,null,null,null,{"$f":"_xlfn.XLOOKUP(AA62,popdata!L:L,popdata!M:M)","v":4},"South Yorkshire and Bassetlaw",{"$f":"TRANSPOSE(_xlfn.XLOOKUP(AA62,ICSs!$2:$2,ICSs!$20:$25))","v":41814.333333333336},41814.333333333336,41814.333333333336,41647,42104,41692,6,"NHS Sheffield CCG",{"$f":"TRANSPOSE(_xlfn.XLOOKUP(AI62,CCGs!$3:$3,CCGs!$28:$36))","v":11240},11514,11775,11989,12225,12270,12789,12635,12751]
[1,"England",1.5707421915097799,1.6294993969781499,1.6902271545000001,1.7406936529999999,1.7841491630511395,1.8208741951929237,1.8531397629999999,1.8747613160675962,1.90325648605894,1.9266311090730699,1.93814081767908,1.92771641144337,1,"North of England",{"$f":"TRANSPOSE(_xlfn.XLOOKUP(P63,#REF!,#REF!))","v":{"$error":"#REF!"}},null,null,null,null,null,null,null,null,{"$f":"_xlfn.XLOOKUP(AA63,popdata!L:L,popdata!M:M)","v":5},"Healthier Lancashire and South Cumbria",{"$f":"TRANSPOSE(_xlfn.XLOOKUP(AA63,ICSs!$2:$2,ICSs!$20:$25))","v":45357.666666666664},45357.666666666664,45357.666666666664,45082,45405,45586,2,"NHS Blackburn with Darwen CCG",{"$f":"TRANSPOSE(_xlfn.XLOOKUP(AI63,CCGs!$3:$3,CCGs!$28:$36))","v":3640},3679,3889,3860,3936,3906,3890,3865,3895]
[1,"England",1.5707421915097799,1.6294993969781499,1.6902271545000001,1.7406936529999999,1.7841491630511395,1.8208741951929237,1.8531397629999999,1.8747613160675962,1.90325648605894,1.9266311090730699,1.93814081767908,1.92771641144337,1,"North of England",{"$f":"TRANSPOSE(_xlfn.XLOOKUP(P64,#REF!,#REF!))","v":{"$error":"#REF!"}},null,null,null,null,null,null,null,null,{"$f":"_xlfn.XLOOKUP(AA64,popdata!L:L,popdata!M:M)","v":5},"Healthier Lancashire and South Cumbria",{"$f":"TRANSPOSE(_xlfn.XLOOKUP(AA64,ICSs!$2:$2,ICSs!$20:$25))","v":45357.666666666664},45357.666666666664,45357.666666666664,45082,45405,45586,3,"NHS Blackpool CCG",{"$f":"TRANSPOSE(_xlfn.XLOOKUP(AI64,CCGs!$3:$3,CCGs!$28:$36))","v":5366},5784,6241,6323,6438,6415,6504,6577,6679]
[1,"England",1.5707421915097799,1.6294993969781499,1.6902271545000001,1.7406936529999999,1.7841491630511395,1.8208741951929237,1.8531397629999999,1.8747613160675962,1.90325648605894,1.9266311090730699,1.93814081767908,1.92771641144337,1,"North of England",{"$f":"TRANSPOSE(_xlfn.XLOOKUP(P65,#REF!,#REF!))","v":{"$error":"#REF!"}},null,null,null,null,null,null,null,null,{"$f":"_xlfn.XLOOKUP(AA65,popdata!L:L,popdata!M:M)","v":5},"Healthier Lancashire and South Cumbria",{"$f":"TRANSPOSE(_xlfn.XLOOKUP(AA65,ICSs!$2:$2,ICSs!$20:$25))","v":45357.666666666664},45357.666666666664,45357.666666666664,45082,45405,45586,4,"NHS Chorley and South Ribble CCG",{"$f":"TRANSPOSE(_xlfn.XLOOKUP(AI65,CCGs!$3:$3,CCGs!$28:$36))","v":3567},3863,4001,4172,4281,4314,4409,4300,4341]
[1,"England",1.5707421915097799,1.6294993969781499,1.6902271545000001,1.7406936529999999,1.7841491630511395,1.8208741951929237,1.8531397629999999,1.8747613160675962,1.90325648605894,1.9266311090730699,1.93814081767908,1.92771641144337,1,"North of England",{"$f":"TRANSPOSE(_xlfn.XLOOKUP(P66,#REF!,#REF!))","v":{"$error":"#REF!"}},null,null,null,null,null,null,null,null,{"$f":"_xlfn.XLOOKUP(AA66,popdata!L:L,popdata!M:M)","v":5},"Healthier Lancashire and South Cumbria",{"$f":"TRANSPOSE(_xlfn.XLOOKUP(AA66,ICSs!$2:$2,ICSs!$20:$25))","v":45357.666666666664},45357.666666666664,45357.666666666664,45082,45405,45586,5,"NHS East Lancashire CCG",{"$f":"TRANSPOSE(_xlfn.XLOOKUP(AI66,CCGs!$3:$3,CCGs!$28:$36))","v":8777},8994,9125,9273,9694,9910,10038,10094,10058]
[1,"England",1.5707421915097799,1.6294993969781499,1.6902271545000001,1.7406936529999999,1.7841491630511395,1.8208741951929237,1.8531397629999999,1.8747613160675962,1.90325648605894,1.9266311090730699,1.93814081767908,1.92771641144337,1,"North of England",{"$f":"TRANSPOSE(_xlfn.XLOOKUP(P67,#REF!,#REF!))","v":{"$error":"#REF!"}},null,null,null,null,null,null,null,null,{"$f":"_xlfn.XLOOKUP(AA67,popdata!L:L,popdata!M:M)","v":5},"Healthier Lancashire and South Cumbria",{"$f":"TRANSPOSE(_xlfn.XLOOKUP(AA67,ICSs!$2:$2,ICSs!$20:$25))","v":45357.666666666664},45357.666666666664,45357.666666666664,45082,45405,45586,6,"NHS West Lancashire CCG",{"$f":"TRANSPOSE(_xlfn.XLOOKUP(AI67,CCGs!$3:$3,CCGs!$28:$36))","v":2379},2394,2443,2264,2590,2565,2646,2693,2674]
[1,"England",1.5707421915097799,1.6294993969781499,1.6902271545000001,1.7406936529999999,1.7841491630511395,1.8208741951929237,1.8531397629999999,1.8747613160675962,1.90325648605894,1.9266311090730699,1.93814081767908,1.92771641144337,1,"North of England",{"$f":"TRANSPOSE(_xlfn.XLOOKUP(P68,#REF!,#REF!))","v":{"$error":"#REF!"}},null,null,null,null,null,null,null,null,{"$f":"_xlfn.XLOOKUP(AA68,popdata!L:L,popdata!M:M)","v":5},"Healthier Lancashire and South Cumbria",{"$f":"TRANSPOSE(_xlfn.XLOOKUP(AA68,ICSs!$2:$2,ICSs!$20:$25))","v":45357.666666666664},45357.666666666664,45357.666666666664,45082,45405,45586,7,"NHS Fylde and Wyre CCG",{"$f":"TRANSPOSE(_xlfn.XLOOKUP(AI68,CCGs!$3:$3,CCGs!$28:$36))","v":3639},3790,4001,4111,4379,4885,5190,5335,5296]
[1,"England",1.5707421915097799,1.6294993969781499,1.6902271545000001,1.7406936529999999,1.7841491630511395,1.8208741951929237,1.8531397629999999,1.8747613160675962,1.90325648605894,1.9266311090730699,1.93814081767908,1.92771641144337,1,"North of England",{"$f":"TRANSPOSE(_xlfn.XLOOKUP(P69,#REF!,#REF!))","v":{"$error":"#REF!"}},null,null,null,null,null,null,null,null,{"$f":"_xlfn.XLOOKUP(AA69,popdata!L:L,popdata!M:M)","v":5},"Healthier Lancashire and South Cumbria",{"$f":"TRANSPOSE(_xlfn.XLOOKUP(AA69,ICSs!$2:$2,ICSs!$20:$25))","v":45357.666666666664},45357.666666666664,45357.666666666664,45082,45405,45586,8,"NHS Greater Preston CCG",{"$f":"TRANSPOSE(_xlfn.XLOOKUP(AI69,CCGs!$3:$3,CCGs!$28:$36))","v":4116},4161,4287,4162,4474,4315,4421,4423,4554]
[1,"England",1.5707421915097799,1.6294993969781499,1.6902271545000001,1.7406936529999999,1.7841491630511395,1.8208741951929237,1.8531397629999999,1.8747613160675962,1.90325648605894,1.9266311090730699,1.93814081767908,1.92771641144337,1,"North of England",{"$f":"TRANSPOSE(_xlfn.XLOOKUP(P70,#REF!,#REF!))","v":{"$error":"#REF!"}},null,null,null,null,null,null,null,null,{"$f":"_xlfn.XLOOKUP(AA70,popdata!L:L,popdata!M:M)","v":5},"Healthier Lancashire and South Cumbria",{"$f":"TRANSPOSE(_xlfn.XLOOKUP(AA70,ICSs!$2:$2,ICSs!$20:$25))","v":45357.666666666664},45357.666666666664,45357.666666666664,45082,45405,45586,9,"NHS Morecambe Bay CCG",{"$f":"TRANSPOSE(_xlfn.XLOOKUP(AI70,CCGs!$3:$3,CCGs!$28:$36))","v":3490},3604,3611,7245,8007,7879,7984,7755,8089]
[1,"England",1.5707421915097799,1.6294993969781499,1.6902271545000001,1.7406936529999999,1.7841491630511395,1.8208741951929237,1.8531397629999999,1.8747613160675962,1.90325648605894,1.9266311090730699,1.93814081767908,1.92771641144337,1,"North of England",{"$f":"TRANSPOSE(_xlfn.XLOOKUP(P71,#REF!,#REF!))","v":{"$error":"#REF!"}},null,null,null,null,null,null,null,null,{"$f":"_xlfn.XLOOKUP(AA71,popdata!L:L,popdata!M:M)","v":6},"Cumbria and North East",{"$f":"TRANSPOSE(_xlfn.XLOOKUP(AA71,ICSs!$2:$2,ICSs!$20:$25))","v":91304},91304,91304,91304,91159,91449,2,"NHS North Tyneside CCG",{"$f":"TRANSPOSE(_xlfn.XLOOKUP(AI71,CCGs!$3:$3,CCGs!$28:$36))","v":4953},5164,5295,5424,5610,5588,5832,5719,5841]
[1,"England",1.5707421915097799,1.6294993969781499,1.6902271545000001,1.7406936529999999,1.7841491630511395,1.8208741951929237,1.8531397629999999,1.8747613160675962,1.90325648605894,1.9266311090730699,1.93814081767908,1.92771641144337,1,"North of England",{"$f":"TRANSPOSE(_xlfn.XLOOKUP(P72,#REF!,#REF!))","v":{"$error":"#REF!"}},null,null,null,null,null,null,null,null,{"$f":"_xlfn.XLOOKUP(AA72,popdata!L:L,popdata!M:M)","v":6},"Cumbria and North East",{"$f":"TRANSPOSE(_xlfn.XLOOKUP(AA72,ICSs!$2:$2,ICSs!$20:$25))","v":91304},91304,91304,91304,91159,91449,3,"NHS Northumberland CCG",{"$f":"TRANSPOSE(_xlfn.XLOOKUP(AI72,CCGs!$3:$3,CCGs!$28:$36))","v":7873},8056,8201,8431,8692,8771,9149,8297,9311]
[1,"England",1.5707421915097799,1.6294993969781499,1.6902271545000001,1.7406936529999999,1.7841491630511395,1.8208741951929237,1.8531397629999999,1.8747613160675962,1.90325648605894,1.9266311090730699,1.93814081767908,1.92771641144337,1,"North of England",{"$f":"TRANSPOSE(_xlfn.XLOOKUP(P73,#REF!,#REF!))","v":{"$error":"#REF!"}},null,null,null,null,null,null,null,null,{"$f":"_xlfn.XLOOKUP(AA73,popdata!L:L,popdata!M:M)","v":6},"Cumbria and North East",{"$f":"TRANSPOSE(_xlfn.XLOOKUP(AA73,ICSs!$2:$2,ICSs!$20:$25))","v":91304},91304,91304,91304,91159,91449,4,"NHS South Tyneside CCG",{"$f":"TRANSPOSE(_xlfn.XLOOKUP(AI73,CCGs!$3:$3,CCGs!$28:$36))","v":5492},5604,5736,5773,5841,5739,5898,5932,5831]
[1,"England",1.5707421915097799,1.6294993969781499,1.6902271545000001,1.7406936529999999,1.7841491630511395,1.8208741951929237,1.8531397629999999,1.8747613160675962,1.90325648605894,1.9266311090730699,1.93814081767908,1.92771641144337,1,"North of England",{"$f":"TRANSPOSE(_xlfn.XLOOKUP(P74,#REF!,#REF!))","v":{"$error":"#REF!"}},null,null,null,null,null,null,null,null,{"$f":"_xlfn.XLOOKUP(AA74,popdata!L:L,popdata!M:M)","v":6},"Cumbria and North East",{"$f":"TRANSPOSE(_xlfn.XLOOKUP(AA74,ICSs!$2:$2,ICSs!$20:$25))","v":91304},91304,91304,91304,91159,91449,5,"NHS Sunderland CCG",{"$f":"TRANSPOSE(_xlfn.XLOOKUP(AI74,CCGs!$3:$3,CCGs!$28:$36))","v":8985},9146,9128,9061,9496,9382,9917,9721,9984]
[1,"England",1.5707421915097799,1.6294993969781499,1.6902271545000001,1.7406936529999999,1.7841491630511395,1.8208741951929237,1.8531397629999999,1.8747613160675962,1.90325648605894,1.9266311090730699,1.93814081767908,1.92771641144337,1,"North of England",{"$f":"TRANSPOSE(_xlfn.XLOOKUP(P75,#REF!,#REF!))","v":{"$error":"#REF!"}},null,null,null,null,null,null,null,null,{"$f":"_xlfn.XLOOKUP(AA75,popdata!L:L,popdata!M:M)","v":6},"Cumbria and North East",{"$f":"TRANSPOSE(_xlfn.XLOOKUP(AA75,ICSs!$2:$2,ICSs!$20:$25))","v":91304},91304,91304,91304,91159,91449,6,"NHS Newcastle Gateshead CCG",{"$f":"TRANSPOSE(_xlfn.XLOOKUP(AI75,CCGs!$3:$3,CCGs!$28:$36))","v":12627.142857142857},12627.142857142857,12062,12159,12608,12685,12899,12979,12998]
[1,"England",1.5707421915097799,1.6294993969781499,1.6902271545000001,1.7406936529999999,1.7841491630511395,1.8208741951929237,1.8531397629999999,1.8747613160675962,1.90325648605894,1.9266311090730699,1.93814081767908,1.92771641144337,1,"North of England",{"$f":"TRANSPOSE(_xlfn.XLOOKUP(P76,#REF!,#REF!))","v":{"$error":"#REF!"}},null,null,null,null,null,null,null,null,{"$f":"_xlfn.XLOOKUP(AA76,popdata!L:L,popdata!M:M)","v":6},"Cumbria and North East",{"$f":"TRANSPOSE(_xlfn.XLOOKUP(AA76,ICSs!$2:$2,ICSs!$20:$25))","v":91304},91304,91304,91304,91159,91449,7,"NHS North Cumbria CCG",{"$f":"TRANSPOSE(_xlfn.XLOOKUP(AI76,CCGs!$3:$3,CCGs!$28:$36))","v":11325},11571,11784,6993,7811,7762,8048,7525,8224]
[1,"England",1.5707421915097799,1.6294993969781499,1.6902271545000001,1.7406936529999999,1.7841491630511395,1.8208741951929237,1.8531397629999999,1.8747613160675962,1.90325648605894,1.9266311090730699,1.93814081767908,1.92771641144337,1,"North of England",{"$f":"TRANSPOSE(_xlfn.XLOOKUP(P77,#REF!,#REF!))","v":{"$error":"#REF!"}},null,null,null,null,null,null,null,null,{"$f":"_xlfn.XLOOKUP(AA77,popdata!L:L,popdata!M:M)","v":6},"Cumbria and North East",{"$f":"TRANSPOSE(_xlfn.XLOOKUP(AA77,ICSs!$2:$2,ICSs!$20:$25))","v":91304},91304,91304,91304,91159,91449,8,"NHS County Durham CCG",{"$f":"TRANSPOSE(_xlfn.XLOOKUP(AI77,CCGs!$3:$3,CCGs!$28:$36))","v":17433},17433,17433,17433,17433,17433,17433,17297,17569]
[1,"England",1.5707421915097799,1.6294993969781499,1.6902271545000001,1.7406936529999999,1.7841491630511395,1.8208741951929237,1.8531397629999999,1.8747613160675962,1.90325648605894,1.9266311090730699,1.93814081767908,1.92771641144337,1,"North of England",{"$f":"TRANSPOSE(_xlfn.XLOOKUP(P78,#REF!,#REF!))","v":{"$error":"#REF!"}},null,null,null,null,null,null,null,null,{"$f":"_xlfn.XLOOKUP(AA78,popdata!L:L,popdata!M:M)","v":6},"Cumbria and North East",{"$f":"TRANSPOSE(_xlfn.XLOOKUP(AA78,ICSs!$2:$2,ICSs!$20:$25))","v":91304},91304,91304,91304,91159,91449,9,"NHS Tees Valley CCG",{"$f":"TRANSPOSE(_xlfn.XLOOKUP(AI78,CCGs!$3:$3,CCGs!$28:$36))","v":21600.5},21600.5,21600.5,21600.5,21600.5,21600.5,21600.5,21510,21691]
[1,"England",1.5707421915097799,1.6294993969781499,1.6902271545000001,1.7406936529999999,1.7841491630511395,1.8208741951929237,1.8531397629999999,1.8747613160675962,1.90325648605894,1.9266311090730699,1.93814081767908,1.92771641144337,1,"North of England",{"$f":"TRANSPOSE(_xlfn.XLOOKUP(P79,#REF!,#REF!))","v":{"$error":"#REF!"}},null,null,null,null,null,null,null,null,{"$f":"_xlfn.XLOOKUP(AA79,popdata!L:L,popdata!M:M)","v":7},"Humber, Coast and Vale",{"$f":"TRANSPOSE(_xlfn.XLOOKUP(AA79,ICSs!$2:$2,ICSs!$20:$25))","v":41503.5},41503.5,41503.5,41503.5,41570,41437,2,"NHS East Riding of Yorkshire CCG",{"$f":"TRANSPOSE(_xlfn.XLOOKUP(AI79,CCGs!$3:$3,CCGs!$28:$36))","v":6288},6556,6782,6981,7218,7430,7740,7847,7834]
[1,"England",1.5707421915097799,1.6294993969781499,1.6902271545000001,1.7406936529999999,1.7841491630511395,1.8208741951929237,1.8531397629999999,1.8747613160675962,1.90325648605894,1.9266311090730699,1.93814081767908,1.92771641144337,1,"North of England",{"$f":"TRANSPOSE(_xlfn.XLOOKUP(P80,#REF!,#REF!))","v":{"$error":"#REF!"}},null,null,null,null,null,null,null,null,{"$f":"_xlfn.XLOOKUP(AA80,popdata!L:L,popdata!M:M)","v":7},"Humber, Coast and Vale",{"$f":"TRANSPOSE(_xlfn.XLOOKUP(AA80,ICSs!$2:$2,ICSs!$20:$25))","v":41503.5},41503.5,41503.5,41503.5,41570,41437,3,"NHS Hull CCG",{"$f":"TRANSPOSE(_xlfn.XLOOKUP(AI80,CCGs!$3:$3,CCGs!$28:$36))","v":7076},7350,7616,7733,7999,7597,8462,8649,8650]
[1,"England",1.5707421915097799,1.6294993969781499,1.6902271545000001,1.7406936529999999,1.7841491630511395,1.8208741951929237,1.8531397629999999,1.8747613160675962,1.90325648605894,1.9266311090730699,1.93814081767908,1.92771641144337,1,"North of England",{"$f":"TRANSPOSE(_xlfn.XLOOKUP(P81,#REF!,#REF!))","v":{"$error":"#REF!"}},null,null,null,null,null,null,null,null,{"$f":"_xlfn.XLOOKUP(AA81,popdata!L:L,popdata!M:M)","v":7},"Humber, Coast and Vale",{"$f":"TRANSPOSE(_xlfn.XLOOKUP(AA81,ICSs!$2:$2,ICSs!$20:$25))","v":41503.5},41503.5,41503.5,41503.5,41570,41437,4,"NHS North East Lincolnshire CCG",{"$f":"TRANSPOSE(_xlfn.XLOOKUP(AI81,CCGs!$3:$3,CCGs!$28:$36))","v":3669},3775,3881,4025,4148,4251,4520,4473,4727]
[1,"England",1.5707421915097799,1.6294993969781499,1.6902271545000001,1.7406936529999999,1.7841491630511395,1.8208741951929237,1.8531397629999999,1.8747613160675962,1.90325648605894,1.9266311090730699,1.93814081767908,1.92771641144337,1,"North of England",{"$f":"TRANSPOSE(_xlfn.XLOOKUP(P82,#REF!,#REF!))","v":{"$error":"#REF!"}},null,null,null,null,null,null,null,null,{"$f":"_xlfn.XLOOKUP(AA82,popdata!L:L,popdata!M:M)","v":7},"Humber, Coast and Vale",{"$f":"TRANSPOSE(_xlfn.XLOOKUP(AA82,ICSs!$2:$2,ICSs!$20:$25))","v":41503.5},41503.5,41503.5,41503.5,41570,41437,5,"NHS North Lincolnshire CCG",{"$f":"TRANSPOSE(_xlfn.XLOOKUP(AI82,CCGs!$3:$3,CCGs!$28:$36))","v":3333},3474,3600,3732,3892,4159,4344,4463,4525]
[1,"England",1.5707421915097799,1.6294993969781499,1.6902271545000001,1.7406936529999999,1.7841491630511395,1.8208741951929237,1.8531397629999999,1.8747613160675962,1.90325648605894,1.9266311090730699,1.93814081767908,1.92771641144337,1,"North of England",{"$f":"TRANSPOSE(_xlfn.XLOOKUP(P83,#REF!,#REF!))","v":{"$error":"#REF!"}},null,null,null,null,null,null,null,null,{"$f":"_xlfn.XLOOKUP(AA83,popdata!L:L,popdata!M:M)","v":7},"Humber, Coast and Vale",{"$f":"TRANSPOSE(_xlfn.XLOOKUP(AA83,ICSs!$2:$2,ICSs!$20:$25))","v":41503.5},41503.5,41503.5,41503.5,41570,41437,6,"NHS Vale of York CCG",{"$f":"TRANSPOSE(_xlfn.XLOOKUP(AI83,CCGs!$3:$3,CCGs!$28:$36))","v":5526},5598,5801,5873,6065,6156,6381,6270,6228]
[1,"England",1.5707421915097799,1.6294993969781499,1.6902271545000001,1.7406936529999999,1.7841491630511395,1.8208741951929237,1.8531397629999999,1.8747613160675962,1.90325648605894,1.9266311090730699,1.93814081767908,1.92771641144337,1,"North of England",{"$f":"TRANSPOSE(_xlfn.XLOOKUP(P84,#REF!,#REF!))","v":{"$error":"#REF!"}},null,null,null,null,null,null,null,null,{"$f":"_xlfn.XLOOKUP(AA84,popdata!L:L,popdata!M:M)","v":7},"Humber, Coast and Vale",{"$f":"TRANSPOSE(_xlfn.XLOOKUP(AA84,ICSs!$2:$2,ICSs!$20:$25))","v":41503.5},41503.5,41503.5,41503.5,41570,41437,7,"NHS North Yorkshire CCG",{"$f":"TRANSPOSE(_xlfn.XLOOKUP(AI84,CCGs!$3:$3,CCGs!$28:$36))","v":9511},9511,9511,9511,9511,9511,9511,9549,9473]
[1,"England",1.5707421915097799,1.6294993969781499,1.6902271545000001,1.7406936529999999,1.7841491630511395,1.8208741951929237,1.8531397629999999,1.8747613160675962,1.90325648605894,1.9266311090730699,1.93814081767908,1.92771641144337,1,"North of England",{"$f":"TRANSPOSE(_xlfn.XLOOKUP(P85,#REF!,#REF!))","v":{"$error":"#REF!"}},null,null,null,null,null,null,null,null,{"$f":"_xlfn.XLOOKUP(AA85,popdata!L:L,popdata!M:M)","v":8},"West Yorkshire and Harrogate (Health and Care Partnership)",{"$f":"TRANSPOSE(_xlfn.XLOOKUP(AA85,ICSs!$2:$2,ICSs!$20:$25))","v":57378},57378,57378,57378,57499,57257,2,"NHS Calderdale CCG",{"$f":"TRANSPOSE(_xlfn.XLOOKUP(AI85,CCGs!$3:$3,CCGs!$28:$36))","v":4082},4345,4575,4807,4952,4932,5069,5100,5125]
[1,"England",1.5707421915097799,1.6294993969781499,1.6902271545000001,1.7406936529999999,1.7841491630511395,1.8208741951929237,1.8531397629999999,1.8747613160675962,1.90325648605894,1.9266311090730699,1.93814081767908,1.92771641144337,1,"North of England",{"$f":"TRANSPOSE(_xlfn.XLOOKUP(P86,#REF!,#REF!))","v":{"$error":"#REF!"}},null,null,null,null,null,null,null,null,{"$f":"_xlfn.XLOOKUP(AA86,popdata!L:L,popdata!M:M)","v":8},"West Yorkshire and Harrogate (Health and Care Partnership)",{"$f":"TRANSPOSE(_xlfn.XLOOKUP(AA86,ICSs!$2:$2,ICSs!$20:$25))","v":57378},57378,57378,57378,57499,57257,3,"NHS Kirklees CCG",{"$f":"TRANSPOSE(_xlfn.XLOOKUP(AI86,CCGs!$3:$3,CCGs!$28:$36))","v":9445.5},9445.5,9445.5,9445.5,9445.5,9445.5,9445.5,9479,9412]
[1,"England",1.5707421915097799,1.6294993969781499,1.6902271545000001,1.7406936529999999,1.7841491630511395,1.8208741951929237,1.8531397629999999,1.8747613160675962,1.90325648605894,1.9266311090730699,1.93814081767908,1.92771641144337,1,"North of England",{"$f":"TRANSPOSE(_xlfn.XLOOKUP(P87,#REF!,#REF!))","v":{"$error":"#REF!"}},null,null,null,null,null,null,null,null,{"$f":"_xlfn.XLOOKUP(AA87,popdata!L:L,popdata!M:M)","v":8},"West Yorkshire and Harrogate (Health and Care Partnership)",{"$f":"TRANSPOSE(_xlfn.XLOOKUP(AA87,ICSs!$2:$2,ICSs!$20:$25))","v":57378},57378,57378,57378,57499,57257,4,"NHS Wakefield CCG",{"$f":"TRANSPOSE(_xlfn.XLOOKUP(AI87,CCGs!$3:$3,CCGs!$28:$36))","v":9753},10072,10207,10399,10513,10288,10778,10649,10823]
[1,"England",1.5707421915097799,1.6294993969781499,1.6902271545000001,1.7406936529999999,1.7841491630511395,1.8208741951929237,1.8531397629999999,1.8747613160675962,1.90325648605894,1.9266311090730699,1.93814081767908,1.92771641144337,1,"North of England",{"$f":"TRANSPOSE(_xlfn.XLOOKUP(P88,#REF!,#REF!))","v":{"$error":"#REF!"}},null,null,null,null,null,null,null,null,{"$f":"_xlfn.XLOOKUP(AA88,popdata!L:L,popdata!M:M)","v":8},"West Yorkshire and Harrogate (Health and Care Partnership)",{"$f":"TRANSPOSE(_xlfn.XLOOKUP(AA88,ICSs!$2:$2,ICSs!$20:$25))","v":57378},57378,57378,57378,57499,57257,5,"NHS Leeds CCG",{"$f":"TRANSPOSE(_xlfn.XLOOKUP(AI88,CCGs!$3:$3,CCGs!$28:$36))","v":{"$error":"#N/A"}},{"$error":"#N/A"},{"$error":"#N/A"},{"$error":"#N/A"},{"$error":"#N/A"},17167,17797,18021,18098]
[1,"England",1.5707421915097799,1.6294993969781499,1.6902271545000001,1.7406936529999999,1.7841491630511395,1.8208741951929237,1.8531397629999999,1.8747613160675962,1.90325648605894,1.9266311090730699,1.93814081767908,1.92771641144337,1,"North of England",{"$f":"TRANSPOSE(_xlfn.XLOOKUP(P89,#REF!,#REF!))","v":{"$error":"#REF!"}},null,null,null,null,null,null,null,null,{"$f":"_xlfn.XLOOKUP(AA89,popdata!L:L,popdata!M:M)","v":8},"West Yorkshire and Harrogate (Health and Care Partnership)",{"$f":"TRANSPOSE(_xlfn.XLOOKUP(AA89,ICSs!$2:$2,ICSs!$20:$25))","v":57378},57378,57378,57378,57499,57257,6,"NHS Bradford District and Craven CCG",{"$f":"TRANSPOSE(_xlfn.XLOOKUP(AI89,CCGs!$3:$3,CCGs!$28:$36))","v":13734},13734,13734,13734,13734,13734,13734,13669,13799]
[1,"England",1.5707421915097799,1.6294993969781499,1.6902271545000001,1.7406936529999999,1.7841491630511395,1.8208741951929237,1.8531397629999999,1.8747613160675962,1.90325648605894,1.9266311090730699,1.93814081767908,1.92771641144337,4,"South of England",{"$f":"TRANSPOSE(_xlfn.XLOOKUP(P90,#REF!,#REF!))","v":{"$error":"#REF!"}},null,null,null,null,null,null,null,null,{"$f":"_xlfn.XLOOKUP(AA90,popdata!L:L,popdata!M:M)","v":2},"Kent and Medway",{"$f":"TRANSPOSE(_xlfn.XLOOKUP(AA90,ICSs!$2:$2,ICSs!$20:$25))","v":34574},36487,37709,38987,39327,39730,1,"NHS Kent and Medway CCG",{"$f":"TRANSPOSE(_xlfn.XLOOKUP(AI90,CCGs!$3:$3,CCGs!$28:$36))","v":39232.5},39232.5,39232.5,39232.5,39232.5,39232.5,39232.5,38735,39730]
[1,"England",1.5707421915097799,1.6294993969781499,1.6902271545000001,1.7406936529999999,1.7841491630511395,1.8208741951929237,1.8531397629999999,1.8747613160675962,1.90325648605894,1.9266311090730699,1.93814081767908,1.92771641144337,4,"South of England",{"$f":"TRANSPOSE(_xlfn.XLOOKUP(P91,#REF!,#REF!))","v":{"$error":"#REF!"}},null,null,null,null,null,null,null,null,{"$f":"_xlfn.XLOOKUP(AA91,popdata!L:L,popdata!M:M)","v":3},"Frimley Health and Care ICS",{"$f":"TRANSPOSE(_xlfn.XLOOKUP(AA91,ICSs!$2:$2,ICSs!$20:$25))","v":8880},9429,9893,10105,10340,10306,1,"NHS Frimley CCG",{"$f":"TRANSPOSE(_xlfn.XLOOKUP(AI91,CCGs!$3:$3,CCGs!$28:$36))","v":10323},10323,10323,10323,10323,10323,10323,10340,10306]
[1,"England",1.5707421915097799,1.6294993969781499,1.6902271545000001,1.7406936529999999,1.7841491630511395,1.8208741951929237,1.8531397629999999,1.8747613160675962,1.90325648605894,1.9266311090730699,1.93814081767908,1.92771641144337,4,"South of England",{"$f":"TRANSPOSE(_xlfn.XLOOKUP(P92,#REF!,#REF!))","v":{"$error":"#REF!"}},null,null,null,null,null,null,null,null,{"$f":"_xlfn.XLOOKUP(AA92,popdata!L:L,popdata!M:M)","v":4},"Cornwall and the Isles of Scilly Health and Social Care Partnership",{"$f":"TRANSPOSE(_xlfn.XLOOKUP(AA92,ICSs!$2:$2,ICSs!$20:$25))","v":11829},12290,12681,7105,13755,14095,1,"NHS Kernow CCG",{"$f":"TRANSPOSE(_xlfn.XLOOKUP(AI92,CCGs!$3:$3,CCGs!$28:$36))","v":10732},11188,11481,11829,12290,6583,7105,13755,14095]
[1,"England",1.5707421915097799,1.6294993969781499,1.6902271545000001,1.7406936529999999,1.7841491630511395,1.8208741951929237,1.8531397629999999,1.8747613160675962,1.90325648605894,1.9266311090730699,1.93814081767908,1.92771641144337,4,"South of England",{"$f":"TRANSPOSE(_xlfn.XLOOKUP(P93,#REF!,#REF!))","v":{"$error":"#REF!"}},null,null,null,null,null,null,null,null,{"$f":"_xlfn.XLOOKUP(AA93,popdata!L:L,popdata!M:M)","v":5},"Devon",{"$f":"TRANSPOSE(_xlfn.XLOOKUP(AA93,ICSs!$2:$2,ICSs!$20:$25))","v":24172},26107,26947,26808,28793,29215,1,"NHS Devon CCG",{"$f":"TRANSPOSE(_xlfn.XLOOKUP(AI93,CCGs!$3:$3,CCGs!$28:$36))","v":27349.75},27349.75,27349.75,27349.75,27349.75,24890,26808,28486,29215]
[1,"England",1.5707421915097799,1.6294993969781499,1.6902271545000001,1.7406936529999999,1.7841491630511395,1.8208741951929237,1.8531397629999999,1.8747613160675962,1.90325648605894,1.9266311090730699,1.93814081767908,1.92771641144337,4,"South of England",{"$f":"TRANSPOSE(_xlfn.XLOOKUP(P94,#REF!,#REF!))","v":{"$error":"#REF!"}},null,null,null,null,null,null,null,null,{"$f":"_xlfn.XLOOKUP(AA94,popdata!L:L,popdata!M:M)","v":6},"Somerset",{"$f":"TRANSPOSE(_xlfn.XLOOKUP(AA94,ICSs!$2:$2,ICSs!$20:$25))","v":11808},12446,12948,13527,13653,13553,1,"NHS Somerset CCG",{"$f":"TRANSPOSE(_xlfn.XLOOKUP(AI94,CCGs!$3:$3,CCGs!$28:$36))","v":10507},11029,11351,11808,12446,12622,13527,13653,13553]
[1,"England",1.5707421915097799,1.6294993969781499,1.6902271545000001,1.7406936529999999,1.7841491630511395,1.8208741951929237,1.8531397629999999,1.8747613160675962,1.90325648605894,1.9266311090730699,1.93814081767908,1.92771641144337,4,"South of England",{"$f":"TRANSPOSE(_xlfn.XLOOKUP(P95,#REF!,#REF!))","v":{"$error":"#REF!"}},null,null,null,null,null,null,null,null,{"$f":"_xlfn.XLOOKUP(AA95,popdata!L:L,popdata!M:M)","v":7},"Bristol, North Somerset and South Gloucestershire",{"$f":"TRANSPOSE(_xlfn.XLOOKUP(AA95,ICSs!$2:$2,ICSs!$20:$25))","v":16176},17384,17996,18554,18781,18953,1,"NHS Bristol, North Somerset and South Gloucestershire CCG",{"$f":"TRANSPOSE(_xlfn.XLOOKUP(AI95,CCGs!$3:$3,CCGs!$28:$36))","v":18148},18148,18148,18148,18148,16559,18554,18526,18953]
[1,"England",1.5707421915097799,1.6294993969781499,1.6902271545000001,1.7406936529999999,1.7841491630511395,1.8208741951929237,1.8531397629999999,1.8747613160675962,1.90325648605894,1.9266311090730699,1.93814081767908,1.92771641144337,4,"South of England",{"$f":"TRANSPOSE(_xlfn.XLOOKUP(P96,#REF!,#REF!))","v":{"$error":"#REF!"}},null,null,null,null,null,null,null,null,{"$f":"_xlfn.XLOOKUP(AA96,popdata!L:L,popdata!M:M)","v":8},"Bath and North East Somerset, Swindon and Wiltshire",{"$f":"TRANSPOSE(_xlfn.XLOOKUP(AA96,ICSs!$2:$2,ICSs!$20:$25))","v":15056},15413,15700,16023,16695,16691,1,"NHS Bath and North East Somerset, Swindon and Wiltshire CCG",{"$f":"TRANSPOSE(_xlfn.XLOOKUP(AI96,CCGs!$3:$3,CCGs!$28:$36))","v":16693},16693,16693,16693,16693,16693,16693,16695,16691]
[1,"England",1.5707421915097799,1.6294993969781499,1.6902271545000001,1.7406936529999999,1.7841491630511395,1.8208741951929237,1.8531397629999999,1.8747613160675962,1.90325648605894,1.9266311090730699,1.93814081767908,1.92771641144337,4,"South of England",{"$f":"TRANSPOSE(_xlfn.XLOOKUP(P97,#REF!,#REF!))","v":{"$error":"#REF!"}},null,null,null,null,null,null,null,null,{"$f":"_xlfn.XLOOKUP(AA97,popdata!L:L,popdata!M:M)","v":9},"Dorset",{"$f":"TRANSPOSE(_xlfn.XLOOKUP(AA97,ICSs!$2:$2,ICSs!$20:$25))","v":14785},16028,16798,17356,17744,17710,1,"NHS Dorset CCG",{"$f":"TRANSPOSE(_xlfn.XLOOKUP(AI97,CCGs!$3:$3,CCGs!$28:$36))","v":13573},14120,14593,14785,16028,16404,17356,17666,17710]
[1,"England",1.5707421915097799,1.6294993969781499,1.6902271545000001,1.7406936529999999,1.7841491630511395,1.8208741951929237,1.8531397629999999,1.8747613160675962,1.90325648605894,1.9266311090730699,1.93814081767908,1.92771641144337,4,"South of England",{"$f":"TRANSPOSE(_xlfn.XLOOKUP(P98,#REF!,#REF!))","v":{"$error":"#REF!"}},null,null,null,null,null,null,null,null,{"$f":"_xlfn.XLOOKUP(AA98,popdata!L:L,popdata!M:M)","v":10},"Hampshire and the Isle of Wight",{"$f":"TRANSPOSE(_xlfn.XLOOKUP(AA98,ICSs!$2:$2,ICSs!$20:$25))","v":32065},34171,35355,36649,37429,37950,2,"NHS Hampshire, Southampton and Isle of Wight CCG",{"$f":"TRANSPOSE(_xlfn.XLOOKUP(AI98,CCGs!$3:$3,CCGs!$28:$36))","v":32155.5},32155.5,32155.5,32155.5,32155.5,32155.5,32155.5,31351,32960]
[1,"England",1.5707421915097799,1.6294993969781499,1.6902271545000001,1.7406936529999999,1.7841491630511395,1.8208741951929237,1.8531397629999999,1.8747613160675962,1.90325648605894,1.9266311090730699,1.93814081767908,1.92771641144337,4,"South of England",{"$f":"TRANSPOSE(_xlfn.XLOOKUP(P99,#REF!,#REF!))","v":{"$error":"#REF!"}},null,null,null,null,null,null,null,null,{"$f":"_xlfn.XLOOKUP(AA99,popdata!L:L,popdata!M:M)","v":10},"Hampshire and the Isle of Wight",{"$f":"TRANSPOSE(_xlfn.XLOOKUP(AA99,ICSs!$2:$2,ICSs!$20:$25))","v":32065},34171,35355,36649,37429,37950,3,"NHS Portsmouth CCG",{"$f":"TRANSPOSE(_xlfn.XLOOKUP(AI99,CCGs!$3:$3,CCGs!$28:$36))","v":3908},4123,4269,4352,4616,4686,4869,4352,4990]
[1,"England",1.5707421915097799,1.6294993969781499,1.6902271545000001,1.7406936529999999,1.7841491630511395,1.8208741951929237,1.8531397629999999,1.8747613160675962,1.90325648605894,1.9266311090730699,1.93814081767908,1.92771641144337,4,"South of England",{"$f":"TRANSPOSE(_xlfn.XLOOKUP(P100,#REF!,#REF!))","v":{"$error":"#REF!"}},null,null,null,null,null,null,null,null,{"$f":"_xlfn.XLOOKUP(AA100,popdata!L:L,popdata!M:M)","v":11},"Gloucestershire",{"$f":"TRANSPOSE(_xlfn.XLOOKUP(AA100,ICSs!$2:$2,ICSs!$20:$25))","v":11020},11375,11568,11810,12269,12366,1,"NHS Gloucestershire CCG",{"$f":"TRANSPOSE(_xlfn.XLOOKUP(AI100,CCGs!$3:$3,CCGs!$28:$36))","v":10199},10539,10848,11020,11375,10757,11810,11970,12366]
[1,"England",1.5707421915097799,1.6294993969781499,1.6902271545000001,1.7406936529999999,1.7841491630511395,1.8208741951929237,1.8531397629999999,1.8747613160675962,1.90325648605894,1.9266311090730699,1.93814081767908,1.92771641144337,4,"South of England",{"$f":"TRANSPOSE(_xlfn.XLOOKUP(P101,#REF!,#REF!))","v":{"$error":"#REF!"}},null,null,null,null,null,null,null,null,{"$f":"_xlfn.XLOOKUP(AA101,popdata!L:L,popdata!M:M)","v":12},"Buckinghamshire, Oxfordshire and Berkshire West",{"$f":"TRANSPOSE(_xlfn.XLOOKUP(AA101,ICSs!$2:$2,ICSs!$20:$25))","v":22444},23642,16719,25132,25376,25339,2,"NHS Oxfordshire CCG",{"$f":"TRANSPOSE(_xlfn.XLOOKUP(AI101,CCGs!$3:$3,CCGs!$28:$36))","v":8411},8780,9161,9381,9897,10243,10631,10544,10796]
[1,"England",1.5707421915097799,1.6294993969781499,1.6902271545000001,1.7406936529999999,1.7841491630511395,1.8208741951929237,1.8531397629999999,1.8747613160675962,1.90325648605894,1.9266311090730699,1.93814081767908,1.92771641144337,4,"South of England",{"$f":"TRANSPOSE(_xlfn.XLOOKUP(P102,#REF!,#REF!))","v":{"$error":"#REF!"}},null,null,null,null,null,null,null,null,{"$f":"_xlfn.XLOOKUP(AA102,popdata!L:L,popdata!M:M)","v":12},"Buckinghamshire, Oxfordshire and Berkshire West",{"$f":"TRANSPOSE(_xlfn.XLOOKUP(AA102,ICSs!$2:$2,ICSs!$20:$25))","v":22444},23642,16719,25132,25376,25339,3,"NHS Berkshire West CCG",{"$f":"TRANSPOSE(_xlfn.XLOOKUP(AI102,CCGs!$3:$3,CCGs!$28:$36))","v":6746},6746,6746,6746,6746,6388,6812,6889,6895]
[1,"England",1.5707421915097799,1.6294993969781499,1.6902271545000001,1.7406936529999999,1.7841491630511395,1.8208741951929237,1.8531397629999999,1.8747613160675962,1.90325648605894,1.9266311090730699,1.93814081767908,1.92771641144337,4,"South of England",{"$f":"TRANSPOSE(_xlfn.XLOOKUP(P103,#REF!,#REF!))","v":{"$error":"#REF!"}},null,null,null,null,null,null,null,null,{"$f":"_xlfn.XLOOKUP(AA103,popdata!L:L,popdata!M:M)","v":12},"Buckinghamshire, Oxfordshire and Berkshire West",{"$f":"TRANSPOSE(_xlfn.XLOOKUP(AA103,ICSs!$2:$2,ICSs!$20:$25))","v":22444},23642,16719,25132,25376,25339,4,"NHS Buckinghamshire CCG",{"$f":"TRANSPOSE(_xlfn.XLOOKUP(AI103,CCGs!$3:$3,CCGs!$28:$36))","v":7584.333333333333},7584.333333333333,7584.333333333333,7584.333333333333,7584.333333333333,7584.333333333333,7689,7416,7648]
[1,"England",1.5707421915097799,1.6294993969781499,1.6902271545000001,1.7406936529999999,1.7841491630511395,1.8208741951929237,1.8531397629999999,1.8747613160675962,1.90325648605894,1.9266311090730699,1.93814081767908,1.92771641144337,4,"South of England",{"$f":"TRANSPOSE(_xlfn.XLOOKUP(P104,#REF!,#REF!))","v":{"$error":"#REF!"}},null,null,null,null,null,null,null,null,{"$f":"_xlfn.XLOOKUP(AA104,popdata!L:L,popdata!M:M)","v":13},"Surrey Heartlands Health and Care Partnership",{"$f":"TRANSPOSE(_xlfn.XLOOKUP(AA104,ICSs!$2:$2,ICSs!$20:$25))","v":14309},14309,14309,14309,14293,14325,1,"NHS Surrey Heartlands CCG",{"$f":"TRANSPOSE(_xlfn.XLOOKUP(AI104,CCGs!$3:$3,CCGs!$28:$36))","v":14309},14309,14309,14309,14309,14309,14309,14293,14325]
[1,"England",1.5707421915097799,1.6294993969781499,1.6902271545000001,1.7406936529999999,1.7841491630511395,1.8208741951929237,1.8531397629999999,1.8747613160675962,1.90325648605894,1.9266311090730699,1.93814081767908,1.92771641144337,4,"South of England",{"$f":"TRANSPOSE(_xlfn.XLOOKUP(P105,#REF!,#REF!))","v":{"$error":"#REF!"}},null,null,null,null,null,null,null,null,{"$f":"_xlfn.XLOOKUP(AA105,popdata!L:L,popdata!M:M)","v":14},"Sussex and East Surrey Health and Care Partnership",{"$f":"TRANSPOSE(_xlfn.XLOOKUP(AA105,ICSs!$2:$2,ICSs!$20:$25))","v":34702.5},34702.5,34702.5,34702.5,34661,34744,2,"NHS Brighton and Hove CCG",{"$f":"TRANSPOSE(_xlfn.XLOOKUP(AI105,CCGs!$3:$3,CCGs!$28:$36))","v":3737},3820,3916,4002,4232,4145,4389,4830,4861]
[1,"England",1.5707421915097799,1.6294993969781499,1.6902271545000001,1.7406936529999999,1.7841491630511395,1.8208741951929237,1.8531397629999999,1.8747613160675962,1.90325648605894,1.9266311090730699,1.93814081767908,1.92771641144337,4,"South of England",{"$f":"TRANSPOSE(_xlfn.XLOOKUP(P106,#REF!,#REF!))","v":{"$error":"#REF!"}},null,null,null,null,null,null,null,null,{"$f":"_xlfn.XLOOKUP(AA106,popdata!L:L,popdata!M:M)","v":14},"Sussex and East Surrey Health and Care Partnership",{"$f":"TRANSPOSE(_xlfn.XLOOKUP(AA106,ICSs!$2:$2,ICSs!$20:$25))","v":34702.5},34702.5,34702.5,34702.5,34661,34744,3,"NHS East Sussex CCG",{"$f":"TRANSPOSE(_xlfn.XLOOKUP(AI106,CCGs!$3:$3,CCGs!$28:$36))","v":12613},12613,12613,12613,12613,12613,12613,11936,13290]
[1,"England",1.5707421915097799,1.6294993969781499,1.6902271545000001,1.7406936529999999,1.7841491630511395,1.8208741951929237,1.8531397629999999,1.8747613160675962,1.90325648605894,1.9266311090730699,1.93814081767908,1.92771641144337,4,"South of England",{"$f":"TRANSPOSE(_xlfn.XLOOKUP(P107,#REF!,#REF!))","v":{"$error":"#REF!"}},null,null,null,null,null,null,null,null,{"$f":"_xlfn.XLOOKUP(AA107,popdata!L:L,popdata!M:M)","v":14},"Sussex and East Surrey Health and Care Partnership",{"$f":"TRANSPOSE(_xlfn.XLOOKUP(AA107,ICSs!$2:$2,ICSs!$20:$25))","v":34702.5},34702.5,34702.5,34702.5,34661,34744,4,"NHS West Sussex CCG",{"$f":"TRANSPOSE(_xlfn.XLOOKUP(AI107,CCGs!$3:$3,CCGs!$28:$36))","v":16372.5},16372.5,16372.5,16372.5,16372.5,16372.5,16372.5,16152,16593]

{"sheet":"modelStructure3","index":36,"n_rows":35,"n_cols":1,"rows_kept":35,"cut":false,"hidden":false,"merged":[[34,0,35,23]]}
[]
[]
[]
[]
[]
[]
[]
[]
[]
[]
[]
[]
[]
[]
[]
[]
[]
[]
[]
[]
[]
[]
[]
[]
[]
[]
[]
[]
[]
[]
[]
[]
[]
[]
["Results from the PR pathway will not be displayed by subgroup, such as by age or sex. Instead, regional average values for these characteristics will be used to determine proportions for referral, uptake and completion of PR. "]

{"sheet":"abbreviations","index":37,"n_rows":25,"n_cols":7,"rows_kept":25,"cut":false,"hidden":false,"merged":[]}
[]
[]
[]
[]
[]
[]
[]
[]
[]
[null,null,null,null,null,"Abbreviations"]
[]
[null,null,null,null,null,"CCG","Clinical Commissioning Group"]
[null,null,null,null,null,"COPD","Chronic obstructive pulmonary disease"]
[null,null,null,null,null,"CPRD","Clinical Practice Research Database"]
[null,null,null,null,null,"GP","General practitioner"]
[null,null,null,null,null,"HES","Hospital Episode Statistics"]
[null,null,null,null,null,"ICB","Integrated care board"]
[null,null,null,null,null,"IMD","Index of Multiple Deprivation"]
[null,null,null,null,null,"MRC","Medical Research Council"]
[null,null,null,null,null,"NICE","National Institute for Clinical and Health Excellence"]
[null,null,null,null,null,"NRAP","National Respiratory Audit Programme"]
[null,null,null,null,null,"PR","Pulmonary rehabilitation"]
[null,null,null,null,null,"QALY","Quality-adjusted life year"]
[null,null,null,null,null,"QOF","Quality Outcomes Framework"]
[null,null,null,null,null,"YHEC","York Health Economics Consortium"]

{"sheet":"assumptions","index":38,"n_rows":26,"n_cols":3,"rows_kept":26,"cut":false,"hidden":false,"merged":[[23,2,24,18],[21,2,22,17],[25,2,26,18],[11,2,12,18]]}
[]
[]
[]
[]
[]
[]
[]
[]
[null,null,"Model assumptions"]
[]
[null,null,"Attrition pathway"]
[null,null,"The percentage of patients who are eligible (top range) and start PR are taken from an analysis of CPRD data, based on regional trends. It is assumed that regional trends apply to the sub-ICBs within regions."]
[]
[null,null,"The percentage of patients who are eligible (lower range) and referred to PR are taken from QOF 2023/24, based on COPD014: The percentage of patients with COPD "]
[null,null,"and Medical Research Council (dsynoea scale 3+ at any time in the precedding 12 months, with a subsequent record of referral to a PR programme"]
[null,null,"The percentage of patients who complete PR are taken from NRAP data."]
[]
[null,null,"Planning"]
[null,null,"It is assumed that the backlog of patients from the previous year are those who are referred to but did not start or complete PR"]
[]
[null,null,"Workforce modelling"]
[null,null,"Staffing requirements were calculated as a minimum, and need to be increased for cohorts of patients with complex needs and oxygen users, where the staff:patient ratio is higher in exercise classes."]
[]
[null,null,"Workforce modelling was calculated based on patients who are referred to, start and complete PR - staffing requirements are not calculated for patients who start and do not complete PR. Therefore, overall figures are an underestimation of reality as patients who start and do not complete PR are excluded from calculations"]
[]
[null,null,"If the user chooses to include the non-COPD uplift for the number of patients who complete PR, this is reflected in the workforce modelling calculations, so staffing requirements are representative for both COPD and non-COPD patients who complete PR"]

{"sheet":"graphData","index":39,"n_rows":95,"n_cols":10,"rows_kept":95,"cut":false,"hidden":true,"merged":[]}
[null,null,"Region"]
[null,null,null,"Linear Modelled","Log Modelled","Observed",null,null,"Shading"]
[null,null,2009,{"$f":"CalculationSheet!F3","v":1.6925757753010726E-2},{"$f":"CalculationSheet!I3","v":1.3755948213777697E-2},{"$f":"IF(CalculationSheet!C3<>\"\",CalculationSheet!C3,#N/A)","v":1.3574000904236858E-2},null,null,1,{"$f":"IF(AND(I3>=CalculationSheet!$B$31,I3<=CalculationSheet!$B$32),F3,FALSE)","v":false}]
[null,null,"2016-17",{"$f":"CalculationSheet!F4","v":1.7044474744507924E-2},{"$f":"CalculationSheet!I4","v":1.501256331669688E-2},{"$f":"IF(CalculationSheet!C4<>\"\",CalculationSheet!C4,#N/A)","v":1.3769808795495731E-2},null,null,2,{"$f":"IF(AND(I4>=CalculationSheet!$B$31,I4<=CalculationSheet!$B$32),F4,FALSE)","v":false}]
[null,null,"2017-18",{"$f":"CalculationSheet!F5","v":1.7163191736005119E-2},{"$f":"CalculationSheet!I5","v":1.5747636029744459E-2},{"$f":"IF(CalculationSheet!C5<>\"\",CalculationSheet!C5,#N/A)","v":1.42701054062604E-2},null,null,3,{"$f":"IF(AND(I5>=CalculationSheet!$B$31,I5<=CalculationSheet!$B$32),F5,FALSE)","v":false}]
[null,null,"2018-19",{"$f":"CalculationSheet!F6","v":1.7281908727502317E-2},{"$f":"CalculationSheet!I6","v":1.6269178419616063E-2},{"$f":"IF(CalculationSheet!C6<>\"\",CalculationSheet!C6,#N/A)","v":1.4811323125036488E-2},null,null,4,{"$f":"IF(AND(I6>=CalculationSheet!$B$31,I6<=CalculationSheet!$B$32),F6,FALSE)","v":false}]
[null,null,"2019-20",{"$f":"CalculationSheet!F7","v":1.7400625718999516E-2},{"$f":"CalculationSheet!I7","v":1.6673718125705523E-2},{"$f":"IF(CalculationSheet!C7<>\"\",CalculationSheet!C7,#N/A)","v":1.5371204857106795E-2},null,null,5,{"$f":"IF(AND(I7>=CalculationSheet!$B$31,I7<=CalculationSheet!$B$32),F7,FALSE)","v":false}]
[1,{"$f":"CalculationSheet!B32","v":21},"2020-21",{"$f":"CalculationSheet!F8","v":1.7519342710496714E-2},{"$f":"CalculationSheet!I8","v":1.7004251132663642E-2},{"$f":"IF(CalculationSheet!C8<>\"\",CalculationSheet!C8,#N/A)","v":1.5715368038153699E-2},{"$f":"CalculationSheet!F8","v":1.7519342710496714E-2},{"$f":"CalculationSheet!I8","v":1.7004251132663642E-2},6,{"$f":"IF(AND(I8>=CalculationSheet!$B$31,I8<=CalculationSheet!$B$32),F8,FALSE)","v":false}]
[2,{"$f":"B8+1","v":22},{"$f":"IF(B9<=CalculationSheet!#REF!,CalculationSheet!#REF!,\"\")","v":{"$error":"#REF!"}},{"$f":"IF(AND(dataLookup!$E$2=0,$B9<=CalculationSheet!#REF!),CalculationSheet!F9,#N/A)","v":{"$error":"#REF!"}},{"$f":"IF(AND(dataLookup!$E$2=0,$B9<=CalculationSheet!#REF!),CalculationSheet!I9,#N/A)","v":{"$error":"#REF!"}},{"$f":"IF(CalculationSheet!C9<>\"\",CalculationSheet!C9,#N/A)","v":1.6303249138221326E-2},{"$f":"CalculationSheet!F9","v":1.7638059701993912E-2},{"$f":"CalculationSheet!I9","v":1.7283712808089789E-2}]
[3,23,{"$f":"IF(B10<=CalculationSheet!#REF!,CalculationSheet!#REF!,\"\")","v":{"$error":"#REF!"}},{"$f":"IF(AND(dataLookup!$E$2=0,$B10<=CalculationSheet!#REF!),CalculationSheet!F10,#N/A)","v":{"$error":"#REF!"}},{"$f":"IF(AND(dataLookup!$E$2=0,$B10<=CalculationSheet!#REF!),CalculationSheet!I10,#N/A)","v":{"$error":"#REF!"}},{"$f":"IF(CalculationSheet!C10<>\"\",CalculationSheet!C10,#N/A)","v":1.6910118217668732E-2},{"$f":"CalculationSheet!F10","v":1.775677669349111E-2},{"$f":"CalculationSheet!I10","v":1.7525793522535249E-2}]
[4,24,{"$f":"IF(B11<=CalculationSheet!#REF!,CalculationSheet!#REF!,\"\")","v":{"$error":"#REF!"}},{"$f":"IF(AND(dataLookup!$E$2=0,$B11<=CalculationSheet!#REF!),CalculationSheet!F11,#N/A)","v":{"$error":"#REF!"}},{"$f":"IF(AND(dataLookup!$E$2=0,$B11<=CalculationSheet!#REF!),CalculationSheet!I11,#N/A)","v":{"$error":"#REF!"}},{"$f":"IF(CalculationSheet!C11<>\"\",CalculationSheet!C11,#N/A)","v":1.7417470693712359E-2},{"$f":"CalculationSheet!F11","v":1.7875493684988305E-2},{"$f":"CalculationSheet!I11","v":1.7739323845711221E-2}]
[5,25,{"$f":"IF(B12<=CalculationSheet!#REF!,CalculationSheet!#REF!,\"\")","v":{"$error":"#REF!"}},{"$f":"IF(AND(dataLookup!$E$2=0,$B12<=CalculationSheet!#REF!),CalculationSheet!F12,#N/A)","v":{"$error":"#REF!"}},{"$f":"IF(AND(dataLookup!$E$2=0,$B12<=CalculationSheet!#REF!),CalculationSheet!I12,#N/A)","v":{"$error":"#REF!"}},{"$f":"IF(CalculationSheet!C12<>\"\",CalculationSheet!C12,#N/A)","v":1.78530838630057E-2},{"$f":"CalculationSheet!F12","v":1.7994210676485503E-2},{"$f":"CalculationSheet!I12","v":1.7930333228624709E-2}]
[6,26,{"$f":"IF(B13<=CalculationSheet!#REF!,CalculationSheet!#REF!,\"\")","v":{"$error":"#REF!"}},{"$f":"IF(AND(dataLookup!$E$2=0,$B13<=CalculationSheet!#REF!),CalculationSheet!F13,#N/A)","v":{"$error":"#REF!"}},{"$f":"IF(AND(dataLookup!$E$2=0,$B13<=CalculationSheet!#REF!),CalculationSheet!I13,#N/A)","v":{"$error":"#REF!"}},{"$f":"IF(CalculationSheet!C13<>\"\",CalculationSheet!C13,#N/A)","v":1.8221780033899907E-2},{"$f":"CalculationSheet!F13","v":1.8112927667982701E-2},{"$f":"CalculationSheet!I13","v":1.8103122233273483E-2}]
[7,27,{"$f":"IF(B14<=CalculationSheet!#REF!,CalculationSheet!#REF!,\"\")","v":{"$error":"#REF!"}},{"$f":"IF(AND(dataLookup!$E$2=0,$B14<=CalculationSheet!#REF!),CalculationSheet!F14,#N/A)","v":{"$error":"#REF!"}},{"$f":"IF(AND(dataLookup!$E$2=0,$B14<=CalculationSheet!#REF!),CalculationSheet!I14,#N/A)","v":{"$error":"#REF!"}},{"$f":"IF(CalculationSheet!C14<>\"\",CalculationSheet!C14,#N/A)","v":1.8543572085199255E-2},{"$f":"CalculationSheet!F14","v":1.8231644659479899E-2},{"$f":"CalculationSheet!I14","v":1.8260866235582825E-2}]
[8,28,{"$f":"IF(B15<=CalculationSheet!#REF!,CalculationSheet!#REF!,\"\")","v":{"$error":"#REF!"}},{"$f":"IF(AND(dataLookup!$E$2=0,$B15<=CalculationSheet!#REF!),CalculationSheet!F15,#N/A)","v":{"$error":"#REF!"}},{"$f":"IF(AND(dataLookup!$E$2=0,$B15<=CalculationSheet!#REF!),CalculationSheet!I15,#N/A)","v":{"$error":"#REF!"}},{"$f":"IF(CalculationSheet!C15<>\"\",CalculationSheet!C15,#N/A)","v":1.8758962994875339E-2},{"$f":"CalculationSheet!F15","v":1.8350361650977098E-2},{"$f":"CalculationSheet!I15","v":1.8405976651035799E-2}]
[9,29,{"$f":"IF(B16<=CalculationSheet!#REF!,CalculationSheet!#REF!,\"\")","v":{"$error":"#REF!"}},{"$f":"IF(AND(dataLookup!$E$2=0,$B16<=CalculationSheet!#REF!),CalculationSheet!F16,#N/A)","v":{"$error":"#REF!"}},{"$f":"IF(AND(dataLookup!$E$2=0,$B16<=CalculationSheet!#REF!),CalculationSheet!I16,#N/A)","v":{"$error":"#REF!"}},{"$f":"IF(CalculationSheet!C16<>\"\",CalculationSheet!C16,#N/A)","v":1.9035283163847731E-2},{"$f":"CalculationSheet!F16","v":1.8469078642474296E-2},{"$f":"CalculationSheet!I16","v":1.8540327911008972E-2}]
[10,30,{"$f":"IF(B17<=CalculationSheet!#REF!,CalculationSheet!#REF!,\"\")","v":{"$error":"#REF!"}},{"$f":"IF(AND(dataLookup!$E$2=0,$B17<=CalculationSheet!#REF!),CalculationSheet!F17,#N/A)","v":{"$error":"#REF!"}},{"$f":"IF(AND(dataLookup!$E$2=0,$B17<=CalculationSheet!#REF!),CalculationSheet!I17,#N/A)","v":{"$error":"#REF!"}},{"$f":"IF(CalculationSheet!C17<>\"\",CalculationSheet!C17,#N/A)","v":1.9280181077661305E-2},{"$f":"CalculationSheet!F17","v":1.8587795633971491E-2},{"$f":"CalculationSheet!I17","v":1.8665405941672285E-2}]
[11,31,{"$f":"IF(B18<=CalculationSheet!#REF!,CalculationSheet!#REF!,\"\")","v":{"$error":"#REF!"}},{"$f":"IF(AND(dataLookup!$E$2=0,$B18<=CalculationSheet!#REF!),CalculationSheet!F18,#N/A)","v":{"$error":"#REF!"}},{"$f":"IF(AND(dataLookup!$E$2=0,$B18<=CalculationSheet!#REF!),CalculationSheet!I18,#N/A)","v":{"$error":"#REF!"}},{"$f":"IF(CalculationSheet!C18<>\"\",CalculationSheet!C18,#N/A)","v":1.9395570684980306E-2},{"$f":"CalculationSheet!F18","v":1.8706512625468689E-2},{"$f":"CalculationSheet!I18","v":1.8782408625454432E-2}]
[]
[]
[]
[]
[]
[null,null,null,"Linear Modelled","Log Modelled"]
[null,null,{"$f":"IF(CalculationSheet!$A$3>=CalculationSheet!$B$31,CalculationSheet!#REF!,\"\")","v":""},{"$f":"IF(AND(CalculationSheet!$A3>=CalculationSheet!$B$31,OR(dataLookup!$D$2=0,dataLookup!$E$2<>0)),CalculationSheet!F3*#REF!,#N/A)","v":{"$error":"#N/A"}},{"$f":"IF(AND(CalculationSheet!$A3>=CalculationSheet!$B$31,OR(dataLookup!$D$2=0,dataLookup!$E$2<>0)),CalculationSheet!I3*#REF!,#N/A)","v":{"$error":"#N/A"}},{"$f":"IF(CalculationSheet!C3<>\"\",CalculationSheet!C3*#REF!,#N/A)","v":{"$error":"#REF!"}}]
[null,null,{"$f":"IF(CalculationSheet!A4>=CalculationSheet!$B$31,CalculationSheet!#REF!,\"\")","v":""},{"$f":"IF(AND(CalculationSheet!$A4>=CalculationSheet!$B$31,OR(dataLookup!$D$2=0,dataLookup!$E$2<>0)),CalculationSheet!F4*#REF!,#N/A)","v":{"$error":"#N/A"}},{"$f":"IF(AND(CalculationSheet!$A4>=CalculationSheet!$B$31,OR(dataLookup!$D$2=0,dataLookup!$E$2<>0)),CalculationSheet!I4*#REF!,#N/A)","v":{"$error":"#N/A"}},{"$f":"IF(CalculationSheet!C4<>\"\",CalculationSheet!C4*#REF!,#N/A)","v":{"$error":"#REF!"}}]
[null,null,{"$f":"IF(CalculationSheet!A5>=CalculationSheet!$B$31,CalculationSheet!#REF!,\"\")","v":""},{"$f":"IF(AND(CalculationSheet!$A5>=CalculationSheet!$B$31,OR(dataLookup!$D$2=0,dataLookup!$E$2<>0)),CalculationSheet!F5*#REF!,#N/A)","v":{"$error":"#N/A"}},{"$f":"IF(AND(CalculationSheet!$A5>=CalculationSheet!$B$31,OR(dataLookup!$D$2=0,dataLookup!$E$2<>0)),CalculationSheet!I5*#REF!,#N/A)","v":{"$error":"#N/A"}},{"$f":"IF(CalculationSheet!C5<>\"\",CalculationSheet!C5*#REF!,#N/A)","v":{"$error":"#REF!"}}]
[null,null,{"$f":"IF(CalculationSheet!A6>=CalculationSheet!$B$31,CalculationSheet!#REF!,\"\")","v":""},{"$f":"IF(AND(CalculationSheet!$A6>=CalculationSheet!$B$31,OR(dataLookup!$D$2=0,dataLookup!$E$2<>0)),CalculationSheet!F6*#REF!,#N/A)","v":{"$error":"#N/A"}},{"$f":"IF(AND(CalculationSheet!$A6>=CalculationSheet!$B$31,OR(dataLookup!$D$2=0,dataLookup!$E$2<>0)),CalculationSheet!I6*#REF!,#N/A)","v":{"$error":"#N/A"}},{"$f":"IF(CalculationSheet!C6<>\"\",CalculationSheet!C6*#REF!,#N/A)","v":{"$error":"#REF!"}}]
[null,null,{"$f":"IF(CalculationSheet!A7>=CalculationSheet!$B$31,CalculationSheet!#REF!,\"\")","v":""},{"$f":"IF(AND(CalculationSheet!$A7>=CalculationSheet!$B$31,OR(dataLookup!$D$2=0,dataLookup!$E$2<>0)),CalculationSheet!F7*#REF!,#N/A)","v":{"$error":"#N/A"}},{"$f":"IF(AND(CalculationSheet!$A7>=CalculationSheet!$B$31,OR(dataLookup!$D$2=0,dataLookup!$E$2<>0)),CalculationSheet!I7*#REF!,#N/A)","v":{"$error":"#N/A"}},{"$f":"IF(CalculationSheet!C7<>\"\",CalculationSheet!C7*#REF!,#N/A)","v":{"$error":"#REF!"}}]
[null,null,{"$f":"IF(CalculationSheet!A8>=CalculationSheet!$B$31,CalculationSheet!#REF!,\"\")","v":""},{"$f":"IF(AND(CalculationSheet!$A8>=CalculationSheet!$B$31,OR(dataLookup!$D$2=0,dataLookup!$E$2<>0)),CalculationSheet!F8*#REF!,#N/A)","v":{"$error":"#N/A"}},{"$f":"IF(AND(CalculationSheet!$A8>=CalculationSheet!$B$31,OR(dataLookup!$D$2=0,dataLookup!$E$2<>0)),CalculationSheet!I8*#REF!,#N/A)","v":{"$error":"#N/A"}},{"$f":"IF(CalculationSheet!C8<>\"\",CalculationSheet!C8*#REF!,#N/A)","v":{"$error":"#REF!"}}]
[null,null,{"$f":"IF(CalculationSheet!A9>=CalculationSheet!$B$31,CalculationSheet!#REF!,\"\")","v":""},{"$f":"IF(AND(CalculationSheet!$A9>=CalculationSheet!$B$31,OR(dataLookup!$D$2=0,dataLookup!$E$2<>0)),CalculationSheet!F9*#REF!,#N/A)","v":{"$error":"#N/A"}},{"$f":"IF(AND(CalculationSheet!$A9>=CalculationSheet!$B$31,OR(dataLookup!$D$2=0,dataLookup!$E$2<>0)),CalculationSheet!I9*#REF!,#N/A)","v":{"$error":"#N/A"}},{"$f":"IF(CalculationSheet!C9<>\"\",CalculationSheet!C9*#REF!,#N/A)","v":{"$error":"#REF!"}}]
[null,null,{"$f":"IF(CalculationSheet!A10>=CalculationSheet!$B$31,CalculationSheet!#REF!,\"\")","v":{"$error":"#REF!"}},{"$f":"IF(AND(CalculationSheet!$A10>=CalculationSheet!$B$31,OR(dataLookup!$D$2=0,dataLookup!$E$2<>0)),CalculationSheet!F10*#REF!,#N/A)","v":{"$error":"#REF!"}},{"$f":"IF(AND(CalculationSheet!$A10>=CalculationSheet!$B$31,OR(dataLookup!$D$2=0,dataLookup!$E$2<>0)),CalculationSheet!I10*#REF!,#N/A)","v":{"$error":"#REF!"}},{"$f":"IF(CalculationSheet!C10<>\"\",CalculationSheet!C10*#REF!,#N/A)","v":{"$error":"#REF!"}}]
[null,{"$f":"CalculationSheet!B32","v":21},{"$f":"IF(CalculationSheet!A11>=CalculationSheet!$B$31,CalculationSheet!#REF!,\"\")","v":{"$error":"#REF!"}},{"$f":"IF(AND(CalculationSheet!$A11>=CalculationSheet!$B$31,OR(dataLookup!$D$2=0,dataLookup!$E$2<>0)),CalculationSheet!F11*#REF!,#N/A)","v":{"$error":"#REF!"}},{"$f":"IF(AND(CalculationSheet!$A11>=CalculationSheet!$B$31,OR(dataLookup!$D$2=0,dataLookup!$E$2<>0)),CalculationSheet!I11*#REF!,#N/A)","v":{"$error":"#REF!"}},{"$f":"IF(CalculationSheet!C11<>\"\",CalculationSheet!C11*#REF!,#N/A)","v":{"$error":"#REF!"}}]
[null,{"$f":"B33+1","v":22},{"$f":"IF(B34<=CalculationSheet!#REF!,CalculationSheet!#REF!,\"\")","v":{"$error":"#REF!"}},{"$f":"IF(AND($B34<=CalculationSheet!#REF!,OR(dataLookup!$D$2=0,dataLookup!$E$2<>0)),CalculationSheet!F12*#REF!,#N/A)","v":{"$error":"#REF!"}},{"$f":"IF(AND($B34<=CalculationSheet!#REF!,OR(dataLookup!$D$2=0,dataLookup!$E$2<>0)),CalculationSheet!I12*#REF!,#N/A)","v":{"$error":"#REF!"}},{"$f":"IF(CalculationSheet!C12<>\"\",CalculationSheet!C12*#REF!,#N/A)","v":{"$error":"#REF!"}}]
[null,23,{"$f":"IF(B35<=CalculationSheet!#REF!,CalculationSheet!#REF!,\"\")","v":{"$error":"#REF!"}},{"$f":"IF(AND($B35<=CalculationSheet!#REF!,OR(dataLookup!$D$2=0,dataLookup!$E$2<>0)),CalculationSheet!F13*#REF!,#N/A)","v":{"$error":"#REF!"}},{"$f":"IF(AND($B35<=CalculationSheet!#REF!,OR(dataLookup!$D$2=0,dataLookup!$E$2<>0)),CalculationSheet!I13*#REF!,#N/A)","v":{"$error":"#REF!"}},{"$f":"IF(CalculationSheet!C13<>\"\",CalculationSheet!C13*#REF!,#N/A)","v":{"$error":"#REF!"}}]
[null,24,{"$f":"IF(B36<=CalculationSheet!#REF!,CalculationSheet!#REF!,\"\")","v":{"$error":"#REF!"}},{"$f":"IF(AND($B36<=CalculationSheet!#REF!,OR(dataLookup!$D$2=0,dataLookup!$E$2<>0)),CalculationSheet!F14*#REF!,#N/A)","v":{"$error":"#REF!"}},{"$f":"IF(AND($B36<=CalculationSheet!#REF!,OR(dataLookup!$D$2=0,dataLookup!$E$2<>0)),CalculationSheet!I14*#REF!,#N/A)","v":{"$error":"#REF!"}},{"$f":"IF(CalculationSheet!C14<>\"\",CalculationSheet!C14*#REF!,#N/A)","v":{"$error":"#REF!"}}]
[null,25,{"$f":"IF(B37<=CalculationSheet!#REF!,CalculationSheet!#REF!,\"\")","v":{"$error":"#REF!"}},{"$f":"IF(AND($B37<=CalculationSheet!#REF!,OR(dataLookup!$D$2=0,dataLookup!$E$2<>0)),CalculationSheet!F15*#REF!,#N/A)","v":{"$error":"#REF!"}},{"$f":"IF(AND($B37<=CalculationSheet!#REF!,OR(dataLookup!$D$2=0,dataLookup!$E$2<>0)),CalculationSheet!I15*#REF!,#N/A)","v":{"$error":"#REF!"}},{"$f":"IF(CalculationSheet!C15<>\"\",CalculationSheet!C15*#REF!,#N/A)","v":{"$error":"#REF!"}}]
[null,26,{"$f":"IF(B38<=CalculationSheet!#REF!,CalculationSheet!#REF!,\"\")","v":{"$error":"#REF!"}},{"$f":"IF(AND($B38<=CalculationSheet!#REF!,OR(dataLookup!$D$2=0,dataLookup!$E$2<>0)),CalculationSheet!F16*#REF!,#N/A)","v":{"$error":"#REF!"}},{"$f":"IF(AND($B38<=CalculationSheet!#REF!,OR(dataLookup!$D$2=0,dataLookup!$E$2<>0)),CalculationSheet!I16*#REF!,#N/A)","v":{"$error":"#REF!"}},{"$f":"IF(CalculationSheet!C16<>\"\",CalculationSheet!C16*#REF!,#N/A)","v":{"$error":"#REF!"}}]
[null,27,{"$f":"IF(B39<=CalculationSheet!#REF!,CalculationSheet!#REF!,\"\")","v":{"$error":"#REF!"}},{"$f":"IF(AND($B39<=CalculationSheet!#REF!,OR(dataLookup!$D$2=0,dataLookup!$E$2<>0)),CalculationSheet!F17*#REF!,#N/A)","v":{"$error":"#REF!"}},{"$f":"IF(AND($B39<=CalculationSheet!#REF!,OR(dataLookup!$D$2=0,dataLookup!$E$2<>0)),CalculationSheet!I17*#REF!,#N/A)","v":{"$error":"#REF!"}},{"$f":"IF(CalculationSheet!C17<>\"\",CalculationSheet!C17*#REF!,#N/A)","v":{"$error":"#REF!"}}]
[null,28,{"$f":"IF(B40<=CalculationSheet!#REF!,CalculationSheet!#REF!,\"\")","v":{"$error":"#REF!"}},{"$f":"IF(AND($B40<=CalculationSheet!#REF!,OR(dataLookup!$D$2=0,dataLookup!$E$2<>0)),CalculationSheet!F18*#REF!,#N/A)","v":{"$error":"#REF!"}},{"$f":"IF(AND($B40<=CalculationSheet!#REF!,OR(dataLookup!$D$2=0,dataLookup!$E$2<>0)),CalculationSheet!I18*#REF!,#N/A)","v":{"$error":"#REF!"}},{"$f":"IF(CalculationSheet!C18<>\"\",CalculationSheet!C18*#REF!,#N/A)","v":{"$error":"#REF!"}}]
[null,29,{"$f":"IF(B41<=CalculationSheet!#REF!,CalculationSheet!#REF!,\"\")","v":{"$error":"#REF!"}},{"$f":"IF(AND($B41<=CalculationSheet!#REF!,OR(dataLookup!$D$2=0,dataLookup!$E$2<>0)),CalculationSheet!F19*#REF!,#N/A)","v":{"$error":"#REF!"}},{"$f":"IF(AND($B41<=CalculationSheet!#REF!,OR(dataLookup!$D$2=0,dataLookup!$E$2<>0)),CalculationSheet!I19*#REF!,#N/A)","v":{"$error":"#REF!"}},{"$f":"IF(CalculationSheet!C19<>\"\",CalculationSheet!C19*#REF!,#N/A)","v":{"$error":"#REF!"}}]
[null,30,{"$f":"IF(B42<=CalculationSheet!#REF!,CalculationSheet!#REF!,\"\")","v":{"$error":"#REF!"}},{"$f":"IF(AND($B42<=CalculationSheet!#REF!,OR(dataLookup!$D$2=0,dataLookup!$E$2<>0)),CalculationSheet!F20*#REF!,#N/A)","v":{"$error":"#REF!"}},{"$f":"IF(AND($B42<=CalculationSheet!#REF!,OR(dataLookup!$D$2=0,dataLookup!$E$2<>0)),CalculationSheet!I20*#REF!,#N/A)","v":{"$error":"#REF!"}},{"$f":"IF(CalculationSheet!C20<>\"\",CalculationSheet!C20*#REF!,#N/A)","v":{"$error":"#REF!"}}]
[null,31,{"$f":"IF(B43<=CalculationSheet!#REF!,CalculationSheet!#REF!,\"\")","v":{"$error":"#REF!"}},{"$f":"IF(AND($B43<=CalculationSheet!#REF!,OR(dataLookup!$D$2=0,dataLookup!$E$2<>0)),CalculationSheet!F21*#REF!,#N/A)","v":{"$error":"#REF!"}},{"$f":"IF(AND($B43<=CalculationSheet!#REF!,OR(dataLookup!$D$2=0,dataLookup!$E$2<>0)),CalculationSheet!I21*#REF!,#N/A)","v":{"$error":"#REF!"}},{"$f":"IF(CalculationSheet!C21<>\"\",CalculationSheet!C21*#REF!,#N/A)","v":{"$error":"#REF!"}}]
[]
[null,null,"England",null,null,null,null,null,"Shading"]
[null,null,"2009-10",{"$f":"CalculationSheet!F3","v":1.6925757753010726E-2},{"$f":"CalculationSheet!I3","v":1.3755948213777697E-2},{"$f":"IF(CalculationSheet!C3<>\"\",CalculationSheet!C3,#N/A)","v":1.3574000904236858E-2},null,null,1,{"$f":"IF(AND(I46>=CalculationSheet!$B$31,I46<=CalculationSheet!$B$32),F46,FALSE)","v":false}]
[null,null,"2010-11",{"$f":"CalculationSheet!F4","v":1.7044474744507924E-2},{"$f":"CalculationSheet!I4","v":1.501256331669688E-2},{"$f":"IF(CalculationSheet!C4<>\"\",CalculationSheet!C4,#N/A)","v":1.3769808795495731E-2},null,null,2,{"$f":"IF(AND(I47>=CalculationSheet!$B$31,I47<=CalculationSheet!$B$32),F47,FALSE)","v":false}]
[null,null,"2011-12",{"$f":"CalculationSheet!F5","v":1.7163191736005119E-2},{"$f":"CalculationSheet!I5","v":1.5747636029744459E-2},{"$f":"IF(CalculationSheet!C5<>\"\",CalculationSheet!C5,#N/A)","v":1.42701054062604E-2},null,null,3,{"$f":"IF(AND(I48>=CalculationSheet!$B$31,I48<=CalculationSheet!$B$32),F48,FALSE)","v":false}]
[null,null,"2012-13",{"$f":"CalculationSheet!F6","v":1.7281908727502317E-2},{"$f":"CalculationSheet!I6","v":1.6269178419616063E-2},{"$f":"IF(CalculationSheet!C6<>\"\",CalculationSheet!C6,#N/A)","v":1.4811323125036488E-2},null,null,4,{"$f":"IF(AND(I49>=CalculationSheet!$B$31,I49<=CalculationSheet!$B$32),F49,FALSE)","v":false}]
[null,null,"2013-14",{"$f":"CalculationSheet!F7","v":1.7400625718999516E-2},{"$f":"CalculationSheet!I7","v":1.6673718125705523E-2},{"$f":"IF(CalculationSheet!C7<>\"\",CalculationSheet!C7,#N/A)","v":1.5371204857106795E-2},null,null,5,{"$f":"IF(AND(I50>=CalculationSheet!$B$31,I50<=CalculationSheet!$B$32),F50,FALSE)","v":false}]
[null,null,"2014-15",{"$f":"CalculationSheet!F8","v":1.7519342710496714E-2},{"$f":"CalculationSheet!I8","v":1.7004251132663642E-2},{"$f":"IF(CalculationSheet!C8<>\"\",CalculationSheet!C8,#N/A)","v":1.5715368038153699E-2},null,null,6,{"$f":"IF(AND(I51>=CalculationSheet!$B$31,I51<=CalculationSheet!$B$32),F51,FALSE)","v":false}]
[null,null,"2015-16",{"$f":"CalculationSheet!F9","v":1.7638059701993912E-2},{"$f":"CalculationSheet!I9","v":1.7283712808089789E-2},{"$f":"IF(CalculationSheet!C9<>\"\",CalculationSheet!C9,#N/A)","v":1.6303249138221326E-2},null,null,7,{"$f":"IF(AND(I52>=CalculationSheet!$B$31,I52<=CalculationSheet!$B$32),F52,FALSE)","v":false}]
[null,null,"2016-17",{"$f":"CalculationSheet!F10","v":1.775677669349111E-2},{"$f":"CalculationSheet!I10","v":1.7525793522535249E-2},{"$f":"IF(CalculationSheet!C10<>\"\",CalculationSheet!C10,#N/A)","v":1.6910118217668732E-2},null,null,8,{"$f":"IF(AND(I53>=CalculationSheet!$B$31,I53<=CalculationSheet!$B$32),F53,FALSE)","v":1.6910118217668732E-2}]
[null,null,"2017-18",{"$f":"CalculationSheet!F11","v":1.7875493684988305E-2},{"$f":"CalculationSheet!I11","v":1.7739323845711221E-2},{"$f":"IF(CalculationSheet!C11<>\"\",CalculationSheet!C11,#N/A)","v":1.7417470693712359E-2},null,null,9,{"$f":"IF(AND(I54>=CalculationSheet!$B$31,I54<=CalculationSheet!$B$32),F54,FALSE)","v":1.7417470693712359E-2}]
[null,null,"2018-19",{"$f":"CalculationSheet!F12","v":1.7994210676485503E-2},{"$f":"CalculationSheet!I12","v":1.7930333228624709E-2},{"$f":"IF(CalculationSheet!C12<>\"\",CalculationSheet!C12,#N/A)","v":1.78530838630057E-2},null,null,10,{"$f":"IF(AND(I55>=CalculationSheet!$B$31,I55<=CalculationSheet!$B$32),F55,FALSE)","v":1.78530838630057E-2}]
[null,null,"2019-20",{"$f":"CalculationSheet!F13","v":1.8112927667982701E-2},{"$f":"CalculationSheet!I13","v":1.8103122233273483E-2},{"$f":"IF(CalculationSheet!C13<>\"\",CalculationSheet!C13,#N/A)","v":1.8221780033899907E-2},null,null,11,{"$f":"IF(AND(I56>=CalculationSheet!$B$31,I56<=CalculationSheet!$B$32),F56,FALSE)","v":1.8221780033899907E-2}]
[1,{"$f":"CalculationSheet!B32","v":21},"2020-21",{"$f":"CalculationSheet!F14","v":1.8231644659479899E-2},{"$f":"CalculationSheet!I14","v":1.8260866235582825E-2},{"$f":"IF(CalculationSheet!C14<>\"\",CalculationSheet!C14,#N/A)","v":1.8543572085199255E-2},{"$f":"CalculationSheet!F14","v":1.8231644659479899E-2},{"$f":"CalculationSheet!I14","v":1.8260866235582825E-2},12,{"$f":"IF(AND(I57>=CalculationSheet!$B$31,I57<=CalculationSheet!$B$32),F57,FALSE)","v":1.8543572085199255E-2}]
[2,{"$f":"B57+1","v":22},{"$f":"IF(B34<=CalculationSheet!#REF!,CalculationSheet!#REF!,\"\")","v":{"$error":"#REF!"}},{"$f":"IF(AND($B34<=CalculationSheet!#REF!,dashboard!$Z$1=1),CalculationSheet!F15,#N/A)","v":{"$error":"#REF!"}},{"$f":"IF(AND($B34<=CalculationSheet!#REF!,dashboard!Z$1=1),CalculationSheet!I15,#N/A)","v":{"$error":"#REF!"}},{"$f":"IF(CalculationSheet!C15<>\"\",CalculationSheet!C15,#N/A)","v":1.8758962994875339E-2},{"$f":"CalculationSheet!F15","v":1.8350361650977098E-2},{"$f":"CalculationSheet!I15","v":1.8405976651035799E-2},1]
[3,23,{"$f":"IF(B35<=CalculationSheet!#REF!,CalculationSheet!#REF!,\"\")","v":{"$error":"#REF!"}},{"$f":"IF(AND($B35<=CalculationSheet!#REF!,dashboard!$Z$1=1),CalculationSheet!F16,#N/A)","v":{"$error":"#REF!"}},{"$f":"IF(AND($B35<=CalculationSheet!#REF!,dashboard!Z$1=1),CalculationSheet!I16,#N/A)","v":{"$error":"#REF!"}},{"$f":"IF(CalculationSheet!C16<>\"\",CalculationSheet!C16,#N/A)","v":1.9035283163847731E-2},{"$f":"CalculationSheet!F16","v":1.8469078642474296E-2},{"$f":"CalculationSheet!I16","v":1.8540327911008972E-2},2]
[4,24,{"$f":"IF(B36<=CalculationSheet!#REF!,CalculationSheet!#REF!,\"\")","v":{"$error":"#REF!"}},{"$f":"IF(AND($B36<=CalculationSheet!#REF!,dashboard!$Z$1=1),CalculationSheet!F17,#N/A)","v":{"$error":"#REF!"}},{"$f":"IF(AND($B36<=CalculationSheet!#REF!,dashboard!Z$1=1),CalculationSheet!I17,#N/A)","v":{"$error":"#REF!"}},{"$f":"IF(CalculationSheet!C17<>\"\",CalculationSheet!C17,#N/A)","v":1.9280181077661305E-2},{"$f":"CalculationSheet!F17","v":1.8587795633971491E-2},{"$f":"CalculationSheet!I17","v":1.8665405941672285E-2},3]
[5,25,{"$f":"IF(B37<=CalculationSheet!#REF!,CalculationSheet!#REF!,\"\")","v":{"$error":"#REF!"}},{"$f":"IF(AND($B37<=CalculationSheet!#REF!,dashboard!$Z$1=1),CalculationSheet!F18,#N/A)","v":{"$error":"#REF!"}},{"$f":"IF(AND($B37<=CalculationSheet!#REF!,dashboard!Z$1=1),CalculationSheet!I18,#N/A)","v":{"$error":"#REF!"}},{"$f":"IF(CalculationSheet!C18<>\"\",CalculationSheet!C18,#N/A)","v":1.9395570684980306E-2},{"$f":"CalculationSheet!F18","v":1.8706512625468689E-2},{"$f":"CalculationSheet!I18","v":1.8782408625454432E-2},4]
[6,26,{"$f":"IF(B38<=CalculationSheet!#REF!,CalculationSheet!#REF!,\"\")","v":{"$error":"#REF!"}},{"$f":"IF(AND($B38<=CalculationSheet!#REF!,dashboard!$Z$1=1),CalculationSheet!F19,#N/A)","v":{"$error":"#REF!"}},{"$f":"IF(AND($B38<=CalculationSheet!#REF!,dashboard!Z$1=1),CalculationSheet!I19,#N/A)","v":{"$error":"#REF!"}},{"$f":"IF(CalculationSheet!C19<>\"\",CalculationSheet!C19,#N/A)","v":1.9292081358941528E-2},{"$f":"CalculationSheet!F19","v":1.8825229616965887E-2},{"$f":"CalculationSheet!I19","v":1.8892315752713832E-2},5]
[7,27,{"$f":"IF(B39<=CalculationSheet!#REF!,CalculationSheet!#REF!,\"\")","v":{"$error":"#REF!"}},{"$f":"IF(AND($B39<=CalculationSheet!#REF!,dashboard!$Z$1=1),CalculationSheet!F20,#N/A)","v":{"$error":"#REF!"}},{"$f":"IF(AND($B39<=CalculationSheet!#REF!,dashboard!Z$1=1),CalculationSheet!I20,#N/A)","v":{"$error":"#REF!"}},{"$f":"IF(CalculationSheet!C20<>\"\",CalculationSheet!C20,#N/A)","v":1.8696348823884715E-2},{"$f":"CalculationSheet!F20","v":1.8943946608463085E-2},{"$f":"CalculationSheet!I20","v":1.8995938948630404E-2},6]
[8,28,{"$f":"IF(B40<=CalculationSheet!#REF!,CalculationSheet!#REF!,\"\")","v":{"$error":"#REF!"}},{"$f":"IF(AND($B40<=CalculationSheet!#REF!,dashboard!$Z$1=1),CalculationSheet!F21,#N/A)","v":{"$error":"#REF!"}},{"$f":"IF(AND($B40<=CalculationSheet!#REF!,dashboard!Z$1=1),CalculationSheet!I21,#N/A)","v":{"$error":"#REF!"}},{"$f":"IF(CalculationSheet!C21<>\"\",CalculationSheet!C21,#N/A)","v":1.8459600304639178E-2},{"$f":"CalculationSheet!F21","v":1.9062663599960283E-2},{"$f":"CalculationSheet!I21","v":1.9093958083276838E-2},7]
[9,29,{"$f":"IF(B41<=CalculationSheet!#REF!,CalculationSheet!#REF!,\"\")","v":{"$error":"#REF!"}},{"$f":"IF(AND($B41<=CalculationSheet!#REF!,dashboard!$Z$1=1),CalculationSheet!F22,#N/A)","v":{"$error":"#REF!"}},{"$f":"IF(AND($B41<=CalculationSheet!#REF!,dashboard!Z$1=1),CalculationSheet!I22,#N/A)","v":{"$error":"#REF!"}},{"$f":"IF(CalculationSheet!C22<>\"\",CalculationSheet!C22,#N/A)","v":1.8590408746069247E-2},{"$f":"CalculationSheet!F22","v":1.9181380591457478E-2},{"$f":"CalculationSheet!I22","v":1.9186948331543892E-2},8]
[10,30,{"$f":"IF(B42<=CalculationSheet!#REF!,CalculationSheet!#REF!,\"\")","v":{"$error":"#REF!"}},{"$f":"IF(AND($B42<=CalculationSheet!#REF!,dashboard!$Z$1=1),CalculationSheet!F23,#N/A)","v":{"$error":"#REF!"}},{"$f":"IF(AND($B42<=CalculationSheet!#REF!,dashboard!Z$1=1),CalculationSheet!I23,#N/A)","v":{"$error":"#REF!"}},{"$f":"IF(CalculationSheet!C23<>\"\",CalculationSheet!C23,#N/A)","v":1.8943657886735219E-2},{"$f":"CalculationSheet!F23","v":1.9300097582954676E-2},{"$f":"CalculationSheet!I23","v":1.9275400624056551E-2},9]
[11,31,{"$f":"IF(B43<=CalculationSheet!#REF!,CalculationSheet!#REF!,\"\")","v":{"$error":"#REF!"}},{"$f":"IF(AND($B43<=CalculationSheet!#REF!,dashboard!$Z$1=1),CalculationSheet!F24,#N/A)","v":{"$error":"#REF!"}},{"$f":"IF(AND($B43<=CalculationSheet!#REF!,dashboard!Z$1=1),CalculationSheet!I24,#N/A)","v":{"$error":"#REF!"}},{"$f":"IF(CalculationSheet!C24<>\"\",CalculationSheet!C24,#N/A)","v":{"$error":"#N/A"}},{"$f":"CalculationSheet!F24","v":1.9418814574451874E-2},{"$f":"CalculationSheet!I24","v":1.9359737336192666E-2},10]
[]
["Register","List",null,"Register for Graph: (weighted by prev deflator)","List for graph weighted by deflator"]
[{"$f":"IF(dashboard!$Z$1=1,CalculationSheet!L115,CalculationSheet!B115)","v":1},{"$f":"IF(dashboard!$Z$1=1,CalculationSheet!O115,CalculationSheet!I115)","v":{"$error":"#DIV/0!"}},null,{"$f":"populationFunnel!$K$15*A70","v":1},{"$f":"populationFunnel!$K$15*B70","v":{"$error":"#DIV/0!"}}]
[{"$f":"IF(dashboard!$Z$1=1,CalculationSheet!L116,CalculationSheet!B116)","v":2},{"$f":"IF(dashboard!$Z$1=1,CalculationSheet!O116,CalculationSheet!I116)","v":{"$error":"#DIV/0!"}},null,{"$f":"populationFunnel!$K$15*A71","v":2},{"$f":"populationFunnel!$K$15*B71","v":{"$error":"#DIV/0!"}},null,1]
[{"$f":"IF(dashboard!$Z$1=1,CalculationSheet!L117,CalculationSheet!B117)","v":3},{"$f":"IF(dashboard!$Z$1=1,CalculationSheet!O117,CalculationSheet!I117)","v":{"$error":"#DIV/0!"}},null,{"$f":"populationFunnel!$K$15*A72","v":3},{"$f":"populationFunnel!$K$15*B72","v":{"$error":"#DIV/0!"}},null,2]
[{"$f":"IF(dashboard!$Z$1=1,CalculationSheet!L118,CalculationSheet!B118)","v":4},{"$f":"IF(dashboard!$Z$1=1,CalculationSheet!O118,CalculationSheet!I118)","v":{"$error":"#DIV/0!"}},null,{"$f":"populationFunnel!$K$15*A73","v":4},{"$f":"populationFunnel!$K$15*B73","v":{"$error":"#DIV/0!"}},null,3]
[{"$f":"IF(dashboard!$Z$1=1,CalculationSheet!L119,CalculationSheet!B119)","v":5},{"$f":"IF(dashboard!$Z$1=1,CalculationSheet!O119,CalculationSheet!I119)","v":{"$error":"#DIV/0!"}},null,{"$f":"populationFunnel!$K$15*A74","v":5},{"$f":"populationFunnel!$K$15*B74","v":{"$error":"#DIV/0!"}},null,4]
[{"$f":"IF(dashboard!$Z$1=1,CalculationSheet!L120,CalculationSheet!B120)","v":6},{"$f":"IF(dashboard!$Z$1=1,CalculationSheet!O120,CalculationSheet!I120)","v":{"$error":"#DIV/0!"}},null,{"$f":"populationFunnel!$K$15*A75","v":6},{"$f":"populationFunnel!$K$15*B75","v":{"$error":"#DIV/0!"}},null,5]
[{"$f":"IF(dashboard!$Z$1=1,CalculationSheet!L121,CalculationSheet!B121)","v":7},{"$f":"IF(dashboard!$Z$1=1,CalculationSheet!O121,CalculationSheet!I121)","v":{"$error":"#DIV/0!"}},null,{"$f":"populationFunnel!$K$15*A76","v":7},{"$f":"populationFunnel!$K$15*B76","v":{"$error":"#DIV/0!"}},null,6]
[{"$f":"IF(dashboard!$Z$1=1,CalculationSheet!L122,CalculationSheet!B122)","v":8},{"$f":"IF(dashboard!$Z$1=1,CalculationSheet!O122,CalculationSheet!I122)","v":{"$error":"#DIV/0!"}},null,{"$f":"populationFunnel!$K$15*A77","v":8},{"$f":"populationFunnel!$K$15*B77","v":{"$error":"#DIV/0!"}},null,7]
[{"$f":"IF(dashboard!$Z$1=1,CalculationSheet!L123,CalculationSheet!B123)","v":9},{"$f":"IF(dashboard!$Z$1=1,CalculationSheet!O123,CalculationSheet!I123)","v":{"$error":"#DIV/0!"}},null,{"$f":"populationFunnel!$K$15*A78","v":9},{"$f":"populationFunnel!$K$15*B78","v":{"$error":"#DIV/0!"}},null,8]
[{"$f":"IF(dashboard!$Z$1=1,CalculationSheet!L124,CalculationSheet!B124)","v":10},{"$f":"IF(dashboard!$Z$1=1,CalculationSheet!O124,CalculationSheet!I124)","v":{"$error":"#DIV/0!"}},null,{"$f":"populationFunnel!$K$15*A79","v":10},{"$f":"populationFunnel!$K$15*B79","v":{"$error":"#DIV/0!"}},null,9]
[{"$f":"IF(dashboard!$Z$1=1,CalculationSheet!L125,CalculationSheet!B125)","v":11},{"$f":"IF(dashboard!$Z$1=1,CalculationSheet!O125,CalculationSheet!I125)","v":{"$error":"#DIV/0!"}},null,{"$f":"populationFunnel!$K$15*A80","v":11},{"$f":"populationFunnel!$K$15*B80","v":{"$error":"#DIV/0!"}},null,10]
[{"$f":"IF(dashboard!$Z$1=1,CalculationSheet!L126,CalculationSheet!B126)","v":12},{"$f":"IF(dashboard!$Z$1=1,CalculationSheet!O126,CalculationSheet!I126)","v":{"$error":"#DIV/0!"}},null,{"$f":"populationFunnel!$K$15*A81","v":12},{"$f":"populationFunnel!$K$15*B81","v":{"$error":"#DIV/0!"}},null,11]
[]
[null,"PR Eligibility","PR Referral","PR Uptake","PR Completion"]
[null,{"$f":"populationFunnel!$K$23*graphData!D70","v":0.27210000000000001},{"$f":"populationFunnel!$K$27*B84","v":6.1331339999999998E-2},{"$f":"populationFunnel!$K$33*C84","v":1.8589529153999997E-2},{"$f":"populationFunnel!$K$38*D84","v":1.2823619097537407E-2}]
[null,{"$f":"populationFunnel!$K$23*graphData!D71","v":0.54420000000000002},{"$f":"populationFunnel!$K$27*B85","v":0.12266268},{"$f":"populationFunnel!$K$33*C85","v":3.7179058307999995E-2},{"$f":"populationFunnel!$K$38*D85","v":2.5647238195074813E-2}]
[null,{"$f":"populationFunnel!$K$23*graphData!D72","v":0.81630000000000003},{"$f":"populationFunnel!$K$27*B86","v":0.18399402000000001},{"$f":"populationFunnel!$K$33*C86","v":5.5768587462000002E-2},{"$f":"populationFunnel!$K$38*D86","v":3.847085729261223E-2}]
[null,{"$f":"populationFunnel!$K$23*graphData!D73","v":1.0884},{"$f":"populationFunnel!$K$27*B87","v":0.24532535999999999},{"$f":"populationFunnel!$K$33*C87","v":7.4358116615999989E-2},{"$f":"populationFunnel!$K$38*D87","v":5.1294476390149626E-2}]
[null,{"$f":"populationFunnel!$K$23*graphData!D74","v":1.3605},{"$f":"populationFunnel!$K$27*B88","v":0.3066567},{"$f":"populationFunnel!$K$33*C88","v":9.294764576999999E-2},{"$f":"populationFunnel!$K$38*D88","v":6.411809548768703E-2}]
[null,{"$f":"populationFunnel!$K$23*graphData!D75","v":1.6326000000000001},{"$f":"populationFunnel!$K$27*B89","v":0.36798804000000002},{"$f":"populationFunnel!$K$33*C89","v":0.111537174924},{"$f":"populationFunnel!$K$38*D89","v":7.694171458522446E-2}]
[null,{"$f":"populationFunnel!$K$23*graphData!D76","v":1.9047000000000001},{"$f":"populationFunnel!$K$27*B90","v":0.42931937999999997},{"$f":"populationFunnel!$K$33*C90","v":0.13012670407799998},{"$f":"populationFunnel!$K$38*D90","v":8.976533368276185E-2}]
[null,{"$f":"populationFunnel!$K$23*graphData!D77","v":2.1768000000000001},{"$f":"populationFunnel!$K$27*B91","v":0.49065071999999998},{"$f":"populationFunnel!$K$33*C91","v":0.14871623323199998},{"$f":"populationFunnel!$K$38*D91","v":0.10258895278029925}]
[null,{"$f":"populationFunnel!$K$23*graphData!D78","v":2.4489000000000001},{"$f":"populationFunnel!$K$27*B92","v":0.55198205999999994},{"$f":"populationFunnel!$K$33*C92","v":0.16730576238599998},{"$f":"populationFunnel!$K$38*D92","v":0.11541257187783667}]
[null,{"$f":"populationFunnel!$K$23*graphData!D79","v":2.7210000000000001},{"$f":"populationFunnel!$K$27*B93","v":0.61331340000000001},{"$f":"populationFunnel!$K$33*C93","v":0.18589529153999998},{"$f":"populationFunnel!$K$38*D93","v":0.12823619097537406}]
[null,{"$f":"populationFunnel!$K$23*graphData!D80","v":2.9931000000000001},{"$f":"populationFunnel!$K$27*B94","v":0.67464473999999997},{"$f":"populationFunnel!$K$33*C94","v":0.20448482069399998},{"$f":"populationFunnel!$K$38*D94","v":0.14105981007291149}]
[null,{"$f":"populationFunnel!$K$23*graphData!D81","v":3.2652000000000001},{"$f":"populationFunnel!$K$27*B95","v":0.73597608000000003},{"$f":"populationFunnel!$K$33*C95","v":0.22307434984800001},{"$f":"populationFunnel!$K$38*D95","v":0.15388342917044892}]

{"sheet":"QoFData_Covariates","index":40,"n_rows":3,"n_cols":12,"rows_kept":3,"cut":false,"hidden":true,"merged":[]}
[null,null,null,null,null,null,null,"Mean Age","% Male","Coefficient 3","Coefficient 4","Coefficient 5"]
["Population level","ICS","Region","Time stamp","List size","Incidence","Prevalence","Age","Gender","Depreviation: 0-X","Depreviation: X-Y"]
["GP/PCN/etc.","Local ICS","North",null,null,"Need incidence as % of QOF list size","Need prevalence as a % from QOF"]

{"sheet":"dataLookup1","index":41,"n_rows":16,"n_cols":74,"rows_kept":16,"cut":false,"hidden":true,"merged":[]}
[null,"Tier 1","Tier 2","Tier 3","Tier 4"]
["Index",2,0,0,0]
["Start row",null,{"$f":"IF(C2=0,\"\",OFFSET(newDataPrevalence2!B1,C2,0))","v":""},{"$f":"IF(D2=0,\"\",_xlfn.XLOOKUP(B$11,newDataPrevalence2!$AA:$AA,newDataPrevalence2!AB:AB))","v":""}]
["End row",null,{"$f":"IF(C2=0,\"\",OFFSET(newDataPrevalence2!C1,C2,0))","v":""},{"$f":"IF(D3=0,\"\",_xlfn.XLOOKUP(B$11,newDataPrevalence2!$AA:$AA,newDataPrevalence2!AC:AC))","v":{"$error":"#N/A"}}]
[]
[]
["Prevalence",null,null,null,null,null,null,null,null,null,null,null,null,null,null,null,null,null,null,null,null,null,null,null,null,"List size",null,null,null,null,null,null,null,null,null,null,null,null,null,null,null,null,null,null,null,null,null,null,null,null,"Register size"]
[null,null,null,2005,{"$f":"D8+1","v":2006},{"$f":"E8+1","v":2007},2008,2009,2010,2011,2012,2013,2014,2015,2016,2017,2018,2019,2020,2021,2022,2023,2024,2025,null,null,null,null,2005,2006,2007,2008,2009,2010,2011,2012,2013,2014,2015,2016,2017,2018,2019,2020,2021,2022,2023,2024,2025,null,null,null,null,2005,2006,2007,2008,2009,2010,2011,2012,2013,2014,2015,2016,2017,2018,2019,2020,2021,2022,2023,2024,2025]
["Tier 1","England",null,{"$f":"newDataPrevalence2!D9","v":1.3574000904236858E-2},{"$f":"newDataPrevalence2!E9","v":1.3769808795495731E-2},{"$f":"newDataPrevalence2!F9","v":1.42701054062604E-2},{"$f":"newDataPrevalence2!G9","v":1.4811323125036488E-2},{"$f":"newDataPrevalence2!H9","v":1.5371204857106795E-2},{"$f":"newDataPrevalence2!I9","v":1.5715368038153699E-2},{"$f":"newDataPrevalence2!J9","v":1.6303249138221326E-2},{"$f":"newDataPrevalence2!K9","v":1.6910118217668732E-2},{"$f":"newDataPrevalence2!L9","v":1.7417470693712359E-2},{"$f":"newDataPrevalence2!M9","v":1.78530838630057E-2},{"$f":"newDataPrevalence2!N9","v":1.8221780033899907E-2},{"$f":"newDataPrevalence2!O9","v":1.8543572085199255E-2},{"$f":"newDataPrevalence2!P9","v":1.8758962994875339E-2},{"$f":"newDataPrevalence2!Q9","v":1.9035283163847731E-2},{"$f":"newDataPrevalence2!R9","v":1.9280181077661305E-2},{"$f":"newDataPrevalence2!S9","v":1.9395570684980306E-2},{"$f":"newDataPrevalence2!T9","v":1.9292081358941528E-2},{"$f":"newDataPrevalence2!U9","v":1.8696348823884715E-2},{"$f":"newDataPrevalence2!V9","v":1.8459600304639178E-2},{"$f":"newDataPrevalence2!W9","v":1.8590408746069247E-2},{"$f":"newDataPrevalence2!X9","v":1.8943657886735219E-2},null,"Tier 1","England",null,{"$f":"newDataList3!$D9","v":52928610},{"$f":"newDataList3!E9","v":53311924},{"$f":"newDataList3!F9","v":53782574},{"$f":"newDataList3!G9","v":54128520},{"$f":"newDataList3!H9","v":54429110},{"$f":"newDataList3!I9","v":54955824},{"$f":"newDataList3!J9","v":55283336},{"$f":"newDataList3!K9","v":55641598},{"$f":"newDataList3!L9","v":56129849},{"$f":"newDataList3!M9","v":56435516},{"$f":"newDataList3!N9","v":56937028},{"$f":"newDataList3!O9","v":57673462},{"$f":"newDataList3!P9","v":58145325},{"$f":"newDataList3!Q9","v":59057671.5},{"$f":"newDataList3!R9","v":59513912},{"$f":"newDataList3!S9","v":60531346},{"$f":"newDataList3!T9","v":60836878},{"$f":"newDataList3!U9","v":61556083},{"$f":"newDataList3!V9","v":62378057},{"$f":"newDataList3!W9","v":63213403},{"$f":"newDataList3!X9","v":63766671},null,"Tier 1","England",null,{"$f":"newDataRegister4!D9","v":718453},{"$f":"newDataRegister4!E9","v":734095},{"$f":"newDataRegister4!F9","v":767483},{"$f":"newDataRegister4!G9","v":801715},{"$f":"newDataRegister4!H9","v":836641},{"$f":"newDataRegister4!I9","v":863651},{"$f":"newDataRegister4!J9","v":901298},{"$f":"newDataRegister4!K9","v":940906},{"$f":"newDataRegister4!L9","v":977640},{"$f":"newDataRegister4!M9","v":1007548},{"$f":"newDataRegister4!N9","v":1037494},{"$f":"newDataRegister4!O9","v":1069472},{"$f":"newDataRegister4!P9","v":1090746},{"$f":"newDataRegister4!Q9","v":1124179.5},{"$f":"newDataRegister4!R9","v":1147439},{"$f":"newDataRegister4!S9","v":1174040},{"$f":"newDataRegister4!T9","v":1173670},{"$f":"newDataRegister4!U9","v":1150874},{"$f":"newDataRegister4!V9","v":1151474},{"$f":"newDataRegister4!W9","v":1175163},{"$f":"newDataRegister4!X9","v":1207974}]
["Tier 2",{"$f":"IF($C$2=0,\"\",INDEX(newDataPrevalence2!$A$2:$A$10,dataLookup1!$C$2))","v":""},null,{"$f":"IF($B10=\"\",\"\",_xlfn.XLOOKUP($B10,newDataPrevalence2!$A:$A,newDataPrevalence2!D:D))","v":""},{"$f":"IF($B10=\"\",\"\",_xlfn.XLOOKUP($B10,newDataPrevalence2!$A:$A,newDataPrevalence2!E:E))","v":""},{"$f":"IF($B10=\"\",\"\",_xlfn.XLOOKUP($B10,newDataPrevalence2!$A:$A,newDataPrevalence2!F:F))","v":""},{"$f":"IF($B10=\"\",\"\",_xlfn.XLOOKUP($B10,newDataPrevalence2!$A:$A,newDataPrevalence2!G:G))","v":""},{"$f":"IF($B10=\"\",\"\",_xlfn.XLOOKUP($B10,newDataPrevalence2!$A:$A,newDataPrevalence2!H:H))","v":""},{"$f":"IF($B10=\"\",\"\",_xlfn.XLOOKUP($B10,newDataPrevalence2!$A:$A,newDataPrevalence2!I:I))","v":""},{"$f":"IF($B10=\"\",\"\",_xlfn.XLOOKUP($B10,newDataPrevalence2!$A:$A,newDataPrevalence2!J:J))","v":""},{"$f":"IF($B10=\"\",\"\",_xlfn.XLOOKUP($B10,newDataPrevalence2!$A:$A,newDataPrevalence2!K:K))","v":""},{"$f":"IF($B10=\"\",\"\",_xlfn.XLOOKUP($B10,newDataPrevalence2!$A:$A,newDataPrevalence2!L:L))","v":""},{"$f":"IF($B10=\"\",\"\",_xlfn.XLOOKUP($B10,newDataPrevalence2!$A:$A,newDataPrevalence2!M:M))","v":""},{"$f":"IF($B10=\"\",\"\",_xlfn.XLOOKUP($B10,newDataPrevalence2!$A:$A,newDataPrevalence2!N:N))","v":""},{"$f":"IF($B10=\"\",\"\",_xlfn.XLOOKUP($B10,newDataPrevalence2!$A:$A,newDataPrevalence2!O:O))","v":""},{"$f":"IF($B10=\"\",\"\",_xlfn.XLOOKUP($B10,newDataPrevalence2!$A:$A,newDataPrevalence2!P:P))","v":""},{"$f":"IF($B10=\"\",\"\",_xlfn.XLOOKUP($B10,newDataPrevalence2!$A:$A,newDataPrevalence2!Q:Q))","v":""},{"$f":"IF($B10=\"\",\"\",_xlfn.XLOOKUP($B10,newDataPrevalence2!$A:$A,newDataPrevalence2!R:R))","v":""},{"$f":"IF($B10=\"\",\"\",_xlfn.XLOOKUP($B10,newDataPrevalence2!$A:$A,newDataPrevalence2!S:S))","v":""},{"$f":"IF($B10=\"\",\"\",_xlfn.XLOOKUP($B10,newDataPrevalence2!$A:$A,newDataPrevalence2!T:T))","v":""},{"$f":"IF($B10=\"\",\"\",_xlfn.XLOOKUP($B10,newDataPrevalence2!$A:$A,newDataPrevalence2!U:U))","v":""},{"$f":"IF($B10=\"\",\"\",_xlfn.XLOOKUP($B10,newDataPrevalence2!$A:$A,newDataPrevalence2!V:V))","v":""},{"$f":"IF($B10=\"\",\"\",_xlfn.XLOOKUP($B10,newDataPrevalence2!$A:$A,newDataPrevalence2!W:W))","v":""},{"$f":"IF($B10=\"\",\"\",_xlfn.XLOOKUP($B10,newDataPrevalence2!$A:$A,newDataPrevalence2!X:X))","v":""},null,"Tier 2",{"$f":"IF($C$2=0,\"\",INDEX(newDataPrevalence2!$A$2:$A$10,dataLookup1!$C$2))","v":""},null,{"$f":"IF($B10=\"\",\"\",_xlfn.XLOOKUP($B10,newDataList3!$A:$A,newDataList3!D:D))","v":""},{"$f":"IF($B10=\"\",\"\",_xlfn.XLOOKUP($B10,newDataList3!$A:$A,newDataList3!E:E))","v":""},{"$f":"IF($B10=\"\",\"\",_xlfn.XLOOKUP($B10,newDataList3!$A:$A,newDataList3!F:F))","v":""},{"$f":"IF($B10=\"\",\"\",_xlfn.XLOOKUP($B10,newDataList3!$A:$A,newDataList3!G:G))","v":""},{"$f":"IF($B10=\"\",\"\",_xlfn.XLOOKUP($B10,newDataList3!$A:$A,newDataList3!H:H))","v":""},{"$f":"IF($B10=\"\",\"\",_xlfn.XLOOKUP($B10,newDataList3!$A:$A,newDataList3!I:I))","v":""},{"$f":"IF($B10=\"\",\"\",_xlfn.XLOOKUP($B10,newDataList3!$A:$A,newDataList3!J:J))","v":""},{"$f":"IF($B10=\"\",\"\",_xlfn.XLOOKUP($B10,newDataList3!$A:$A,newDataList3!K:K))","v":""},{"$f":"IF($B10=\"\",\"\",_xlfn.XLOOKUP($B10,newDataList3!$A:$A,newDataList3!L:L))","v":""},{"$f":"IF($B10=\"\",\"\",_xlfn.XLOOKUP($B10,newDataList3!$A:$A,newDataList3!M:M))","v":""},{"$f":"IF($B10=\"\",\"\",_xlfn.XLOOKUP($B10,newDataList3!$A:$A,newDataList3!N:N))","v":""},{"$f":"IF($B10=\"\",\"\",_xlfn.XLOOKUP($B10,newDataList3!$A:$A,newDataList3!O:O))","v":""},{"$f":"IF($B10=\"\",\"\",_xlfn.XLOOKUP($B10,newDataList3!$A:$A,newDataList3!P:P))","v":""},{"$f":"IF($B10=\"\",\"\",_xlfn.XLOOKUP($B10,newDataList3!$A:$A,newDataList3!Q:Q))","v":""},{"$f":"IF($B10=\"\",\"\",_xlfn.XLOOKUP($B10,newDataList3!$A:$A,newDataList3!R:R))","v":""},{"$f":"IF($B10=\"\",\"\",_xlfn.XLOOKUP($B10,newDataList3!$A:$A,newDataList3!S:S))","v":""},{"$f":"IF($B10=\"\",\"\",_xlfn.XLOOKUP($B10,newDataList3!$A:$A,newDataList3!T:T))","v":""},{"$f":"IF($B10=\"\",\"\",_xlfn.XLOOKUP($B10,newDataList3!$A:$A,newDataList3!U:U))","v":""},{"$f":"IF($B10=\"\",\"\",_xlfn.XLOOKUP($B10,newDataList3!$A:$A,newDataList3!V:V))","v":""},{"$f":"IF($B10=\"\",\"\",_xlfn.XLOOKUP($B10,newDataList3!$A:$A,newDataList3!W:W))","v":""},{"$f":"IF($B10=\"\",\"\",_xlfn.XLOOKUP($B10,newDataList3!$A:$A,newDataList3!X:X))","v":""},null,"Tier 2",{"$f":"IF($C$2=0,\"\",INDEX(newDataPrevalence2!$A$2:$A$10,dataLookup1!$C$2))","v":""},null,{"$f":"IF($B10=\"\",\"\",_xlfn.XLOOKUP($B10,newDataRegister4!$A:$A,newDataRegister4!D:D))","v":""},{"$f":"IF($B10=\"\",\"\",_xlfn.XLOOKUP($B10,newDataRegister4!$A:$A,newDataRegister4!E:E))","v":""},{"$f":"IF($B10=\"\",\"\",_xlfn.XLOOKUP($B10,newDataRegister4!$A:$A,newDataRegister4!F:F))","v":""},{"$f":"IF($B10=\"\",\"\",_xlfn.XLOOKUP($B10,newDataRegister4!$A:$A,newDataRegister4!G:G))","v":""},{"$f":"IF($B10=\"\",\"\",_xlfn.XLOOKUP($B10,newDataRegister4!$A:$A,newDataRegister4!H:H))","v":""},{"$f":"IF($B10=\"\",\"\",_xlfn.XLOOKUP($B10,newDataRegister4!$A:$A,newDataRegister4!I:I))","v":""},{"$f":"IF($B10=\"\",\"\",_xlfn.XLOOKUP($B10,newDataRegister4!$A:$A,newDataRegister4!J:J))","v":""},{"$f":"IF($B10=\"\",\"\",_xlfn.XLOOKUP($B10,newDataRegister4!$A:$A,newDataRegister4!K:K))","v":""},{"$f":"IF($B10=\"\",\"\",_xlfn.XLOOKUP($B10,newDataRegister4!$A:$A,newDataRegister4!L:L))","v":""},{"$f":"IF($B10=\"\",\"\",_xlfn.XLOOKUP($B10,newDataRegister4!$A:$A,newDataRegister4!M:M))","v":""},{"$f":"IF($B10=\"\",\"\",_xlfn.XLOOKUP($B10,newDataRegister4!$A:$A,newDataRegister4!N:N))","v":""},{"$f":"IF($B10=\"\",\"\",_xlfn.XLOOKUP($B10,newDataRegister4!$A:$A,newDataRegister4!O:O))","v":""},{"$f":"IF($B10=\"\",\"\",_xlfn.XLOOKUP($B10,newDataRegister4!$A:$A,newDataRegister4!P:P))","v":""},{"$f":"IF($B10=\"\",\"\",_xlfn.XLOOKUP($B10,newDataRegister4!$A:$A,newDataRegister4!Q:Q))","v":""},{"$f":"IF($B10=\"\",\"\",_xlfn.XLOOKUP($B10,newDataRegister4!$A:$A,newDataRegister4!R:R))","v":""},{"$f":"IF($B10=\"\",\"\",_xlfn.XLOOKUP($B10,newDataRegister4!$A:$A,newDataRegister4!S:S))","v":""},{"$f":"IF($B10=\"\",\"\",_xlfn.XLOOKUP($B10,newDataRegister4!$A:$A,newDataRegister4!T:T))","v":""},{"$f":"IF($B10=\"\",\"\",_xlfn.XLOOKUP($B10,newDataRegister4!$A:$A,newDataRegister4!U:U))","v":""},{"$f":"IF($B10=\"\",\"\",_xlfn.XLOOKUP($B10,newDataRegister4!$A:$A,newDataRegister4!V:V))","v":""},{"$f":"IF($B10=\"\",\"\",_xlfn.XLOOKUP($B10,newDataRegister4!$A:$A,newDataRegister4!W:W))","v":""},{"$f":"IF($B10=\"\",\"\",_xlfn.XLOOKUP($B10,newDataRegister4!$A:$A,newDataRegister4!X:X))","v":""}]
["Tier 3",{"$f":"IF($D2=0,\"\",INDEX(OFFSET(newDataPrevalence2!$AA1,$C3-1,0):OFFSET(newDataPrevalence2!$AA$1,$C4-1,0),$D2))","v":""},null,{"$f":"IF($B11=\"\",\"\",_xlfn.XLOOKUP($B11,newDataPrevalence2!$AA:$AA,newDataPrevalence2!AD:AD))","v":""},{"$f":"IF($B11=\"\",\"\",_xlfn.XLOOKUP($B11,newDataPrevalence2!$AA:$AA,newDataPrevalence2!AE:AE))","v":""},{"$f":"IF($B11=\"\",\"\",_xlfn.XLOOKUP($B11,newDataPrevalence2!$AA:$AA,newDataPrevalence2!AF:AF))","v":""},{"$f":"IF($B11=\"\",\"\",_xlfn.XLOOKUP($B11,newDataPrevalence2!$AA:$AA,newDataPrevalence2!AG:AG))","v":""},{"$f":"IF($B11=\"\",\"\",_xlfn.XLOOKUP($B11,newDataPrevalence2!$AA:$AA,newDataPrevalence2!AH:AH))","v":""},{"$f":"IF($B11=\"\",\"\",_xlfn.XLOOKUP($B11,newDataPrevalence2!$AA:$AA,newDataPrevalence2!AI:AI))","v":""},{"$f":"IF($B11=\"\",\"\",_xlfn.XLOOKUP($B11,newDataPrevalence2!$AA:$AA,newDataPrevalence2!AJ:AJ))","v":""},{"$f":"IF($B11=\"\",\"\",_xlfn.XLOOKUP($B11,newDataPrevalence2!$AA:$AA,newDataPrevalence2!AK:AK))","v":""},{"$f":"IF($B11=\"\",\"\",_xlfn.XLOOKUP($B11,newDataPrevalence2!$AA:$AA,newDataPrevalence2!AL:AL))","v":""},{"$f":"IF($B11=\"\",\"\",_xlfn.XLOOKUP($B11,newDataPrevalence2!$AA:$AA,newDataPrevalence2!AM:AM))","v":""},{"$f":"IF($B11=\"\",\"\",_xlfn.XLOOKUP($B11,newDataPrevalence2!$AA:$AA,newDataPrevalence2!AN:AN))","v":""},{"$f":"IF($B11=\"\",\"\",_xlfn.XLOOKUP($B11,newDataPrevalence2!$AA:$AA,newDataPrevalence2!AO:AO))","v":""},{"$f":"IF($B11=\"\",\"\",_xlfn.XLOOKUP($B11,newDataPrevalence2!$AA:$AA,newDataPrevalence2!AP:AP))","v":""},{"$f":"IF($B11=\"\",\"\",_xlfn.XLOOKUP($B11,newDataPrevalence2!$AA:$AA,newDataPrevalence2!AQ:AQ))","v":""},{"$f":"IF($B11=\"\",\"\",_xlfn.XLOOKUP($B11,newDataPrevalence2!$AA:$AA,newDataPrevalence2!AR:AR))","v":""},{"$f":"IF($B11=\"\",\"\",_xlfn.XLOOKUP($B11,newDataPrevalence2!$AA:$AA,newDataPrevalence2!AS:AS))","v":""},{"$f":"IF($B11=\"\",\"\",_xlfn.XLOOKUP($B11,newDataPrevalence2!$AA:$AA,newDataPrevalence2!AT:AT))","v":""},{"$f":"IF($B11=\"\",\"\",_xlfn.XLOOKUP($B11,newDataPrevalence2!$AA:$AA,newDataPrevalence2!AU:AU))","v":""},{"$f":"IF($B11=\"\",\"\",_xlfn.XLOOKUP($B11,newDataPrevalence2!$AA:$AA,newDataPrevalence2!AV:AV))","v":""},{"$f":"IF($B11=\"\",\"\",_xlfn.XLOOKUP($B11,newDataPrevalence2!$AA:$AA,newDataPrevalence2!AW:AW))","v":""},{"$f":"IF($B11=\"\",\"\",_xlfn.XLOOKUP($B11,newDataPrevalence2!$AA:$AA,newDataPrevalence2!AX:AX))","v":""},null,"Tier 3",{"$f":"IF($D2=0,\"\",INDEX(OFFSET(newDataPrevalence2!$AA1,$C3-1,0):OFFSET(newDataPrevalence2!$AA$1,$C4-1,0),$D2))","v":""},null,{"$f":"IF($B11=\"\",\"\",_xlfn.XLOOKUP($B11,newDataList3!$AA:$AA,newDataList3!AD:AD))","v":""},{"$f":"IF($B11=\"\",\"\",_xlfn.XLOOKUP($B11,newDataList3!$AA:$AA,newDataList3!AE:AE))","v":""},{"$f":"IF($B11=\"\",\"\",_xlfn.XLOOKUP($B11,newDataList3!$AA:$AA,newDataList3!AF:AF))","v":""},{"$f":"IF($B11=\"\",\"\",_xlfn.XLOOKUP($B11,newDataList3!$AA:$AA,newDataList3!AG:AG))","v":""},{"$f":"IF($B11=\"\",\"\",_xlfn.XLOOKUP($B11,newDataList3!$AA:$AA,newDataList3!AH:AH))","v":""},{"$f":"IF($B11=\"\",\"\",_xlfn.XLOOKUP($B11,newDataList3!$AA:$AA,newDataList3!AI:AI))","v":""},{"$f":"IF($B11=\"\",\"\",_xlfn.XLOOKUP($B11,newDataList3!$AA:$AA,newDataList3!AJ:AJ))","v":""},{"$f":"IF($B11=\"\",\"\",_xlfn.XLOOKUP($B11,newDataList3!$AA:$AA,newDataList3!AK:AK))","v":""},{"$f":"IF($B11=\"\",\"\",_xlfn.XLOOKUP($B11,newDataList3!$AA:$AA,newDataList3!AL:AL))","v":""},{"$f":"IF($B11=\"\",\"\",_xlfn.XLOOKUP($B11,newDataList3!$AA:$AA,newDataList3!AM:AM))","v":""},{"$f":"IF($B11=\"\",\"\",_xlfn.XLOOKUP($B11,newDataList3!$AA:$AA,newDataList3!AN:AN))","v":""},{"$f":"IF($B11=\"\",\"\",_xlfn.XLOOKUP($B11,newDataList3!$AA:$AA,newDataList3!AO:AO))","v":""},{"$f":"IF($B11=\"\",\"\",_xlfn.XLOOKUP($B11,newDataList3!$AA:$AA,newDataList3!AP:AP))","v":""},{"$f":"IF($B11=\"\",\"\",_xlfn.XLOOKUP($B11,newDataList3!$AA:$AA,newDataList3!AQ:AQ))","v":""},{"$f":"IF($B11=\"\",\"\",_xlfn.XLOOKUP($B11,newDataList3!$AA:$AA,newDataList3!AR:AR))","v":""},{"$f":"IF($B11=\"\",\"\",_xlfn.XLOOKUP($B11,newDataList3!$AA:$AA,newDataList3!AS:AS))","v":""},{"$f":"IF($B11=\"\",\"\",_xlfn.XLOOKUP($B11,newDataList3!$AA:$AA,newDataList3!AT:AT))","v":""},{"$f":"IF($B11=\"\",\"\",_xlfn.XLOOKUP($B11,newDataList3!$AA:$AA,newDataList3!AU:AU))","v":""},{"$f":"IF($B11=\"\",\"\",_xlfn.XLOOKUP($B11,newDataList3!$AA:$AA,newDataList3!AV:AV))","v":""},{"$f":"IF($B11=\"\",\"\",_xlfn.XLOOKUP($B11,newDataList3!$AA:$AA,newDataList3!AW:AW))","v":""},{"$f":"IF($B11=\"\",\"\",_xlfn.XLOOKUP($B11,newDataList3!$AA:$AA,newDataList3!AX:AX))","v":""},null,"Tier 3",{"$f":"IF($D2=0,\"\",INDEX(OFFSET(newDataPrevalence2!$AA1,$C3-1,0):OFFSET(newDataPrevalence2!$AA$1,$C4-1,0),$D2))","v":""},null,{"$f":"IF($B11=\"\",\"\",_xlfn.XLOOKUP($B11,newDataRegister4!$AA:$AA,newDataRegister4!AD:AD))","v":""},{"$f":"IF($B11=\"\",\"\",_xlfn.XLOOKUP($B11,newDataRegister4!$AA:$AA,newDataRegister4!AE:AE))","v":""},{"$f":"IF($B11=\"\",\"\",_xlfn.XLOOKUP($B11,newDataRegister4!$AA:$AA,newDataRegister4!AF:AF))","v":""},{"$f":"IF($B11=\"\",\"\",_xlfn.XLOOKUP($B11,newDataRegister4!$AA:$AA,newDataRegister4!AG:AG))","v":""},{"$f":"IF($B11=\"\",\"\",_xlfn.XLOOKUP($B11,newDataRegister4!$AA:$AA,newDataRegister4!AH:AH))","v":""},{"$f":"IF($B11=\"\",\"\",_xlfn.XLOOKUP($B11,newDataRegister4!$AA:$AA,newDataRegister4!AI:AI))","v":""},{"$f":"IF($B11=\"\",\"\",_xlfn.XLOOKUP($B11,newDataRegister4!$AA:$AA,newDataRegister4!AJ:AJ))","v":""},{"$f":"IF($B11=\"\",\"\",_xlfn.XLOOKUP($B11,newDataRegister4!$AA:$AA,newDataRegister4!AK:AK))","v":""},{"$f":"IF($B11=\"\",\"\",_xlfn.XLOOKUP($B11,newDataRegister4!$AA:$AA,newDataRegister4!AL:AL))","v":""},{"$f":"IF($B11=\"\",\"\",_xlfn.XLOOKUP($B11,newDataRegister4!$AA:$AA,newDataRegister4!AM:AM))","v":""},{"$f":"IF($B11=\"\",\"\",_xlfn.XLOOKUP($B11,newDataRegister4!$AA:$AA,newDataRegister4!AN:AN))","v":""},{"$f":"IF($B11=\"\",\"\",_xlfn.XLOOKUP($B11,newDataRegister4!$AA:$AA,newDataRegister4!AO:AO))","v":""},{"$f":"IF($B11=\"\",\"\",_xlfn.XLOOKUP($B11,newDataRegister4!$AA:$AA,newDataRegister4!AP:AP))","v":""},{"$f":"IF($B11=\"\",\"\",_xlfn.XLOOKUP($B11,newDataRegister4!$AA:$AA,newDataRegister4!AQ:AQ))","v":""},{"$f":"IF($B11=\"\",\"\",_xlfn.XLOOKUP($B11,newDataRegister4!$AA:$AA,newDataRegister4!AR:AR))","v":""},{"$f":"IF($B11=\"\",\"\",_xlfn.XLOOKUP($B11,newDataRegister4!$AA:$AA,newDataRegister4!AS:AS))","v":""},{"$f":"IF($B11=\"\",\"\",_xlfn.XLOOKUP($B11,newDataRegister4!$AA:$AA,newDataRegister4!AT:AT))","v":""},{"$f":"IF($B11=\"\",\"\",_xlfn.XLOOKUP($B11,newDataRegister4!$AA:$AA,newDataRegister4!AU:AU))","v":""},{"$f":"IF($B11=\"\",\"\",_xlfn.XLOOKUP($B11,newDataRegister4!$AA:$AA,newDataRegister4!AV:AV))","v":""},{"$f":"IF($B11=\"\",\"\",_xlfn.XLOOKUP($B11,newDataRegister4!$AA:$AA,newDataRegister4!AW:AW))","v":""},{"$f":"IF($B11=\"\",\"\",_xlfn.XLOOKUP($B11,newDataRegister4!$AA:$AA,newDataRegister4!AX:AX))","v":""}]
["Tier 4",{"$f":"IF($E2=0,\"\",INDEX(OFFSET(newDataPrevalence2!$BB$1,$D$3-1,0):OFFSET(newDataPrevalence2!$BB$1,$D$4-1,0),$E$2))","v":""},null,{"$f":"IF($B12=\"\",\"\",_xlfn.XLOOKUP($B12,newDataPrevalence2!$BB:$BB,newDataPrevalence2!BC:BC))","v":""},{"$f":"IF($B12=\"\",\"\",_xlfn.XLOOKUP($B12,newDataPrevalence2!$BB:$BB,newDataPrevalence2!BD:BD))","v":""},{"$f":"IF($B12=\"\",\"\",_xlfn.XLOOKUP($B12,newDataPrevalence2!$BB:$BB,newDataPrevalence2!BE:BE))","v":""},{"$f":"IF($B12=\"\",\"\",_xlfn.XLOOKUP($B12,newDataPrevalence2!$BB:$BB,newDataPrevalence2!BF:BF))","v":""},{"$f":"IF($B12=\"\",\"\",_xlfn.XLOOKUP($B12,newDataPrevalence2!$BB:$BB,newDataPrevalence2!BG:BG))","v":""},{"$f":"IF($B12=\"\",\"\",_xlfn.XLOOKUP($B12,newDataPrevalence2!$BB:$BB,newDataPrevalence2!BH:BH))","v":""},{"$f":"IF($B12=\"\",\"\",_xlfn.XLOOKUP($B12,newDataPrevalence2!$BB:$BB,newDataPrevalence2!BI:BI))","v":""},{"$f":"IF($B12=\"\",\"\",_xlfn.XLOOKUP($B12,newDataPrevalence2!$BB:$BB,newDataPrevalence2!BJ:BJ))","v":""},{"$f":"IF($B12=\"\",\"\",_xlfn.XLOOKUP($B12,newDataPrevalence2!$BB:$BB,newDataPrevalence2!BK:BK))","v":""},{"$f":"IF($B12=\"\",\"\",_xlfn.XLOOKUP($B12,newDataPrevalence2!$BB:$BB,newDataPrevalence2!BL:BL))","v":""},{"$f":"IF($B12=\"\",\"\",_xlfn.XLOOKUP($B12,newDataPrevalence2!$BB:$BB,newDataPrevalence2!BM:BM))","v":""},{"$f":"IF($B12=\"\",\"\",_xlfn.XLOOKUP($B12,newDataPrevalence2!$BB:$BB,newDataPrevalence2!BN:BN))","v":""},{"$f":"IF($B12=\"\",\"\",_xlfn.XLOOKUP($B12,newDataPrevalence2!$BB:$BB,newDataPrevalence2!BO:BO))","v":""},{"$f":"IF($B12=\"\",\"\",_xlfn.XLOOKUP($B12,newDataPrevalence2!$BB:$BB,newDataPrevalence2!BP:BP))","v":""},{"$f":"IF($B12=\"\",\"\",_xlfn.XLOOKUP($B12,newDataPrevalence2!$BB:$BB,newDataPrevalence2!BQ:BQ))","v":""},{"$f":"IF($B12=\"\",\"\",_xlfn.XLOOKUP($B12,newDataPrevalence2!$BB:$BB,newDataPrevalence2!BR:BR))","v":""},{"$f":"IF($B12=\"\",\"\",_xlfn.XLOOKUP($B12,newDataPrevalence2!$BB:$BB,newDataPrevalence2!BS:BS))","v":""},{"$f":"IF($B12=\"\",\"\",_xlfn.XLOOKUP($B12,newDataPrevalence2!$BB:$BB,newDataPrevalence2!BT:BT))","v":""},{"$f":"IF($B12=\"\",\"\",_xlfn.XLOOKUP($B12,newDataPrevalence2!$BB:$BB,newDataPrevalence2!BU:BU))","v":""},{"$f":"IF($B12=\"\",\"\",_xlfn.XLOOKUP($B12,newDataPrevalence2!$BB:$BB,newDataPrevalence2!BV:BV))","v":""},{"$f":"IF($B12=\"\",\"\",_xlfn.XLOOKUP($B12,newDataPrevalence2!$BB:$BB,newDataPrevalence2!BW:BW))","v":""},null,"Tier 4",{"$f":"IF($E2=0,\"\",INDEX(OFFSET(newDataPrevalence2!$BB$1,$D$3-1,0):OFFSET(newDataPrevalence2!$BB$1,$D$4-1,0),$E$2))","v":""},null,{"$f":"IF($B12=\"\",\"\",_xlfn.XLOOKUP($B12,newDataList3!$BB:$BB,newDataList3!BC:BC))","v":""},{"$f":"IF($B12=\"\",\"\",_xlfn.XLOOKUP($B12,newDataList3!$BB:$BB,newDataList3!BD:BD))","v":""},{"$f":"IF($B12=\"\",\"\",_xlfn.XLOOKUP($B12,newDataList3!$BB:$BB,newDataList3!BE:BE))","v":""},{"$f":"IF($B12=\"\",\"\",_xlfn.XLOOKUP($B12,newDataList3!$BB:$BB,newDataList3!BF:BF))","v":""},{"$f":"IF($B12=\"\",\"\",_xlfn.XLOOKUP($B12,newDataList3!$BB:$BB,newDataList3!BG:BG))","v":""},{"$f":"IF($B12=\"\",\"\",_xlfn.XLOOKUP($B12,newDataList3!$BB:$BB,newDataList3!BH:BH))","v":""},{"$f":"IF($B12=\"\",\"\",_xlfn.XLOOKUP($B12,newDataList3!$BB:$BB,newDataList3!BI:BI))","v":""},{"$f":"IF($B12=\"\",\"\",_xlfn.XLOOKUP($B12,newDataList3!$BB:$BB,newDataList3!BJ:BJ))","v":""},{"$f":"IF($B12=\"\",\"\",_xlfn.XLOOKUP($B12,newDataList3!$BB:$BB,newDataList3!BK:BK))","v":""},{"$f":"IF($B12=\"\",\"\",_xlfn.XLOOKUP($B12,newDataList3!$BB:$BB,newDataList3!BL:BL))","v":""},{"$f":"IF($B12=\"\",\"\",_xlfn.XLOOKUP($B12,newDataList3!$BB:$BB,newDataList3!BM:BM))","v":""},{"$f":"IF($B12=\"\",\"\",_xlfn.XLOOKUP($B12,newDataList3!$BB:$BB,newDataList3!BN:BN))","v":""},{"$f":"IF($B12=\"\",\"\",_xlfn.XLOOKUP($B12,newDataList3!$BB:$BB,newDataList3!BO:BO))","v":""},{"$f":"IF($B12=\"\",\"\",_xlfn.XLOOKUP($B12,newDataList3!$BB:$BB,newDataList3!BP:BP))","v":""},{"$f":"IF($B12=\"\",\"\",_xlfn.XLOOKUP($B12,newDataList3!$BB:$BB,newDataList3!BQ:BQ))","v":""},{"$f":"IF($B12=\"\",\"\",_xlfn.XLOOKUP($B12,newDataList3!$BB:$BB,newDataList3!BR:BR))","v":""},{"$f":"IF($B12=\"\",\"\",_xlfn.XLOOKUP($B12,newDataList3!$BB:$BB,newDataList3!BS:BS))","v":""},{"$f":"IF($B12=\"\",\"\",_xlfn.XLOOKUP($B12,newDataList3!$BB:$BB,newDataList3!BT:BT))","v":""},{"$f":"IF($B12=\"\",\"\",_xlfn.XLOOKUP($B12,newDataList3!$BB:$BB,newDataList3!BU:BU))","v":""},{"$f":"IF($B12=\"\",\"\",_xlfn.XLOOKUP($B12,newDataList3!$BB:$BB,newDataList3!BV:BV))","v":""},{"$f":"IF($B12=\"\",\"\",_xlfn.XLOOKUP($B12,newDataList3!$BB:$BB,newDataList3!BW:BW))","v":""},null,"Tier 4",{"$f":"IF($E2=0,\"\",INDEX(OFFSET(newDataPrevalence2!$BB$1,$D$3-1,0):OFFSET(newDataPrevalence2!$BB$1,$D$4-1,0),$E$2))","v":""},null,{"$f":"IF($B12=\"\",\"\",_xlfn.XLOOKUP($B12,newDataRegister4!$BC:$BC,newDataRegister4!BD:BD))","v":""},{"$f":"IF($B12=\"\",\"\",_xlfn.XLOOKUP($B12,newDataRegister4!$BC:$BC,newDataRegister4!BE:BE))","v":""},{"$f":"IF($B12=\"\",\"\",_xlfn.XLOOKUP($B12,newDataRegister4!$BC:$BC,newDataRegister4!BF:BF))","v":""},{"$f":"IF($B12=\"\",\"\",_xlfn.XLOOKUP($B12,newDataRegister4!$BC:$BC,newDataRegister4!BG:BG))","v":""},{"$f":"IF($B12=\"\",\"\",_xlfn.XLOOKUP($B12,newDataRegister4!$BC:$BC,newDataRegister4!BH:BH))","v":""},{"$f":"IF($B12=\"\",\"\",_xlfn.XLOOKUP($B12,newDataRegister4!$BC:$BC,newDataRegister4!BI:BI))","v":""},{"$f":"IF($B12=\"\",\"\",_xlfn.XLOOKUP($B12,newDataRegister4!$BC:$BC,newDataRegister4!BJ:BJ))","v":""},{"$f":"IF($B12=\"\",\"\",_xlfn.XLOOKUP($B12,newDataRegister4!$BC:$BC,newDataRegister4!BK:BK))","v":""},{"$f":"IF($B12=\"\",\"\",_xlfn.XLOOKUP($B12,newDataRegister4!$BC:$BC,newDataRegister4!BL:BL))","v":""},{"$f":"IF($B12=\"\",\"\",_xlfn.XLOOKUP($B12,newDataRegister4!$BC:$BC,newDataRegister4!BM:BM))","v":""},{"$f":"IF($B12=\"\",\"\",_xlfn.XLOOKUP($B12,newDataRegister4!$BC:$BC,newDataRegister4!BN:BN))","v":""},{"$f":"IF($B12=\"\",\"\",_xlfn.XLOOKUP($B12,newDataRegister4!$BC:$BC,newDataRegister4!BO:BO))","v":""},{"$f":"IF($B12=\"\",\"\",_xlfn.XLOOKUP($B12,newDataRegister4!$BC:$BC,newDataRegister4!BP:BP))","v":""},{"$f":"IF($B12=\"\",\"\",_xlfn.XLOOKUP($B12,newDataRegister4!$BC:$BC,newDataRegister4!BQ:BQ))","v":""},{"$f":"IF($B12=\"\",\"\",_xlfn.XLOOKUP($B12,newDataRegister4!$BC:$BC,newDataRegister4!BR:BR))","v":""},{"$f":"IF($B12=\"\",\"\",_xlfn.XLOOKUP($B12,newDataRegister4!$BC:$BC,newDataRegister4!BS:BS))","v":""},{"$f":"IF($B12=\"\",\"\",_xlfn.XLOOKUP($B12,newDataRegister4!$BC:$BC,newDataRegister4!BT:BT))","v":""},{"$f":"IF($B12=\"\",\"\",_xlfn.XLOOKUP($B12,newDataRegister4!$BC:$BC,newDataRegister4!BU:BU))","v":""},{"$f":"IF($B12=\"\",\"\",_xlfn.XLOOKUP($B12,newDataRegister4!$BC:$BC,newDataRegister4!BV:BV))","v":""},{"$f":"IF($B12=\"\",\"\",_xlfn.XLOOKUP($B12,newDataRegister4!$BC:$BC,newDataRegister4!BW:BW))","v":""},{"$f":"IF($B12=\"\",\"\",_xlfn.XLOOKUP($B12,newDataRegister4!$BC:$BC,newDataRegister4!BX:BX))","v":""}]
[null,null,null,{"$f":"IF($B13=\"\",\"\",_xlfn.XLOOKUP($B13,newDataPrevalence2!$BB:$BB,newDataPrevalence2!BE:BE))","v":""}]
[]
[null,"DynamicDropDown1",null,null,null,null,null,"DynamicDropDown2"]
[null,{"$f":"OFFSET(newDataPrevalence2!AA1,dataLookup1!$C$3-1,0):OFFSET(newDataPrevalence2!$AA$1,dataLookup1!$C$4-1,0)","v":{"$error":"#VALUE!"}},null,null,null,null,null,{"$f":"OFFSET(newDataPrevalence2!$BB$1,dataLookup1!$D$3-1,0):OFFSET(newDataPrevalence2!$BB$1,dataLookup1!$D$4-1,0)","v":{"$error":"#VALUE!"}}]

{"sheet":"newDataPrevalence2","index":42,"n_rows":107,"n_cols":75,"rows_kept":107,"cut":false,"hidden":false,"merged":[]}
["Region","Start Row","End Row",2005,2006,2007,2008,2009,2010,2011,2012,2013,2014,2015,2016,2017,2018,2019,2020,2021,2022,2023,2024,2025,null,"Region","ICB name","Start Row","End Row",2005,2006,2007,2008,2009,2010,2011,2012,2013,2014,2015,2016,2017,2018,2019,2020,2021,2022,2023,2024,2025,null,"Region","ICB name","Sub-ICB name",2005,2006,2007,2008,2009,2010,2011,2012,2013,2014,2015,2016,2017,2018,2019,2020,2021,2022,2023,2024,2025]
["East of England",2,{"$f":"B2+COUNTIF(Z:Z,A2)-1","v":7},{"$f":"newDataRegister4!D2/newDataList3!D2","v":1.1589864988209918E-2},{"$f":"newDataRegister4!E2/newDataList3!E2","v":1.2093857303697593E-2},{"$f":"newDataRegister4!F2/newDataList3!F2","v":1.2741706720648041E-2},{"$f":"newDataRegister4!G2/newDataList3!G2","v":1.3360904729037443E-2},{"$f":"newDataRegister4!H2/newDataList3!H2","v":1.3970338422711871E-2},{"$f":"newDataRegister4!I2/newDataList3!I2","v":1.4531893294139593E-2},{"$f":"newDataRegister4!J2/newDataList3!J2","v":1.5296591725702094E-2},{"$f":"newDataRegister4!K2/newDataList3!K2","v":1.6024457591315953E-2},{"$f":"newDataRegister4!L2/newDataList3!L2","v":1.6546166903444074E-2},{"$f":"newDataRegister4!M2/newDataList3!M2","v":1.6946437689472849E-2},{"$f":"newDataRegister4!N2/newDataList3!N2","v":1.7328680605976678E-2},{"$f":"newDataRegister4!O2/newDataList3!O2","v":1.7657334758971733E-2},{"$f":"newDataRegister4!P2/newDataList3!P2","v":1.7790423666043928E-2},{"$f":"newDataRegister4!Q2/newDataList3!Q2","v":1.804477331938174E-2},{"$f":"newDataRegister4!R2/newDataList3!R2","v":1.8351774594799114E-2},{"$f":"newDataRegister4!S2/newDataList3!S2","v":1.8419792815531209E-2},{"$f":"newDataRegister4!T2/newDataList3!T2","v":1.8343047845226831E-2},{"$f":"newDataRegister4!U2/newDataList3!U2","v":1.7906476825821825E-2},{"$f":"newDataRegister4!V2/newDataList3!V2","v":1.7704086373983813E-2},{"$f":"newDataRegister4!W2/newDataList3!W2","v":1.7767681563470202E-2},{"$f":"newDataRegister4!X2/newDataList3!X2","v":1.7999304748469874E-2},null,{"$f":"newDataList3!Z2","v":"East of England"},"NHS Bedfordshire, Luton and Milton Keynes Integrated Care Board",2,{"$f":"AB2+COUNTIF(BA:BA,AA2)-1","v":2},{"$f":"newDataRegister4!AD2/newDataList3!AD2","v":1.0957287575719185E-2},{"$f":"newDataRegister4!AE2/newDataList3!AE2","v":1.1003098084226831E-2},{"$f":"newDataRegister4!AF2/newDataList3!AF2","v":1.1245779376747433E-2},{"$f":"newDataRegister4!AG2/newDataList3!AG2","v":1.1369355828432353E-2},{"$f":"newDataRegister4!AH2/newDataList3!AH2","v":1.1829302666441175E-2},{"$f":"newDataRegister4!AI2/newDataList3!AI2","v":1.2148140193564841E-2},{"$f":"newDataRegister4!AJ2/newDataList3!AJ2","v":1.2669704425541679E-2},{"$f":"newDataRegister4!AK2/newDataList3!AK2","v":1.3365910372348563E-2},{"$f":"newDataRegister4!AL2/newDataList3!AL2","v":1.3730941039051191E-2},{"$f":"newDataRegister4!AM2/newDataList3!AM2","v":1.4132289492291863E-2},{"$f":"newDataRegister4!AN2/newDataList3!AN2","v":1.4613674350309551E-2},{"$f":"newDataRegister4!AO2/newDataList3!AO2","v":1.4943148072177762E-2},{"$f":"newDataRegister4!AP2/newDataList3!AP2","v":1.5054103481298722E-2},{"$f":"newDataRegister4!AQ2/newDataList3!AQ2","v":1.5332831365639815E-2},{"$f":"newDataRegister4!AR2/newDataList3!AR2","v":1.5492574640081875E-2},{"$f":"newDataRegister4!AS2/newDataList3!AS2","v":1.5673951010238132E-2},{"$f":"newDataRegister4!AT2/newDataList3!AT2","v":1.5760547109740987E-2},{"$f":"newDataRegister4!AU2/newDataList3!AU2","v":1.5236935460217453E-2},{"$f":"newDataRegister4!AV2/newDataList3!AV2","v":1.4815036405302701E-2},{"$f":"newDataRegister4!AW2/newDataList3!AW2","v":1.4842290716186937E-2},{"$f":"newDataRegister4!AX2/newDataList3!AX2","v":1.566220624099203E-2},null,"East of England","NHS Bedfordshire, Luton and Milton Keynes Integrated Care Board","NHS Bedfordshire, Luton and Milton Keynes ICB - M1J4Y",1.0957287575719185E-2,1.1003098084226831E-2,1.1245779376747433E-2,1.1369355828432353E-2,1.1829302666441175E-2,1.2148140193564841E-2,1.2669704425541679E-2,1.3365910372348563E-2,1.3730941039051191E-2,1.4132289492291863E-2,1.4613674350309551E-2,1.4943148072177762E-2,1.5054103481298722E-2,1.5332831365639815E-2,1.5492574640081875E-2,1.5673951010238132E-2,1.5760547109740987E-2,1.5236935460217453E-2,1.4815036405302701E-2,1.4800000000000001E-2,1.5700000000000002E-2]
["London",{"$f":"C2+1","v":8},12,{"$f":"newDataRegister4!D3/newDataList3!D3","v":8.4964727081306285E-3},{"$f":"newDataRegister4!E3/newDataList3!E3","v":8.676209966652625E-3},{"$f":"newDataRegister4!F3/newDataList3!F3","v":9.0309297923269645E-3},{"$f":"newDataRegister4!G3/newDataList3!G3","v":9.3459859931568183E-3},{"$f":"newDataRegister4!H3/newDataList3!H3","v":9.7438314332391768E-3},{"$f":"newDataRegister4!I3/newDataList3!I3","v":9.9544909024851785E-3},{"$f":"newDataRegister4!J3/newDataList3!J3","v":1.0257275062501934E-2},{"$f":"newDataRegister4!K3/newDataList3!K3","v":1.0650677747419466E-2},{"$f":"newDataRegister4!L3/newDataList3!L3","v":1.0885781228105955E-2},{"$f":"newDataRegister4!M3/newDataList3!M3","v":1.1125733533829551E-2},{"$f":"newDataRegister4!N3/newDataList3!N3","v":1.1307203152418586E-2},{"$f":"newDataRegister4!O3/newDataList3!O3","v":1.142366856392322E-2},{"$f":"newDataRegister4!P3/newDataList3!P3","v":1.1469156207099585E-2},{"$f":"newDataRegister4!Q3/newDataList3!Q3","v":1.1440281739531448E-2},{"$f":"newDataRegister4!R3/newDataList3!R3","v":1.1445303583897695E-2},{"$f":"newDataRegister4!S3/newDataList3!S3","v":1.1404709308602995E-2},{"$f":"newDataRegister4!T3/newDataList3!T3","v":1.1093991528073785E-2},{"$f":"newDataRegister4!U3/newDataList3!U3","v":1.0585746784113481E-2},{"$f":"newDataRegister4!V3/newDataList3!V3","v":1.020941676052381E-2},{"$f":"newDataRegister4!W3/newDataList3!W3","v":1.0150609130158771E-2},{"$f":"newDataRegister4!X3/newDataList3!X3","v":1.0284740359994229E-2},null,{"$f":"newDataList3!Z3","v":"East of England"},"NHS Cambridgeshire and Peterborough Integrated Care Board",{"$f":"AC2+1","v":3},3,{"$f":"newDataRegister4!AD3/newDataList3!AD3","v":1.1367105941843137E-2},{"$f":"newDataRegister4!AE3/newDataList3!AE3","v":1.1877833936519823E-2},{"$f":"newDataRegister4!AF3/newDataList3!AF3","v":1.233116442580486E-2},{"$f":"newDataRegister4!AG3/newDataList3!AG3","v":1.3196026770766844E-2},{"$f":"newDataRegister4!AH3/newDataList3!AH3","v":1.3771406010955929E-2},{"$f":"newDataRegister4!AI3/newDataList3!AI3","v":1.4119467928219954E-2},{"$f":"newDataRegister4!AJ3/newDataList3!AJ3","v":1.4719097604517759E-2},{"$f":"newDataRegister4!AK3/newDataList3!AK3","v":1.5457064826861223E-2},{"$f":"newDataRegister4!AL3/newDataList3!AL3","v":1.5908646140082753E-2},{"$f":"newDataRegister4!AM3/newDataList3!AM3","v":1.6104552540673438E-2},{"$f":"newDataRegister4!AN3/newDataList3!AN3","v":1.6382716021718136E-2},{"$f":"newDataRegister4!AO3/newDataList3!AO3","v":1.6614773957983844E-2},{"$f":"newDataRegister4!AP3/newDataList3!AP3","v":1.6750539180445723E-2},{"$f":"newDataRegister4!AQ3/newDataList3!AQ3","v":1.6973218323317569E-2},{"$f":"newDataRegister4!AR3/newDataList3!AR3","v":1.7218144877057678E-2},{"$f":"newDataRegister4!AS3/newDataList3!AS3","v":1.726599323850643E-2},{"$f":"newDataRegister4!AT3/newDataList3!AT3","v":1.7308616588286113E-2},{"$f":"newDataRegister4!AU3/newDataList3!AU3","v":1.6945947532949902E-2},{"$f":"newDataRegister4!AV3/newDataList3!AV3","v":1.6890734010150319E-2},{"$f":"newDataRegister4!AW3/newDataList3!AW3","v":1.7000776496139965E-2},{"$f":"newDataRegister4!AX3/newDataList3!AX3","v":1.7212318064936824E-2},null,"East of England","NHS Cambridgeshire and Peterborough Integrated Care Board","NHS Cambridgeshire and Peterborough ICB - 06H",1.1367105941843137E-2,1.1877833936519823E-2,1.233116442580486E-2,1.3196026770766844E-2,1.3771406010955929E-2,1.4119467928219954E-2,1.4719097604517759E-2,1.5457064826861223E-2,1.5908646140082753E-2,1.6104552540673438E-2,1.6382716021718136E-2,1.6614773957983844E-2,1.6750539180445723E-2,1.6973218323317569E-2,1.7218144877057678E-2,1.726599323850643E-2,1.7308616588286113E-2,1.6945947532949902E-2,1.6890734010150319E-2,1.7000000000000001E-2,1.72E-2]
["Midlands",{"$f":"C3+1","v":13},23,{"$f":"newDataRegister4!D4/newDataList3!D4","v":1.3770938346780452E-2},{"$f":"newDataRegister4!E4/newDataList3!E4","v":1.3903486147356226E-2},{"$f":"newDataRegister4!F4/newDataList3!F4","v":1.4433142315628202E-2},{"$f":"newDataRegister4!G4/newDataList3!G4","v":1.5003787706991423E-2},{"$f":"newDataRegister4!H4/newDataList3!H4","v":1.5594345883319405E-2},{"$f":"newDataRegister4!I4/newDataList3!I4","v":1.600117077570724E-2},{"$f":"newDataRegister4!J4/newDataList3!J4","v":1.6659033899695988E-2},{"$f":"newDataRegister4!K4/newDataList3!K4","v":1.7355791854128153E-2},{"$f":"newDataRegister4!L4/newDataList3!L4","v":1.7857091286708683E-2},{"$f":"newDataRegister4!M4/newDataList3!M4","v":1.8348547240434165E-2},{"$f":"newDataRegister4!N4/newDataList3!N4","v":1.8738596881830768E-2},{"$f":"newDataRegister4!O4/newDataList3!O4","v":1.8991340981418303E-2},{"$f":"newDataRegister4!P4/newDataList3!P4","v":1.9094803150242038E-2},{"$f":"newDataRegister4!Q4/newDataList3!Q4","v":1.9498406214228148E-2},{"$f":"newDataRegister4!R4/newDataList3!R4","v":1.9839760148770265E-2},{"$f":"newDataRegister4!S4/newDataList3!S4","v":1.9995528544756558E-2},{"$f":"newDataRegister4!T4/newDataList3!T4","v":1.9863513321133761E-2},{"$f":"newDataRegister4!U4/newDataList3!U4","v":1.923013727302704E-2},{"$f":"newDataRegister4!V4/newDataList3!V4","v":1.9069023944851066E-2},{"$f":"newDataRegister4!W4/newDataList3!W4","v":1.91806215974667E-2},{"$f":"newDataRegister4!X4/newDataList3!X4","v":1.9511795034235436E-2},null,{"$f":"newDataList3!Z4","v":"East of England"},"NHS Hertfordshire and West Essex Integrated Care Board",{"$f":"AC3+1","v":4},6,{"$f":"newDataRegister4!AD4/newDataList3!AD4","v":1.0560497914747901E-2},{"$f":"newDataRegister4!AE4/newDataList3!AE4","v":1.0889206552254616E-2},{"$f":"newDataRegister4!AF4/newDataList3!AF4","v":1.1383704577580037E-2},{"$f":"newDataRegister4!AG4/newDataList3!AG4","v":1.2068565057834348E-2},{"$f":"newDataRegister4!AH4/newDataList3!AH4","v":1.2527168012719546E-2},{"$f":"newDataRegister4!AI4/newDataList3!AI4","v":1.2978929022075363E-2},{"$f":"newDataRegister4!AJ4/newDataList3!AJ4","v":1.3551515967971441E-2},{"$f":"newDataRegister4!AK4/newDataList3!AK4","v":1.4003704830103127E-2},{"$f":"newDataRegister4!AL4/newDataList3!AL4","v":1.4161113856746024E-2},{"$f":"newDataRegister4!AM4/newDataList3!AM4","v":1.4305074842463614E-2},{"$f":"newDataRegister4!AN4/newDataList3!AN4","v":1.452458608640534E-2},{"$f":"newDataRegister4!AO4/newDataList3!AO4","v":1.4840058394468754E-2},{"$f":"newDataRegister4!AP4/newDataList3!AP4","v":1.5128027185617426E-2},{"$f":"newDataRegister4!AQ4/newDataList3!AQ4","v":1.536196430189363E-2},{"$f":"newDataRegister4!AR4/newDataList3!AR4","v":1.5567588474182943E-2},{"$f":"newDataRegister4!AS4/newDataList3!AS4","v":1.5534562789161863E-2},{"$f":"newDataRegister4!AT4/newDataList3!AT4","v":1.5332498180348779E-2},{"$f":"newDataRegister4!AU4/newDataList3!AU4","v":1.4894484141571556E-2},{"$f":"newDataRegister4!AV4/newDataList3!AV4","v":1.4620740782563122E-2},{"$f":"newDataRegister4!AW4/newDataList3!AW4","v":1.4570807145310141E-2},{"$f":"newDataRegister4!AX4/newDataList3!AX4","v":1.4722929282130317E-2},null,"East of England","NHS Hertfordshire and West Essex Integrated Care Board","NHS Hertfordshire and West Essex ICB - 06K",9.7569527746507474E-3,1.0283494403434202E-2,1.1011271537956125E-2,1.2089866316067788E-2,1.2627821032614546E-2,1.3103881260161947E-2,1.3733983874775542E-2,1.4530388300839588E-2,1.4822493054683028E-2,1.5025619720260352E-2,1.5179497732163833E-2,1.5444894519356241E-2,1.5676845882003829E-2,1.5696177129669888E-2,1.5897765952505756E-2,1.5894706795237329E-2,1.5770170745945732E-2,1.5353486879010633E-2,1.5242370386068339E-2,1.52E-2,1.55E-2]
["North East and Yorkshire",24,27,{"$f":"newDataRegister4!D5/newDataList3!D5","v":1.8950947236776431E-2},{"$f":"newDataRegister4!E5/newDataList3!E5","v":1.8914056752324545E-2},{"$f":"newDataRegister4!F5/newDataList3!F5","v":1.9227448854865895E-2},{"$f":"newDataRegister4!G5/newDataList3!G5","v":1.9709204575904506E-2},{"$f":"newDataRegister4!H5/newDataList3!H5","v":2.0289011093138652E-2},{"$f":"newDataRegister4!I5/newDataList3!I5","v":2.0703797434117082E-2},{"$f":"newDataRegister4!J5/newDataList3!J5","v":2.1332937333077794E-2},{"$f":"newDataRegister4!K5/newDataList3!K5","v":2.2004092639410756E-2},{"$f":"newDataRegister4!L5/newDataList3!L5","v":2.2734863094952908E-2},{"$f":"newDataRegister4!M5/newDataList3!M5","v":2.3338796352560923E-2},{"$f":"newDataRegister4!N5/newDataList3!N5","v":2.3883392425740915E-2},{"$f":"newDataRegister4!O5/newDataList3!O5","v":2.4373953019029969E-2},{"$f":"newDataRegister4!P5/newDataList3!P5","v":2.4651181053521706E-2},{"$f":"newDataRegister4!Q5/newDataList3!Q5","v":2.5056220089191065E-2},{"$f":"newDataRegister4!R5/newDataList3!R5","v":2.5508687442267142E-2},{"$f":"newDataRegister4!S5/newDataList3!S5","v":2.5623242539741149E-2},{"$f":"newDataRegister4!T5/newDataList3!T5","v":2.5521859799286152E-2},{"$f":"newDataRegister4!U5/newDataList3!U5","v":2.483345902150513E-2},{"$f":"newDataRegister4!V5/newDataList3!V5","v":2.4639990770709372E-2},{"$f":"newDataRegister4!W5/newDataList3!W5","v":2.4930039712528003E-2},{"$f":"newDataRegister4!X5/newDataList3!X5","v":2.5417761234448225E-2},null,{"$f":"newDataList3!Z5","v":"East of England"},"NHS Mid and South Essex Integrated Care Board",7,11,{"$f":"newDataRegister4!AD5/newDataList3!AD5","v":1.0784845308951697E-2},{"$f":"newDataRegister4!AE5/newDataList3!AE5","v":1.1659838354255566E-2},{"$f":"newDataRegister4!AF5/newDataList3!AF5","v":1.2475452178307683E-2},{"$f":"newDataRegister4!AG5/newDataList3!AG5","v":1.3178931561440862E-2},{"$f":"newDataRegister4!AH5/newDataList3!AH5","v":1.3740471180711256E-2},{"$f":"newDataRegister4!AI5/newDataList3!AI5","v":1.4489940023262246E-2},{"$f":"newDataRegister4!AJ5/newDataList3!AJ5","v":1.5409800264983566E-2},{"$f":"newDataRegister4!AK5/newDataList3!AK5","v":1.6139283548230084E-2},{"$f":"newDataRegister4!AL5/newDataList3!AL5","v":1.6967073998642227E-2},{"$f":"newDataRegister4!AM5/newDataList3!AM5","v":1.7605813057658827E-2},{"$f":"newDataRegister4!AN5/newDataList3!AN5","v":1.8243851545212072E-2},{"$f":"newDataRegister4!AO5/newDataList3!AO5","v":1.873959639200171E-2},{"$f":"newDataRegister4!AP5/newDataList3!AP5","v":1.875707831734055E-2},{"$f":"newDataRegister4!AQ5/newDataList3!AQ5","v":1.8985808917864531E-2},{"$f":"newDataRegister4!AR5/newDataList3!AR5","v":1.9437733452160703E-2},{"$f":"newDataRegister4!AS5/newDataList3!AS5","v":1.9215739727342161E-2},{"$f":"newDataRegister4!AT5/newDataList3!AT5","v":1.9053448362066325E-2},{"$f":"newDataRegister4!AU5/newDataList3!AU5","v":1.872030959376984E-2},{"$f":"newDataRegister4!AV5/newDataList3!AV5","v":1.841670856774218E-2},{"$f":"newDataRegister4!AW5/newDataList3!AW5","v":1.8419887889803841E-2},{"$f":"newDataRegister4!AX5/newDataList3!AX5","v":1.8454954202769481E-2},null,"East of England","NHS Hertfordshire and West Essex Integrated Care Board","NHS Hertfordshire and West Essex ICB - 06N",1.1064015901744854E-2,1.118463450966858E-2,1.1180629790326075E-2,1.1356301576174843E-2,1.1728569835182277E-2,1.2050324824485878E-2,1.2563231766689624E-2,1.2656307312681317E-2,1.2584541102443876E-2,1.2547509396438032E-2,1.2711945834107344E-2,1.3056944760172766E-2,1.3491623452159639E-2,1.3868087446081886E-2,1.4318682632161257E-2,1.4487377297153249E-2,1.4248288046145367E-2,1.3808054897768434E-2,1.350140188155796E-2,1.34E-2,1.34E-2]
["North West",28,30,{"$f":"newDataRegister4!D6/newDataList3!D6","v":1.8390391877307451E-2},{"$f":"newDataRegister4!E6/newDataList3!E6","v":1.8338781802477503E-2},{"$f":"newDataRegister4!F6/newDataList3!F6","v":1.886152273947727E-2},{"$f":"newDataRegister4!G6/newDataList3!G6","v":1.9586425138717323E-2},{"$f":"newDataRegister4!H6/newDataList3!H6","v":2.0227908253135182E-2},{"$f":"newDataRegister4!I6/newDataList3!I6","v":2.0620656017210828E-2},{"$f":"newDataRegister4!J6/newDataList3!J6","v":2.1320529603979878E-2},{"$f":"newDataRegister4!K6/newDataList3!K6","v":2.194832384170655E-2},{"$f":"newDataRegister4!L6/newDataList3!L6","v":2.2596949775393168E-2},{"$f":"newDataRegister4!M6/newDataList3!M6","v":2.2994035884650904E-2},{"$f":"newDataRegister4!N6/newDataList3!N6","v":2.3377249727925251E-2},{"$f":"newDataRegister4!O6/newDataList3!O6","v":2.3732124939274769E-2},{"$f":"newDataRegister4!P6/newDataList3!P6","v":2.4081303712195339E-2},{"$f":"newDataRegister4!Q6/newDataList3!Q6","v":2.4307646656760332E-2},{"$f":"newDataRegister4!R6/newDataList3!R6","v":2.4523569805247475E-2},{"$f":"newDataRegister4!S6/newDataList3!S6","v":2.4677609256389343E-2},{"$f":"newDataRegister4!T6/newDataList3!T6","v":2.4705347285673602E-2},{"$f":"newDataRegister4!U6/newDataList3!U6","v":2.3877461244834683E-2},{"$f":"newDataRegister4!V6/newDataList3!V6","v":2.3487459553375657E-2},{"$f":"newDataRegister4!W6/newDataList3!W6","v":2.3483357268266815E-2},{"$f":"newDataRegister4!X6/newDataList3!X6","v":2.3961882739605343E-2},null,{"$f":"newDataList3!Z6","v":"East of England"},"NHS Norfolk and Waveney Integrated Care Board",12,12,{"$f":"newDataRegister4!AD6/newDataList3!AD6","v":1.4926117892868291E-2},{"$f":"newDataRegister4!AE6/newDataList3!AE6","v":1.5503040550437981E-2},{"$f":"newDataRegister4!AF6/newDataList3!AF6","v":1.6368851017968807E-2},{"$f":"newDataRegister4!AG6/newDataList3!AG6","v":1.7010977023249472E-2},{"$f":"newDataRegister4!AH6/newDataList3!AH6","v":1.7811090695651371E-2},{"$f":"newDataRegister4!AI6/newDataList3!AI6","v":1.846985354064154E-2},{"$f":"newDataRegister4!AJ6/newDataList3!AJ6","v":1.9178684962929085E-2},{"$f":"newDataRegister4!AK6/newDataList3!AK6","v":1.9927205541979853E-2},{"$f":"newDataRegister4!AL6/newDataList3!AL6","v":2.0685378198331567E-2},{"$f":"newDataRegister4!AM6/newDataList3!AM6","v":2.1238992438930588E-2},{"$f":"newDataRegister4!AN6/newDataList3!AN6","v":2.1592650060450021E-2},{"$f":"newDataRegister4!AO6/newDataList3!AO6","v":2.199639900011071E-2},{"$f":"newDataRegister4!AP6/newDataList3!AP6","v":2.1832114062425041E-2},{"$f":"newDataRegister4!AQ6/newDataList3!AQ6","v":2.2233975960908575E-2},{"$f":"newDataRegister4!AR6/newDataList3!AR6","v":2.286474921133266E-2},{"$f":"newDataRegister4!AS6/newDataList3!AS6","v":2.3140207727648472E-2},{"$f":"newDataRegister4!AT6/newDataList3!AT6","v":2.3113959904393272E-2},{"$f":"newDataRegister4!AU6/newDataList3!AU6","v":2.2602137067264234E-2},{"$f":"newDataRegister4!AV6/newDataList3!AV6","v":2.2805281164966103E-2},{"$f":"newDataRegister4!AW6/newDataList3!AW6","v":2.3132524396906284E-2},{"$f":"newDataRegister4!AX6/newDataList3!AX6","v":2.3448002552311942E-2},null,"East of England","NHS Hertfordshire and West Essex Integrated Care Board","NHS Hertfordshire and West Essex ICB - 07H",1.1140003883391647E-2,1.1499148211243612E-2,1.2580164056674123E-2,1.3541416566626651E-2,1.4022550072706813E-2,1.470946533184481E-2,1.5288894673289805E-2,1.5821070043349303E-2,1.6204744771756239E-2,1.6649740484733052E-2,1.7128769596694387E-2,1.7472107575102841E-2,1.7574332269443979E-2,1.7897826195095258E-2,1.7579094495388876E-2,1.7053186253220998E-2,1.6779982986561942E-2,1.6302471501556764E-2,1.5754532741459312E-2,1.5900000000000001E-2,1.5900000000000001E-2]
["South East",31,36,{"$f":"newDataRegister4!D7/newDataList3!D7","v":1.0753156933992779E-2},{"$f":"newDataRegister4!E7/newDataList3!E7","v":1.1197748724863692E-2},{"$f":"newDataRegister4!F7/newDataList3!F7","v":1.1807470862618996E-2},{"$f":"newDataRegister4!G7/newDataList3!G7","v":1.2376459141330825E-2},{"$f":"newDataRegister4!H7/newDataList3!H7","v":1.2915015783289715E-2},{"$f":"newDataRegister4!I7/newDataList3!I7","v":1.3196224504330304E-2},{"$f":"newDataRegister4!J7/newDataList3!J7","v":1.3769002828739102E-2},{"$f":"newDataRegister4!K7/newDataList3!K7","v":1.4328490570300924E-2},{"$f":"newDataRegister4!L7/newDataList3!L7","v":1.4784742951001234E-2},{"$f":"newDataRegister4!M7/newDataList3!M7","v":1.5183228370613937E-2},{"$f":"newDataRegister4!N7/newDataList3!N7","v":1.5572946058964924E-2},{"$f":"newDataRegister4!O7/newDataList3!O7","v":1.601187777471039E-2},{"$f":"newDataRegister4!P7/newDataList3!P7","v":1.6320982655710407E-2},{"$f":"newDataRegister4!Q7/newDataList3!Q7","v":1.6703421763447253E-2},{"$f":"newDataRegister4!R7/newDataList3!R7","v":1.699895814184153E-2},{"$f":"newDataRegister4!S7/newDataList3!S7","v":1.7152858785003888E-2},{"$f":"newDataRegister4!T7/newDataList3!T7","v":1.7157097093634621E-2},{"$f":"newDataRegister4!U7/newDataList3!U7","v":1.6754717563988487E-2},{"$f":"newDataRegister4!V7/newDataList3!V7","v":1.6574213484328276E-2},{"$f":"newDataRegister4!W7/newDataList3!W7","v":1.6821386528489378E-2},{"$f":"newDataRegister4!X7/newDataList3!X7","v":1.71855149113498E-2},null,{"$f":"newDataList3!Z7","v":"East of England"},"NHS Suffolk and North East Essex Integrated Care Board",{"$f":"AC6+1","v":13},15,{"$f":"newDataRegister4!AD7/newDataList3!AD7","v":1.1457251253330924E-2},{"$f":"newDataRegister4!AE7/newDataList3!AE7","v":1.2084919382291956E-2},{"$f":"newDataRegister4!AF7/newDataList3!AF7","v":1.3095497015752413E-2},{"$f":"newDataRegister4!AG7/newDataList3!AG7","v":1.37372634643377E-2},{"$f":"newDataRegister4!AH7/newDataList3!AH7","v":1.4642726681599699E-2},{"$f":"newDataRegister4!AI7/newDataList3!AI7","v":1.5511615085455439E-2},{"$f":"newDataRegister4!AJ7/newDataList3!AJ7","v":1.676413089763017E-2},{"$f":"newDataRegister4!AK7/newDataList3!AK7","v":1.7950022495343252E-2},{"$f":"newDataRegister4!AL7/newDataList3!AL7","v":1.8661062518931175E-2},{"$f":"newDataRegister4!AM7/newDataList3!AM7","v":1.9219066674269009E-2},{"$f":"newDataRegister4!AN7/newDataList3!AN7","v":1.9582792039941566E-2},{"$f":"newDataRegister4!AO7/newDataList3!AO7","v":1.9777695138221342E-2},{"$f":"newDataRegister4!AP7/newDataList3!AP7","v":2.0116932723324661E-2},{"$f":"newDataRegister4!AQ7/newDataList3!AQ7","v":2.045003544989682E-2},{"$f":"newDataRegister4!AR7/newDataList3!AR7","v":2.0582153997571215E-2},{"$f":"newDataRegister4!AS7/newDataList3!AS7","v":2.0864964187001768E-2},{"$f":"newDataRegister4!AT7/newDataList3!AT7","v":2.074365276261993E-2},{"$f":"newDataRegister4!AU7/newDataList3!AU7","v":2.0362191867154936E-2},{"$f":"newDataRegister4!AV7/newDataList3!AV7","v":2.0158464836482797E-2},{"$f":"newDataRegister4!AW7/newDataList3!AW7","v":2.0274817093914845E-2},{"$f":"newDataRegister4!AX7/newDataList3!AX7","v":2.0207796011080231E-2},null,"East of England","NHS Mid and South Essex Integrated Care Board","NHS Mid and South Essex ICB - 06Q",8.2328573584077476E-3,8.7170560557021243E-3,9.4058912708051157E-3,9.9003659188400244E-3,1.0603227645834162E-2,1.1212798382830205E-2,1.2221122967775385E-2,1.2793266370899906E-2,1.3442797850609558E-2,1.4319280980328111E-2,1.4992037196360906E-2,1.5457392059194346E-2,1.5654598091425713E-2,1.5737431771019859E-2,1.6030084132737162E-2,1.6095720035980442E-2,1.6146969662890458E-2,1.5865261246323602E-2,1.5687200101223441E-2,1.5800000000000002E-2,1.5800000000000002E-2]
["South West",37,43,{"$f":"newDataRegister4!D8/newDataList3!D8","v":1.3253382875207536E-2},{"$f":"newDataRegister4!E8/newDataList3!E8","v":1.3525683418691247E-2},{"$f":"newDataRegister4!F8/newDataList3!F8","v":1.4188467528088281E-2},{"$f":"newDataRegister4!G8/newDataList3!G8","v":1.4766161439190045E-2},{"$f":"newDataRegister4!H8/newDataList3!H8","v":1.5334455842989054E-2},{"$f":"newDataRegister4!I8/newDataList3!I8","v":1.5684422803340776E-2},{"$f":"newDataRegister4!J8/newDataList3!J8","v":1.6330343236132305E-2},{"$f":"newDataRegister4!K8/newDataList3!K8","v":1.694463565095022E-2},{"$f":"newDataRegister4!L8/newDataList3!L8","v":1.7610441005753819E-2},{"$f":"newDataRegister4!M8/newDataList3!M8","v":1.8118588763292809E-2},{"$f":"newDataRegister4!N8/newDataList3!N8","v":1.8610625116519196E-2},{"$f":"newDataRegister4!O8/newDataList3!O8","v":1.9020040635962562E-2},{"$f":"newDataRegister4!P8/newDataList3!P8","v":1.9520402435695073E-2},{"$f":"newDataRegister4!Q8/newDataList3!Q8","v":1.9925576742010554E-2},{"$f":"newDataRegister4!R8/newDataList3!R8","v":2.025146991322594E-2},{"$f":"newDataRegister4!S8/newDataList3!S8","v":2.0674081405830741E-2},{"$f":"newDataRegister4!T8/newDataList3!T8","v":2.0686701348416582E-2},{"$f":"newDataRegister4!U8/newDataList3!U8","v":2.0211520525031185E-2},{"$f":"newDataRegister4!V8/newDataList3!V8","v":2.0185988271551328E-2},{"$f":"newDataRegister4!W8/newDataList3!W8","v":2.0576071747117595E-2},{"$f":"newDataRegister4!X8/newDataList3!X8","v":2.1179159438992574E-2},null,{"$f":"newDataList3!Z8","v":"London"},"NHS North Central London Integrated Care Board",16,16,{"$f":"newDataRegister4!AD8/newDataList3!AD8","v":7.9082180920076114E-3},{"$f":"newDataRegister4!AE8/newDataList3!AE8","v":8.0873124227493487E-3},{"$f":"newDataRegister4!AF8/newDataList3!AF8","v":8.5766226484193867E-3},{"$f":"newDataRegister4!AG8/newDataList3!AG8","v":9.0839200154645035E-3},{"$f":"newDataRegister4!AH8/newDataList3!AH8","v":9.5544665497115985E-3},{"$f":"newDataRegister4!AI8/newDataList3!AI8","v":9.8021358660253331E-3},{"$f":"newDataRegister4!AJ8/newDataList3!AJ8","v":1.0189270080597855E-2},{"$f":"newDataRegister4!AK8/newDataList3!AK8","v":1.0621611326491016E-2},{"$f":"newDataRegister4!AL8/newDataList3!AL8","v":1.0646928299204855E-2},{"$f":"newDataRegister4!AM8/newDataList3!AM8","v":1.086535871204714E-2},{"$f":"newDataRegister4!AN8/newDataList3!AN8","v":1.1148136235110136E-2},{"$f":"newDataRegister4!AO8/newDataList3!AO8","v":1.1269327348907792E-2},{"$f":"newDataRegister4!AP8/newDataList3!AP8","v":1.1474454153394249E-2},{"$f":"newDataRegister4!AQ8/newDataList3!AQ8","v":1.1613101835542455E-2},{"$f":"newDataRegister4!AR8/newDataList3!AR8","v":1.1662172407785904E-2},{"$f":"newDataRegister4!AS8/newDataList3!AS8","v":1.2239889558752553E-2},{"$f":"newDataRegister4!AT8/newDataList3!AT8","v":1.1377321984657565E-2},{"$f":"newDataRegister4!AU8/newDataList3!AU8","v":1.0785155571822051E-2},{"$f":"newDataRegister4!AV8/newDataList3!AV8","v":1.0419146212750668E-2},{"$f":"newDataRegister4!AW8/newDataList3!AW8","v":1.041642453363795E-2},{"$f":"newDataRegister4!AX8/newDataList3!AX8","v":1.0434674690715589E-2},null,"East of England","NHS Mid and South Essex Integrated Care Board","NHS Mid and South Essex ICB - 07G",1.1229861643871856E-2,1.2473129694010245E-2,1.2993051429752279E-2,1.3562705119921182E-2,1.4004697778368694E-2,1.502746006953192E-2,1.6110450307948113E-2,1.6792918335213677E-2,1.7429632203668818E-2,1.8004071847630979E-2,1.8324079347000758E-2,1.9067500116620797E-2,1.8696962031138607E-2,1.9025469397016281E-2,1.9941603307218642E-2,1.9309434792170663E-2,1.8781759243034869E-2,1.9285687191464229E-2,1.8723353987907945E-2,1.9E-2,1.83E-2]
["England",null,null,{"$f":"newDataRegister4!D9/newDataList3!D9","v":1.3574000904236858E-2},{"$f":"newDataRegister4!E9/newDataList3!E9","v":1.3769808795495731E-2},{"$f":"newDataRegister4!F9/newDataList3!F9","v":1.42701054062604E-2},{"$f":"newDataRegister4!G9/newDataList3!G9","v":1.4811323125036488E-2},{"$f":"newDataRegister4!H9/newDataList3!H9","v":1.5371204857106795E-2},{"$f":"newDataRegister4!I9/newDataList3!I9","v":1.5715368038153699E-2},{"$f":"newDataRegister4!J9/newDataList3!J9","v":1.6303249138221326E-2},{"$f":"newDataRegister4!K9/newDataList3!K9","v":1.6910118217668732E-2},{"$f":"newDataRegister4!L9/newDataList3!L9","v":1.7417470693712359E-2},{"$f":"newDataRegister4!M9/newDataList3!M9","v":1.78530838630057E-2},{"$f":"newDataRegister4!N9/newDataList3!N9","v":1.8221780033899907E-2},{"$f":"newDataRegister4!O9/newDataList3!O9","v":1.8543572085199255E-2},{"$f":"newDataRegister4!P9/newDataList3!P9","v":1.8758962994875339E-2},{"$f":"newDataRegister4!Q9/newDataList3!Q9","v":1.9035283163847731E-2},{"$f":"newDataRegister4!R9/newDataList3!R9","v":1.9280181077661305E-2},{"$f":"newDataRegister4!S9/newDataList3!S9","v":1.9395570684980306E-2},{"$f":"newDataRegister4!T9/newDataList3!T9","v":1.9292081358941528E-2},{"$f":"newDataRegister4!U9/newDataList3!U9","v":1.8696348823884715E-2},{"$f":"newDataRegister4!V9/newDataList3!V9","v":1.8459600304639178E-2},{"$f":"newDataRegister4!W9/newDataList3!W9","v":1.8590408746069247E-2},{"$f":"newDataRegister4!X9/newDataList3!X9","v":1.8943657886735219E-2},null,{"$f":"newDataList3!Z9","v":"London"},"NHS North East London Integrated Care Board",17,17,{"$f":"newDataRegister4!AD9/newDataList3!AD9","v":9.8573251295525025E-3},{"$f":"newDataRegister4!AE9/newDataList3!AE9","v":9.6527455480970737E-3},{"$f":"newDataRegister4!AF9/newDataList3!AF9","v":9.703562363788016E-3},{"$f":"newDataRegister4!AG9/newDataList3!AG9","v":9.8424051057441845E-3},{"$f":"newDataRegister4!AH9/newDataList3!AH9","v":1.0249887440606066E-2},{"$f":"newDataRegister4!AI9/newDataList3!AI9","v":1.0318215104790435E-2},{"$f":"newDataRegister4!AJ9/newDataList3!AJ9","v":1.0559081525208725E-2},{"$f":"newDataRegister4!AK9/newDataList3!AK9","v":1.0870607859431308E-2},{"$f":"newDataRegister4!AL9/newDataList3!AL9","v":1.1308770379569481E-2},{"$f":"newDataRegister4!AM9/newDataList3!AM9","v":1.1658884470410379E-2},{"$f":"newDataRegister4!AN9/newDataList3!AN9","v":1.1702900119247676E-2},{"$f":"newDataRegister4!AO9/newDataList3!AO9","v":1.1806836511072059E-2},{"$f":"newDataRegister4!AP9/newDataList3!AP9","v":1.1587476274781888E-2},{"$f":"newDataRegister4!AQ9/newDataList3!AQ9","v":1.1366110179805726E-2},{"$f":"newDataRegister4!AR9/newDataList3!AR9","v":1.1367430381959502E-2},{"$f":"newDataRegister4!AS9/newDataList3!AS9","v":1.1278180576936893E-2},{"$f":"newDataRegister4!AT9/newDataList3!AT9","v":1.0981446916318104E-2},{"$f":"newDataRegister4!AU9/newDataList3!AU9","v":1.0414370659888679E-2},{"$f":"newDataRegister4!AV9/newDataList3!AV9","v":9.913929521915112E-3},{"$f":"newDataRegister4!AW9/newDataList3!AW9","v":9.7118141146120638E-3},{"$f":"newDataRegister4!AX9/newDataList3!AX9","v":9.6365925616036865E-3},null,"East of England","NHS Mid and South Essex Integrated Care Board","NHS Mid and South Essex ICB - 99E",1.2469523894429608E-2,1.3387097395369975E-2,1.4095599282795111E-2,1.4723286691199135E-2,1.5435033813862737E-2,1.6306602175989528E-2,1.6928501260309023E-2,1.7833991733142169E-2,1.8615513683876379E-2,1.8765433943655131E-2,1.9094745711350416E-2,1.935333323610483E-2,1.9239045135812469E-2,1.9169947718324403E-2,1.9506599857242797E-2,1.9079199800055617E-2,1.8653852923575177E-2,1.8122481531229011E-2,1.7545863225324185E-2,1.7299999999999999E-2,1.7399999999999999E-2]
[null,null,null,null,null,null,null,null,null,null,null,null,null,null,null,null,null,null,null,null,null,null,null,null,null,{"$f":"newDataList3!Z10","v":"London"},"NHS North West London Integrated Care Board",18,18,{"$f":"newDataRegister4!AD10/newDataList3!AD10","v":7.2292170917892381E-3},{"$f":"newDataRegister4!AE10/newDataList3!AE10","v":7.5346228070601847E-3},{"$f":"newDataRegister4!AF10/newDataList3!AF10","v":7.8950512718225629E-3},{"$f":"newDataRegister4!AG10/newDataList3!AG10","v":8.2519236050527574E-3},{"$f":"newDataRegister4!AH10/newDataList3!AH10","v":8.7687858021265521E-3},{"$f":"newDataRegister4!AI10/newDataList3!AI10","v":8.845224607007313E-3},{"$f":"newDataRegister4!AJ10/newDataList3!AJ10","v":9.0870836193434647E-3},{"$f":"newDataRegister4!AK10/newDataList3!AK10","v":9.4571421198692881E-3},{"$f":"newDataRegister4!AL10/newDataList3!AL10","v":9.4997591168253827E-3},{"$f":"newDataRegister4!AM10/newDataList3!AM10","v":9.4998794841652974E-3},{"$f":"newDataRegister4!AN10/newDataList3!AN10","v":9.7146802139898396E-3},{"$f":"newDataRegister4!AO10/newDataList3!AO10","v":9.9844178062996215E-3},{"$f":"newDataRegister4!AP10/newDataList3!AP10","v":1.0123210945724498E-2},{"$f":"newDataRegister4!AQ10/newDataList3!AQ10","v":1.0077662417255093E-2},{"$f":"newDataRegister4!AR10/newDataList3!AR10","v":1.0019384405968935E-2},{"$f":"newDataRegister4!AS10/newDataList3!AS10","v":9.7776957845217231E-3},{"$f":"newDataRegister4!AT10/newDataList3!AT10","v":9.4773199048986834E-3},{"$f":"newDataRegister4!AU10/newDataList3!AU10","v":9.0023720249621554E-3},{"$f":"newDataRegister4!AV10/newDataList3!AV10","v":8.6295883397332681E-3},{"$f":"newDataRegister4!AW10/newDataList3!AW10","v":8.636488050496223E-3},{"$f":"newDataRegister4!AX10/newDataList3!AX10","v":9.0206747247791597E-3},null,"East of England","NHS Mid and South Essex Integrated Care Board","NHS Mid and South Essex ICB - 99F",1.2497075456086189E-2,1.3307568066451315E-2,1.4239719837324898E-2,1.5420010100443297E-2,1.5973708773243757E-2,1.6955293094703283E-2,1.8058400924411497E-2,1.9023036358590064E-2,2.0164347176493375E-2,2.0711336440218293E-2,2.1440696122216912E-2,2.1826477057427209E-2,2.2148058252427185E-2,2.3068281248312141E-2,2.3601440964088977E-2,2.3266818301581411E-2,2.3383234824625738E-2,2.2837719557314461E-2,2.2200343519415269E-2,2.23E-2,2.2400000000000003E-2]
[null,null,null,null,null,null,null,null,null,null,null,null,null,null,null,null,null,null,null,null,null,null,null,null,null,{"$f":"newDataList3!Z11","v":"London"},"NHS South East London Integrated Care Board",19,19,{"$f":"newDataRegister4!AD11/newDataList3!AD11","v":9.6605543854841672E-3},{"$f":"newDataRegister4!AE11/newDataList3!AE11","v":9.9669047872164296E-3},{"$f":"newDataRegister4!AF11/newDataList3!AF11","v":1.0466258660945181E-2},{"$f":"newDataRegister4!AG11/newDataList3!AG11","v":1.0779371061226173E-2},{"$f":"newDataRegister4!AH11/newDataList3!AH11","v":1.1056111492296588E-2},{"$f":"newDataRegister4!AI11/newDataList3!AI11","v":1.1483855722281604E-2},{"$f":"newDataRegister4!AJ11/newDataList3!AJ11","v":1.1817790096616914E-2},{"$f":"newDataRegister4!AK11/newDataList3!AK11","v":1.2148460693444297E-2},{"$f":"newDataRegister4!AL11/newDataList3!AL11","v":1.2625843559241894E-2},{"$f":"newDataRegister4!AM11/newDataList3!AM11","v":1.3253308676693457E-2},{"$f":"newDataRegister4!AN11/newDataList3!AN11","v":1.3400819396696564E-2},{"$f":"newDataRegister4!AO11/newDataList3!AO11","v":1.3428517283763711E-2},{"$f":"newDataRegister4!AP11/newDataList3!AP11","v":1.3374027757947033E-2},{"$f":"newDataRegister4!AQ11/newDataList3!AQ11","v":1.3338186232372869E-2},{"$f":"newDataRegister4!AR11/newDataList3!AR11","v":1.3318544964735749E-2},{"$f":"newDataRegister4!AS11/newDataList3!AS11","v":1.3182163768674033E-2},{"$f":"newDataRegister4!AT11/newDataList3!AT11","v":1.3153255997448252E-2},{"$f":"newDataRegister4!AU11/newDataList3!AU11","v":1.2708359626044831E-2},{"$f":"newDataRegister4!AV11/newDataList3!AV11","v":1.2395493861506334E-2},{"$f":"newDataRegister4!AW11/newDataList3!AW11","v":1.2412060277657674E-2},{"$f":"newDataRegister4!AX11/newDataList3!AX11","v":1.245688427208879E-2},null,"East of England","NHS Mid and South Essex Integrated Care Board","NHS Mid and South Essex ICB - 99G",1.1505817548198528E-2,1.2934326888802132E-2,1.4284915576428492E-2,1.5011406675673879E-2,1.5359732414976839E-2,1.579990067074535E-2,1.6611659359725892E-2,1.7268787700616274E-2,1.8398731196648279E-2,1.9285462769847505E-2,2.0503418137763931E-2,2.1319698496252756E-2,2.1223945940801372E-2,2.1455714703303128E-2,2.1930797089972229E-2,2.1901307234275545E-2,2.18399680468646E-2,2.1102237421023001E-2,2.1592259732677189E-2,2.1400000000000002E-2,2.2000000000000002E-2]
[null,null,null,null,null,null,null,null,null,null,null,null,null,null,null,null,null,null,null,null,null,null,null,null,null,{"$f":"newDataList3!Z12","v":"London"},"NHS South West London Integrated Care Board",20,20,{"$f":"newDataRegister4!AD12/newDataList3!AD12","v":7.8769355702992504E-3},{"$f":"newDataRegister4!AE12/newDataList3!AE12","v":8.1484482751564419E-3},{"$f":"newDataRegister4!AF12/newDataList3!AF12","v":8.5413366298239327E-3},{"$f":"newDataRegister4!AG12/newDataList3!AG12","v":8.7955902421811404E-3},{"$f":"newDataRegister4!AH12/newDataList3!AH12","v":9.0652328395175834E-3},{"$f":"newDataRegister4!AI12/newDataList3!AI12","v":9.367302845266082E-3},{"$f":"newDataRegister4!AJ12/newDataList3!AJ12","v":9.705229769215144E-3},{"$f":"newDataRegister4!AK12/newDataList3!AK12","v":1.0239798460989095E-2},{"$f":"newDataRegister4!AL12/newDataList3!AL12","v":1.0465694531337728E-2},{"$f":"newDataRegister4!AM12/newDataList3!AM12","v":1.0531525364592913E-2},{"$f":"newDataRegister4!AN12/newDataList3!AN12","v":1.0795014652260756E-2},{"$f":"newDataRegister4!AO12/newDataList3!AO12","v":1.0804350586352828E-2},{"$f":"newDataRegister4!AP12/newDataList3!AP12","v":1.1009338490137429E-2},{"$f":"newDataRegister4!AQ12/newDataList3!AQ12","v":1.1121180261719281E-2},{"$f":"newDataRegister4!AR12/newDataList3!AR12","v":1.1248030606629196E-2},{"$f":"newDataRegister4!AS12/newDataList3!AS12","v":1.1133114920847245E-2},{"$f":"newDataRegister4!AT12/newDataList3!AT12","v":1.1035402851815621E-2},{"$f":"newDataRegister4!AU12/newDataList3!AU12","v":1.0634525130916577E-2},{"$f":"newDataRegister4!AV12/newDataList3!AV12","v":1.0365719163661259E-2},{"$f":"newDataRegister4!AW12/newDataList3!AW12","v":1.0257694406447726E-2},{"$f":"newDataRegister4!AX12/newDataList3!AX12","v":1.0510253968200265E-2},null,"East of England","NHS Norfolk and Waveney Integrated Care Board","NHS Norfolk and Waveney ICB - 26A",1.4926117892868291E-2,1.5503040550437981E-2,1.6368851017968807E-2,1.7010977023249472E-2,1.7811090695651371E-2,1.846985354064154E-2,1.9178684962929085E-2,1.9927205541979853E-2,2.0685378198331567E-2,2.1238992438930588E-2,2.1592650060450021E-2,2.199639900011071E-2,2.1832114062425041E-2,2.2233975960908575E-2,2.286474921133266E-2,2.3140207727648472E-2,2.3113959904393272E-2,2.2602137067264234E-2,2.2805281164966103E-2,2.3099999999999999E-2,2.3399999999999997E-2]
[null,null,null,null,null,null,null,null,null,null,null,null,null,null,null,null,null,null,null,null,null,null,null,null,null,{"$f":"newDataList3!Z13","v":"Midlands"},"NHS Birmingham and Solihull Integrated Care Board",21,21,{"$f":"newDataRegister4!AD13/newDataList3!AD13","v":1.2053484686170913E-2},{"$f":"newDataRegister4!AE13/newDataList3!AE13","v":1.2119264411804378E-2},{"$f":"newDataRegister4!AF13/newDataList3!AF13","v":1.2518897349743114E-2},{"$f":"newDataRegister4!AG13/newDataList3!AG13","v":1.278658808242741E-2},{"$f":"newDataRegister4!AH13/newDataList3!AH13","v":1.3237927201919924E-2},{"$f":"newDataRegister4!AI13/newDataList3!AI13","v":1.3680055963865307E-2},{"$f":"newDataRegister4!AJ13/newDataList3!AJ13","v":1.4288872940013067E-2},{"$f":"newDataRegister4!AK13/newDataList3!AK13","v":1.4727751915838186E-2},{"$f":"newDataRegister4!AL13/newDataList3!AL13","v":1.4943963637101975E-2},{"$f":"newDataRegister4!AM13/newDataList3!AM13","v":1.5163446494725622E-2},{"$f":"newDataRegister4!AN13/newDataList3!AN13","v":1.5286279294532145E-2},{"$f":"newDataRegister4!AO13/newDataList3!AO13","v":1.5280253169993235E-2},{"$f":"newDataRegister4!AP13/newDataList3!AP13","v":1.5290764043312723E-2},{"$f":"newDataRegister4!AQ13/newDataList3!AQ13","v":1.5412638546345926E-2},{"$f":"newDataRegister4!AR13/newDataList3!AR13","v":1.5594293663763678E-2},{"$f":"newDataRegister4!AS13/newDataList3!AS13","v":1.5513630326603755E-2},{"$f":"newDataRegister4!AT13/newDataList3!AT13","v":1.5414378711179223E-2},{"$f":"newDataRegister4!AU13/newDataList3!AU13","v":1.4867370919402304E-2},{"$f":"newDataRegister4!AV13/newDataList3!AV13","v":1.4478869777945522E-2},{"$f":"newDataRegister4!AW13/newDataList3!AW13","v":1.4507308904020451E-2},{"$f":"newDataRegister4!AX13/newDataList3!AX13","v":1.4600170288793042E-2},null,"East of England","NHS Suffolk and North East Essex Integrated Care Board","NHS Suffolk and North East Essex ICB - 06L",1.0885265917725486E-2,1.1433787321947587E-2,1.2308137851143933E-2,1.2630001327008792E-2,1.3508526063402837E-2,1.4114407464098639E-2,1.4870922941813206E-2,1.5513871717271319E-2,1.6125310970227107E-2,1.6576139718511806E-2,1.6855565958704972E-2,1.7229054695295554E-2,1.7488518922897031E-2,1.7774929308350017E-2,1.8132180693440473E-2,1.8570418354725265E-2,1.8270404814390472E-2,1.7845102920213796E-2,1.7481755536292803E-2,1.7500000000000002E-2,1.7299999999999999E-2]
[null,null,null,null,null,null,null,null,null,null,null,null,null,null,null,null,null,null,null,null,null,null,null,null,null,{"$f":"newDataList3!Z14","v":"Midlands"},"NHS Black Country Integrated Care Board",22,22,{"$f":"newDataRegister4!AD14/newDataList3!AD14","v":1.3985995267513946E-2},{"$f":"newDataRegister4!AE14/newDataList3!AE14","v":1.4075133260745035E-2},{"$f":"newDataRegister4!AF14/newDataList3!AF14","v":1.483742031175469E-2},{"$f":"newDataRegister4!AG14/newDataList3!AG14","v":1.5732208734228613E-2},{"$f":"newDataRegister4!AH14/newDataList3!AH14","v":1.6351135069575449E-2},{"$f":"newDataRegister4!AI14/newDataList3!AI14","v":1.6990472784726884E-2},{"$f":"newDataRegister4!AJ14/newDataList3!AJ14","v":1.7836632659955408E-2},{"$f":"newDataRegister4!AK14/newDataList3!AK14","v":1.893204879600275E-2},{"$f":"newDataRegister4!AL14/newDataList3!AL14","v":1.9540615200519387E-2},{"$f":"newDataRegister4!AM14/newDataList3!AM14","v":2.0272170695127184E-2},{"$f":"newDataRegister4!AN14/newDataList3!AN14","v":2.0552444734918549E-2},{"$f":"newDataRegister4!AO14/newDataList3!AO14","v":2.0709463953179037E-2},{"$f":"newDataRegister4!AP14/newDataList3!AP14","v":2.0902416043715004E-2},{"$f":"newDataRegister4!AQ14/newDataList3!AQ14","v":2.1227688444826059E-2},{"$f":"newDataRegister4!AR14/newDataList3!AR14","v":2.1774181263364327E-2},{"$f":"newDataRegister4!AS14/newDataList3!AS14","v":2.1744702529731107E-2},{"$f":"newDataRegister4!AT14/newDataList3!AT14","v":2.1385863340889523E-2},{"$f":"newDataRegister4!AU14/newDataList3!AU14","v":2.0776904816841149E-2},{"$f":"newDataRegister4!AV14/newDataList3!AV14","v":2.0323188338069127E-2},{"$f":"newDataRegister4!AW14/newDataList3!AW14","v":2.0077867219854637E-2},{"$f":"newDataRegister4!AX14/newDataList3!AX14","v":2.0632451352474955E-2},null,"East of England","NHS Suffolk and North East Essex Integrated Care Board","NHS Suffolk and North East Essex ICB - 06T",1.2021101219914277E-2,1.3018223598123385E-2,1.3836326992209958E-2,1.4626108121876896E-2,1.5515874981425528E-2,1.6752862947912818E-2,1.8560568664231416E-2,2.0559885934461165E-2,2.1363480313917282E-2,2.2186233839218542E-2,2.2451724783010212E-2,2.2112636688780253E-2,2.2291994615928637E-2,2.2668478477169483E-2,2.2349926857428697E-2,2.2208321169912563E-2,2.2056504053792302E-2,2.1726352395038506E-2,2.1481373643260381E-2,2.1600000000000001E-2,2.1499999999999998E-2]
[null,null,null,null,null,null,null,null,null,null,null,null,null,null,null,null,null,null,null,null,null,null,null,null,null,{"$f":"newDataList3!Z15","v":"Midlands"},"NHS Coventry and Warwickshire Integrated Care Board",23,23,{"$f":"newDataRegister4!AD15/newDataList3!AD15","v":1.159955577146808E-2},{"$f":"newDataRegister4!AE15/newDataList3!AE15","v":1.2072317661619534E-2},{"$f":"newDataRegister4!AF15/newDataList3!AF15","v":1.2937462912531108E-2},{"$f":"newDataRegister4!AG15/newDataList3!AG15","v":1.3849766311124667E-2},{"$f":"newDataRegister4!AH15/newDataList3!AH15","v":1.4444567092254567E-2},{"$f":"newDataRegister4!AI15/newDataList3!AI15","v":1.4839873952130506E-2},{"$f":"newDataRegister4!AJ15/newDataList3!AJ15","v":1.535033532872318E-2},{"$f":"newDataRegister4!AK15/newDataList3!AK15","v":1.6064929907685946E-2},{"$f":"newDataRegister4!AL15/newDataList3!AL15","v":1.6379282525681708E-2},{"$f":"newDataRegister4!AM15/newDataList3!AM15","v":1.6488360405788709E-2},{"$f":"newDataRegister4!AN15/newDataList3!AN15","v":1.6583084307385153E-2},{"$f":"newDataRegister4!AO15/newDataList3!AO15","v":1.6391016313887025E-2},{"$f":"newDataRegister4!AP15/newDataList3!AP15","v":1.641810469833872E-2},{"$f":"newDataRegister4!AQ15/newDataList3!AQ15","v":1.6465046309833253E-2},{"$f":"newDataRegister4!AR15/newDataList3!AR15","v":1.6581162721600474E-2},{"$f":"newDataRegister4!AS15/newDataList3!AS15","v":1.6343272210087877E-2},{"$f":"newDataRegister4!AT15/newDataList3!AT15","v":1.6478126230536259E-2},{"$f":"newDataRegister4!AU15/newDataList3!AU15","v":1.5997528164662263E-2},{"$f":"newDataRegister4!AV15/newDataList3!AV15","v":1.5921862456515921E-2},{"$f":"newDataRegister4!AW15/newDataList3!AW15","v":1.5872800039885962E-2},{"$f":"newDataRegister4!AX15/newDataList3!AX15","v":1.5991977197220977E-2},null,"East of England","NHS Suffolk and North East Essex Integrated Care Board","NHS Suffolk and North East Essex ICB - 07K",1.1637622898311223E-2,1.1861318078014348E-2,1.3390794343567432E-2,1.4383834361935098E-2,1.5348536889399063E-2,1.6142455949832435E-2,1.7469375467613478E-2,1.8426355909927274E-2,1.915590488162399E-2,1.9562611567682239E-2,2.0183603757472246E-2,2.073071992443155E-2,2.1464204080951666E-2,2.1833283646361258E-2,2.2310044849667521E-2,2.2826599211320252E-2,2.3052171546576593E-2,2.2655987343023831E-2,2.2394193074455782E-2,2.2599999999999999E-2,2.2700000000000001E-2]
[null,null,null,null,null,null,null,null,null,null,null,null,null,null,null,null,null,null,null,null,null,null,null,null,null,{"$f":"newDataList3!Z16","v":"Midlands"},"NHS Herefordshire and Worcestershire Integrated Care Board",24,24,{"$f":"newDataRegister4!AD16/newDataList3!AD16","v":8.4823672550485112E-3},{"$f":"newDataRegister4!AE16/newDataList3!AE16","v":8.639870256426211E-3},{"$f":"newDataRegister4!AF16/newDataList3!AF16","v":9.5714174606653726E-3},{"$f":"newDataRegister4!AG16/newDataList3!AG16","v":1.0112291595266415E-2},{"$f":"newDataRegister4!AH16/newDataList3!AH16","v":1.0461888133887001E-2},{"$f":"newDataRegister4!AI16/newDataList3!AI16","v":1.1006423520662308E-2},{"$f":"newDataRegister4!AJ16/newDataList3!AJ16","v":1.1516637368586139E-2},{"$f":"newDataRegister4!AK16/newDataList3!AK16","v":1.2422953372823472E-2},{"$f":"newDataRegister4!AL16/newDataList3!AL16","v":1.2731723566277007E-2},{"$f":"newDataRegister4!AM16/newDataList3!AM16","v":1.3292924385527581E-2},{"$f":"newDataRegister4!AN16/newDataList3!AN16","v":1.3864846295862713E-2},{"$f":"newDataRegister4!AO16/newDataList3!AO16","v":1.4544995538699612E-2},{"$f":"newDataRegister4!AP16/newDataList3!AP16","v":1.4887104072183579E-2},{"$f":"newDataRegister4!AQ16/newDataList3!AQ16","v":1.546582211665347E-2},{"$f":"newDataRegister4!AR16/newDataList3!AR16","v":1.610853654397985E-2},{"$f":"newDataRegister4!AS16/newDataList3!AS16","v":1.6290032144770521E-2},{"$f":"newDataRegister4!AT16/newDataList3!AT16","v":1.6109597871317709E-2},{"$f":"newDataRegister4!AU16/newDataList3!AU16","v":1.5637522342268406E-2},{"$f":"newDataRegister4!AV16/newDataList3!AV16","v":1.5276217032067113E-2},{"$f":"newDataRegister4!AW16/newDataList3!AW16","v":1.5447141564400134E-2},{"$f":"newDataRegister4!AX16/newDataList3!AX16","v":1.570394694808849E-2},null,"London","NHS North Central London Integrated Care Board","NHS North Central London ICB - 93C",7.9082180920076114E-3,8.0873124227493487E-3,8.5766226484193867E-3,9.0839200154645035E-3,9.5544665497115985E-3,9.8021358660253331E-3,1.0189270080597855E-2,1.0621611326491016E-2,1.0646928299204855E-2,1.086535871204714E-2,1.1148136235110136E-2,1.1269327348907792E-2,1.1474454153394249E-2,1.1613101835542455E-2,1.1662172407785904E-2,1.2239889558752553E-2,1.1377321984657565E-2,1.0785155571822051E-2,1.0419146212750668E-2,1.04E-2,1.04E-2]
[null,null,null,null,null,null,null,null,null,null,null,null,null,null,null,null,null,null,null,null,null,null,null,null,null,{"$f":"newDataList3!Z17","v":"Midlands"},"NHS Shropshire, Telford and Wrekin Integrated Care Board",25,25,{"$f":"newDataRegister4!AD17/newDataList3!AD17","v":9.4870938032324582E-3},{"$f":"newDataRegister4!AE17/newDataList3!AE17","v":9.4999331371121449E-3},{"$f":"newDataRegister4!AF17/newDataList3!AF17","v":9.6888487012891187E-3},{"$f":"newDataRegister4!AG17/newDataList3!AG17","v":1.0010505097905379E-2},{"$f":"newDataRegister4!AH17/newDataList3!AH17","v":1.0306307933148417E-2},{"$f":"newDataRegister4!AI17/newDataList3!AI17","v":1.0297458600986057E-2},{"$f":"newDataRegister4!AJ17/newDataList3!AJ17","v":1.0471204188481676E-2},{"$f":"newDataRegister4!AK17/newDataList3!AK17","v":1.0890089662134077E-2},{"$f":"newDataRegister4!AL17/newDataList3!AL17","v":1.1110571515198448E-2},{"$f":"newDataRegister4!AM17/newDataList3!AM17","v":1.1408134701173708E-2},{"$f":"newDataRegister4!AN17/newDataList3!AN17","v":1.1698451499246858E-2},{"$f":"newDataRegister4!AO17/newDataList3!AO17","v":1.1973027879168398E-2},{"$f":"newDataRegister4!AP17/newDataList3!AP17","v":1.1787598603306484E-2},{"$f":"newDataRegister4!AQ17/newDataList3!AQ17","v":1.2116440965782788E-2},{"$f":"newDataRegister4!AR17/newDataList3!AR17","v":1.2394830601476255E-2},{"$f":"newDataRegister4!AS17/newDataList3!AS17","v":1.2597464065964178E-2},{"$f":"newDataRegister4!AT17/newDataList3!AT17","v":1.2740707346435277E-2},{"$f":"newDataRegister4!AU17/newDataList3!AU17","v":1.2321695971625883E-2},{"$f":"newDataRegister4!AV17/newDataList3!AV17","v":1.2038861864333625E-2},{"$f":"newDataRegister4!AW17/newDataList3!AW17","v":1.211411320754717E-2},{"$f":"newDataRegister4!AX17/newDataList3!AX17","v":1.2323897174433314E-2},null,"London","NHS North East London Integrated Care Board","NHS North East London ICB - A3A8R",9.8573251295525025E-3,9.6527455480970737E-3,9.703562363788016E-3,9.8424051057441845E-3,1.0249887440606066E-2,1.0318215104790435E-2,1.0559081525208725E-2,1.0870607859431308E-2,1.1308770379569481E-2,1.1658884470410379E-2,1.1702900119247676E-2,1.1806836511072059E-2,1.1587476274781888E-2,1.1366110179805726E-2,1.1367430381959502E-2,1.1278180576936893E-2,1.0981446916318104E-2,1.0414370659888679E-2,9.913929521915112E-3,9.7000000000000003E-3,9.5999999999999992E-3]
[null,null,null,null,null,null,null,null,null,null,null,null,null,null,null,null,null,null,null,null,null,null,null,null,null,{"$f":"newDataList3!Z18","v":"Midlands"},"NHS Staffordshire and Stoke-on-Trent Integrated Care Board",26,31,{"$f":"newDataRegister4!AD18/newDataList3!AD18","v":1.5594124703223848E-2},{"$f":"newDataRegister4!AE18/newDataList3!AE18","v":1.5686158663574732E-2},{"$f":"newDataRegister4!AF18/newDataList3!AF18","v":1.6215762876162203E-2},{"$f":"newDataRegister4!AG18/newDataList3!AG18","v":1.6828460180415488E-2},{"$f":"newDataRegister4!AH18/newDataList3!AH18","v":1.7475034636112E-2},{"$f":"newDataRegister4!AI18/newDataList3!AI18","v":1.7718964522203999E-2},{"$f":"newDataRegister4!AJ18/newDataList3!AJ18","v":1.8247632736994399E-2},{"$f":"newDataRegister4!AK18/newDataList3!AK18","v":1.8847412863147714E-2},{"$f":"newDataRegister4!AL18/newDataList3!AL18","v":1.9590945121389203E-2},{"$f":"newDataRegister4!AM18/newDataList3!AM18","v":1.9884487160289451E-2},{"$f":"newDataRegister4!AN18/newDataList3!AN18","v":2.0664090299805635E-2},{"$f":"newDataRegister4!AO18/newDataList3!AO18","v":2.0896866456663533E-2},{"$f":"newDataRegister4!AP18/newDataList3!AP18","v":2.1206043541523098E-2},{"$f":"newDataRegister4!AQ18/newDataList3!AQ18","v":2.1836354042037397E-2},{"$f":"newDataRegister4!AR18/newDataList3!AR18","v":2.246881116245605E-2},{"$f":"newDataRegister4!AS18/newDataList3!AS18","v":2.2695841028392866E-2},{"$f":"newDataRegister4!AT18/newDataList3!AT18","v":2.2436129894093777E-2},{"$f":"newDataRegister4!AU18/newDataList3!AU18","v":2.1733337207516468E-2},{"$f":"newDataRegister4!AV18/newDataList3!AV18","v":2.2248819256401646E-2},{"$f":"newDataRegister4!AW18/newDataList3!AW18","v":2.200936124873128E-2},{"$f":"newDataRegister4!AX18/newDataList3!AX18","v":2.24798929351454E-2},null,"London","NHS North West London Integrated Care Board","NHS North West London ICB - W2U3Z",7.2292170917892381E-3,7.5346228070601847E-3,7.8950512718225629E-3,8.2519236050527574E-3,8.7687858021265521E-3,8.845224607007313E-3,9.0870836193434647E-3,9.4571421198692881E-3,9.4997591168253827E-3,9.4998794841652974E-3,9.7146802139898396E-3,9.9844178062996215E-3,1.0123210945724498E-2,1.0077662417255093E-2,1.0019384405968935E-2,9.7776957845217231E-3,9.4773199048986834E-3,9.0023720249621554E-3,8.6295883397332681E-3,8.6E-3,9.0000000000000011E-3]
[null,null,null,null,null,null,null,null,null,null,null,null,null,null,null,null,null,null,null,null,null,null,null,null,null,{"$f":"newDataList3!Z19","v":"Midlands"},"NHS Derby and Derbyshire Integrated Care Board",32,32,{"$f":"newDataRegister4!AD19/newDataList3!AD19","v":2.2852230937267619E-2},{"$f":"newDataRegister4!AE19/newDataList3!AE19","v":2.2809585749875863E-2},{"$f":"newDataRegister4!AF19/newDataList3!AF19","v":2.3032011501882613E-2},{"$f":"newDataRegister4!AG19/newDataList3!AG19","v":2.3468135379066394E-2},{"$f":"newDataRegister4!AH19/newDataList3!AH19","v":2.4698141476903416E-2},{"$f":"newDataRegister4!AI19/newDataList3!AI19","v":2.5035884676901203E-2},{"$f":"newDataRegister4!AJ19/newDataList3!AJ19","v":2.5938320477764627E-2},{"$f":"newDataRegister4!AK19/newDataList3!AK19","v":2.6720681680643208E-2},{"$f":"newDataRegister4!AL19/newDataList3!AL19","v":2.7415335192258757E-2},{"$f":"newDataRegister4!AM19/newDataList3!AM19","v":2.7971524652022024E-2},{"$f":"newDataRegister4!AN19/newDataList3!AN19","v":2.9152154463371223E-2},{"$f":"newDataRegister4!AO19/newDataList3!AO19","v":2.8906044562013573E-2},{"$f":"newDataRegister4!AP19/newDataList3!AP19","v":2.9592479747419298E-2},{"$f":"newDataRegister4!AQ19/newDataList3!AQ19","v":2.9951918071787438E-2},{"$f":"newDataRegister4!AR19/newDataList3!AR19","v":3.0864133046403276E-2},{"$f":"newDataRegister4!AS19/newDataList3!AS19","v":3.0818891030063883E-2},{"$f":"newDataRegister4!AT19/newDataList3!AT19","v":3.0551260666346773E-2},{"$f":"newDataRegister4!AU19/newDataList3!AU19","v":2.9839365211986078E-2},{"$f":"newDataRegister4!AV19/newDataList3!AV19","v":3.0077921567471431E-2},{"$f":"newDataRegister4!AW19/newDataList3!AW19","v":3.0635885348812553E-2},{"$f":"newDataRegister4!AX19/newDataList3!AX19","v":3.0876613429595193E-2},null,"London","NHS South East London Integrated Care Board","NHS South East London ICB - 72Q",9.6605543854841672E-3,9.9669047872164296E-3,1.0466258660945181E-2,1.0779371061226173E-2,1.1056111492296588E-2,1.1483855722281604E-2,1.1817790096616914E-2,1.2148460693444297E-2,1.2625843559241894E-2,1.3253308676693457E-2,1.3400819396696564E-2,1.3428517283763711E-2,1.3374027757947033E-2,1.3338186232372869E-2,1.3318544964735749E-2,1.3182163768674033E-2,1.3153255997448252E-2,1.2708359626044831E-2,1.2395493861506334E-2,1.24E-2,1.2500000000000001E-2]
[null,null,null,null,null,null,null,null,null,null,null,null,null,null,null,null,null,null,null,null,null,null,null,null,null,{"$f":"newDataList3!Z20","v":"Midlands"},"NHS Leicester, Leicestershire and Rutland Integrated Care Board",33,35,{"$f":"newDataRegister4!AD20/newDataList3!AD20","v":1.8054514401415797E-2},{"$f":"newDataRegister4!AE20/newDataList3!AE20","v":1.8035622757560224E-2},{"$f":"newDataRegister4!AF20/newDataList3!AF20","v":1.8393148265726397E-2},{"$f":"newDataRegister4!AG20/newDataList3!AG20","v":1.8892965185645278E-2},{"$f":"newDataRegister4!AH20/newDataList3!AH20","v":1.9472742138642741E-2},{"$f":"newDataRegister4!AI20/newDataList3!AI20","v":2.0195877795643913E-2},{"$f":"newDataRegister4!AJ20/newDataList3!AJ20","v":2.112129907903915E-2},{"$f":"newDataRegister4!AK20/newDataList3!AK20","v":2.2177162223161635E-2},{"$f":"newDataRegister4!AL20/newDataList3!AL20","v":2.3350928741444305E-2},{"$f":"newDataRegister4!AM20/newDataList3!AM20","v":2.3938708831910429E-2},{"$f":"newDataRegister4!AN20/newDataList3!AN20","v":2.4472163619638321E-2},{"$f":"newDataRegister4!AO20/newDataList3!AO20","v":2.4872132698219654E-2},{"$f":"newDataRegister4!AP20/newDataList3!AP20","v":2.4741560923031699E-2},{"$f":"newDataRegister4!AQ20/newDataList3!AQ20","v":2.5093357548288162E-2},{"$f":"newDataRegister4!AR20/newDataList3!AR20","v":2.5200725134031342E-2},{"$f":"newDataRegister4!AS20/newDataList3!AS20","v":2.5237692459345845E-2},{"$f":"newDataRegister4!AT20/newDataList3!AT20","v":2.4962875075577998E-2},{"$f":"newDataRegister4!AU20/newDataList3!AU20","v":2.4110722224023908E-2},{"$f":"newDataRegister4!AV20/newDataList3!AV20","v":2.2534030601799863E-2},{"$f":"newDataRegister4!AW20/newDataList3!AW20","v":2.2645719376243642E-2},{"$f":"newDataRegister4!AX20/newDataList3!AX20","v":2.27440671743653E-2},null,"London","NHS South West London Integrated Care Board","NHS South West London ICB - 36L",7.8769355702992504E-3,8.1484482751564419E-3,8.5413366298239327E-3,8.7955902421811404E-3,9.0652328395175834E-3,9.367302845266082E-3,9.705229769215144E-3,1.0239798460989095E-2,1.0465694531337728E-2,1.0531525364592913E-2,1.0795014652260756E-2,1.0804350586352828E-2,1.1009338490137429E-2,1.1121180261719281E-2,1.1248030606629196E-2,1.1133114920847245E-2,1.1035402851815621E-2,1.0634525130916577E-2,1.0365719163661259E-2,1.03E-2,1.0500000000000001E-2]
[null,null,null,null,null,null,null,null,null,null,null,null,null,null,null,null,null,null,null,null,null,null,null,null,null,{"$f":"newDataList3!Z21","v":"Midlands"},"NHS Lincolnshire Integrated Care Board",{"$f":"AC20+1","v":36},36,{"$f":"newDataRegister4!AD21/newDataList3!AD21","v":9.5656941735778687E-3},{"$f":"newDataRegister4!AE21/newDataList3!AE21","v":9.8409864401873878E-3},{"$f":"newDataRegister4!AF21/newDataList3!AF21","v":1.0278533882470081E-2},{"$f":"newDataRegister4!AG21/newDataList3!AG21","v":1.0686177766011216E-2},{"$f":"newDataRegister4!AH21/newDataList3!AH21","v":1.0880685569905442E-2},{"$f":"newDataRegister4!AI21/newDataList3!AI21","v":1.0968253529906066E-2},{"$f":"newDataRegister4!AJ21/newDataList3!AJ21","v":1.1254569709466825E-2},{"$f":"newDataRegister4!AK21/newDataList3!AK21","v":1.1570789215151185E-2},{"$f":"newDataRegister4!AL21/newDataList3!AL21","v":1.1816510577376723E-2},{"$f":"newDataRegister4!AM21/newDataList3!AM21","v":1.2300168657537042E-2},{"$f":"newDataRegister4!AN21/newDataList3!AN21","v":1.2314791141629229E-2},{"$f":"newDataRegister4!AO21/newDataList3!AO21","v":1.2683223667116779E-2},{"$f":"newDataRegister4!AP21/newDataList3!AP21","v":1.2910330432390284E-2},{"$f":"newDataRegister4!AQ21/newDataList3!AQ21","v":1.2979561512234773E-2},{"$f":"newDataRegister4!AR21/newDataList3!AR21","v":1.3097323486663669E-2},{"$f":"newDataRegister4!AS21/newDataList3!AS21","v":1.3209233479261027E-2},{"$f":"newDataRegister4!AT21/newDataList3!AT21","v":1.3153557445971813E-2},{"$f":"newDataRegister4!AU21/newDataList3!AU21","v":1.4847072791887255E-2},{"$f":"newDataRegister4!AV21/newDataList3!AV21","v":1.5119997590059631E-2},{"$f":"newDataRegister4!AW21/newDataList3!AW21","v":1.5727870963380245E-2},{"$f":"newDataRegister4!AX21/newDataList3!AX21","v":1.6353663658585808E-2},null,"Midlands","NHS Birmingham and Solihull Integrated Care Board","NHS Birmingham and Solihull ICB - 15E",1.2053484686170913E-2,1.2119264411804378E-2,1.2518897349743114E-2,1.278658808242741E-2,1.3237927201919924E-2,1.3680055963865307E-2,1.4288872940013067E-2,1.4727751915838186E-2,1.4943963637101975E-2,1.5163446494725622E-2,1.5286279294532145E-2,1.5280253169993235E-2,1.5290764043312723E-2,1.5412638546345926E-2,1.5594293663763678E-2,1.5513630326603755E-2,1.5414378711179223E-2,1.4867370919402304E-2,1.4478869777945522E-2,1.4499999999999999E-2,1.46E-2]
[null,null,null,null,null,null,null,null,null,null,null,null,null,null,null,null,null,null,null,null,null,null,null,null,null,{"$f":"newDataList3!Z22","v":"Midlands"},"NHS Northamptonshire Integrated Care Board",37,37,{"$f":"newDataRegister4!AD22/newDataList3!AD22","v":1.8076900300696801E-2},{"$f":"newDataRegister4!AE22/newDataList3!AE22","v":1.8345860065882683E-2},{"$f":"newDataRegister4!AF22/newDataList3!AF22","v":1.8500082241825595E-2},{"$f":"newDataRegister4!AG22/newDataList3!AG22","v":1.9433404492891888E-2},{"$f":"newDataRegister4!AH22/newDataList3!AH22","v":2.124957110859637E-2},{"$f":"newDataRegister4!AI22/newDataList3!AI22","v":2.2559485421404568E-2},{"$f":"newDataRegister4!AJ22/newDataList3!AJ22","v":2.3879696949106476E-2},{"$f":"newDataRegister4!AK22/newDataList3!AK22","v":2.5101057574365308E-2},{"$f":"newDataRegister4!AL22/newDataList3!AL22","v":2.6144941754553667E-2},{"$f":"newDataRegister4!AM22/newDataList3!AM22","v":2.7044090681780295E-2},{"$f":"newDataRegister4!AN22/newDataList3!AN22","v":2.7880357555930074E-2},{"$f":"newDataRegister4!AO22/newDataList3!AO22","v":2.8554921319320251E-2},{"$f":"newDataRegister4!AP22/newDataList3!AP22","v":2.8981554787146355E-2},{"$f":"newDataRegister4!AQ22/newDataList3!AQ22","v":2.9358864997102944E-2},{"$f":"newDataRegister4!AR22/newDataList3!AR22","v":2.963587669263221E-2},{"$f":"newDataRegister4!AS22/newDataList3!AS22","v":2.9971959258912113E-2},{"$f":"newDataRegister4!AT22/newDataList3!AT22","v":2.9672590989428364E-2},{"$f":"newDataRegister4!AU22/newDataList3!AU22","v":2.9229765737228595E-2},{"$f":"newDataRegister4!AV22/newDataList3!AV22","v":2.9853989140192154E-2},{"$f":"newDataRegister4!AW22/newDataList3!AW22","v":2.9850493748484353E-2},{"$f":"newDataRegister4!AX22/newDataList3!AX22","v":3.0153637478154263E-2},null,"Midlands","NHS Black Country Integrated Care Board","NHS Black Country ICB - D2P2L",1.3985995267513946E-2,1.4075133260745035E-2,1.483742031175469E-2,1.5732208734228613E-2,1.6351135069575449E-2,1.6990472784726884E-2,1.7836632659955408E-2,1.893204879600275E-2,1.9540615200519387E-2,2.0272170695127184E-2,2.0552444734918549E-2,2.0709463953179037E-2,2.0902416043715004E-2,2.1227688444826059E-2,2.1774181263364327E-2,2.1744702529731107E-2,2.1385863340889523E-2,2.0776904816841149E-2,2.0323188338069127E-2,2.0099999999999996E-2,2.06E-2]
[null,null,null,null,null,null,null,null,null,null,null,null,null,null,null,null,null,null,null,null,null,null,null,null,null,{"$f":"newDataList3!Z23","v":"Midlands"},"NHS Nottingham and Nottinghamshire Integrated Care Board",38,39,{"$f":"newDataRegister4!AD23/newDataList3!AD23","v":1.8170454038126702E-2},{"$f":"newDataRegister4!AE23/newDataList3!AE23","v":1.814012975838895E-2},{"$f":"newDataRegister4!AF23/newDataList3!AF23","v":1.8634587402133453E-2},{"$f":"newDataRegister4!AG23/newDataList3!AG23","v":1.9197379498810747E-2},{"$f":"newDataRegister4!AH23/newDataList3!AH23","v":1.9874166605612132E-2},{"$f":"newDataRegister4!AI23/newDataList3!AI23","v":2.0131422071531731E-2},{"$f":"newDataRegister4!AJ23/newDataList3!AJ23","v":2.1177832871197011E-2},{"$f":"newDataRegister4!AK23/newDataList3!AK23","v":2.1740833665859494E-2},{"$f":"newDataRegister4!AL23/newDataList3!AL23","v":2.236928635201255E-2},{"$f":"newDataRegister4!AM23/newDataList3!AM23","v":2.3286594659553888E-2},{"$f":"newDataRegister4!AN23/newDataList3!AN23","v":2.3571460603614511E-2},{"$f":"newDataRegister4!AO23/newDataList3!AO23","v":2.4028513017334215E-2},{"$f":"newDataRegister4!AP23/newDataList3!AP23","v":2.3993739621838844E-2},{"$f":"newDataRegister4!AQ23/newDataList3!AQ23","v":2.4891103618048246E-2},{"$f":"newDataRegister4!AR23/newDataList3!AR23","v":2.4860482229979757E-2},{"$f":"newDataRegister4!AS23/newDataList3!AS23","v":2.6032903022123847E-2},{"$f":"newDataRegister4!AT23/newDataList3!AT23","v":2.5989659803355346E-2},{"$f":"newDataRegister4!AU23/newDataList3!AU23","v":2.1552137047185484E-2},{"$f":"newDataRegister4!AV23/newDataList3!AV23","v":2.1439899420467902E-2},{"$f":"newDataRegister4!AW23/newDataList3!AW23","v":2.1755265989999439E-2},{"$f":"newDataRegister4!AX23/newDataList3!AX23","v":2.233849635782684E-2},null,"Midlands","NHS Coventry and Warwickshire Integrated Care Board","NHS Coventry and Warwickshire ICB - B2M3M",1.159955577146808E-2,1.2072317661619534E-2,1.2937462912531108E-2,1.3849766311124667E-2,1.4444567092254567E-2,1.4839873952130506E-2,1.535033532872318E-2,1.6064929907685946E-2,1.6379282525681708E-2,1.6488360405788709E-2,1.6583084307385153E-2,1.6391016313887025E-2,1.641810469833872E-2,1.6465046309833253E-2,1.6581162721600474E-2,1.6343272210087877E-2,1.6478126230536259E-2,1.5997528164662263E-2,1.5921862456515921E-2,1.5900000000000001E-2,1.6E-2]
[null,null,null,null,null,null,null,null,null,null,null,null,null,null,null,null,null,null,null,null,null,null,null,null,null,{"$f":"newDataList3!Z24","v":"North East and Yorkshire"},"NHS Humber and North Yorkshire Integrated Care Board",40,45,{"$f":"newDataRegister4!AD24/newDataList3!AD24","v":1.513328989816619E-2},{"$f":"newDataRegister4!AE24/newDataList3!AE24","v":1.530081574483182E-2},{"$f":"newDataRegister4!AF24/newDataList3!AF24","v":1.5714785073842042E-2},{"$f":"newDataRegister4!AG24/newDataList3!AG24","v":1.6173517252631504E-2},{"$f":"newDataRegister4!AH24/newDataList3!AH24","v":1.6686549332138985E-2},{"$f":"newDataRegister4!AI24/newDataList3!AI24","v":1.7377724732944997E-2},{"$f":"newDataRegister4!AJ24/newDataList3!AJ24","v":1.8195026324832587E-2},{"$f":"newDataRegister4!AK24/newDataList3!AK24","v":1.8953465326032617E-2},{"$f":"newDataRegister4!AL24/newDataList3!AL24","v":1.9851386218909667E-2},{"$f":"newDataRegister4!AM24/newDataList3!AM24","v":2.0399440975725772E-2},{"$f":"newDataRegister4!AN24/newDataList3!AN24","v":2.1023148413779214E-2},{"$f":"newDataRegister4!AO24/newDataList3!AO24","v":2.1641519167378297E-2},{"$f":"newDataRegister4!AP24/newDataList3!AP24","v":2.1771268914314492E-2},{"$f":"newDataRegister4!AQ24/newDataList3!AQ24","v":2.2586018633465373E-2},{"$f":"newDataRegister4!AR24/newDataList3!AR24","v":2.3347931379101527E-2},{"$f":"newDataRegister4!AS24/newDataList3!AS24","v":2.3669301005750799E-2},{"$f":"newDataRegister4!AT24/newDataList3!AT24","v":2.35262140100626E-2},{"$f":"newDataRegister4!AU24/newDataList3!AU24","v":2.3380299574837241E-2},{"$f":"newDataRegister4!AV24/newDataList3!AV24","v":2.3581136878428499E-2},{"$f":"newDataRegister4!AW24/newDataList3!AW24","v":2.4112335297725808E-2},{"$f":"newDataRegister4!AX24/newDataList3!AX24","v":2.4990641602885309E-2},null,"Midlands","NHS Herefordshire and Worcestershire Integrated Care Board","NHS Herefordshire and Worcestershire ICB - 18C",1.1392934668916183E-2,1.1628739425195288E-2,1.2712756894685085E-2,1.3374002815579541E-2,1.4130343857841465E-2,1.4851747311116171E-2,1.5621976274106966E-2,1.6651162176962307E-2,1.7257152307363164E-2,1.8072162840802462E-2,1.8827236100759395E-2,1.9421110663662904E-2,1.9804579004420508E-2,2.070039185407788E-2,2.1407202882355595E-2,2.1814513115611688E-2,2.1542904985311091E-2,2.0890591139710889E-2,2.0808434741271462E-2,2.1099999999999997E-2,2.1499999999999998E-2]
[null,null,null,null,null,null,null,null,null,null,null,null,null,null,null,null,null,null,null,null,null,null,null,null,null,{"$f":"newDataList3!Z25","v":"North East and Yorkshire"},"NHS South Yorkshire Integrated Care Board",46,49,{"$f":"newDataRegister4!AD25/newDataList3!AD25","v":8.8642843295287706E-3},{"$f":"newDataRegister4!AE25/newDataList3!AE25","v":9.0311133898213613E-3},{"$f":"newDataRegister4!AF25/newDataList3!AF25","v":9.4200110550889532E-3},{"$f":"newDataRegister4!AG25/newDataList3!AG25","v":9.7772448616569637E-3},{"$f":"newDataRegister4!AH25/newDataList3!AH25","v":1.0093879103861796E-2},{"$f":"newDataRegister4!AI25/newDataList3!AI25","v":1.0142456612601842E-2},{"$f":"newDataRegister4!AJ25/newDataList3!AJ25","v":1.0421315124477653E-2},{"$f":"newDataRegister4!AK25/newDataList3!AK25","v":1.0725603477387168E-2},{"$f":"newDataRegister4!AL25/newDataList3!AL25","v":1.1169717448867E-2},{"$f":"newDataRegister4!AM25/newDataList3!AM25","v":1.1408873862193013E-2},{"$f":"newDataRegister4!AN25/newDataList3!AN25","v":1.1556569137569172E-2},{"$f":"newDataRegister4!AO25/newDataList3!AO25","v":1.182259494008652E-2},{"$f":"newDataRegister4!AP25/newDataList3!AP25","v":1.1935271074770541E-2},{"$f":"newDataRegister4!AQ25/newDataList3!AQ25","v":1.2196365795778303E-2},{"$f":"newDataRegister4!AR25/newDataList3!AR25","v":1.2456837641922663E-2},{"$f":"newDataRegister4!AS25/newDataList3!AS25","v":1.2476345560013161E-2},{"$f":"newDataRegister4!AT25/newDataList3!AT25","v":1.2321696690693138E-2},{"$f":"newDataRegister4!AU25/newDataList3!AU25","v":1.2106432957646379E-2},{"$f":"newDataRegister4!AV25/newDataList3!AV25","v":1.2087948369244797E-2},{"$f":"newDataRegister4!AW25/newDataList3!AW25","v":1.2629102177209136E-2},{"$f":"newDataRegister4!AX25/newDataList3!AX25","v":1.3168845958400203E-2},null,"Midlands","NHS Shropshire, Telford and Wrekin Integrated Care Board","NHS Shropshire, Telford and Wrekin ICB - M2L0M",1.5317771378314299E-2,1.5352978800970122E-2,1.5630275380260232E-2,1.6062238231934527E-2,1.6541888571349413E-2,1.6500627948813684E-2,1.6774818237412517E-2,1.7393705135284373E-2,1.7745103588221359E-2,1.8138439739956661E-2,1.8542843924523315E-2,1.8998505597883339E-2,1.901100444288863E-2,1.9321766561514197E-2,1.9541310496294775E-2,1.9749586028056362E-2,1.9914009884410857E-2,1.9218078421695942E-2,1.8872203809128109E-2,1.89E-2,1.9099999999999999E-2]
[null,null,null,null,null,null,null,null,null,null,null,null,null,null,null,null,null,null,null,null,null,null,null,null,null,{"$f":"newDataList3!Z26","v":"North East and Yorkshire"},"NHS West Yorkshire Integrated Care Board",50,54,{"$f":"newDataRegister4!AD26/newDataList3!AD26","v":2.8634005349801626E-2},{"$f":"newDataRegister4!AE26/newDataList3!AE26","v":2.8638794043723621E-2},{"$f":"newDataRegister4!AF26/newDataList3!AF26","v":2.9294546846757301E-2},{"$f":"newDataRegister4!AG26/newDataList3!AG26","v":3.0007612351791758E-2},{"$f":"newDataRegister4!AH26/newDataList3!AH26","v":3.0816062564041888E-2},{"$f":"newDataRegister4!AI26/newDataList3!AI26","v":3.1506606212152288E-2},{"$f":"newDataRegister4!AJ26/newDataList3!AJ26","v":3.2504370113278842E-2},{"$f":"newDataRegister4!AK26/newDataList3!AK26","v":3.3708591615494533E-2},{"$f":"newDataRegister4!AL26/newDataList3!AL26","v":3.4680464370752742E-2},{"$f":"newDataRegister4!AM26/newDataList3!AM26","v":3.5687086351481531E-2},{"$f":"newDataRegister4!AN26/newDataList3!AN26","v":3.6760197916083412E-2},{"$f":"newDataRegister4!AO26/newDataList3!AO26","v":3.7484487688122993E-2},{"$f":"newDataRegister4!AP26/newDataList3!AP26","v":3.7788890596423312E-2},{"$f":"newDataRegister4!AQ26/newDataList3!AQ26","v":3.8226948355322643E-2},{"$f":"newDataRegister4!AR26/newDataList3!AR26","v":3.884400248601616E-2},{"$f":"newDataRegister4!AS26/newDataList3!AS26","v":3.9023751286109472E-2},{"$f":"newDataRegister4!AT26/newDataList3!AT26","v":3.8870932374204262E-2},{"$f":"newDataRegister4!AU26/newDataList3!AU26","v":3.7555650234735456E-2},{"$f":"newDataRegister4!AV26/newDataList3!AV26","v":3.6951810683398791E-2},{"$f":"newDataRegister4!AW26/newDataList3!AW26","v":3.6775246788976319E-2},{"$f":"newDataRegister4!AX26/newDataList3!AX26","v":3.6884838008433514E-2},null,"Midlands","NHS Staffordshire and Stoke-on-Trent Integrated Care Board","NHS Staffordshire and Stoke-on-Trent ICB - 04Y",1.583989450413063E-2,1.6574671177413236E-2,1.7797949131013971E-2,1.8633492468706377E-2,1.902946646786664E-2,1.9496913437706861E-2,1.9984931392171935E-2,2.069944078123696E-2,2.1627903466803506E-2,2.2044961205374913E-2,2.2566866905735363E-2,2.2748311708020337E-2,2.3897753913635331E-2,2.4939921898468009E-2,2.6086566762785555E-2,2.6751091767811201E-2,2.6726912967720978E-2,2.6096347833753333E-2,2.5701581747940811E-2,2.6000000000000002E-2,2.6800000000000001E-2]
[null,null,null,null,null,null,null,null,null,null,null,null,null,null,null,null,null,null,null,null,null,null,null,null,null,{"$f":"newDataList3!Z27","v":"North East and Yorkshire"},"NHS North East and North Cumbria Integrated Care Board",55,62,{"$f":"newDataRegister4!AD27/newDataList3!AD27","v":2.9101434553625839E-2},{"$f":"newDataRegister4!AE27/newDataList3!AE27","v":2.8514803920888513E-2},{"$f":"newDataRegister4!AF27/newDataList3!AF27","v":2.840571561701824E-2},{"$f":"newDataRegister4!AG27/newDataList3!AG27","v":2.8844921666621965E-2},{"$f":"newDataRegister4!AH27/newDataList3!AH27","v":2.9618789148637831E-2},{"$f":"newDataRegister4!AI27/newDataList3!AI27","v":3.0118164909061836E-2},{"$f":"newDataRegister4!AJ27/newDataList3!AJ27","v":3.0802880062799999E-2},{"$f":"newDataRegister4!AK27/newDataList3!AK27","v":3.1503166338771753E-2},{"$f":"newDataRegister4!AL27/newDataList3!AL27","v":3.2215937940066351E-2},{"$f":"newDataRegister4!AM27/newDataList3!AM27","v":3.302165733924118E-2},{"$f":"newDataRegister4!AN27/newDataList3!AN27","v":3.3678439196888774E-2},{"$f":"newDataRegister4!AO27/newDataList3!AO27","v":3.4150077307297716E-2},{"$f":"newDataRegister4!AP27/newDataList3!AP27","v":3.4607769750154609E-2},{"$f":"newDataRegister4!AQ27/newDataList3!AQ27","v":3.4812771106942572E-2},{"$f":"newDataRegister4!AR27/newDataList3!AR27","v":3.5166976461911512E-2},{"$f":"newDataRegister4!AS27/newDataList3!AS27","v":3.5164401940158144E-2},{"$f":"newDataRegister4!AT27/newDataList3!AT27","v":3.5191858335154841E-2},{"$f":"newDataRegister4!AU27/newDataList3!AU27","v":3.3906979670990788E-2},{"$f":"newDataRegister4!AV27/newDataList3!AV27","v":3.3454497134990116E-2},{"$f":"newDataRegister4!AW27/newDataList3!AW27","v":3.3501595464936113E-2},{"$f":"newDataRegister4!AX27/newDataList3!AX27","v":3.3880927811393777E-2},null,"Midlands","NHS Staffordshire and Stoke-on-Trent Integrated Care Board","NHS Staffordshire and Stoke-on-Trent ICB - 05D",1.3400272831039634E-2,1.3569296733784523E-2,1.3780068442394319E-2,1.445685980877779E-2,1.4449711576903307E-2,1.4503086969908121E-2,1.5344034483867855E-2,1.6001786839607214E-2,1.6388785872661422E-2,1.7168858380373086E-2,1.6897760406973137E-2,1.7048371401644304E-2,1.7238329672921302E-2,1.8680445151033388E-2,1.866491159309901E-2,1.8462843892412241E-2,1.8053455095393207E-2,1.7391366761889723E-2,1.6687797462976852E-2,1.6399999999999998E-2,1.67E-2]
[null,null,null,null,null,null,null,null,null,null,null,null,null,null,null,null,null,null,null,null,null,null,null,null,null,{"$f":"newDataList3!Z28","v":"North West"},"NHS Cheshire and Merseyside Integrated Care Board",63,71,{"$f":"newDataRegister4!AD28/newDataList3!AD28","v":2.0041932146603974E-2},{"$f":"newDataRegister4!AE28/newDataList3!AE28","v":1.9867568297403125E-2},{"$f":"newDataRegister4!AF28/newDataList3!AF28","v":2.0059096529684763E-2},{"$f":"newDataRegister4!AG28/newDataList3!AG28","v":2.0626965436295386E-2},{"$f":"newDataRegister4!AH28/newDataList3!AH28","v":2.1271555846136735E-2},{"$f":"newDataRegister4!AI28/newDataList3!AI28","v":2.171408430272637E-2},{"$f":"newDataRegister4!AJ28/newDataList3!AJ28","v":2.2559765963525165E-2},{"$f":"newDataRegister4!AK28/newDataList3!AK28","v":2.3056494590564233E-2},{"$f":"newDataRegister4!AL28/newDataList3!AL28","v":2.3642788408573728E-2},{"$f":"newDataRegister4!AM28/newDataList3!AM28","v":2.3784931416971376E-2},{"$f":"newDataRegister4!AN28/newDataList3!AN28","v":2.4021678138119541E-2},{"$f":"newDataRegister4!AO28/newDataList3!AO28","v":2.4507310685117304E-2},{"$f":"newDataRegister4!AP28/newDataList3!AP28","v":2.4861759115258338E-2},{"$f":"newDataRegister4!AQ28/newDataList3!AQ28","v":2.5267085087886013E-2},{"$f":"newDataRegister4!AR28/newDataList3!AR28","v":2.577636394287576E-2},{"$f":"newDataRegister4!AS28/newDataList3!AS28","v":2.5777953364512451E-2},{"$f":"newDataRegister4!AT28/newDataList3!AT28","v":2.5866892567980873E-2},{"$f":"newDataRegister4!AU28/newDataList3!AU28","v":2.533972818800961E-2},{"$f":"newDataRegister4!AV28/newDataList3!AV28","v":2.5347602392723274E-2},{"$f":"newDataRegister4!AW28/newDataList3!AW28","v":2.5297340701392845E-2},{"$f":"newDataRegister4!AX28/newDataList3!AX28","v":2.5327067082878168E-2},null,"Midlands","NHS Staffordshire and Stoke-on-Trent Integrated Care Board","NHS Staffordshire and Stoke-on-Trent ICB - 05G",1.5813766619638035E-2,1.6179445609871189E-2,1.6414589915683599E-2,1.730644536807684E-2,1.8253935000907807E-2,1.8842461386682302E-2,1.9302222765711276E-2,1.9632206759443341E-2,2.059003313708458E-2,2.1250217085078054E-2,2.1840227010826739E-2,2.2559666710536466E-2,2.3412667998178562E-2,2.3870973543641302E-2,2.5486151370931135E-2,2.5985405395689918E-2,2.5776635556156724E-2,2.4941550253319632E-2,2.4941910459776423E-2,2.6200000000000001E-2,2.6499999999999999E-2]
[null,null,null,null,null,null,null,null,null,null,null,null,null,null,null,null,null,null,null,null,null,null,null,null,null,{"$f":"newDataList3!Z29","v":"North West"},"NHS Greater Manchester Integrated Care Board",72,81,{"$f":"newDataRegister4!AD29/newDataList3!AD29","v":1.6933761242711017E-2},{"$f":"newDataRegister4!AE29/newDataList3!AE29","v":1.6973648230930189E-2},{"$f":"newDataRegister4!AF29/newDataList3!AF29","v":1.794443871716634E-2},{"$f":"newDataRegister4!AG29/newDataList3!AG29","v":1.8830844934241611E-2},{"$f":"newDataRegister4!AH29/newDataList3!AH29","v":1.9487939882125941E-2},{"$f":"newDataRegister4!AI29/newDataList3!AI29","v":1.98808633105911E-2},{"$f":"newDataRegister4!AJ29/newDataList3!AJ29","v":2.0363737027373322E-2},{"$f":"newDataRegister4!AK29/newDataList3!AK29","v":2.0969624515435329E-2},{"$f":"newDataRegister4!AL29/newDataList3!AL29","v":2.163396594183321E-2},{"$f":"newDataRegister4!AM29/newDataList3!AM29","v":2.2022539507096938E-2},{"$f":"newDataRegister4!AN29/newDataList3!AN29","v":2.2301884178442782E-2},{"$f":"newDataRegister4!AO29/newDataList3!AO29","v":2.2530824131324581E-2},{"$f":"newDataRegister4!AP29/newDataList3!AP29","v":2.2785311626001795E-2},{"$f":"newDataRegister4!AQ29/newDataList3!AQ29","v":2.3060597568766095E-2},{"$f":"newDataRegister4!AR29/newDataList3!AR29","v":2.3301879501785978E-2},{"$f":"newDataRegister4!AS29/newDataList3!AS29","v":2.3258340992543022E-2},{"$f":"newDataRegister4!AT29/newDataList3!AT29","v":2.330627491481907E-2},{"$f":"newDataRegister4!AU29/newDataList3!AU29","v":2.2276992000202486E-2},{"$f":"newDataRegister4!AV29/newDataList3!AV29","v":2.1627166583395124E-2},{"$f":"newDataRegister4!AW29/newDataList3!AW29","v":2.1754602689353586E-2},{"$f":"newDataRegister4!AX29/newDataList3!AX29","v":2.27068085898991E-2},null,"Midlands","NHS Staffordshire and Stoke-on-Trent Integrated Care Board","NHS Staffordshire and Stoke-on-Trent ICB - 05Q",1.2059050945009704E-2,1.2385041090085409E-2,1.3102646584292858E-2,1.353559737930966E-2,1.396429432814369E-2,1.4607824432148956E-2,1.5324029226642782E-2,1.6163245356793744E-2,1.6701843659949308E-2,1.7084698219963688E-2,1.7357850124665692E-2,1.7613067334953898E-2,1.7426334132983296E-2,1.8423564197091902E-2,1.9001557885925547E-2,1.9053767407544036E-2,1.9078365303164355E-2,1.863426302978969E-2,1.8662547618939769E-2,1.8799999999999997E-2,1.9299999999999998E-2]
[null,null,null,null,null,null,null,null,null,null,null,null,null,null,null,null,null,null,null,null,null,null,null,null,null,{"$f":"newDataList3!Z30","v":"North West"},"NHS Lancashire and South Cumbria Integrated Care Board",82,89,{"$f":"newDataRegister4!AD30/newDataList3!AD30","v":1.8280262560043468E-2},{"$f":"newDataRegister4!AE30/newDataList3!AE30","v":1.826134948943596E-2},{"$f":"newDataRegister4!AF30/newDataList3!AF30","v":1.857689629946388E-2},{"$f":"newDataRegister4!AG30/newDataList3!AG30","v":1.9271854630739819E-2},{"$f":"newDataRegister4!AH30/newDataList3!AH30","v":1.9896230065310726E-2},{"$f":"newDataRegister4!AI30/newDataList3!AI30","v":2.022844198837118E-2},{"$f":"newDataRegister4!AJ30/newDataList3!AJ30","v":2.1077753919319587E-2},{"$f":"newDataRegister4!AK30/newDataList3!AK30","v":2.1930440780146374E-2},{"$f":"newDataRegister4!AL30/newDataList3!AL30","v":2.2640275185280074E-2},{"$f":"newDataRegister4!AM30/newDataList3!AM30","v":2.343881371661978E-2},{"$f":"newDataRegister4!AN30/newDataList3!AN30","v":2.4228241843214739E-2},{"$f":"newDataRegister4!AO30/newDataList3!AO30","v":2.4619087194404046E-2},{"$f":"newDataRegister4!AP30/newDataList3!AP30","v":2.513529178837667E-2},{"$f":"newDataRegister4!AQ30/newDataList3!AQ30","v":2.5007168000468667E-2},{"$f":"newDataRegister4!AR30/newDataList3!AR30","v":2.4752187133167229E-2},{"$f":"newDataRegister4!AS30/newDataList3!AS30","v":2.5490182869115027E-2},{"$f":"newDataRegister4!AT30/newDataList3!AT30","v":2.5390682656569658E-2},{"$f":"newDataRegister4!AU30/newDataList3!AU30","v":2.4475435837125817E-2},{"$f":"newDataRegister4!AV30/newDataList3!AV30","v":2.3951233324840376E-2},{"$f":"newDataRegister4!AW30/newDataList3!AW30","v":2.3812417130466015E-2},{"$f":"newDataRegister4!AX30/newDataList3!AX30","v":2.4132349911850551E-2},null,"Midlands","NHS Staffordshire and Stoke-on-Trent Integrated Care Board","NHS Staffordshire and Stoke-on-Trent ICB - 05V",1.0552612611351757E-2,1.0052663434045483E-2,1.0852884655265377E-2,1.1174140042835344E-2,1.140085148190601E-2,1.1905736028148269E-2,1.2423002903989018E-2,1.3022760437918848E-2,1.3448149758154105E-2,1.4004985058595095E-2,1.4872774236095846E-2,1.5682964515931413E-2,1.633108108108108E-2,1.7096826120784482E-2,1.8279707041345839E-2,1.8923851646594905E-2,1.8703241895261846E-2,1.8363808322824717E-2,1.7960139155314237E-2,1.8500000000000003E-2,1.9199999999999998E-2]
[null,null,null,null,null,null,null,null,null,null,null,null,null,null,null,null,null,null,null,null,null,null,null,null,null,{"$f":"newDataList3!Z31","v":"South East"},"NHS Buckinghamshire, Oxfordshire and Berkshire West Integrated Care Board",90,92,{"$f":"newDataRegister4!AD31/newDataList3!AD31","v":8.7554457518321267E-3},{"$f":"newDataRegister4!AE31/newDataList3!AE31","v":8.9129988947228012E-3},{"$f":"newDataRegister4!AF31/newDataList3!AF31","v":9.4265149756210826E-3},{"$f":"newDataRegister4!AG31/newDataList3!AG31","v":9.8894291486236151E-3},{"$f":"newDataRegister4!AH31/newDataList3!AH31","v":1.0160268246207476E-2},{"$f":"newDataRegister4!AI31/newDataList3!AI31","v":1.0473524458670285E-2},{"$f":"newDataRegister4!AJ31/newDataList3!AJ31","v":1.1050648954604026E-2},{"$f":"newDataRegister4!AK31/newDataList3!AK31","v":1.1476556706783938E-2},{"$f":"newDataRegister4!AL31/newDataList3!AL31","v":1.1890430497850371E-2},{"$f":"newDataRegister4!AM31/newDataList3!AM31","v":1.2213022334871825E-2},{"$f":"newDataRegister4!AN31/newDataList3!AN31","v":1.2543165426898996E-2},{"$f":"newDataRegister4!AO31/newDataList3!AO31","v":1.2807739812929852E-2},{"$f":"newDataRegister4!AP31/newDataList3!AP31","v":1.3009836948157579E-2},{"$f":"newDataRegister4!AQ31/newDataList3!AQ31","v":1.3199230377940763E-2},{"$f":"newDataRegister4!AR31/newDataList3!AR31","v":1.3441827419333217E-2},{"$f":"newDataRegister4!AS31/newDataList3!AS31","v":1.3365556716869585E-2},{"$f":"newDataRegister4!AT31/newDataList3!AT31","v":1.3284947966279541E-2},{"$f":"newDataRegister4!AU31/newDataList3!AU31","v":1.2832022240654974E-2},{"$f":"newDataRegister4!AV31/newDataList3!AV31","v":1.2478893860613684E-2},{"$f":"newDataRegister4!AW31/newDataList3!AW31","v":1.2385786089138135E-2},{"$f":"newDataRegister4!AX31/newDataList3!AX31","v":1.2607615392785636E-2},null,"Midlands","NHS Staffordshire and Stoke-on-Trent Integrated Care Board","NHS Staffordshire and Stoke-on-Trent ICB - 05W",1.8689853050983009E-2,1.7759472087513009E-2,1.8284933479279768E-2,1.8828367830701746E-2,2.0112045021859336E-2,2.0147621255142842E-2,2.1434973939409588E-2,2.217745614323199E-2,2.3232155011368081E-2,2.414279734940384E-2,2.4780450144222005E-2,2.4988044421615684E-2,2.4928288003834037E-2,2.6071082007497748E-2,2.668018609912641E-2,2.7161399084454921E-2,2.7121549802845878E-2,2.6748760747574339E-2,2.7068747810105577E-2,2.6099999999999998E-2,2.64E-2]
[null,null,null,null,null,null,null,null,null,null,null,null,null,null,null,null,null,null,null,null,null,null,null,null,null,{"$f":"newDataList3!Z32","v":"South East"},"NHS Frimley Integrated Care Board",93,93,{"$f":"newDataRegister4!AD32/newDataList3!AD32","v":9.1262555351549843E-3},{"$f":"newDataRegister4!AE32/newDataList3!AE32","v":9.3947075244674647E-3},{"$f":"newDataRegister4!AF32/newDataList3!AF32","v":9.6061952570026705E-3},{"$f":"newDataRegister4!AG32/newDataList3!AG32","v":9.9286081157637009E-3},{"$f":"newDataRegister4!AH32/newDataList3!AH32","v":1.0258456576136204E-2},{"$f":"newDataRegister4!AI32/newDataList3!AI32","v":1.0255277523587139E-2},{"$f":"newDataRegister4!AJ32/newDataList3!AJ32","v":1.0677610189099242E-2},{"$f":"newDataRegister4!AK32/newDataList3!AK32","v":1.0903300568057503E-2},{"$f":"newDataRegister4!AL32/newDataList3!AL32","v":1.0997031255211981E-2},{"$f":"newDataRegister4!AM32/newDataList3!AM32","v":1.1122390079815291E-2},{"$f":"newDataRegister4!AN32/newDataList3!AN32","v":1.1377112265867354E-2},{"$f":"newDataRegister4!AO32/newDataList3!AO32","v":1.1719203248888029E-2},{"$f":"newDataRegister4!AP32/newDataList3!AP32","v":1.2109946982279341E-2},{"$f":"newDataRegister4!AQ32/newDataList3!AQ32","v":1.2590342092015492E-2},{"$f":"newDataRegister4!AR32/newDataList3!AR32","v":1.2836680413490318E-2},{"$f":"newDataRegister4!AS32/newDataList3!AS32","v":1.2843735578714615E-2},{"$f":"newDataRegister4!AT32/newDataList3!AT32","v":1.2771882652326308E-2},{"$f":"newDataRegister4!AU32/newDataList3!AU32","v":1.2554930106700436E-2},{"$f":"newDataRegister4!AV32/newDataList3!AV32","v":1.2242695280548659E-2},{"$f":"newDataRegister4!AW32/newDataList3!AW32","v":1.2210586307615588E-2},{"$f":"newDataRegister4!AX32/newDataList3!AX32","v":1.2253094633233647E-2},null,"Midlands","NHS Derby and Derbyshire Integrated Care Board","NHS Derby and Derbyshire ICB - 15M",1.5944261330134706E-2,1.5997157844980115E-2,1.6472211476206301E-2,1.6999979839929038E-2,1.7631456839058764E-2,1.7968589798307143E-2,1.8631234066420491E-2,1.9473685764943429E-2,1.9717322425960786E-2,2.0229536704472938E-2,2.0729619664303561E-2,2.1289942128358261E-2,2.1604988043077172E-2,2.1965840968216264E-2,2.2281213117597596E-2,2.2476226263468065E-2,2.228985236110172E-2,2.1769884045118759E-2,2.1857084585524947E-2,2.2200000000000001E-2,2.23E-2]
[null,null,null,null,null,null,null,null,null,null,null,null,null,null,null,null,null,null,null,null,null,null,null,null,null,{"$f":"newDataList3!Z33","v":"South East"},"NHS Hampshire and Isle of Wight Integrated Care Board",94,95,{"$f":"newDataRegister4!AD33/newDataList3!AD33","v":1.1836236487193629E-2},{"$f":"newDataRegister4!AE33/newDataList3!AE33","v":1.2265582376618298E-2},{"$f":"newDataRegister4!AF33/newDataList3!AF33","v":1.2840692136562191E-2},{"$f":"newDataRegister4!AG33/newDataList3!AG33","v":1.3456022183564363E-2},{"$f":"newDataRegister4!AH33/newDataList3!AH33","v":1.3960561270841779E-2},{"$f":"newDataRegister4!AI33/newDataList3!AI33","v":1.4211899477858551E-2},{"$f":"newDataRegister4!AJ33/newDataList3!AJ33","v":1.4847890535404843E-2},{"$f":"newDataRegister4!AK33/newDataList3!AK33","v":1.5607247168917305E-2},{"$f":"newDataRegister4!AL33/newDataList3!AL33","v":1.6238476583795233E-2},{"$f":"newDataRegister4!AM33/newDataList3!AM33","v":1.6818502300211074E-2},{"$f":"newDataRegister4!AN33/newDataList3!AN33","v":1.7443549554107481E-2},{"$f":"newDataRegister4!AO33/newDataList3!AO33","v":1.7889970546035385E-2},{"$f":"newDataRegister4!AP33/newDataList3!AP33","v":1.8282706467619102E-2},{"$f":"newDataRegister4!AQ33/newDataList3!AQ33","v":1.890306106081701E-2},{"$f":"newDataRegister4!AR33/newDataList3!AR33","v":1.9082008013100039E-2},{"$f":"newDataRegister4!AS33/newDataList3!AS33","v":1.9724887644712766E-2},{"$f":"newDataRegister4!AT33/newDataList3!AT33","v":1.9950289870614878E-2},{"$f":"newDataRegister4!AU33/newDataList3!AU33","v":1.9462569517548087E-2},{"$f":"newDataRegister4!AV33/newDataList3!AV33","v":1.9579508030882823E-2},{"$f":"newDataRegister4!AW33/newDataList3!AW33","v":2.0203313080216112E-2},{"$f":"newDataRegister4!AX33/newDataList3!AX33","v":2.0954330097954717E-2},null,"Midlands","NHS Leicester, Leicestershire and Rutland Integrated Care Board","NHS Leicester, Leicestershire and Rutland ICB - 03W",1.0900998315185957E-2,1.1204718039065014E-2,1.1667623198746684E-2,1.2040827667969546E-2,1.2595991039299861E-2,1.3154875014917427E-2,1.3871910064642555E-2,1.4436209922029994E-2,1.5323921024273528E-2,1.6136636705145167E-2,1.6782847838545063E-2,1.7241950094952614E-2,1.7368762539206044E-2,1.7532666997471705E-2,1.7915527372156612E-2,1.8165359082679543E-2,1.7959125542975147E-2,1.7448622418599992E-2,1.7029426736903091E-2,1.7100000000000001E-2,1.7399999999999999E-2]
[null,null,null,null,null,null,null,null,null,null,null,null,null,null,null,null,null,null,null,null,null,null,null,null,null,{"$f":"newDataList3!Z34","v":"South East"},"NHS Kent and Medway Integrated Care Board",96,96,{"$f":"newDataRegister4!AD34/newDataList3!AD34","v":1.2121797993106675E-2},{"$f":"newDataRegister4!AE34/newDataList3!AE34","v":1.2645282318621973E-2},{"$f":"newDataRegister4!AF34/newDataList3!AF34","v":1.3704846561417353E-2},{"$f":"newDataRegister4!AG34/newDataList3!AG34","v":1.4375089959923397E-2},{"$f":"newDataRegister4!AH34/newDataList3!AH34","v":1.520381944404383E-2},{"$f":"newDataRegister4!AI34/newDataList3!AI34","v":1.5587688020281454E-2},{"$f":"newDataRegister4!AJ34/newDataList3!AJ34","v":1.6241198130271636E-2},{"$f":"newDataRegister4!AK34/newDataList3!AK34","v":1.6882011344576769E-2},{"$f":"newDataRegister4!AL34/newDataList3!AL34","v":1.7454200662161794E-2},{"$f":"newDataRegister4!AM34/newDataList3!AM34","v":1.8020512593314577E-2},{"$f":"newDataRegister4!AN34/newDataList3!AN34","v":1.860601846729083E-2},{"$f":"newDataRegister4!AO34/newDataList3!AO34","v":1.9297053095855801E-2},{"$f":"newDataRegister4!AP34/newDataList3!AP34","v":1.9732088777364369E-2},{"$f":"newDataRegister4!AQ34/newDataList3!AQ34","v":2.0015955862877247E-2},{"$f":"newDataRegister4!AR34/newDataList3!AR34","v":2.0518631340397605E-2},{"$f":"newDataRegister4!AS34/newDataList3!AS34","v":2.054288975310609E-2},{"$f":"newDataRegister4!AT34/newDataList3!AT34","v":2.0509754910235621E-2},{"$f":"newDataRegister4!AU34/newDataList3!AU34","v":2.0064327601468163E-2},{"$f":"newDataRegister4!AV34/newDataList3!AV34","v":1.9765366426990456E-2},{"$f":"newDataRegister4!AW34/newDataList3!AW34","v":1.9834179026576262E-2},{"$f":"newDataRegister4!AX34/newDataList3!AX34","v":2.0111011448546313E-2},null,"Midlands","NHS Leicester, Leicestershire and Rutland Integrated Care Board","NHS Leicester, Leicestershire and Rutland ICB - 04C",1.1261699282849156E-2,1.1098116900164682E-2,1.1461791081736013E-2,1.1676832918215451E-2,1.1931256539357539E-2,1.192798538899538E-2,1.2289542625440105E-2,1.3121863408247872E-2,1.3688210912406051E-2,1.4139997046475812E-2,1.4311055772481825E-2,1.4123827353992395E-2,1.383809429672828E-2,1.3916749023943952E-2,1.3789776123164664E-2,1.3776798388258663E-2,1.3745346133884411E-2,1.3160543650775073E-2,1.2533806586207384E-2,1.24E-2,1.2500000000000001E-2]
[null,null,null,null,null,null,null,null,null,null,null,null,null,null,null,null,null,null,null,null,null,null,null,null,null,{"$f":"newDataList3!Z35","v":"South East"},"NHS Surrey Heartlands Integrated Care Board",97,97,{"$f":"newDataRegister4!AD35/newDataList3!AD35","v":9.7377249161329678E-3},{"$f":"newDataRegister4!AE35/newDataList3!AE35","v":1.0213575872927356E-2},{"$f":"newDataRegister4!AF35/newDataList3!AF35","v":1.0460299182964199E-2},{"$f":"newDataRegister4!AG35/newDataList3!AG35","v":1.0858680344309788E-2},{"$f":"newDataRegister4!AH35/newDataList3!AH35","v":1.1253868609826096E-2},{"$f":"newDataRegister4!AI35/newDataList3!AI35","v":1.1404541894454764E-2},{"$f":"newDataRegister4!AJ35/newDataList3!AJ35","v":1.1710827160904321E-2},{"$f":"newDataRegister4!AK35/newDataList3!AK35","v":1.2164814755045933E-2},{"$f":"newDataRegister4!AL35/newDataList3!AL35","v":1.2306624681291959E-2},{"$f":"newDataRegister4!AM35/newDataList3!AM35","v":1.231773131847288E-2},{"$f":"newDataRegister4!AN35/newDataList3!AN35","v":1.2401364555097397E-2},{"$f":"newDataRegister4!AO35/newDataList3!AO35","v":1.2716743603633675E-2},{"$f":"newDataRegister4!AP35/newDataList3!AP35","v":1.2858009838445403E-2},{"$f":"newDataRegister4!AQ35/newDataList3!AQ35","v":1.2939185734932301E-2},{"$f":"newDataRegister4!AR35/newDataList3!AR35","v":1.3014283658933251E-2},{"$f":"newDataRegister4!AS35/newDataList3!AS35","v":1.2951461694735869E-2},{"$f":"newDataRegister4!AT35/newDataList3!AT35","v":1.2869012764802958E-2},{"$f":"newDataRegister4!AU35/newDataList3!AU35","v":1.269309096730015E-2},{"$f":"newDataRegister4!AV35/newDataList3!AV35","v":1.2510189174597461E-2},{"$f":"newDataRegister4!AW35/newDataList3!AW35","v":1.2650146599829755E-2},{"$f":"newDataRegister4!AX35/newDataList3!AX35","v":1.2866854700155089E-2},null,"Midlands","NHS Leicester, Leicestershire and Rutland Integrated Care Board","NHS Leicester, Leicestershire and Rutland ICB - 04V",1.2613026090801475E-2,1.2536783077008494E-2,1.2496461580320065E-2,1.3025582952683242E-2,1.3484087102177555E-2,1.4203791431076222E-2,1.5069193090589045E-2,1.5588280541306159E-2,1.6364988842053063E-2,1.6848234508925992E-2,1.7570515309699226E-2,1.8296946823935914E-2,1.8458665881911217E-2,1.8833063209076174E-2,1.8838493510066522E-2,1.8745230182551427E-2,1.8486661982409808E-2,1.7793100478262845E-2,1.7450609661984876E-2,1.7399999999999999E-2,1.7500000000000002E-2]
[null,null,null,null,null,null,null,null,null,null,null,null,null,null,null,null,null,null,null,null,null,null,null,null,null,{"$f":"newDataList3!Z36","v":"South East"},"NHS Sussex Integrated Care Board",98,100,{"$f":"newDataRegister4!AD36/newDataList3!AD36","v":1.1497982377705633E-2},{"$f":"newDataRegister4!AE36/newDataList3!AE36","v":1.2303629486096453E-2},{"$f":"newDataRegister4!AF36/newDataList3!AF36","v":1.294349600896017E-2},{"$f":"newDataRegister4!AG36/newDataList3!AG36","v":1.3676222358809107E-2},{"$f":"newDataRegister4!AH36/newDataList3!AH36","v":1.4422909984740079E-2},{"$f":"newDataRegister4!AI36/newDataList3!AI36","v":1.478791572496339E-2},{"$f":"newDataRegister4!AJ36/newDataList3!AJ36","v":1.539975586783073E-2},{"$f":"newDataRegister4!AK36/newDataList3!AK36","v":1.601154122897102E-2},{"$f":"newDataRegister4!AL36/newDataList3!AL36","v":1.65760814708645E-2},{"$f":"newDataRegister4!AM36/newDataList3!AM36","v":1.7067882063771706E-2},{"$f":"newDataRegister4!AN36/newDataList3!AN36","v":1.7344126845997114E-2},{"$f":"newDataRegister4!AO36/newDataList3!AO36","v":1.7819270859863026E-2},{"$f":"newDataRegister4!AP36/newDataList3!AP36","v":1.8097806952458266E-2},{"$f":"newDataRegister4!AQ36/newDataList3!AQ36","v":1.8664657462773661E-2},{"$f":"newDataRegister4!AR36/newDataList3!AR36","v":1.9050221249221972E-2},{"$f":"newDataRegister4!AS36/newDataList3!AS36","v":1.9346135126566737E-2},{"$f":"newDataRegister4!AT36/newDataList3!AT36","v":1.9322124009952472E-2},{"$f":"newDataRegister4!AU36/newDataList3!AU36","v":1.8894978192817699E-2},{"$f":"newDataRegister4!AV36/newDataList3!AV36","v":1.8794249271669668E-2},{"$f":"newDataRegister4!AW36/newDataList3!AW36","v":1.9407348172803849E-2},{"$f":"newDataRegister4!AX36/newDataList3!AX36","v":1.9876153831675687E-2},null,"Midlands","NHS Lincolnshire Integrated Care Board","NHS Lincolnshire ICB - 71E",1.689311128087008E-2,1.7320403131524307E-2,1.7961805388824078E-2,1.8535165327551995E-2,1.8834484582080181E-2,1.9003157851567306E-2,1.9453400263913262E-2,2.0046252269387048E-2,2.0536593050168098E-2,2.1200565668305648E-2,2.1839488396759702E-2,2.203243704317133E-2,2.2437325814813131E-2,2.2678578543455601E-2,2.2933946890082109E-2,2.3354253364060825E-2,2.309846424917297E-2,2.2972813134655892E-2,2.3426829388124085E-2,2.4399999999999998E-2,2.5399999999999999E-2]
[null,null,null,null,null,null,null,null,null,null,null,null,null,null,null,null,null,null,null,null,null,null,null,null,null,{"$f":"newDataList3!Z37","v":"South West"},"NHS Bath and North East Somerset, Swindon and Wiltshire Integrated Care Board",101,101,{"$f":"newDataRegister4!AD37/newDataList3!AD37","v":2.0468174766723007E-2},{"$f":"newDataRegister4!AE37/newDataList3!AE37","v":2.0539964776546408E-2},{"$f":"newDataRegister4!AF37/newDataList3!AF37","v":2.1185383532763641E-2},{"$f":"newDataRegister4!AG37/newDataList3!AG37","v":2.1463091865717515E-2},{"$f":"newDataRegister4!AH37/newDataList3!AH37","v":2.2001929273648996E-2},{"$f":"newDataRegister4!AI37/newDataList3!AI37","v":2.272866986704818E-2},{"$f":"newDataRegister4!AJ37/newDataList3!AJ37","v":2.3694414040034879E-2},{"$f":"newDataRegister4!AK37/newDataList3!AK37","v":2.4299997424093556E-2},{"$f":"newDataRegister4!AL37/newDataList3!AL37","v":2.4855606234965633E-2},{"$f":"newDataRegister4!AM37/newDataList3!AM37","v":2.5588410168655828E-2},{"$f":"newDataRegister4!AN37/newDataList3!AN37","v":2.6172800477077471E-2},{"$f":"newDataRegister4!AO37/newDataList3!AO37","v":2.6589572744486679E-2},{"$f":"newDataRegister4!AP37/newDataList3!AP37","v":2.6872587957750067E-2},{"$f":"newDataRegister4!AQ37/newDataList3!AQ37","v":2.7129516510213812E-2},{"$f":"newDataRegister4!AR37/newDataList3!AR37","v":2.7397496227806066E-2},{"$f":"newDataRegister4!AS37/newDataList3!AS37","v":2.839253940173414E-2},{"$f":"newDataRegister4!AT37/newDataList3!AT37","v":2.8180815426791236E-2},{"$f":"newDataRegister4!AU37/newDataList3!AU37","v":2.7692602690878632E-2},{"$f":"newDataRegister4!AV37/newDataList3!AV37","v":2.8196957253965847E-2},{"$f":"newDataRegister4!AW37/newDataList3!AW37","v":2.9443627576648201E-2},{"$f":"newDataRegister4!AX37/newDataList3!AX37","v":3.056816686406106E-2},null,"Midlands","NHS Northamptonshire Integrated Care Board","NHS Northamptonshire ICB - 78H",1.2739089777970123E-2,1.2820043445363794E-2,1.2891491585391051E-2,1.3532212922704774E-2,1.4689265536723164E-2,1.5544511036398187E-2,1.6241376372162344E-2,1.7067071728990378E-2,1.7754848702267473E-2,1.8191961000606913E-2,1.8589259844775066E-2,1.8900712813756292E-2,1.8855757428095872E-2,1.9094137381487596E-2,1.9319311328674212E-2,1.9522897971903003E-2,1.9388444345500865E-2,1.9060317967165511E-2,1.897500566318638E-2,1.89E-2,1.9E-2]
[null,null,null,null,null,null,null,null,null,null,null,null,null,null,null,null,null,null,null,null,null,null,null,null,null,{"$f":"newDataList3!Z38","v":"South West"},"NHS Bristol, North Somerset and South Gloucestershire Integrated Care Board",102,102,{"$f":"newDataRegister4!AD38/newDataList3!AD38","v":1.4501615302766958E-2},{"$f":"newDataRegister4!AE38/newDataList3!AE38","v":1.4582412726469289E-2},{"$f":"newDataRegister4!AF38/newDataList3!AF38","v":1.5108349157573898E-2},{"$f":"newDataRegister4!AG38/newDataList3!AG38","v":1.5527790511652274E-2},{"$f":"newDataRegister4!AH38/newDataList3!AH38","v":1.6121400489405871E-2},{"$f":"newDataRegister4!AI38/newDataList3!AI38","v":1.6080910065509702E-2},{"$f":"newDataRegister4!AJ38/newDataList3!AJ38","v":1.6605419357200717E-2},{"$f":"newDataRegister4!AK38/newDataList3!AK38","v":1.6964859555901549E-2},{"$f":"newDataRegister4!AL38/newDataList3!AL38","v":1.7748041636092105E-2},{"$f":"newDataRegister4!AM38/newDataList3!AM38","v":1.7886955776005416E-2},{"$f":"newDataRegister4!AN38/newDataList3!AN38","v":1.8163699029874577E-2},{"$f":"newDataRegister4!AO38/newDataList3!AO38","v":1.84590655009002E-2},{"$f":"newDataRegister4!AP38/newDataList3!AP38","v":1.8896822955335277E-2},{"$f":"newDataRegister4!AQ38/newDataList3!AQ38","v":1.936863585436284E-2},{"$f":"newDataRegister4!AR38/newDataList3!AR38","v":2.0044293199373415E-2},{"$f":"newDataRegister4!AS38/newDataList3!AS38","v":1.9686644716912109E-2},{"$f":"newDataRegister4!AT38/newDataList3!AT38","v":1.9712544034181028E-2},{"$f":"newDataRegister4!AU38/newDataList3!AU38","v":1.9129381699876331E-2},{"$f":"newDataRegister4!AV38/newDataList3!AV38","v":1.8732741850829147E-2},{"$f":"newDataRegister4!AW38/newDataList3!AW38","v":1.9157206379296954E-2},{"$f":"newDataRegister4!AX38/newDataList3!AX38","v":2.0064848293905188E-2},null,"Midlands","NHS Nottingham and Nottinghamshire Integrated Care Board","NHS Nottingham and Nottinghamshire ICB - 52R",1.4875130830536869E-2,1.5317975733156483E-2,1.5688692246318997E-2,1.6150207519217502E-2,1.6467692232514531E-2,1.6634166369910205E-2,1.7278708469068409E-2,1.7636682554587252E-2,1.8048331918995398E-2,1.8476782098094561E-2,1.870429179777942E-2,1.9097637352442128E-2,1.9298050837083913E-2,1.9444359010922133E-2,1.9736291255632688E-2,2.0181734287841892E-2,2.0124539480554218E-2,1.9526548684551483E-2,1.9094350573120703E-2,1.9400000000000001E-2,0.02]
[null,null,null,null,null,null,null,null,null,null,null,null,null,null,null,null,null,null,null,null,null,null,null,null,null,{"$f":"newDataList3!Z39","v":"South West"},"NHS Cornwall and the Isles of Scilly Integrated Care Board",103,103,{"$f":"newDataRegister4!AD39/newDataList3!AD39","v":8.472993108167114E-3},{"$f":"newDataRegister4!AE39/newDataList3!AE39","v":8.8062841035339134E-3},{"$f":"newDataRegister4!AF39/newDataList3!AF39","v":9.2584089654325439E-3},{"$f":"newDataRegister4!AG39/newDataList3!AG39","v":9.8740510905922993E-3},{"$f":"newDataRegister4!AH39/newDataList3!AH39","v":1.0212150899960901E-2},{"$f":"newDataRegister4!AI39/newDataList3!AI39","v":1.0364283615877788E-2},{"$f":"newDataRegister4!AJ39/newDataList3!AJ39","v":1.0735423581776309E-2},{"$f":"newDataRegister4!AK39/newDataList3!AK39","v":1.1004056526234854E-2},{"$f":"newDataRegister4!AL39/newDataList3!AL39","v":1.1235943292617174E-2},{"$f":"newDataRegister4!AM39/newDataList3!AM39","v":1.1587094288581616E-2},{"$f":"newDataRegister4!AN39/newDataList3!AN39","v":1.1837754404488057E-2},{"$f":"newDataRegister4!AO39/newDataList3!AO39","v":1.2109282830150326E-2},{"$f":"newDataRegister4!AP39/newDataList3!AP39","v":1.2461646721948114E-2},{"$f":"newDataRegister4!AQ39/newDataList3!AQ39","v":1.2580007698198859E-2},{"$f":"newDataRegister4!AR39/newDataList3!AR39","v":6.939784549236331E-3},{"$f":"newDataRegister4!AS39/newDataList3!AS39","v":1.3234793217781865E-2},{"$f":"newDataRegister4!AT39/newDataList3!AT39","v":1.3520292909304206E-2},{"$f":"newDataRegister4!AU39/newDataList3!AU39","v":1.3096940935530803E-2},{"$f":"newDataRegister4!AV39/newDataList3!AV39","v":1.3385477111841688E-2},{"$f":"newDataRegister4!AW39/newDataList3!AW39","v":1.3364490792492793E-2},{"$f":"newDataRegister4!AX39/newDataList3!AX39","v":1.3582536452292902E-2},null,"Midlands","NHS Nottingham and Nottinghamshire Integrated Care Board","NHS Nottingham and Nottinghamshire ICB - 02Q",1.8689853050983009E-2,1.7759472087513009E-2,1.8284933479279768E-2,1.8828367830701746E-2,2.0112045021859336E-2,2.0147621255142842E-2,2.1434973939409588E-2,2.217745614323199E-2,2.3232155011368081E-2,2.414279734940384E-2,2.4780450144222005E-2,2.4988044421615684E-2,2.4928288003834037E-2,2.6071082007497748E-2,2.668018609912641E-2,2.7161399084454921E-2,2.7121549802845878E-2,2.7403542968526057E-2,2.9465500173042409E-2,2.9900000000000003E-2,2.9900000000000003E-2]
[null,null,null,null,null,null,null,null,null,null,null,null,null,null,null,null,null,null,null,null,null,null,null,null,null,{"$f":"newDataList3!Z40","v":"South West"},"NHS Devon Integrated Care Board",104,104,{"$f":"newDataRegister4!AD40/newDataList3!AD40","v":2.7678748735212626E-2},{"$f":"newDataRegister4!AE40/newDataList3!AE40","v":2.911232472435564E-2},{"$f":"newDataRegister4!AF40/newDataList3!AF40","v":3.118240003568163E-2},{"$f":"newDataRegister4!AG40/newDataList3!AG40","v":3.2696722945288914E-2},{"$f":"newDataRegister4!AH40/newDataList3!AH40","v":3.4859883322915737E-2},{"$f":"newDataRegister4!AI40/newDataList3!AI40","v":3.5415671503010102E-2},{"$f":"newDataRegister4!AJ40/newDataList3!AJ40","v":3.7303281357403857E-2},{"$f":"newDataRegister4!AK40/newDataList3!AK40","v":3.9311181423208032E-2},{"$f":"newDataRegister4!AL40/newDataList3!AL40","v":4.1212800590212428E-2},{"$f":"newDataRegister4!AM40/newDataList3!AM40","v":4.2870581670684686E-2},{"$f":"newDataRegister4!AN40/newDataList3!AN40","v":4.4067931432207774E-2},{"$f":"newDataRegister4!AO40/newDataList3!AO40","v":4.5115470626642305E-2},{"$f":"newDataRegister4!AP40/newDataList3!AP40","v":4.5907906351880315E-2},{"$f":"newDataRegister4!AQ40/newDataList3!AQ40","v":4.6912729127604642E-2},{"$f":"newDataRegister4!AR40/newDataList3!AR40","v":8.2917836861444813E-2},{"$f":"newDataRegister4!AS40/newDataList3!AS40","v":4.9179291850991513E-2},{"$f":"newDataRegister4!AT40/newDataList3!AT40","v":4.9318338352667898E-2},{"$f":"newDataRegister4!AU40/newDataList3!AU40","v":4.8493002148551234E-2},{"$f":"newDataRegister4!AV40/newDataList3!AV40","v":4.8871698257782842E-2},{"$f":"newDataRegister4!AW40/newDataList3!AW40","v":5.0056087340499038E-2},{"$f":"newDataRegister4!AX40/newDataList3!AX40","v":5.1650318133616119E-2},null,{"$f":"newDataList3!AZ40","v":"North East and Yorkshire"},"NHS Humber and North Yorkshire Integrated Care Board","NHS Humber and North Yorkshire ICB - 02Y",1.536824764911799E-2,1.58164758074942E-2,1.6443207690361752E-2,1.6999268343435563E-2,1.7790986034276764E-2,1.8592958113260463E-2,1.9153182146795532E-2,2.0042036478100191E-2,2.0894252751342442E-2,2.1783842874563475E-2,2.2478166481613444E-2,2.3266231116095572E-2,2.3604974769689615E-2,2.4438538555659348E-2,2.5282633052306304E-2,2.5548776120180507E-2,2.5501136060312107E-2,2.5022883815137724E-2,2.4981371566587016E-2,2.58E-2,2.7699999999999999E-2]
[null,null,null,null,null,null,null,null,null,null,null,null,null,null,null,null,null,null,null,null,null,null,null,null,null,{"$f":"newDataList3!Z41","v":"South West"},"NHS Dorset Integrated Care Board",105,105,{"$f":"newDataRegister4!AD41/newDataList3!AD41","v":8.518731549173696E-3},{"$f":"newDataRegister4!AE41/newDataList3!AE41","v":8.6850284486935294E-3},{"$f":"newDataRegister4!AF41/newDataList3!AF41","v":8.9951055660523038E-3},{"$f":"newDataRegister4!AG41/newDataList3!AG41","v":9.4964448370800491E-3},{"$f":"newDataRegister4!AH41/newDataList3!AH41","v":9.750311812864702E-3},{"$f":"newDataRegister4!AI41/newDataList3!AI41","v":1.007900124640566E-2},{"$f":"newDataRegister4!AJ41/newDataList3!AJ41","v":1.0449576165123091E-2},{"$f":"newDataRegister4!AK41/newDataList3!AK41","v":1.0934657272062314E-2},{"$f":"newDataRegister4!AL41/newDataList3!AL41","v":1.1498759426298816E-2},{"$f":"newDataRegister4!AM41/newDataList3!AM41","v":1.1881762301246419E-2},{"$f":"newDataRegister4!AN41/newDataList3!AN41","v":1.2579773757515168E-2},{"$f":"newDataRegister4!AO41/newDataList3!AO41","v":1.2809702782169936E-2},{"$f":"newDataRegister4!AP41/newDataList3!AP41","v":1.3390479761239193E-2},{"$f":"newDataRegister4!AQ41/newDataList3!AQ41","v":1.3809916612899273E-2},{"$f":"newDataRegister4!AR41/newDataList3!AR41","v":1.480524322354875E-2},{"$f":"newDataRegister4!AS41/newDataList3!AS41","v":1.4319388098712377E-2},{"$f":"newDataRegister4!AT41/newDataList3!AT41","v":1.4179419789600326E-2},{"$f":"newDataRegister4!AU41/newDataList3!AU41","v":1.3931430710974139E-2},{"$f":"newDataRegister4!AV41/newDataList3!AV41","v":1.3630466543294049E-2},{"$f":"newDataRegister4!AW41/newDataList3!AW41","v":1.3778689177166611E-2},{"$f":"newDataRegister4!AX41/newDataList3!AX41","v":1.3944206217003915E-2},null,{"$f":"newDataList3!AZ41","v":"North East and Yorkshire"},"NHS Humber and North Yorkshire Integrated Care Board","NHS Humber and North Yorkshire ICB - 03F",1.6282477320209199E-2,1.6457567426165672E-2,1.7158667704673135E-2,1.7829956876712717E-2,1.8502735928145796E-2,2.0562912762352614E-2,2.2571257115305235E-2,2.336838476124806E-2,2.4367817675277133E-2,2.5471570608233383E-2,2.6226527498941089E-2,2.6524060556907272E-2,2.5914406971846958E-2,2.739780977977456E-2,2.8100446977093255E-2,2.8770640022174412E-2,2.8509559766254571E-2,2.9894577822924602E-2,3.1154250513611096E-2,3.1300000000000001E-2,3.15E-2]
[null,null,null,null,null,null,null,null,null,null,null,null,null,null,null,null,null,null,null,null,null,null,null,null,null,{"$f":"newDataList3!Z42","v":"South West"},"NHS Gloucestershire Integrated Care Board",106,106,{"$f":"newDataRegister4!AD42/newDataList3!AD42","v":1.0081975319346095E-2},{"$f":"newDataRegister4!AE42/newDataList3!AE42","v":1.025317528316276E-2},{"$f":"newDataRegister4!AF42/newDataList3!AF42","v":1.0701813525695944E-2},{"$f":"newDataRegister4!AG42/newDataList3!AG42","v":1.1191920366045671E-2},{"$f":"newDataRegister4!AH42/newDataList3!AH42","v":1.148136932174971E-2},{"$f":"newDataRegister4!AI42/newDataList3!AI42","v":1.1836274662170545E-2},{"$f":"newDataRegister4!AJ42/newDataList3!AJ42","v":1.2306597624377399E-2},{"$f":"newDataRegister4!AK42/newDataList3!AK42","v":1.2768916409630878E-2},{"$f":"newDataRegister4!AL42/newDataList3!AL42","v":1.3107451802901144E-2},{"$f":"newDataRegister4!AM42/newDataList3!AM42","v":1.3437237429444622E-2},{"$f":"newDataRegister4!AN42/newDataList3!AN42","v":1.3733540450517856E-2},{"$f":"newDataRegister4!AO42/newDataList3!AO42","v":1.3845856168944574E-2},{"$f":"newDataRegister4!AP42/newDataList3!AP42","v":1.4195363139228121E-2},{"$f":"newDataRegister4!AQ42/newDataList3!AQ42","v":1.4345238095238095E-2},{"$f":"newDataRegister4!AR42/newDataList3!AR42","v":1.4569958004964396E-2},{"$f":"newDataRegister4!AS42/newDataList3!AS42","v":1.5045827906828443E-2},{"$f":"newDataRegister4!AT42/newDataList3!AT42","v":1.5119743822681083E-2},{"$f":"newDataRegister4!AU42/newDataList3!AU42","v":1.4866154994730416E-2},{"$f":"newDataRegister4!AV42/newDataList3!AV42","v":1.5059883358895521E-2},{"$f":"newDataRegister4!AW42/newDataList3!AW42","v":1.5251762917640721E-2},{"$f":"newDataRegister4!AX42/newDataList3!AX42","v":1.5957817611892224E-2},null,{"$f":"newDataList3!AZ42","v":"North East and Yorkshire"},"NHS Humber and North Yorkshire Integrated Care Board","NHS Humber and North Yorkshire ICB - 03H",1.8171793108354876E-2,1.8462928508164465E-2,1.9425540372965629E-2,1.980556478799677E-2,2.0322837357912366E-2,2.028110779759288E-2,2.0950501957906514E-2,2.1534480805575594E-2,2.1813706546490126E-2,2.244792379004204E-2,2.2992795867102706E-2,2.4076399914689923E-2,2.4153914238464583E-2,2.5436076520590125E-2,2.6576666627468042E-2,2.7489169865811996E-2,2.7727592679493197E-2,2.7159228547470417E-2,2.8007974130437301E-2,3.04E-2,3.2400000000000005E-2]
[null,null,null,null,null,null,null,null,null,null,null,null,null,null,null,null,null,null,null,null,null,null,null,null,null,{"$f":"newDataList3!Z43","v":"South West"},"NHS Somerset Integrated Care Board",107,107,{"$f":"newDataRegister4!AD43/newDataList3!AD43","v":1.2454544378718232E-2},{"$f":"newDataRegister4!AE43/newDataList3!AE43","v":1.2441862615077143E-2},{"$f":"newDataRegister4!AF43/newDataList3!AF43","v":1.3295903874749118E-2},{"$f":"newDataRegister4!AG43/newDataList3!AG43","v":1.3716931216931218E-2},{"$f":"newDataRegister4!AH43/newDataList3!AH43","v":1.4392466165858859E-2},{"$f":"newDataRegister4!AI43/newDataList3!AI43","v":1.4915641847672063E-2},{"$f":"newDataRegister4!AJ43/newDataList3!AJ43","v":1.548081583099851E-2},{"$f":"newDataRegister4!AK43/newDataList3!AK43","v":1.6130316836221372E-2},{"$f":"newDataRegister4!AL43/newDataList3!AL43","v":1.6934755979627361E-2},{"$f":"newDataRegister4!AM43/newDataList3!AM43","v":1.7621701423285122E-2},{"$f":"newDataRegister4!AN43/newDataList3!AN43","v":1.7948430085559824E-2},{"$f":"newDataRegister4!AO43/newDataList3!AO43","v":1.88828340023501E-2},{"$f":"newDataRegister4!AP43/newDataList3!AP43","v":1.9521453051109316E-2},{"$f":"newDataRegister4!AQ43/newDataList3!AQ43","v":2.0348284429664996E-2},{"$f":"newDataRegister4!AR43/newDataList3!AR43","v":2.0938688510887281E-2},{"$f":"newDataRegister4!AS43/newDataList3!AS43","v":2.0663883835463845E-2},{"$f":"newDataRegister4!AT43/newDataList3!AT43","v":2.0339527387001791E-2},{"$f":"newDataRegister4!AU43/newDataList3!AU43","v":1.9696296296296295E-2},{"$f":"newDataRegister4!AV43/newDataList3!AV43","v":1.9229022817620161E-2},{"$f":"newDataRegister4!AW43/newDataList3!AW43","v":1.9609504044724918E-2},{"$f":"newDataRegister4!AX43/newDataList3!AX43","v":1.9876174148769063E-2},null,{"$f":"newDataList3!AZ43","v":"North East and Yorkshire"},"NHS Humber and North Yorkshire Integrated Care Board","NHS Humber and North Yorkshire ICB - 03K",1.6210684725357413E-2,1.6321739078617271E-2,1.6896618905084926E-2,1.7316271425217186E-2,1.7575492341356674E-2,1.7811318994074558E-2,1.8360533040188518E-2,1.8834341554211261E-2,1.975464236986333E-2,2.0525844901728766E-2,2.1201678154030568E-2,2.1769398445613593E-2,2.259063478379237E-2,2.3349696953075722E-2,2.4208424248690002E-2,2.4706695763023142E-2,2.4907684617327879E-2,2.445688426872155E-2,2.4530498552869234E-2,2.4700000000000003E-2,2.6600000000000002E-2]
[null,null,null,null,null,null,null,null,null,null,null,null,null,null,null,null,null,null,null,null,null,null,null,null,null,null,null,null,null,null,null,null,null,null,null,null,null,null,null,null,null,null,null,null,null,null,null,null,null,null,null,{"$f":"newDataList3!AZ44","v":"North East and Yorkshire"},"NHS Humber and North Yorkshire Integrated Care Board","NHS Humber and North Yorkshire ICB - 03Q",1.3356646155077465E-2,1.3539195311398427E-2,1.3636750267327696E-2,1.3999915916420922E-2,1.4278247648009123E-2,1.4633067429481414E-2,1.5051610958439057E-2,1.5556468699091034E-2,1.6598762186962341E-2,1.609855793279881E-2,1.6471053486434191E-2,1.6884916706734168E-2,1.6650610103899153E-2,1.7204623846887188E-2,1.7619065915066224E-2,1.7304621287681836E-2,1.7048865083913445E-2,1.6814032970910081E-2,1.6513914977222186E-2,1.6899999999999998E-2,1.61E-2]
[null,null,null,null,null,null,null,null,null,null,null,null,null,null,null,null,null,null,null,null,null,null,null,null,null,null,null,null,null,null,null,null,null,null,null,null,null,null,null,null,null,null,null,null,null,null,null,null,null,null,null,{"$f":"newDataList3!AZ45","v":"North East and Yorkshire"},"NHS Humber and North Yorkshire Integrated Care Board","NHS Humber and North Yorkshire ICB - 42D",1.3889666896415673E-2,1.3816694462366245E-2,1.3853946935536935E-2,1.4253069725062552E-2,1.4750750750750751E-2,1.5174616132633828E-2,1.5891987181022547E-2,1.6898904478185661E-2,1.7814071918021705E-2,1.8623939048056606E-2,1.9350164329822703E-2,2.0010365354989634E-2,2.0547280291137771E-2,2.0962557267019854E-2,2.1839988559559449E-2,2.2197371707922929E-2,2.1884114510765572E-2,2.1262285528700978E-2,2.1058510239802763E-2,2.12E-2,2.1000000000000001E-2]
[null,null,null,null,null,null,null,null,null,null,null,null,null,null,null,null,null,null,null,null,null,null,null,null,null,null,null,null,null,null,null,null,null,null,null,null,null,null,null,null,null,null,null,null,null,null,null,null,null,null,null,{"$f":"newDataList3!AZ46","v":"North East and Yorkshire"},"NHS South Yorkshire Integrated Care Board","NHS South Yorkshire ICB - 02P",2.1968418001057279E-2,2.3676191522723142E-2,2.4943577007945365E-2,2.6249775651861776E-2,2.7464154171320844E-2,2.7848519244659992E-2,2.8722147474813768E-2,3.0095023961137005E-2,3.0712456634734823E-2,3.1289983956901503E-2,3.165094283220337E-2,3.1864523124205339E-2,3.1613135499092282E-2,3.1928600491267195E-2,3.3168488601310879E-2,3.2794088125116E-2,3.2372072607285703E-2,3.1015487033892241E-2,3.0234731255139417E-2,3.27E-2,3.4000000000000002E-2]
[null,null,null,null,null,null,null,null,null,null,null,null,null,null,null,null,null,null,null,null,null,null,null,null,null,null,null,null,null,null,null,null,null,null,null,null,null,null,null,null,null,null,null,null,null,null,null,null,null,null,null,{"$f":"newDataList3!AZ47","v":"North East and Yorkshire"},"NHS South Yorkshire Integrated Care Board","NHS South Yorkshire ICB - 02X",2.2134045678482758E-2,2.2272184588232241E-2,2.3717650404612323E-2,2.4453020307184825E-2,2.478786037884614E-2,2.4604239768445904E-2,2.4875334341575878E-2,2.5270352301085906E-2,2.5773986879627616E-2,2.6125212153694982E-2,2.6320886825584828E-2,2.6764488247240897E-2,2.7088184071061616E-2,2.7644884451941777E-2,2.8405694015642295E-2,2.8623905659401979E-2,2.8153669202732517E-2,2.8773466946668155E-2,3.003332349095204E-2,3.0499999999999999E-2,3.0899999999999997E-2]
[null,null,null,null,null,null,null,null,null,null,null,null,null,null,null,null,null,null,null,null,null,null,null,null,null,null,null,null,null,null,null,null,null,null,null,null,null,null,null,null,null,null,null,null,null,null,null,null,null,null,null,{"$f":"newDataList3!AZ48","v":"North East and Yorkshire"},"NHS South Yorkshire Integrated Care Board","NHS South Yorkshire ICB - 03L",2.3185702084784654E-2,2.2162780314720097E-2,2.2277198746639301E-2,2.2766306332911088E-2,2.3584356744427808E-2,2.3423031677194672E-2,2.4277510621410897E-2,2.5333889979203814E-2,2.6283793725654189E-2,2.6899759124002654E-2,2.7415264720435428E-2,2.8451618373686684E-2,2.8110789582472095E-2,2.9431221960307202E-2,3.0029166650904316E-2,3.0213042132987193E-2,2.9959239130434783E-2,2.9108216808094729E-2,2.9443393777580006E-2,3.1899999999999998E-2,3.4500000000000003E-2]
[null,null,null,null,null,null,null,null,null,null,null,null,null,null,null,null,null,null,null,null,null,null,null,null,null,null,null,null,null,null,null,null,null,null,null,null,null,null,null,null,null,null,null,null,null,null,null,null,null,null,null,{"$f":"newDataList3!AZ49","v":"North East and Yorkshire"},"NHS South Yorkshire Integrated Care Board","NHS South Yorkshire ICB - 03N",1.5353932282849812E-2,1.5741123320634376E-2,1.6314038013152291E-2,1.6896315455285749E-2,1.7420081477864467E-2,1.7638607361171735E-2,1.8135927935031698E-2,1.8652299689482205E-2,1.9436480406160188E-2,1.9719467707958689E-2,2.0080184311364789E-2,2.0422473188940905E-2,2.0477524137515159E-2,2.0738900342040317E-2,2.1027795361684986E-2,2.0903053499600362E-2,2.0758344607079423E-2,2.0300426271786236E-2,1.973669604600049E-2,0.02,2.0799999999999999E-2]
[null,null,null,null,null,null,null,null,null,null,null,null,null,null,null,null,null,null,null,null,null,null,null,null,null,null,null,null,null,null,null,null,null,null,null,null,null,null,null,null,null,null,null,null,null,null,null,null,null,null,null,{"$f":"newDataList3!AZ50","v":"North East and Yorkshire"},"NHS West Yorkshire Integrated Care Board","NHS West Yorkshire ICB - 02T",1.6024218757703951E-2,1.5243723460462204E-2,1.6020063963604902E-2,1.6343822748326336E-2,1.6493918763864454E-2,1.6729181225665673E-2,1.7290685492624087E-2,1.7931597926526932E-2,1.9057578912476131E-2,2.0150350834071483E-2,2.1077315740493326E-2,2.2000100686959664E-2,2.2540340016841531E-2,2.2634388848821334E-2,2.2860518815167586E-2,2.2966153956957593E-2,2.3081946539959916E-2,2.2428898773419598E-2,2.2384955019839583E-2,2.23E-2,2.23E-2]
[null,null,null,null,null,null,null,null,null,null,null,null,null,null,null,null,null,null,null,null,null,null,null,null,null,null,null,null,null,null,null,null,null,null,null,null,null,null,null,null,null,null,null,null,null,null,null,null,null,null,null,{"$f":"newDataList3!AZ51","v":"North East and Yorkshire"},"NHS West Yorkshire Integrated Care Board","NHS West Yorkshire ICB - 03R",2.2612144337950304E-2,2.3015695234681839E-2,2.3362293709283749E-2,2.4038646201119795E-2,2.4562661229190784E-2,2.5099830537296454E-2,2.5583734967947219E-2,2.620981800432327E-2,2.7418940266911572E-2,2.8167597925853573E-2,2.8330443052933422E-2,2.8535801640209104E-2,2.8445834448309695E-2,2.8669011768802037E-2,2.8504815407022314E-2,2.8461341302321128E-2,2.8152671414232073E-2,2.7120593639972507E-2,2.6702956999523436E-2,2.6800000000000001E-2,2.7000000000000003E-2]
[null,null,null,null,null,null,null,null,null,null,null,null,null,null,null,null,null,null,null,null,null,null,null,null,null,null,null,null,null,null,null,null,null,null,null,null,null,null,null,null,null,null,null,null,null,null,null,null,null,null,null,{"$f":"newDataList3!AZ52","v":"North East and Yorkshire"},"NHS West Yorkshire Integrated Care Board","NHS West Yorkshire ICB - 15F",1.6528692981894952E-2,1.63730572586075E-2,1.6344390301623487E-2,1.6420545226837571E-2,1.6664706064452219E-2,1.6832449092714304E-2,1.7395558828088669E-2,1.7867797104558675E-2,1.8308308917087318E-2,1.8611400682335102E-2,1.9196454878666808E-2,1.9313795469192867E-2,1.9658341530950561E-2,1.9776974696198428E-2,2.0266252336336429E-2,2.0479850103637929E-2,2.0369001776291053E-2,1.960961196805067E-2,1.9005298499518812E-2,1.8799999999999997E-2,1.8799999999999997E-2]
[null,null,null,null,null,null,null,null,null,null,null,null,null,null,null,null,null,null,null,null,null,null,null,null,null,null,null,null,null,null,null,null,null,null,null,null,null,null,null,null,null,null,null,null,null,null,null,null,null,null,null,{"$f":"newDataList3!AZ53","v":"North East and Yorkshire"},"NHS West Yorkshire Integrated Care Board","NHS West Yorkshire ICB - 36J",1.7064025720723529E-2,1.69753623895069E-2,1.7175671247995308E-2,1.7669448853841297E-2,1.8123240738708222E-2,1.8814603072567437E-2,1.9305176625982787E-2,1.9414729522067155E-2,2.0020663944378451E-2,2.0408096578608995E-2,2.062990160724907E-2,2.1070618723679949E-2,2.1037782924114283E-2,2.119985312830382E-2,2.1415379409843463E-2,2.1466924632073215E-2,2.1374611008102805E-2,2.0625487484250509E-2,2.0347365107462375E-2,2.0099999999999996E-2,2.0099999999999996E-2]
[null,null,null,null,null,null,null,null,null,null,null,null,null,null,null,null,null,null,null,null,null,null,null,null,null,null,null,null,null,null,null,null,null,null,null,null,null,null,null,null,null,null,null,null,null,null,null,null,null,null,null,{"$f":"newDataList3!AZ54","v":"North East and Yorkshire"},"NHS West Yorkshire Integrated Care Board","NHS West Yorkshire ICB - X2C4Y",1.2596055617901194E-2,1.2807417301799325E-2,1.3867763066338202E-2,1.4228924251761095E-2,1.4851960036644268E-2,1.5309993367339635E-2,1.5958179219706287E-2,1.6509534073169237E-2,1.7286677163291138E-2,1.8312745726793631E-2,1.9261028118694581E-2,2.003750137872716E-2,2.0534461072932428E-2,2.0831166011570104E-2,2.121807730711452E-2,2.1343647041971066E-2,2.1018828064110553E-2,2.0331073092936029E-2,1.9912944073162152E-2,0.02,2.0099999999999996E-2]
[null,null,null,null,null,null,null,null,null,null,null,null,null,null,null,null,null,null,null,null,null,null,null,null,null,null,null,null,null,null,null,null,null,null,null,null,null,null,null,null,null,null,null,null,null,null,null,null,null,null,null,{"$f":"newDataList3!AZ55","v":"North East and Yorkshire"},"NHS North East and North Cumbria Integrated Care Board","NHS North East and North Cumbria ICB - 00L",2.1243797870803025E-2,2.1114941699421855E-2,2.1946561903243855E-2,2.2198063042997453E-2,2.2551219635884173E-2,2.2796243786591799E-2,2.3219949008146258E-2,2.4129821993116446E-2,2.4470753517690243E-2,2.5085632434452262E-2,2.5461511235850404E-2,2.6142716721602236E-2,2.6873691793506658E-2,2.7491165860394452E-2,2.8003770974515313E-2,2.8233090252224528E-2,2.8120309380785413E-2,2.7354174896641568E-2,2.6685443437459062E-2,2.7200000000000002E-2,2.7699999999999999E-2]
[null,null,null,null,null,null,null,null,null,null,null,null,null,null,null,null,null,null,null,null,null,null,null,null,null,null,null,null,null,null,null,null,null,null,null,null,null,null,null,null,null,null,null,null,null,null,null,null,null,null,null,{"$f":"newDataList3!AZ56","v":"North East and Yorkshire"},"NHS North East and North Cumbria Integrated Care Board","NHS North East and North Cumbria ICB - 00N",2.6867127392663035E-2,2.7774736774318191E-2,2.8504525600036024E-2,3.0003411673071599E-2,3.17315066021382E-2,3.2608415074858031E-2,3.2839736603384476E-2,3.4624272592515874E-2,3.5549226487151274E-2,3.6245335127059172E-2,3.7203992813454663E-2,3.715621668143923E-2,3.7345353409417859E-2,3.7163129593687359E-2,3.7454991141113489E-2,3.7411469402942717E-2,3.6799555704215128E-2,3.5189231050136313E-2,3.4289735068133417E-2,3.4200000000000001E-2,3.4799999999999998E-2]
[null,null,null,null,null,null,null,null,null,null,null,null,null,null,null,null,null,null,null,null,null,null,null,null,null,null,null,null,null,null,null,null,null,null,null,null,null,null,null,null,null,null,null,null,null,null,null,null,null,null,null,{"$f":"newDataList3!AZ57","v":"North East and Yorkshire"},"NHS North East and North Cumbria Integrated Care Board","NHS North East and North Cumbria ICB - 00P",3.0338763144072602E-2,2.9287927428887164E-2,2.8122345541211239E-2,2.8241456897764028E-2,2.8868908431760723E-2,2.8877073002730617E-2,2.951070658548062E-2,3.0739288675294747E-2,3.1647353034412316E-2,3.2265803046659471E-2,3.2204801083842563E-2,3.2726939661246228E-2,3.3422262267617429E-2,3.4029097292971738E-2,3.4917784585049821E-2,3.511566333688463E-2,3.5114992455763341E-2,3.3532553895965697E-2,3.2796773748793605E-2,3.2500000000000001E-2,3.2899999999999999E-2]
[null,null,null,null,null,null,null,null,null,null,null,null,null,null,null,null,null,null,null,null,null,null,null,null,null,null,null,null,null,null,null,null,null,null,null,null,null,null,null,null,null,null,null,null,null,null,null,null,null,null,null,{"$f":"newDataList3!AZ58","v":"North East and Yorkshire"},"NHS North East and North Cumbria Integrated Care Board","NHS North East and North Cumbria ICB - 01H",2.0836348306476477E-2,2.0129227763933933E-2,1.9414270765857791E-2,1.9907552176053351E-2,2.0409359792882335E-2,2.0849032906304948E-2,2.1645275653774412E-2,2.1953923939598913E-2,2.2671513651481165E-2,2.3514658933205548E-2,2.3797126244405598E-2,2.3935650853184137E-2,2.4171736614409585E-2,2.4396267244546108E-2,2.4740391886823775E-2,2.4854293961549541E-2,2.5141312887674214E-2,2.4017911662935071E-2,2.3977233372984207E-2,2.3900000000000001E-2,2.4199999999999999E-2]
[null,null,null,null,null,null,null,null,null,null,null,null,null,null,null,null,null,null,null,null,null,null,null,null,null,null,null,null,null,null,null,null,null,null,null,null,null,null,null,null,null,null,null,null,null,null,null,null,null,null,null,{"$f":"newDataList3!AZ59","v":"North East and Yorkshire"},"NHS North East and North Cumbria Integrated Care Board","NHS North East and North Cumbria ICB - 13T",2.0844851112643364E-2,2.0664732424032793E-2,2.0325987860668731E-2,2.0680234432476668E-2,2.1602940212403304E-2,2.1723188240470641E-2,2.2199957494610924E-2,2.2868053731987387E-2,2.3257396941322971E-2,2.3334802920458433E-2,2.3869874166702634E-2,2.4082925069126737E-2,2.4180427576559315E-2,2.4132292981766251E-2,2.4236699531251165E-2,2.4256853829405928E-2,2.4373711675240023E-2,2.3283330585929629E-2,2.296791395021823E-2,2.29E-2,2.3099999999999999E-2]
[null,null,null,null,null,null,null,null,null,null,null,null,null,null,null,null,null,null,null,null,null,null,null,null,null,null,null,null,null,null,null,null,null,null,null,null,null,null,null,null,null,null,null,null,null,null,null,null,null,null,null,{"$f":"newDataList3!AZ60","v":"North East and Yorkshire"},"NHS North East and North Cumbria Integrated Care Board","NHS North East and North Cumbria ICB - 16C",2.1259354026721126E-2,2.0701856810304845E-2,2.132533768564402E-2,2.1999690746699458E-2,2.2732452225974777E-2,2.3396776974600436E-2,2.4190236490252332E-2,2.4991785263127151E-2,2.5577290457546725E-2,2.6856082176655464E-2,2.8073517551187952E-2,2.8771599906260829E-2,2.9596556809907932E-2,3.0012148418640489E-2,3.0253942811184018E-2,3.0317252927073688E-2,3.049907058754053E-2,2.9439689495987839E-2,2.942136917597294E-2,2.9399999999999999E-2,0.03]
[null,null,null,null,null,null,null,null,null,null,null,null,null,null,null,null,null,null,null,null,null,null,null,null,null,null,null,null,null,null,null,null,null,null,null,null,null,null,null,null,null,null,null,null,null,null,null,null,null,null,null,{"$f":"newDataList3!AZ61","v":"North East and Yorkshire"},"NHS North East and North Cumbria Integrated Care Board","NHS North East and North Cumbria ICB - 84H",2.2019839810191059E-2,2.2562338250766031E-2,2.2895547059463523E-2,2.3581866690921219E-2,2.4634382054708675E-2,2.5399120994703428E-2,2.5996897852316014E-2,2.6435425896826258E-2,2.7257186390917367E-2,2.807143637801781E-2,2.8655807300078447E-2,2.951699792237401E-2,3.0292618470181647E-2,3.0624603390445111E-2,3.1258954622702888E-2,3.1316512848466808E-2,3.1453870997772859E-2,3.0894207447567414E-2,3.0459652888017809E-2,3.0699999999999998E-2,3.0699999999999998E-2]
[null,null,null,null,null,null,null,null,null,null,null,null,null,null,null,null,null,null,null,null,null,null,null,null,null,null,null,null,null,null,null,null,null,null,null,null,null,null,null,null,null,null,null,null,null,null,null,null,null,null,null,{"$f":"newDataList3!AZ62","v":"North East and Yorkshire"},"NHS North East and North Cumbria Integrated Care Board","NHS North East and North Cumbria ICB - 99C",2.1115287289726104E-2,2.0409754576112594E-2,1.9608317565703835E-2,1.9783592896766403E-2,1.9958234747540545E-2,2.0041795584205668E-2,2.0816790372353323E-2,2.2042780239150111E-2,2.3065150852645388E-2,2.3993474002722327E-2,2.4566419266888823E-2,2.5028189148003643E-2,2.580390720734679E-2,2.6097516375417885E-2,2.665474144155475E-2,2.6698635907073196E-2,2.6329613211807316E-2,2.5483001382300131E-2,2.4883682838183017E-2,2.6200000000000001E-2,2.63E-2]
[null,null,null,null,null,null,null,null,null,null,null,null,null,null,null,null,null,null,null,null,null,null,null,null,null,null,null,null,null,null,null,null,null,null,null,null,null,null,null,null,null,null,null,null,null,null,null,null,null,null,null,"North West","NHS Cheshire and Merseyside Integrated Care Board","NHS Cheshire and Merseyside ICB - 01F",2.1772369636543179E-2,2.0644351597375571E-2,2.0058576743449696E-2,2.0776289936953074E-2,2.1751632751136427E-2,2.2659333244411665E-2,2.3840997442255197E-2,2.4236465502442375E-2,2.4957238376613278E-2,2.5455983008673948E-2,2.5770158470761084E-2,2.6070520257862263E-2,2.7192578963508126E-2,2.7879822569089829E-2,2.8660017804064759E-2,2.8901430830691282E-2,2.8910093931713135E-2,2.9209494934555942E-2,3.107966379603232E-2,3.1400000000000004E-2,3.1600000000000003E-2]
[null,null,null,null,null,null,null,null,null,null,null,null,null,null,null,null,null,null,null,null,null,null,null,null,null,null,null,null,null,null,null,null,null,null,null,null,null,null,null,null,null,null,null,null,null,null,null,null,null,null,null,"North West","NHS Cheshire and Merseyside Integrated Care Board","NHS Cheshire and Merseyside ICB - 01J",2.9812796455176722E-2,2.8376006373428502E-2,2.8443650540122954E-2,2.9565699405721062E-2,3.201778838050539E-2,3.3271190734473551E-2,3.3432595154809432E-2,3.3772743547179636E-2,3.499728182661252E-2,3.49105449325883E-2,3.5608916308806873E-2,3.5922330097087375E-2,3.5673499776015347E-2,3.5919647991199781E-2,3.6138527923817082E-2,3.6202463120855323E-2,3.6360184465008605E-2,3.5892395617196315E-2,3.6662408138867078E-2,3.6400000000000002E-2,3.5499999999999997E-2]
[null,null,null,null,null,null,null,null,null,null,null,null,null,null,null,null,null,null,null,null,null,null,null,null,null,null,null,null,null,null,null,null,null,null,null,null,null,null,null,null,null,null,null,null,null,null,null,null,null,null,null,"North West","NHS Cheshire and Merseyside Integrated Care Board","NHS Cheshire and Merseyside ICB - 01T",2.4600703417499717E-2,2.5368305761840546E-2,2.5147273072781404E-2,2.6170326318999695E-2,2.6785657248353446E-2,2.7512053754616333E-2,2.7708978328173376E-2,2.8138752937205469E-2,2.8742586237676788E-2,2.8805031446540879E-2,2.8332927550346075E-2,2.9652942387241133E-2,2.9140938143213085E-2,3.1017813389841734E-2,3.1028596661196461E-2,3.01864243172431E-2,3.0182898767964445E-2,2.938167988984329E-2,2.8386312249434744E-2,2.7799999999999998E-2,2.7900000000000001E-2]
[null,null,null,null,null,null,null,null,null,null,null,null,null,null,null,null,null,null,null,null,null,null,null,null,null,null,null,null,null,null,null,null,null,null,null,null,null,null,null,null,null,null,null,null,null,null,null,null,null,null,null,"North West","NHS Cheshire and Merseyside Integrated Care Board","NHS Cheshire and Merseyside ICB - 01V",1.7663798753826881E-2,1.6125953406535037E-2,1.6207897937402269E-2,1.6447831087062638E-2,1.7612443592244245E-2,1.7841257289710387E-2,1.8284083828014823E-2,1.9381402711591934E-2,1.988462010556033E-2,2.0254757294245491E-2,2.0126593592316631E-2,2.0711874808223382E-2,2.1392614071120777E-2,2.0991496204091104E-2,2.1676527134853248E-2,2.0555794298811058E-2,2.1780649679298436E-2,2.0743643013436761E-2,2.0196613958174278E-2,2.07E-2,2.1099999999999997E-2]
[null,null,null,null,null,null,null,null,null,null,null,null,null,null,null,null,null,null,null,null,null,null,null,null,null,null,null,null,null,null,null,null,null,null,null,null,null,null,null,null,null,null,null,null,null,null,null,null,null,null,null,"North West","NHS Cheshire and Merseyside Integrated Care Board","NHS Cheshire and Merseyside ICB - 01X",2.4342971506820455E-2,2.4140230742166372E-2,2.3990824727150847E-2,2.4907049589240237E-2,2.5277441695523383E-2,2.6052083333333333E-2,2.8015483334632271E-2,2.957819463156804E-2,3.0244427093298033E-2,3.0688823371750201E-2,3.0177232196745056E-2,3.0257309881701899E-2,3.0340825209356784E-2,3.0655440535613188E-2,3.1270674147656975E-2,3.0464676992822064E-2,2.9851419860496137E-2,2.883967476753066E-2,2.8151957779538626E-2,2.8900000000000002E-2,2.8999999999999998E-2]
[null,null,null,null,null,null,null,null,null,null,null,null,null,null,null,null,null,null,null,null,null,null,null,null,null,null,null,null,null,null,null,null,null,null,null,null,null,null,null,null,null,null,null,null,null,null,null,null,null,null,null,"North West","NHS Cheshire and Merseyside Integrated Care Board","NHS Cheshire and Merseyside ICB - 02E",1.4416946940414638E-2,1.5154622159758727E-2,1.5626783950280221E-2,1.5356562022571584E-2,1.575312587306333E-2,1.6412547838123931E-2,1.74541184878883E-2,1.7386639588851477E-2,1.7801738997203814E-2,1.8129319322162264E-2,1.7999107792726163E-2,1.8301134133800964E-2,1.8486244855359289E-2,1.8212588746812454E-2,1.8258202977267237E-2,1.8184124452981308E-2,1.8402990146109414E-2,1.7876700387574374E-2,1.7247244372777276E-2,1.7600000000000001E-2,1.8200000000000001E-2]
[null,null,null,null,null,null,null,null,null,null,null,null,null,null,null,null,null,null,null,null,null,null,null,null,null,null,null,null,null,null,null,null,null,null,null,null,null,null,null,null,null,null,null,null,null,null,null,null,null,null,null,"North West","NHS Cheshire and Merseyside Integrated Care Board","NHS Cheshire and Merseyside ICB - 12F",2.2069690301816151E-2,2.2440543618283602E-2,2.2406887068810905E-2,2.2521449708545947E-2,2.2105317167839238E-2,2.1776190160655875E-2,2.2241669147653288E-2,2.2913701174937875E-2,2.359662870792302E-2,2.2999678010526346E-2,2.4026755772515888E-2,2.4564982635201633E-2,2.4372333729631442E-2,2.5379970851551113E-2,2.5870351699187475E-2,2.6065321391529436E-2,2.6929844015672361E-2,2.6082039441132812E-2,2.5879659582939332E-2,2.5899999999999999E-2,2.6000000000000002E-2]
[null,null,null,null,null,null,null,null,null,null,null,null,null,null,null,null,null,null,null,null,null,null,null,null,null,null,null,null,null,null,null,null,null,null,null,null,null,null,null,null,null,null,null,null,null,null,null,null,null,null,null,"North West","NHS Cheshire and Merseyside Integrated Care Board","NHS Cheshire and Merseyside ICB - 27D",1.5472629437590417E-2,1.4897080796592405E-2,1.4930381976597649E-2,1.5384785649167124E-2,1.5906638368572555E-2,1.6203770484821758E-2,1.6634381568643615E-2,1.6977198536970974E-2,1.7371028537730079E-2,1.7739062801710576E-2,1.8017643086613834E-2,1.8386004905420198E-2,1.8812085163478275E-2,1.9176100127029562E-2,1.985478104006776E-2,2.007373607200412E-2,2.0218625087724651E-2,1.9584743221558523E-2,1.9357567923304134E-2,1.9699999999999999E-2,1.9900000000000001E-2]
[null,null,null,null,null,null,null,null,null,null,null,null,null,null,null,null,null,null,null,null,null,null,null,null,null,null,null,null,null,null,null,null,null,null,null,null,null,null,null,null,null,null,null,null,null,null,null,null,null,null,null,"North West","NHS Cheshire and Merseyside Integrated Care Board","NHS Cheshire and Merseyside ICB - 99A",2.1907226917943948E-2,2.1928420776193877E-2,2.2964753587024329E-2,2.3960136611407584E-2,2.5016471666687128E-2,2.5481681948539808E-2,2.7082072109274456E-2,2.7631628827556209E-2,2.8234417779045673E-2,2.8337478251467103E-2,2.8712824970860314E-2,2.9101432154829208E-2,3.0030216365725202E-2,3.0318350988746173E-2,3.0779620891799302E-2,3.1083638153565192E-2,3.0601069655179745E-2,3.054399897505683E-2,3.1204908077358276E-2,3.0099999999999998E-2,2.9700000000000001E-2]
[null,null,null,null,null,null,null,null,null,null,null,null,null,null,null,null,null,null,null,null,null,null,null,null,null,null,null,null,null,null,null,null,null,null,null,null,null,null,null,null,null,null,null,null,null,null,null,null,null,null,null,"North West","NHS Greater Manchester Integrated Care Board","NHS Greater Manchester ICB - 00T",1.7185157820703179E-2,1.7176907588450242E-2,1.7759495886574481E-2,1.9047619047619049E-2,1.9647358652594253E-2,1.9960525186647215E-2,2.0558707097090151E-2,2.1116825962524975E-2,2.1687346080318776E-2,2.2341860050642447E-2,2.2383133638709418E-2,2.2519845200829471E-2,2.2544136438313298E-2,2.2901578203390598E-2,2.2980570391181086E-2,2.3007221175369595E-2,2.2826371395151604E-2,2.1872014685406376E-2,2.1327914367157606E-2,2.1600000000000001E-2,2.3700000000000002E-2]
[null,null,null,null,null,null,null,null,null,null,null,null,null,null,null,null,null,null,null,null,null,null,null,null,null,null,null,null,null,null,null,null,null,null,null,null,null,null,null,null,null,null,null,null,null,null,null,null,null,null,null,"North West","NHS Greater Manchester Integrated Care Board","NHS Greater Manchester ICB - 00V",1.5883016290680375E-2,1.5739879441457633E-2,1.6639378991803237E-2,1.7013212831752444E-2,1.7469489285621746E-2,1.79020411137891E-2,1.8298775274764891E-2,1.8914508540668843E-2,2.0056271829589065E-2,2.055831631149457E-2,2.1378739386351934E-2,2.1243461246655753E-2,2.1109157016954511E-2,2.1402094610496587E-2,2.1748533492741577E-2,2.1580058248769581E-2,2.1629148517904637E-2,2.0907241172950328E-2,2.081376330960294E-2,2.0499999999999997E-2,2.0499999999999997E-2]
[null,null,null,null,null,null,null,null,null,null,null,null,null,null,null,null,null,null,null,null,null,null,null,null,null,null,null,null,null,null,null,null,null,null,null,null,null,null,null,null,null,null,null,null,null,null,null,null,null,null,null,"North West","NHS Greater Manchester Integrated Care Board","NHS Greater Manchester ICB - 00Y",1.6648665259694776E-2,1.6834121000036076E-2,1.7159182135793444E-2,1.7849263968553207E-2,1.8201318011194675E-2,1.8745586158192089E-2,2.0071621591932685E-2,2.1678906515432663E-2,2.227842370793413E-2,2.2287306544281304E-2,2.2224310884016611E-2,2.247195733396094E-2,2.2902123990648473E-2,2.3345089360863512E-2,2.3587297337860146E-2,2.3769188982556384E-2,2.3447926548857551E-2,2.2465223833505733E-2,2.156316900289728E-2,2.1499999999999998E-2,2.2700000000000001E-2]
[null,null,null,null,null,null,null,null,null,null,null,null,null,null,null,null,null,null,null,null,null,null,null,null,null,null,null,null,null,null,null,null,null,null,null,null,null,null,null,null,null,null,null,null,null,null,null,null,null,null,null,"North West","NHS Greater Manchester Integrated Care Board","NHS Greater Manchester ICB - 01D",1.6230521523485215E-2,1.5905712259155259E-2,1.7490365670243063E-2,1.8270219133472206E-2,1.9497676267213462E-2,2.013217366250698E-2,2.1476106766162014E-2,2.2065514103730664E-2,2.3065055400471435E-2,2.3017354567296956E-2,2.3559987317974984E-2,2.4074139050192102E-2,2.4320216179699376E-2,2.4673153585665908E-2,2.529108689388675E-2,2.5421418415324155E-2,2.5464323682071164E-2,2.4368134358492586E-2,2.3674091833947E-2,2.3900000000000001E-2,2.6000000000000002E-2]
[null,null,null,null,null,null,null,null,null,null,null,null,null,null,null,null,null,null,null,null,null,null,null,null,null,null,null,null,null,null,null,null,null,null,null,null,null,null,null,null,null,null,null,null,null,null,null,null,null,null,null,"North West","NHS Greater Manchester Integrated Care Board","NHS Greater Manchester ICB - 01G",2.0186749666518452E-2,2.0830688233750623E-2,2.2781974298968128E-2,2.4886669292196312E-2,2.5589982209955099E-2,2.7457941598159029E-2,2.6295672838894939E-2,2.7040254975587028E-2,2.7597396266005204E-2,2.7344381412748139E-2,2.678135190719131E-2,2.655511365113317E-2,2.5969270429012932E-2,2.543760729189861E-2,2.5015188922095755E-2,2.4806126872501326E-2,2.5447254259524123E-2,2.459789716671908E-2,2.4006940211624854E-2,2.4799999999999999E-2,2.5000000000000001E-2]
[null,null,null,null,null,null,null,null,null,null,null,null,null,null,null,null,null,null,null,null,null,null,null,null,null,null,null,null,null,null,null,null,null,null,null,null,null,null,null,null,null,null,null,null,null,null,null,null,null,null,null,"North West","NHS Greater Manchester Integrated Care Board","NHS Greater Manchester ICB - 01W",1.4677492324534896E-2,1.5216400281810772E-2,1.635132622066714E-2,1.7325024463099345E-2,1.869478405951697E-2,1.8983260338017574E-2,1.959488916462658E-2,2.0414846796750468E-2,2.1414068673047879E-2,2.1920217708748174E-2,2.2129598791791834E-2,2.2609606805010039E-2,2.2934209846567133E-2,2.2998274568160972E-2,2.3217769630075206E-2,2.3202427602931563E-2,2.3330806039079728E-2,2.2359605558101615E-2,2.1436753395516282E-2,2.0899999999999998E-2,2.1400000000000002E-2]
[null,null,null,null,null,null,null,null,null,null,null,null,null,null,null,null,null,null,null,null,null,null,null,null,null,null,null,null,null,null,null,null,null,null,null,null,null,null,null,null,null,null,null,null,null,null,null,null,null,null,null,"North West","NHS Greater Manchester Integrated Care Board","NHS Greater Manchester ICB - 01Y",1.9087179824540793E-2,1.9382332675771847E-2,2.0570993599413317E-2,2.1990366213330129E-2,2.2964845872590463E-2,2.3360254639580722E-2,2.4068079061317596E-2,2.4630094157850727E-2,2.5535364147243819E-2,2.6296700138235603E-2,2.6499007637366841E-2,2.7014361839815055E-2,2.7946332404005125E-2,2.882116077643555E-2,2.9656229472301291E-2,2.9583717010963045E-2,2.9236142406489411E-2,2.8181911984728886E-2,2.8712880215707316E-2,2.9500000000000002E-2,3.0600000000000002E-2]
[null,null,null,null,null,null,null,null,null,null,null,null,null,null,null,null,null,null,null,null,null,null,null,null,null,null,null,null,null,null,null,null,null,null,null,null,null,null,null,null,null,null,null,null,null,null,null,null,null,null,null,"North West","NHS Greater Manchester Integrated Care Board","NHS Greater Manchester ICB - 02A",1.2495814166622606E-2,1.3115270797947784E-2,1.4085733568458407E-2,1.4476192137757171E-2,1.535170954101157E-2,1.5332594378480025E-2,1.6121194920684066E-2,1.6669547182855168E-2,1.6933686630284099E-2,1.8222109661896923E-2,1.8784632589739926E-2,1.897255418482615E-2,1.9527804131089694E-2,1.9607680847541796E-2,1.9805233477498348E-2,1.9925786819969343E-2,2.014075149486946E-2,1.9331596515509239E-2,1.8914297044098936E-2,1.9099999999999999E-2,1.9400000000000001E-2]
[null,null,null,null,null,null,null,null,null,null,null,null,null,null,null,null,null,null,null,null,null,null,null,null,null,null,null,null,null,null,null,null,null,null,null,null,null,null,null,null,null,null,null,null,null,null,null,null,null,null,null,"North West","NHS Greater Manchester Integrated Care Board","NHS Greater Manchester ICB - 02H",1.7860920847327637E-2,1.6983010482616814E-2,1.7734223450566702E-2,1.8436349544661886E-2,1.8883312623017668E-2,1.9335243223562552E-2,2.0290178215929541E-2,2.160407383831954E-2,2.2303249166330232E-2,2.272005387000051E-2,2.3294041037215461E-2,2.4460848169054857E-2,2.5444728101066471E-2,2.6053673176460353E-2,2.660573624600452E-2,2.6675995575897195E-2,2.6875686263774703E-2,2.5485765928603705E-2,2.4197244024389889E-2,2.3900000000000001E-2,2.5699999999999997E-2]
[null,null,null,null,null,null,null,null,null,null,null,null,null,null,null,null,null,null,null,null,null,null,null,null,null,null,null,null,null,null,null,null,null,null,null,null,null,null,null,null,null,null,null,null,null,null,null,null,null,null,null,"North West","NHS Greater Manchester Integrated Care Board","NHS Greater Manchester ICB - 14L",1.7926227754662998E-2,1.7733177007805991E-2,1.8446538861371001E-2,1.8946562774105669E-2,1.897363684686617E-2,1.878744888439212E-2,1.8723304557824356E-2,1.8402737440197704E-2,1.8758413162234502E-2,1.9077777431129692E-2,1.9501001775449098E-2,1.9321624750597333E-2,1.9414879647800903E-2,1.972709320571894E-2,1.9872105091751358E-2,1.9678078744973227E-2,1.9671115242458445E-2,1.8562945351180998E-2,1.7875603212669872E-2,1.8100000000000002E-2,1.8600000000000002E-2]
[null,null,null,null,null,null,null,null,null,null,null,null,null,null,null,null,null,null,null,null,null,null,null,null,null,null,null,null,null,null,null,null,null,null,null,null,null,null,null,null,null,null,null,null,null,null,null,null,null,null,null,"North West","NHS Lancashire and South Cumbria Integrated Care Board","NHS Lancashire and South Cumbria ICB - 00Q",2.0547646762236152E-2,1.9583200465194801E-2,1.9360186663391871E-2,1.9759648717356137E-2,2.0647294492445817E-2,2.0515092904747931E-2,2.071046495679605E-2,2.1170005507162273E-2,2.1479108026931495E-2,2.1727832177744179E-2,2.2847440898622926E-2,2.2437164314445812E-2,2.264711128500492E-2,2.156045593795711E-2,2.1133379330577122E-2,2.1645748976517304E-2,2.1692880057030833E-2,2.1020822304570318E-2,2.0709816671675638E-2,2.0199999999999999E-2,2.0400000000000001E-2]
[null,null,null,null,null,null,null,null,null,null,null,null,null,null,null,null,null,null,null,null,null,null,null,null,null,null,null,null,null,null,null,null,null,null,null,null,null,null,null,null,null,null,null,null,null,null,null,null,null,null,null,"North West","NHS Lancashire and South Cumbria Integrated Care Board","NHS Lancashire and South Cumbria ICB - 00R",2.2427116262732701E-2,2.3197436353925582E-2,2.3306498768523823E-2,2.4628420452296983E-2,2.5243271853751883E-2,2.648675371506674E-2,2.844005950246065E-2,2.9574196542522333E-2,3.105647579030223E-2,3.3588460064343038E-2,3.6330085105887561E-2,3.6910406206679638E-2,3.7278733519012848E-2,3.608047379877051E-2,3.7337680976382653E-2,3.7641147147868988E-2,3.8172258101388808E-2,3.7476609016161046E-2,3.746173490960137E-2,3.7699999999999997E-2,3.9E-2]
[null,null,null,null,null,null,null,null,null,null,null,null,null,null,null,null,null,null,null,null,null,null,null,null,null,null,null,null,null,null,null,null,null,null,null,null,null,null,null,null,null,null,null,null,null,null,null,null,null,null,null,"North West","NHS Lancashire and South Cumbria Integrated Care Board","NHS Lancashire and South Cumbria ICB - 00X",1.5326831041376386E-2,1.5426200957863673E-2,1.6191741125332046E-2,1.7209514437270479E-2,1.8273577459398695E-2,1.887355019529503E-2,1.9642232874520795E-2,2.0208076177041085E-2,2.0389476324062031E-2,2.1978721311665096E-2,2.2563937848797528E-2,2.3247636386322518E-2,2.356779461147112E-2,2.290830704407365E-2,2.3800441178909656E-2,2.3888546062031276E-2,2.3253531111959425E-2,2.2349517404334419E-2,2.1576212410274787E-2,2.1299999999999999E-2,2.1400000000000002E-2]
[null,null,null,null,null,null,null,null,null,null,null,null,null,null,null,null,null,null,null,null,null,null,null,null,null,null,null,null,null,null,null,null,null,null,null,null,null,null,null,null,null,null,null,null,null,null,null,null,null,null,null,"North West","NHS Lancashire and South Cumbria Integrated Care Board","NHS Lancashire and South Cumbria ICB - 01A",1.88553947984367E-2,1.9369540448157994E-2,1.9877464716281816E-2,2.0564546602895608E-2,2.1117958884626989E-2,2.1368937453023089E-2,2.1921506083170793E-2,2.2979253899209996E-2,2.3857609998613721E-2,2.4202923510796323E-2,2.4457840044385955E-2,2.4996804158854611E-2,2.5588031115299236E-2,2.5957153671064454E-2,2.4993339591212742E-2,2.6258421997346584E-2,2.5711159737417943E-2,2.4425309137951073E-2,2.4211439905355282E-2,2.4300000000000002E-2,2.4500000000000001E-2]
[null,null,null,null,null,null,null,null,null,null,null,null,null,null,null,null,null,null,null,null,null,null,null,null,null,null,null,null,null,null,null,null,null,null,null,null,null,null,null,null,null,null,null,null,null,null,null,null,null,null,null,"North West","NHS Lancashire and South Cumbria Integrated Care Board","NHS Lancashire and South Cumbria ICB - 01E",1.6785332767688746E-2,1.624396713887306E-2,1.5629587241559474E-2,1.576550045156477E-2,1.6039718322162961E-2,1.6444941690321131E-2,1.7381746734235329E-2,1.8550727422981569E-2,1.9467416393664741E-2,1.9947731333146309E-2,2.0261257197184669E-2,2.0622176897581813E-2,2.1210566066967484E-2,2.0664351884392088E-2,1.9306254799897601E-2,2.0851564898262141E-2,2.1013036159120094E-2,1.9930113454493723E-2,1.8836229571244801E-2,1.8600000000000002E-2,1.8600000000000002E-2]
[null,null,null,null,null,null,null,null,null,null,null,null,null,null,null,null,null,null,null,null,null,null,null,null,null,null,null,null,null,null,null,null,null,null,null,null,null,null,null,null,null,null,null,null,null,null,null,null,null,null,null,"North West","NHS Lancashire and South Cumbria Integrated Care Board","NHS Lancashire and South Cumbria ICB - 01K",1.7702385845187654E-2,1.7738065836361713E-2,1.8209047262476324E-2,1.8692869135341853E-2,1.9126732051237303E-2,1.909045564216778E-2,1.9837079499170313E-2,2.0383029403838408E-2,2.0877941219137146E-2,2.138812063742921E-2,2.1925756466749838E-2,2.2053749959627337E-2,2.2465743827466824E-2,2.2781355084385564E-2,2.2729990263456075E-2,2.2706354256624699E-2,2.3016600178692358E-2,2.2474483304588764E-2,2.1884489933640762E-2,2.1499999999999998E-2,2.18E-2]
[null,null,null,null,null,null,null,null,null,null,null,null,null,null,null,null,null,null,null,null,null,null,null,null,null,null,null,null,null,null,null,null,null,null,null,null,null,null,null,null,null,null,null,null,null,null,null,null,null,null,null,"North West","NHS Lancashire and South Cumbria Integrated Care Board","NHS Lancashire and South Cumbria ICB - 02G",1.7861742474708446E-2,1.629888533734165E-2,1.7137051856736741E-2,1.7925816770297955E-2,1.9053993752788934E-2,1.9411144659032032E-2,2.0416024653312787E-2,2.1212690069457481E-2,2.1247331803120561E-2,2.1385310774837869E-2,2.1788765808672696E-2,2.2240035626809172E-2,2.2874200727735189E-2,2.2902978970421383E-2,2.2664782217653862E-2,2.3601689716218822E-2,2.3452231645602926E-2,2.2791677138127964E-2,2.2139116146920892E-2,2.2000000000000002E-2,2.2099999999999998E-2]
[null,null,null,null,null,null,null,null,null,null,null,null,null,null,null,null,null,null,null,null,null,null,null,null,null,null,null,null,null,null,null,null,null,null,null,null,null,null,null,null,null,null,null,null,null,null,null,null,null,null,null,"North West","NHS Lancashire and South Cumbria Integrated Care Board","NHS Lancashire and South Cumbria ICB - 02M",1.6790534378989603E-2,1.7243629389635664E-2,1.7816452654374388E-2,1.8859948256328453E-2,1.9489564377344927E-2,1.9881799080909202E-2,2.1077851062630361E-2,2.2125543816034803E-2,2.3205722642300846E-2,2.4293155608125016E-2,2.5528194005189672E-2,2.6528206058407399E-2,2.7534354297610898E-2,2.84762312826989E-2,2.9126867430662343E-2,2.9750287186464875E-2,2.934868745532028E-2,2.8147255396077573E-2,2.7463729965317544E-2,2.7699999999999999E-2,2.8300000000000002E-2]
[null,null,null,null,null,null,null,null,null,null,null,null,null,null,null,null,null,null,null,null,null,null,null,null,null,null,null,null,null,null,null,null,null,null,null,null,null,null,null,null,null,null,null,null,null,null,null,null,null,null,null,"South East","NHS Buckinghamshire, Oxfordshire and Berkshire West Integrated Care Board","NHS Buckinghamshire, Oxfordshire and Berkshire West ICB - 10Q",8.8730535130840948E-3,9.2700386962390122E-3,9.9045941318425517E-3,1.0445375737444116E-2,1.0687240867915842E-2,1.0972555514000195E-2,1.1512900675105854E-2,1.1709004799410012E-2,1.2128072211848338E-2,1.2533170792287674E-2,1.2883310480610343E-2,1.3336068364618743E-2,1.3556364313764703E-2,1.3776972563071043E-2,1.4006218544965877E-2,1.3949616704953153E-2,1.3849086519589607E-2,1.338599321075107E-2,1.3038297366328343E-2,1.3100000000000001E-2,1.3500000000000002E-2]
[null,null,null,null,null,null,null,null,null,null,null,null,null,null,null,null,null,null,null,null,null,null,null,null,null,null,null,null,null,null,null,null,null,null,null,null,null,null,null,null,null,null,null,null,null,null,null,null,null,null,null,"South East","NHS Buckinghamshire, Oxfordshire and Berkshire West Integrated Care Board","NHS Buckinghamshire, Oxfordshire and Berkshire West ICB - 14Y",9.1847829476542214E-3,9.1338118179136764E-3,9.6475011872941864E-3,1.0039705048213273E-2,1.0295992889988021E-2,1.0711383048872123E-2,1.1492262041846451E-2,1.2338451152510503E-2,1.3022409521697123E-2,1.3392374382399553E-2,1.3625181820030053E-2,1.3531742840221976E-2,1.3622246298302637E-2,1.3615931166833368E-2,1.3609740814885222E-2,1.3380764449805477E-2,1.3338588774517157E-2,1.2820955809943713E-2,1.2400430128148052E-2,1.21E-2,1.2199999999999999E-2]
[null,null,null,null,null,null,null,null,null,null,null,null,null,null,null,null,null,null,null,null,null,null,null,null,null,null,null,null,null,null,null,null,null,null,null,null,null,null,null,null,null,null,null,null,null,null,null,null,null,null,null,"South East","NHS Buckinghamshire, Oxfordshire and Berkshire West Integrated Care Board","NHS Buckinghamshire, Oxfordshire and Berkshire West ICB - 15A",8.1340129830523248E-3,8.1760464730429895E-3,8.5290106929639294E-3,8.9411528930881945E-3,9.2759212969502677E-3,9.5296419360836916E-3,9.9369293425823416E-3,1.024517755898556E-2,1.037089572049495E-2,1.0528158004959286E-2,1.0934656483800221E-2,1.1317626375993706E-2,1.1614454551641222E-2,1.1963462485267131E-2,1.2474535162734637E-2,1.2524214819652036E-2,1.2428364414863792E-2,1.2057441551578858E-2,1.1777416678191122E-2,1.1699999999999999E-2,1.18E-2]
[null,null,null,null,null,null,null,null,null,null,null,null,null,null,null,null,null,null,null,null,null,null,null,null,null,null,null,null,null,null,null,null,null,null,null,null,null,null,null,null,null,null,null,null,null,null,null,null,null,null,null,"South East","NHS Frimley Integrated Care Board","NHS Frimley ICB - D4U1Y",9.1262555351549843E-3,9.3947075244674647E-3,9.6061952570026705E-3,9.9286081157637009E-3,1.0258456576136204E-2,1.0255277523587139E-2,1.0677610189099242E-2,1.0903300568057503E-2,1.0997031255211981E-2,1.1122390079815291E-2,1.1377112265867354E-2,1.1719203248888029E-2,1.2109946982279341E-2,1.2590342092015492E-2,1.2836680413490318E-2,1.2843735578714615E-2,1.2771882652326308E-2,1.2554930106700436E-2,1.2242695280548659E-2,1.2199999999999999E-2,1.23E-2]
[null,null,null,null,null,null,null,null,null,null,null,null,null,null,null,null,null,null,null,null,null,null,null,null,null,null,null,null,null,null,null,null,null,null,null,null,null,null,null,null,null,null,null,null,null,null,null,null,null,null,null,"South East","NHS Hampshire and Isle of Wight Integrated Care Board","NHS Hampshire and Isle Of Wight ICB - 10R",1.3250183346704927E-2,1.399673671587804E-2,1.4327262790107553E-2,1.5164451343746967E-2,1.5464757413690647E-2,1.5878044513374344E-2,1.6423203580173941E-2,1.7161361988948194E-2,1.8202417273492259E-2,1.917097958915304E-2,1.982515510434292E-2,2.0523626839794903E-2,1.9640927854132861E-2,2.1118508774686521E-2,2.1405760759668446E-2,2.1640283672797488E-2,2.2163988254980584E-2,2.1090635186556017E-2,2.2658875404011215E-2,2.7099999999999999E-2,2.8500000000000001E-2]
[null,null,null,null,null,null,null,null,null,null,null,null,null,null,null,null,null,null,null,null,null,null,null,null,null,null,null,null,null,null,null,null,null,null,null,null,null,null,null,null,null,null,null,null,null,null,null,null,null,null,null,"South East","NHS Hampshire and Isle of Wight Integrated Care Board","NHS Hampshire and Isle Of Wight ICB - D9Y0V",1.1644421474773091E-2,1.2031499202551834E-2,1.2640190606571188E-2,1.3224520382707812E-2,1.3755769358751353E-2,1.3985140948623978E-2,1.4633282825991236E-2,1.5397625440206512E-2,1.5974888401659386E-2,1.6502291862231965E-2,1.7126412753807503E-2,1.753670901890543E-2,1.8089915580801277E-2,1.8603547365271315E-2,1.8774401769721581E-2,1.9467523042397534E-2,1.9658236126144514E-2,1.9239878827784343E-2,1.915856567363668E-2,1.9299999999999998E-2,1.9900000000000001E-2]
[null,null,null,null,null,null,null,null,null,null,null,null,null,null,null,null,null,null,null,null,null,null,null,null,null,null,null,null,null,null,null,null,null,null,null,null,null,null,null,null,null,null,null,null,null,null,null,null,null,null,null,"South East","NHS Kent and Medway Integrated Care Board","NHS Kent and Medway ICB - 91Q",1.2121797993106675E-2,1.2645282318621973E-2,1.3704846561417353E-2,1.4375089959923397E-2,1.520381944404383E-2,1.5587688020281454E-2,1.6241198130271636E-2,1.6882011344576769E-2,1.7454200662161794E-2,1.8020512593314577E-2,1.860601846729083E-2,1.9297053095855801E-2,1.9732088777364369E-2,2.0015955862877247E-2,2.0518631340397605E-2,2.054288975310609E-2,2.0509754910235621E-2,2.0064327601468163E-2,1.9765366426990456E-2,1.9799999999999998E-2,2.0099999999999996E-2]
[null,null,null,null,null,null,null,null,null,null,null,null,null,null,null,null,null,null,null,null,null,null,null,null,null,null,null,null,null,null,null,null,null,null,null,null,null,null,null,null,null,null,null,null,null,null,null,null,null,null,null,"South East","NHS Surrey Heartlands Integrated Care Board","NHS Surrey Heartlands ICB - 92A",9.7377249161329678E-3,1.0213575872927356E-2,1.0460299182964199E-2,1.0858680344309788E-2,1.1253868609826096E-2,1.1404541894454764E-2,1.1710827160904321E-2,1.2164814755045933E-2,1.2306624681291959E-2,1.231773131847288E-2,1.2401364555097397E-2,1.2716743603633675E-2,1.2858009838445403E-2,1.2939185734932301E-2,1.3014283658933251E-2,1.2951461694735869E-2,1.2869012764802958E-2,1.269309096730015E-2,1.2510189174597461E-2,1.2699999999999999E-2,1.29E-2]
[null,null,null,null,null,null,null,null,null,null,null,null,null,null,null,null,null,null,null,null,null,null,null,null,null,null,null,null,null,null,null,null,null,null,null,null,null,null,null,null,null,null,null,null,null,null,null,null,null,null,null,"South East","NHS Sussex Integrated Care Board","NHS Sussex ICB - 09D",9.6901170499669384E-3,9.9513473853671749E-3,9.9498407752128693E-3,1.0383239652529382E-2,1.0510263929618768E-2,1.0791068039894051E-2,1.1261178743317734E-2,1.1862627921374913E-2,1.243581594859286E-2,1.2587403370260777E-2,1.2822611804923412E-2,1.3276387020360346E-2,1.3978714830253744E-2,1.4376119795519175E-2,1.421823977608459E-2,1.4809772610199426E-2,1.4982000641073058E-2,1.4500007583685975E-2,1.4547452837025049E-2,1.55E-2,1.6200000000000003E-2]
[null,null,null,null,null,null,null,null,null,null,null,null,null,null,null,null,null,null,null,null,null,null,null,null,null,null,null,null,null,null,null,null,null,null,null,null,null,null,null,null,null,null,null,null,null,null,null,null,null,null,null,"South East","NHS Sussex Integrated Care Board","NHS Sussex ICB - 70F",1.1242411278292648E-2,1.2245204117989012E-2,1.3166288652514775E-2,1.378796348052916E-2,1.4481537174634558E-2,1.4674423014279394E-2,1.5028269504627293E-2,1.5423389989382969E-2,1.5981996775012847E-2,1.6462105066411499E-2,1.6732127916705402E-2,1.6994510834599536E-2,1.7397796892739157E-2,1.7895227039576696E-2,1.8211911297095394E-2,1.8397953941590113E-2,1.8213770589694561E-2,1.7883984935923487E-2,1.7664652973553498E-2,1.8200000000000001E-2,1.84E-2]
[null,null,null,null,null,null,null,null,null,null,null,null,null,null,null,null,null,null,null,null,null,null,null,null,null,null,null,null,null,null,null,null,null,null,null,null,null,null,null,null,null,null,null,null,null,null,null,null,null,null,null,"South East","NHS Sussex Integrated Care Board","NHS Sussex ICB - 97R",1.2902863711929585E-2,1.3676687305960543E-2,1.4281103759883815E-2,1.5346170414733544E-2,1.6543971386677681E-2,1.7231853093643751E-2,1.8320438031872284E-2,1.9282605354217355E-2,1.9828151060281154E-2,2.055370063282197E-2,2.0850874516047196E-2,2.1769951470147292E-2,2.1575508680231472E-2,2.2249140624014219E-2,2.3064739832669681E-2,2.3518157952503244E-2,2.3619276457499519E-2,2.3093983822398995E-2,2.3097024656546405E-2,2.3700000000000002E-2,2.4399999999999998E-2]
[null,null,null,null,null,null,null,null,null,null,null,null,null,null,null,null,null,null,null,null,null,null,null,null,null,null,null,null,null,null,null,null,null,null,null,null,null,null,null,null,null,null,null,null,null,null,null,null,null,null,null,"South West","NHS Bath and North East Somerset, Swindon and Wiltshire Integrated Care Board","NHS Bath and North East Somerset, Swindon and Wiltshire ICB - 92G",1.276835450960756E-2,1.2758715410063178E-2,1.3177456172875336E-2,1.3352636847570844E-2,1.3675530866202002E-2,1.4049637215129529E-2,1.4612402923395862E-2,1.4943967195010455E-2,1.5315186745491914E-2,1.5721809946082969E-2,1.6045059628026825E-2,1.6382352102699727E-2,1.6629291162604639E-2,1.6778043139234401E-2,1.7183600713012479E-2,1.7378461357844942E-2,1.7245485813895196E-2,1.6897158662308273E-2,1.7052386195696961E-2,1.77E-2,1.84E-2]
[null,null,null,null,null,null,null,null,null,null,null,null,null,null,null,null,null,null,null,null,null,null,null,null,null,null,null,null,null,null,null,null,null,null,null,null,null,null,null,null,null,null,null,null,null,null,null,null,null,null,null,"South West","NHS Bristol, North Somerset and South Gloucestershire Integrated Care Board","NHS Bristol, North Somerset and South Gloucestershire ICB - 15C",1.35585895825737E-2,1.3647002018549194E-2,1.4111107546023741E-2,1.4614608224376833E-2,1.5267703770741716E-2,1.5083078438488258E-2,1.5525501979464063E-2,1.5900522310894293E-2,1.6535639989153524E-2,1.6632886510066211E-2,1.7007556737394867E-2,1.7196100923288129E-2,1.7626791425089178E-2,1.7852678695433062E-2,1.8122556302115535E-2,1.8070712571658393E-2,1.8180213658037788E-2,1.7574793527527621E-2,1.7347570873619753E-2,1.77E-2,1.8500000000000003E-2]
[null,null,null,null,null,null,null,null,null,null,null,null,null,null,null,null,null,null,null,null,null,null,null,null,null,null,null,null,null,null,null,null,null,null,null,null,null,null,null,null,null,null,null,null,null,null,null,null,null,null,null,"South West","NHS Cornwall and the Isles of Scilly Integrated Care Board","NHS Cornwall and The Isles Of Scilly ICB - 11N",1.4239378150147992E-2,1.4791771877422977E-2,1.5551244025185285E-2,1.6556914740471145E-2,1.729693127362562E-2,1.74954328825166E-2,1.8154191237654209E-2,1.8674700963611689E-2,1.9217717833333033E-2,2.0009013713721591E-2,2.0755822151836946E-2,2.1090890976727967E-2,2.1611375074294597E-2,2.2076680820393903E-2,2.1975948631026761E-2,2.3493945035612415E-2,2.3794009210366389E-2,2.3242505170578905E-2,2.3900307665655551E-2,2.41E-2,2.4700000000000003E-2]
[null,null,null,null,null,null,null,null,null,null,null,null,null,null,null,null,null,null,null,null,null,null,null,null,null,null,null,null,null,null,null,null,null,null,null,null,null,null,null,null,null,null,null,null,null,null,null,null,null,null,null,"South West","NHS Devon Integrated Care Board","NHS Devon ICB - 15N",1.2970415753449545E-2,1.3561447603855659E-2,1.4555779370507435E-2,1.5194997898637116E-2,1.5921147879162743E-2,1.6481572456556102E-2,1.7438792561072135E-2,1.8448538864234903E-2,1.936371904560381E-2,2.0030784452013357E-2,2.0864432544954053E-2,2.1170571744854497E-2,2.1655532127031633E-2,2.2008150864498002E-2,2.2714986569959076E-2,2.3085002325096613E-2,2.3246450569762826E-2,2.279559945819155E-2,2.2860816207265999E-2,2.3399999999999997E-2,2.4E-2]
[null,null,null,null,null,null,null,null,null,null,null,null,null,null,null,null,null,null,null,null,null,null,null,null,null,null,null,null,null,null,null,null,null,null,null,null,null,null,null,null,null,null,null,null,null,null,null,null,null,null,null,"South West","NHS Dorset Integrated Care Board","NHS Dorset ICB - 11J",1.3021761189136611E-2,1.3357508033200759E-2,1.3815625553777546E-2,1.4624919425570362E-2,1.5044552904361687E-2,1.5513969625060567E-2,1.6044801312980746E-2,1.6763653974148803E-2,1.756442237378664E-2,1.8129241769548637E-2,1.860636467563246E-2,1.9278658535053134E-2,2.0145560189587654E-2,2.0968501984126985E-2,2.1556382406498126E-2,2.1902232163660936E-2,2.1788277124387585E-2,2.1430446940555951E-2,2.1192385133710828E-2,2.1400000000000002E-2,2.1700000000000001E-2]
[null,null,null,null,null,null,null,null,null,null,null,null,null,null,null,null,null,null,null,null,null,null,null,null,null,null,null,null,null,null,null,null,null,null,null,null,null,null,null,null,null,null,null,null,null,null,null,null,null,null,null,"South West","NHS Gloucestershire Integrated Care Board","NHS Gloucestershire ICB - 11M",1.2581338301400988E-2,1.2813336762325461E-2,1.3389255256016162E-2,1.4009589947089948E-2,1.4408918459144019E-2,1.4846838227946392E-2,1.5466129698134698E-2,1.6027917606003521E-2,1.643833408548772E-2,1.6838798739686456E-2,1.7153076342890754E-2,1.7381292240719857E-2,1.7841597979782138E-2,1.8179560880627485E-2,1.8280913085945059E-2,1.8569192908320948E-2,1.8558149167539596E-2,1.8201481481481482E-2,1.820810349221787E-2,1.8500000000000003E-2,1.9099999999999999E-2]
[null,null,null,null,null,null,null,null,null,null,null,null,null,null,null,null,null,null,null,null,null,null,null,null,null,null,null,null,null,null,null,null,null,null,null,null,null,null,null,null,null,null,null,null,null,null,null,null,null,null,null,"South West","NHS Somerset Integrated Care Board","NHS Somerset ICB - 11X",1.4214653422553583E-2,1.4231659578395256E-2,1.5190095204721575E-2,1.5594483282360527E-2,1.6322326771190759E-2,1.6961276873983581E-2,1.7600133573270504E-2,1.8259496815075677E-2,1.9161923450787578E-2,1.9992531577649839E-2,2.0388954650697025E-2,2.1305827246971058E-2,2.1862742170359349E-2,2.2533387630652924E-2,2.3299756788226621E-2,2.3381587577771652E-2,2.3034472678324685E-2,2.2362314915891121E-2,2.1868591884566885E-2,2.2200000000000001E-2,2.2799999999999997E-2]

{"sheet":"newDataList3","index":43,"n_rows":107,"n_cols":75,"rows_kept":107,"cut":false,"hidden":false,"merged":[]}
["Region","Start Row","End Row",2005,2006,2007,2008,2009,2010,2011,2012,2013,2014,2015,2016,2017,2018,2019,2020,2021,2022,2023,2024,2025,null,"Region","ICB name","Start Row","End Row",2005,2006,2007,2008,2009,2010,2011,2012,2013,2014,2015,2016,2017,2018,2019,2020,2021,2022,2023,2024,2025,null,"Region","ICB name","Sub-ICB name",2005,2006,2007,2008,2009,2010,2011,2012,2013,2014,2015,2016,2017,2018,2019,2020,2021,2022,2023,2024,2025]
["East of England",2,{"$f":"B2+COUNTIF(Z:Z,A2)-1","v":7},{"$f":"SUMIF($Z:$Z,$A2,AD:AD)","v":5943555},5992629,6056410,6101009,6178161,6207794,6239756,6318529,6394895,6449143,6535235,6640300,6754589,6764341,6842717,6937103,6967926,7066270,7177439,7274894,7341228,null,"East of England","NHS Bedfordshire, Luton and Milton Keynes Integrated Care Board",2,{"$f":"AB2+COUNTIF(BA:BA,AA2)-1","v":2},{"$f":"SUMIF($BA:$BA,$AA2,BC:BC)","v":852492},857304,868059,870234,886950,893964,897811,915164,930599,944716,960265,979914,1005573,1008033,1022038,1038666,1050027,1077382,1103136,1131227,1146901,null,"East of England","NHS Bedfordshire, Luton and Milton Keynes Integrated Care Board","NHS Bedfordshire, Luton and Milton Keynes ICB - M1J4Y",852492,857304,868059,870234,886950,893964,897811,915164,930599,944716,960265,979914,1005573,1008033,1022038,1038666,1050027,1077382,1103136,1131227,1146901]
["London",{"$f":"C2+1","v":8},{"$f":"B3+COUNTIF(Z:Z,A3)-1","v":12},{"$f":"SUMIF($Z:$Z,$A3,AD:AD)","v":8330045},{"$f":"SUMIF($Z:$Z,$A3,AE:AE)","v":8349383},8448521,8487280,8470282,8711445,8853326,8899997,9056401,9078143,9254101,{"$f":"SUMIF($Z:$Z,$A3,AO:AO)","v":9419566},9594167,9792591,10063429,10280490,10364349,10647997,10831177,{"$f":"SUMIF($Z:$Z,$A3,AW:AW)","v":11002985},{"$f":"SUMIF($Z:$Z,$A3,AX:AX)","v":11124345},null,"East of England","NHS Cambridgeshire and Peterborough Integrated Care Board",{"$f":"AC2+1","v":3},{"$f":"AB3+COUNTIF(BA:BA,AA3)-1","v":3},{"$f":"SUMIF($BA:$BA,$AA3,BC:BC)","v":769677},{"$f":"SUMIF($BA:$BA,$AA3,BD:BD)","v":769248},{"$f":"SUMIF($BA:$BA,$AA3,BE:BE)","v":778272},{"$f":"SUMIF($BA:$BA,$AA3,BF:BF)","v":797437},{"$f":"SUMIF($BA:$BA,$AA3,BG:BG)","v":810520},{"$f":"SUMIF($BA:$BA,$AA3,BH:BH)","v":821844},{"$f":"SUMIF($BA:$BA,$AA3,BI:BI)","v":830146},{"$f":"SUMIF($BA:$BA,$AA3,BJ:BJ)","v":844727},{"$f":"SUMIF($BA:$BA,$AA3,BK:BK)","v":858464},{"$f":"SUMIF($BA:$BA,$AA3,BL:BL)","v":873666},{"$f":"SUMIF($BA:$BA,$AA3,BM:BM)","v":892526},{"$f":"SUMIF($BA:$BA,$AA3,BN:BN)","v":915029},{"$f":"SUMIF($BA:$BA,$AA3,BO:BO)","v":931970},{"$f":"SUMIF($BA:$BA,$AA3,BP:BP)","v":948671},{"$f":"SUMIF($BA:$BA,$AA3,BQ:BQ)","v":964680},{"$f":"SUMIF($BA:$BA,$AA3,BR:BR)","v":979961},{"$f":"SUMIF($BA:$BA,$AA3,BS:BS)","v":986214},{"$f":"SUMIF($BA:$BA,$AA3,BT:BT)","v":1004783},{"$f":"SUMIF($BA:$BA,$AA3,BU:BU)","v":1032874},{"$f":"SUMIF($BA:$BA,$AA3,BV:BV)","v":1047011},{"$f":"SUMIF($BA:$BA,$AA3,BW:BW)","v":1056627},null,"East of England","NHS Cambridgeshire and Peterborough Integrated Care Board","NHS Cambridgeshire and Peterborough ICB - 06H",769677,769248,778272,797437,810520,821844,830146,844727,858464,873666,892526,915029,931970,948671,964680,979961,986214,1004783,1032874,1047011,1056627]
["Midlands",{"$f":"C3+1","v":13},23,{"$f":"SUMIF($Z:$Z,$A4,AD:AD)","v":10128068},10247358,10307596,10384911,10471167,10536604,10577204,10644631,10734279,10777420,10864901,11029079,10899353,11292923,11365712,11521976,11562154,11533147,11722729,11915203,12021754,null,"East of England","NHS Hertfordshire and West Essex Integrated Care Board",{"$f":"AC3+1","v":4},6,1366981,1377419,1390145,1399255,1413887,1421766,1425228,1446760,1466975,1478706,1495602,1515897,1534635,1545180,1561642,1580862,1581347,1602271,1629466,1651041,1664954,null,"East of England","NHS Hertfordshire and West Essex Integrated Care Board","NHS Hertfordshire and West Essex ICB - 06K",541870,544173,549437,552198,557420,559071,559124,566468,573048,577680,583155,588544,593104,597980,602852,609574,606398,616798,622869,631735,635868]
["North East and Yorkshire",24,27,8210302,8272366,8322737,8363199,8400508,8429613,8457907,8487921,8536537,8583776,8621807,8685091,8786435,8829584,8891167,8948282,8963806,9034263,9118794,9215228,9276112,null,"East of England","NHS Mid and South Essex Integrated Care Board",7,11,1126859,1128146,1143686,1142733,1159640,1164118,1163091,1169011,1178400,1178588,1188510,1202107,1215861,1222176,1226429,1239869,1240038,1253772,1264884,1281061,1293528,null,"East of England","NHS Hertfordshire and West Essex Integrated Care Board","NHS Hertfordshire and West Essex ICB - 06N",562454,567922,572508,576332,582765,587702,589498,599780,609319,616457,624452,633456,643881,645655,652574,660437,662255,669754,678374,686774,692828]
["North West",28,30,6834384,6859725,6914341,6945780,6970963,7007682,7033784,7074481,7081708,7122934,7153365,7233402,7313516,7407381,7520724,7546355,7587831,7692652,7776916,7890141,7972871,null,"East of England","NHS Norfolk and Waveney Integrated Care Board",12,12,941906,955748,961277,968022,973663,966548,981767,991559,999740,1008852,1021505,1029714,1063067,1030405,1060016,1066974,1073983,1080827,1088169,1094606,1100179,null,"East of England","NHS Hertfordshire and West Essex Integrated Care Board","NHS Hertfordshire and West Essex ICB - 07H",262657,265324,268200,270725,273702,274993,276606,280512,284608,284569,287995,293897,297650,301545,306216,310851,312694,315719,328223,332532,336258]
["South East",31,36,8257854,8323816,8418653,8481101,8544163,8628377,8655093,8718783,8787099,8842981,8929139,9023239,9108704,9217542.5,9340043,9411026,9465121,9581958,9694276,9804602,9883847,null,"East of England","NHS Suffolk and North East Essex Integrated Care Board",13,{"$f":"AB7+COUNTIF(BA:BA,AA7)-1","v":15},{"$f":"SUMIF($BA:$BA,$AA7,BC:BC)","v":885640},{"$f":"SUMIF($BA:$BA,$AA7,BD:BD)","v":904764},{"$f":"SUMIF($BA:$BA,$AA7,BE:BE)","v":914971},{"$f":"SUMIF($BA:$BA,$AA7,BF:BF)","v":923328},{"$f":"SUMIF($BA:$BA,$AA7,BG:BG)","v":933501},{"$f":"SUMIF($BA:$BA,$AA7,BH:BH)","v":939554},{"$f":"SUMIF($BA:$BA,$AA7,BI:BI)","v":941713},{"$f":"SUMIF($BA:$BA,$AA7,BJ:BJ)","v":951308},{"$f":"SUMIF($BA:$BA,$AA7,BK:BK)","v":960717},{"$f":"SUMIF($BA:$BA,$AA7,BL:BL)","v":964615},{"$f":"SUMIF($BA:$BA,$AA7,BM:BM)","v":976827},{"$f":"SUMIF($BA:$BA,$AA7,BN:BN)","v":997639},{"$f":"SUMIF($BA:$BA,$AA7,BO:BO)","v":1003483},{"$f":"SUMIF($BA:$BA,$AA7,BP:BP)","v":1009876},{"$f":"SUMIF($BA:$BA,$AA7,BQ:BQ)","v":1007912},{"$f":"SUMIF($BA:$BA,$AA7,BR:BR)","v":1030771},{"$f":"SUMIF($BA:$BA,$AA7,BS:BS)","v":1036317},{"$f":"SUMIF($BA:$BA,$AA7,BT:BT)","v":1047235},{"$f":"SUMIF($BA:$BA,$AA7,BU:BU)","v":1058910},1069948,1079039,null,"East of England","NHS Mid and South Essex Integrated Care Board","NHS Mid and South Essex ICB - 06Q",364515,367670,371363,364835,377055,379923,378034,381607,384295,379628,382403,387064,391706,393711,396754,397994,400137,405288,410972,416845,422363]
["South West",37,43,5224402,5266647,5314316,5365240,5393866,5434309,5466266,5497256,5538930,5581119,5578480,5642785,5688561,5753309,5490120,5886114,5925691,5999796,6056726,6110350,6146514,null,"London","NHS North Central London Integrated Care Board",16,16,1391211,1361639,1362541,1355362,1346386,1372558,1401278,1404495,1452062,1462538,1486078,1524847,1552405,1552729,1630228,1661698,1675614,1704936,1781240,1806858,1837144,null,"East of England","NHS Mid and South Essex Integrated Care Board","NHS Mid and South Essex ICB - 07G",151204,150724,154852,156311,157947,158776,160579,161318,164031,166018,168576,171496,173932,176290,172955,181880,182624,184541,186238,189380,190578]
["England",null,null,{"$f":"SUM(D2:D8)","v":52928610},{"$f":"SUM(E2:E8)","v":53311924},53782574,54128520,54429110,54955824,55283336,55641598,56129849,56435516,56937028,57673462,58145325,59057671.5,59513912,60531346,60836878,61556083,62378057,63213403,63766671,null,"London","NHS North East London Integrated Care Board",17,17,1720345,1743131,1783984,1803929,1790166,1865342,1929808,1980754,2009856,1977805,2032744,2063889,2131698,2177350,2225393,2268983,2292503,2372779,2395014,2449079,2476394,null,"East of England","NHS Mid and South Essex Integrated Care Board","NHS Mid and South Essex ICB - 99E",257989,259653,261571,262781,263945,262777,262634,262252,264618,267673,270598,274268,276521,278874,281597,284079,284070,285888,288957,292833,295895]
[null,null,null,null,null,null,null,null,null,null,null,null,null,null,null,null,null,null,null,null,null,null,null,null,null,"London","NHS North West London Integrated Care Board",18,18,2062464,2057170,2075604,2060974,2045095,2120014,2145903,2131405,2198161,2227923,2285716,2319314,2348168,2427944,2515424,2601840,2651488,2773158,2833623,2878948,2913751,null,"East of England","NHS Mid and South Essex Integrated Care Board","NHS Mid and South Essex ICB - 99F",175241,173360,177040,178210,178919,179413,179141,180150,180715,180674,182037,183676,184576,185146,185709,185973,185432,186227,186889,187421,188413]
[null,null,null,null,null,null,null,null,null,null,null,null,null,null,null,null,null,null,null,null,null,null,null,null,null,"London","NHS South East London Integrated Care Board",19,19,1707873,1721397,1743603,1770697,1795568,1819685,1840361,1854309,1837897,1827770,1856976,1889114,1919018,1967209,1997065,2025540,2025278,2060140,2075835,2106983,2123645,null,"East of England","NHS Mid and South Essex Integrated Care Board","NHS Mid and South Essex ICB - 99G",177910,176739,178860,180596,181774,183229,182703,183684,184741,184595,184896,185603,189126,188155,189414,189943,187775,191828,191828,194582,196279]
[null,null,null,null,null,null,null,null,null,null,null,null,null,null,null,null,null,null,null,null,null,null,null,null,null,"London","NHS South West London Integrated Care Board",20,20,1448152,1466046,1482789,1496318,1493067,1533846,1535976,1529034,1558425,1582107,1592587,1622402,1642878,1667359,1695319,1722429,1719466,1736984,1745465,1761117,1773411,null,"East of England","NHS Norfolk and Waveney Integrated Care Board","NHS Norfolk and Waveney ICB - 26A",941906,955748,961277,968022,973663,966548,981767,991559,999740,1008852,1021505,1029714,1063067,1030405,1060016,1066974,1073983,1080827,1088169,1094606,1100179]
[null,null,null,null,null,null,null,null,null,null,null,null,null,null,null,null,null,null,null,null,null,null,null,null,null,"Midlands","NHS Birmingham and Solihull Integrated Care Board",21,21,1343263,1356683,1361302,1371437,1378388,1389468,1397521,1414133,1428269,1443867,1458890,1490224,1515490,1532249,1546912,1560821,1566719,1585889,1595014,1628972,1647789,null,"East of England","NHS Suffolk and North East Essex Integrated Care Board","NHS Suffolk and North East Essex ICB - 06L",366918,374679,379830,384323,387459,390027,391704,395517,398752,401722,405860,409889,413071,416598,420137,422823,425059,428633,413002,416117,418928]
[null,null,null,null,null,null,null,null,null,null,null,null,null,null,null,null,null,null,null,null,null,null,null,null,null,"Midlands","NHS Black Country Integrated Care Board",22,22,1120764,1143435,1148852,1155019,1160898,1163299,1169279,1169604,1178315,1176835,1188861,1202880,931854,1229856,1247257,1256260,1266070,1278535,1305307,1330470,1342206,null,"East of England","NHS Suffolk and North East Essex Integrated Care Board","NHS Suffolk and North East Essex ICB - 06T",303300,313330,316558,317993,323024,324840,324128,327531,332062,330971,336767,350614,350664,351766,343849,359685,361390,365777,370926,375991,379975]
[null,null,null,null,null,null,null,null,null,null,null,null,null,null,null,null,null,null,null,null,null,null,null,null,null,"Midlands","NHS Coventry and Warwickshire Integrated Care Board",23,23,870723,877462,886418,891784,896877,906005,910599,919145,929650,939208,929622,959428,975813,991798,1009700,1023724,1028515,1051850,1076256,1103145,1118811,null,"East of England","NHS Suffolk and North East Essex Integrated Care Board","NHS Suffolk and North East Essex ICB - 07K",215422,216755,218583,221012,223018,224687,225881,228260,229903,231922,234200,237136,239748,241512,243926,248263,249868,252825,274982,277840,280136]
[null,null,null,null,null,null,null,null,null,null,null,null,null,null,null,null,null,null,null,null,null,null,null,null,null,"Midlands","NHS Derby and Derbyshire Integrated Care Board",24,24,988757,996427,990031,992060,1017216,1019223,1023389,1015781,1032696,1037394,1042132,1037814,1054201,1060920,1060804,1075136,1079729,1089303,1120369,1133802,1142579,null,"London","NHS North Central London Integrated Care Board","NHS North Central London ICB - 93C",1391211,1361639,1362541,1355362,1346386,1372558,1401278,1404495,1452062,1462538,1486078,1524847,1552405,1552729,1630228,1661698,1675614,1704936,1781240,1806858,1837144]
[null,null,null,null,null,null,null,null,null,null,null,null,null,null,null,null,null,null,null,null,null,null,null,null,null,"Midlands","NHS Herefordshire and Worcestershire Integrated Care Board",25,25,736158,740321,745393,750112,753131,755332,754450,757845,761887,763052,767452,777247,792443,792642,798236,802860,807412,815391,822503,828125,833178,null,"London","NHS North East London Integrated Care Board","NHS North East London ICB - A3A8R",1720345,1743131,1783984,1803929,1790166,1865342,1929808,1980754,2009856,1977805,2032744,2063889,2131698,2177350,2225393,2268983,2292503,2372779,2395014,2449079,2476394]
[null,null,null,null,null,null,null,null,null,null,null,null,null,null,null,null,null,null,null,null,null,null,null,null,null,"Midlands","NHS Leicester, Leicestershire and Rutland Integrated Care Board",26,28,1004545,1015545,1025422,1033725,1041543,1053504,1063042,1075320,1084940,1088537,1097411,1114904,1133309,1148406,1167485,1181494,1185766,1204555,1193951,1227614,1234392,null,"London","NHS North West London Integrated Care Board","NHS North West London ICB - W2U3Z",2062464,2057170,2075604,2060974,2045095,2120014,2145903,2131405,2198161,2227923,2285716,2319314,2348168,2427944,2515424,2601840,2651488,2773158,2833623,2878948,2913751]
[null,null,null,null,null,null,null,null,null,null,null,null,null,null,null,null,null,null,null,null,null,null,null,null,null,"Midlands","NHS Lincolnshire Integrated Care Board",29,29,689867,698829,708058,718634,726168,731510,735090,740288,742723,750263,741043,764373,769655,778047,765808,784097,787758,794722,814152,820541,825803,null,"London","NHS South East London Integrated Care Board","NHS South East London ICB - 72Q",1707873,1721397,1743603,1770697,1795568,1819685,1840361,1854309,1837897,1827770,1856976,1889114,1919018,1967209,1997065,2025540,2025278,2060140,2075835,2106983,2123645]
[null,null,null,null,null,null,null,null,null,null,null,null,null,null,null,null,null,null,null,null,null,null,null,null,null,"Midlands","NHS Northamptonshire Integrated Care Board",30,30,646985,655536,663073,671361,678795,684100,692429,697835,702456,713447,726172,740025,755207,764266,776684,786205,790574,801718,825507,840777,849848,null,"London","NHS South West London Integrated Care Board","NHS South West London ICB - 36L",1448152,1466046,1482789,1496318,1493067,1533846,1535976,1529034,1558425,1582107,1592587,1622402,1642878,1667359,1695319,1722429,1719466,1736984,1745465,1761117,1773411]
[null,null,null,null,null,null,null,null,null,null,null,null,null,null,null,null,null,null,null,null,null,null,null,null,null,"Midlands","NHS Nottingham and Nottinghamshire Integrated Care Board",31,32,1218312,1229958,1237336,1246470,1256998,1267385,1270595,1282540,1290821,1293153,1314192,1327817,1337611,1359445,1340961,1386303,1383352,1229670,1261442,1272073,1283321,null,"Midlands","NHS Birmingham and Solihull Integrated Care Board","NHS Birmingham and Solihull ICB - 15E",1343263,1356683,1361302,1371437,1378388,1389468,1397521,1414133,1428269,1443867,1458890,1490224,1515490,1532249,1546912,1560821,1566719,1585889,1595014,1628972,1647789]
[null,null,null,null,null,null,null,null,null,null,null,null,null,null,null,null,null,null,null,null,null,null,null,null,null,"Midlands","NHS Shropshire, Telford and Wrekin Integrated Care Board",33,33,455941,458087,462052,467494,469233,471376,470944,474482,477033,479920,484176,489828,491347,497056,506312,512112,516571,522789,524687,531951,536718,null,"Midlands","NHS Black Country Integrated Care Board","NHS Black Country ICB - D2P2L",1120764,1143435,1148852,1155019,1160898,1163299,1169279,1169604,1178315,1176835,1188861,1202880,931854,1229856,1247257,1256260,1266070,1278535,1305307,1330470,1342206]
[null,null,null,null,null,null,null,null,null,null,null,null,null,null,null,null,null,null,null,null,null,null,null,null,null,"Midlands","NHS Staffordshire and Stoke-on-Trent Integrated Care Board",34,39,1052753,1075075,1079659,1086815,1091920,1095402,1089866,1097658,1105489,1091744,1114950,1124539,1142423,1138238,1145553,1152964,1149688,1158725,1183541,1197733,1207109,null,"Midlands","NHS Coventry and Warwickshire Integrated Care Board","NHS Coventry and Warwickshire ICB - B2M3M",870723,877462,886418,891784,896877,906005,910599,919145,929650,939208,929622,959428,975813,991798,1009700,1023724,1028515,1051850,1076256,1103145,1118811]
[null,null,null,null,null,null,null,null,null,null,null,null,null,null,null,null,null,null,null,null,null,null,null,null,null,"North East and Yorkshire","NHS Humber and North Yorkshire Integrated Care Board",40,45,1646899,1651742,1662129,1667108,1679017,1684110,1684911,1690245,1684366,1698674,1708022,1715545,1751253,1739129,1752061,1760973,1765945,1779789,1789778,1803102,1813879,null,"Midlands","NHS Herefordshire and Worcestershire Integrated Care Board","NHS Herefordshire and Worcestershire ICB - 18C",736158,740321,745393,750112,753131,755332,754450,757845,761887,763052,767452,777247,792443,792642,798236,802860,807412,815391,822503,828125,833178]
[null,null,null,null,null,null,null,null,null,null,null,null,null,null,null,null,null,null,null,null,null,null,null,null,null,"North East and Yorkshire","NHS North East and North Cumbria Integrated Care Board",46,53,2950492,2964640,2976005,2982333,2985968,2994245,3002788,3005705,3019772,3027205,3036974,3054321,3069725,3088379,3106005,3121507,3126274,3148987,3180275,3211313,3233237,null,"Midlands","NHS Shropshire, Telford and Wrekin Integrated Care Board","NHS Shropshire, Telford and Wrekin ICB - M2L0M",455941,458087,462052,467494,469233,471376,470944,474482,477033,479920,484176,489828,491347,497056,506312,512112,516571,522789,524687,531951,536718]
[null,null,null,null,null,null,null,null,null,null,null,null,null,null,null,null,null,null,null,null,null,null,null,null,null,"North East and Yorkshire","NHS South Yorkshire Integrated Care Board",54,57,1336872,1349568,1358205,1364887,1369221,1374918,1380399,1376563,1398107,1407596,1410901,1423869,1444578,1454419,1460972,1473436,1473003,1483372,1499710,1517896,1527240,null,"Midlands","NHS Staffordshire and Stoke-on-Trent Integrated Care Board","NHS Staffordshire and Stoke-on-Trent ICB - 04Y",128915,129173,129116,129659,130114,129918,131399,131791,132514,133137,131343,131790,132230,133160,133862,134873,135444,136111,137190,139657,140445]
[null,null,null,null,null,null,null,null,null,null,null,null,null,null,null,null,null,null,null,null,null,null,null,null,null,"North East and Yorkshire","NHS West Yorkshire Integrated Care Board",58,62,2276039,2306416,2326398,2348871,2366302,2376340,2389809,2415408,2434292,2450301,2465910,2491356,2520879,2547657,2572129,2592366,2598584,2622115,2649031,2682917,2701756,null,"Midlands","NHS Staffordshire and Stoke-on-Trent Integrated Care Board","NHS Staffordshire and Stoke-on-Trent ICB - 05D",107759,118945,120101,121534,122563,123422,124348,125361,126733,127906,128952,130511,135686,133348,135227,136707,137536,139322,150649,153144,155046]
[null,null,null,null,null,null,null,null,null,null,null,null,null,null,null,null,null,null,null,null,null,null,null,null,null,"North West","NHS Cheshire and Merseyside Integrated Care Board",63,71,2472566,2488528,2490840,2502307,2499206,2502339,2506276,2524755,2532527,2545309,2544868,2565765,2592576,2620326,2645602,2672943,2684358,2717393,2743652,2774679,2802101,null,"Midlands","NHS Staffordshire and Stoke-on-Trent Integrated Care Board","NHS Staffordshire and Stoke-on-Trent ICB - 05G",214054,214037,213956,214371,214803,214887,212618,217296,217581,207292,219549,220349,221803,222404,222513,222548,221790,222841,218628,231251,231015]
[null,null,null,null,null,null,null,null,null,null,null,null,null,null,null,null,null,null,null,null,null,null,null,null,null,"North West","NHS Greater Manchester Integrated Care Board",72,81,2675956,2691584,2725747,2734556,2755653,2788058,2810437,2827280,2827868,2858980,2887200,2934957,2978410,3011804,3053788,3092138,3108090,3160705,3200373,3263907,3301785,null,"Midlands","NHS Staffordshire and Stoke-on-Trent Integrated Care Board","NHS Staffordshire and Stoke-on-Trent ICB - 05Q",195289,198223,199578,201321,203161,204411,205429,204600,207522,208198,209761,212683,220930,213748,215035,216860,212492,214873,220763,221226,223249]
[null,null,null,null,null,null,null,null,null,null,null,null,null,null,null,null,null,null,null,null,null,null,null,null,null,"North West","NHS Lancashire and South Cumbria Integrated Care Board",82,89,1685862,1679613,1697754,1708917,1716104,1717285,1717071,1722446,1721313,1718645,1721297,1732680,1742530,1775251,1821334,1781274,1795383,1814554,1832891,1851555,1868985,null,"Midlands","NHS Staffordshire and Stoke-on-Trent Integrated Care Board","NHS Staffordshire and Stoke-on-Trent ICB - 05V",142903,143743,144662,146141,146568,146652,144973,144593,144927,145234,145568,146911,148000,149092,148963,150128,150776,152256,153785,155444,156694]
[null,null,null,null,null,null,null,null,null,null,null,null,null,null,null,null,null,null,null,null,null,null,null,null,null,"South East","NHS Buckinghamshire, Oxfordshire and Berkshire West Integrated Care Board",90,{"$f":"AB31+COUNTIF(BA:BA,AA31)-1","v":92},{"$f":"SUMIF($BA:$BA,$AA31,BC:BC)","v":1609741},{"$f":"SUMIF($BA:$BA,$AA31,BD:BD)","v":1652979},{"$f":"SUMIF($BA:$BA,$AA31,BE:BE)","v":1658195},{"$f":"SUMIF($BA:$BA,$AA31,BF:BF)","v":1669156},{"$f":"SUMIF($BA:$BA,$AA31,BG:BG)","v":1692475},{"$f":"SUMIF($BA:$BA,$AA31,BH:BH)","v":1703629},{"$f":"SUMIF($BA:$BA,$AA31,BI:BI)","v":1701891},{"$f":"SUMIF($BA:$BA,$AA31,BJ:BJ)","v":1716717},{"$f":"SUMIF($BA:$BA,$AA31,BK:BK)","v":1730299},{"$f":"SUMIF($BA:$BA,$AA31,BL:BL)","v":1745432},{"$f":"SUMIF($BA:$BA,$AA31,BM:BM)","v":1766460},{"$f":"SUMIF($BA:$BA,$AA31,BN:BN)","v":1783609},{"$f":"SUMIF($BA:$BA,$AA31,BO:BO)","v":1812859},{"$f":"SUMIF($BA:$BA,$AA31,BP:BP)","v":1839084.5},{"$f":"SUMIF($BA:$BA,$AA31,BQ:BQ)","v":1864925},{"$f":"SUMIF($BA:$BA,$AA31,BR:BR)","v":1893449},{"$f":"SUMIF($BA:$BA,$AA31,BS:BS)","v":1902228},{"$f":"SUMIF($BA:$BA,$AA31,BT:BT)","v":1933756},{"$f":"SUMIF($BA:$BA,$AA31,BU:BU)","v":1969806},1993737,2014814,null,"Midlands","NHS Staffordshire and Stoke-on-Trent Integrated Care Board","NHS Staffordshire and Stoke-on-Trent ICB - 05W",263833,270954,272246,273789,274711,276112,271099,274017,276212,269977,279777,282295,283774,286486,289953,291848,291650,293322,302526,297011,300660]
[null,null,null,null,null,null,null,null,null,null,null,null,null,null,null,null,null,null,null,null,null,null,null,null,null,"South East","NHS Frimley Integrated Care Board",93,93,685166,701033,710479,718429,721746,728893,729564,740418,749475,753615,763990,775650,783323,790606,792183,810434,812253,819678,826452,842220,853009,null,"Midlands","NHS Derby and Derbyshire Integrated Care Board","NHS Derby and Derbyshire ICB - 15M",988757,996427,990031,992060,1017216,1019223,1023389,1015781,1032696,1037394,1042132,1037814,1054201,1060920,1060804,1075136,1079729,1089303,1120369,1133802,1142579]
[null,null,null,null,null,null,null,null,null,null,null,null,null,null,null,null,null,null,null,null,null,null,null,null,null,"South East","NHS Hampshire and Isle of Wight Integrated Care Board",94,95,1700794,1708276,1724284,1727405,1741334,1765422,1777963,1787567,1797644,1797009,1810526,1833709,1869034,1870332,1920605,1897552,1902228,1919839,1942439,1961015,1970094,null,"Midlands","NHS Leicester, Leicestershire and Rutland Integrated Care Board","NHS Leicester, Leicestershire and Rutland ICB - 03W",318136,320133,322345,323898,325421,326799,329659,331666,328506,328755,329801,332271,334451,338568,343780,347970,351075,359398,355561,358241,360247]
[null,null,null,null,null,null,null,null,null,null,null,null,null,null,null,null,null,null,null,null,null,null,null,null,null,"South East","NHS Kent and Medway Integrated Care Board",96,96,1675824,1675961,1705601,1729937,1733446,1752537,1765818,1779705,1790801,1805720,1816509,1830124,1849120,1883947,1900078,1914385,1937127,1964631,1988377,2017477,2037988,null,"Midlands","NHS Leicester, Leicestershire and Rutland Integrated Care Board","NHS Leicester, Leicestershire and Rutland ICB - 04C",329080,335192,339214,342473,345982,353706,359574,366640,377332,379208,383899,393661,404680,408788,416613,423393,421961,427186,423734,449456,450184]
[null,null,null,null,null,null,null,null,null,null,null,null,null,null,null,null,null,null,null,null,null,null,null,null,null,"South East","NHS Surrey Heartlands Integrated Care Board",97,97,983700,989859,999589,1007581,1013607,1023978,1022558,1022457,1034646,1049138,1061738,1072523,1075983,1085617,1098178,1103582,1113139,1124470,1133556,1141884,1148377,null,"Midlands","NHS Leicester, Leicestershire and Rutland Integrated Care Board","NHS Leicester, Leicestershire and Rutland ICB - 04V",357329,360220,363863,367354,370140,372999,373809,377014,379102,380574,383711,388972,394178,401050,407092,410131,412730,417971,414656,419917,423961]
[null,null,null,null,null,null,null,null,null,null,null,null,null,null,null,null,null,null,null,null,null,null,null,null,null,"South East","NHS Sussex Integrated Care Board",98,100,1602629,1595708,1620505,1628593,1641555,1653918,1657299,1671919,1684234,1692067,1709916,1727624,1718385,1747956,1764074,1791624,1798146,1819584,1833646,1848269,1859565,null,"Midlands","NHS Lincolnshire Integrated Care Board","NHS Lincolnshire ICB - 71E",689867,698829,708058,718634,726168,731510,735090,740288,742723,750263,741043,764373,769655,778047,765808,784097,787758,794722,814152,820541,825803]
[null,null,null,null,null,null,null,null,null,null,null,null,null,null,null,null,null,null,null,null,null,null,null,null,null,"South West","NHS Somerset Integrated Care Board",101,101,518268,520108,525079,531983,535953,536811,539030,543498,548327,551656,556723,561912,569279,574614,580564,583921,588379,594527,600313,604613,607920,null,"Midlands","NHS Northamptonshire Integrated Care Board","NHS Northamptonshire ICB - 78H",646985,655536,663073,671361,678795,684100,692429,697835,702456,713447,726172,740025,755207,764266,776684,786205,790574,801718,825507,840777,849848]
[null,null,null,null,null,null,null,null,null,null,null,null,null,null,null,null,null,null,null,null,null,null,null,null,null,"South West","NHS Bath and North East Somerset, Swindon and Wiltshire Integrated Care Board",102,102,830804,837310,844169,855112,862270,868421,874052,883768,889901,897861,908130,912018,919943,929131,925650,953997,961469,974365,992647,1004374,1012517,null,"Midlands","NHS Nottingham and Nottinghamshire Integrated Care Board","NHS Nottingham and Nottinghamshire ICB - 52R",954479,959004,965090,972681,982287,991273,999496,1008523,1014609,1023176,1034415,1045522,1053837,1072959,1051008,1094455,1091702,1107569,1137195,1145712,1155157]
[null,null,null,null,null,null,null,null,null,null,null,null,null,null,null,null,null,null,null,null,null,null,null,null,null,"South West","NHS Bristol, North Somerset and South Gloucestershire Integrated Care Board",103,103,888588,894702,903827,908543,910484,925872,934849,942925,955149,965557,969863,979001,986226,1008028,1023807,1039306,1042507,1060553,1071908,1087808,1096776,null,"Midlands","NHS Nottingham and Nottinghamshire Integrated Care Board","NHS Nottingham and Nottinghamshire ICB - 02Q",263833,270954,272246,273789,274711,276112,271099,274017,276212,269977,279777,282295,283774,286486,289953,291848,291650,122101,124247,126361,128164]
[null,null,null,null,null,null,null,null,null,null,null,null,null,null,null,null,null,null,null,null,null,null,null,null,null,"South West","NHS Cornwall and the Isles of Scilly Integrated Care Board",104,104,528745,532661,538092,541828,537552,548486,552820,555618,558443,559148,553146,562091,568682,574407,323308,585470,592376,597612,600327,603523,603520,null,"North East and Yorkshire","NHS Humber and North Yorkshire Integrated Care Board","NHS Humber and North Yorkshire ICB - 02Y",291380,293934,296475,297954,298803,299522,300159,301167,300944,300957,301715,301381,305783,304028,306139,307138,307202,308078,311352,314474,318227]
[null,null,null,null,null,null,null,null,null,null,null,null,null,null,null,null,null,null,null,null,null,null,null,null,null,"South West","NHS Devon Integrated Care Board",105,105,1128337,1143462,1152738,1165910,1176988,1178589,1182536,1183942,1188563,1196708,1168304,1197842,1205558,1224410,1180190,1247260,1256751,1271298,1283375,1293737,1297313,null,"North East and Yorkshire","NHS Humber and North Yorkshire Integrated Care Board","NHS Humber and North Yorkshire ICB - 03F",285276,284793,285162,282446,287471,289210,288287,290050,290383,288557,290393,295920,308670,299148,301134,303052,303407,307146,311033,314393,314836]
[null,null,null,null,null,null,null,null,null,null,null,null,null,null,null,null,null,null,null,null,null,null,null,null,null,"South West","NHS Dorset Integrated Care Board",106,106,738149,743477,750527,757064,762801,765697,770156,772266,778107,784313,789891,795906,801318,806400,810572,815442,817871,826441,825438,831576,832006,null,"North East and Yorkshire","NHS Humber and North Yorkshire Integrated Care Board","NHS Humber and North Yorkshire ICB - 03H",168668,168229,168541,168488,168382,168334,166249,167731,168197,168167,168792,168796,171732,169523,170074,170358,170480,171728,172558,173908,174702]
[null,null,null,null,null,null,null,null,null,null,null,null,null,null,null,null,null,null,null,null,null,null,null,null,null,"South West","NHS Gloucestershire Integrated Care Board",107,107,591511,594927,599884,604800,607818,610433,612823,615239,620440,625876,632423,634015,637555,636319,646029,660718,666338,675000,682718,684719,696462,null,"North East and Yorkshire","NHS Humber and North Yorkshire Integrated Care Board","NHS Humber and North Yorkshire ICB - 03K",166125,167813,169383,170360,171375,171464,171019,171920,172972,173245,173524,175246,176312,182315,183779,185132,186047,187391,183812,184777,185712]
[null,null,null,null,null,null,null,null,null,null,null,null,null,null,null,null,null,null,null,null,null,null,null,null,null,null,null,null,null,null,null,null,null,null,null,null,null,null,null,null,null,null,null,null,null,null,null,null,null,0,null,"North East and Yorkshire","NHS Humber and North Yorkshire Integrated Care Board","NHS Humber and North Yorkshire ICB - 03Q",324857,326238,329184,333002,336736,339095,341691,343137,334784,349845,354015,353570,366413,359787,364378,366954,368177,371297,370536,372492,251580]
[null,null,null,null,null,null,null,null,null,null,null,null,null,null,null,null,null,null,null,null,null,null,null,null,null,null,null,null,null,null,null,null,null,null,null,null,null,null,null,null,null,null,null,null,null,null,null,null,null,0,null,"North East and Yorkshire","NHS Humber and North Yorkshire Integrated Care Board","NHS Humber and North Yorkshire ICB - 42D",410593,410735,413384,414858,416250,416485,417506,416240,417086,417903,419583,420632,422343,424328,426557,428339,430632,434149,440487,443058,568822]
[null,null,null,null,null,null,null,null,null,null,null,null,null,null,null,null,null,null,null,null,null,null,null,null,null,null,null,null,null,null,null,null,null,null,null,null,null,null,null,null,null,null,null,null,null,null,null,null,null,null,null,"North East and Yorkshire","NHS South Yorkshire Integrated Care Board","NHS South Yorkshire ICB - 02P",234564,236609,238378,239583,240823,242275,243784,243728,248759,252445,250893,256398,261094,265436,262267,264011,264271,265577,267540,269576,270830]
[null,null,null,null,null,null,null,null,null,null,null,null,null,null,null,null,null,null,null,null,null,null,null,null,null,null,null,null,null,null,null,null,null,null,null,null,null,null,null,null,null,null,null,null,null,null,null,null,null,null,null,"North East and Yorkshire","NHS South Yorkshire Integrated Care Board","NHS South Yorkshire ICB - 02X",307716,308232,309432,310432,309466,309215,311433,311353,312796,313452,314921,317585,320398,325449,326167,328851,329513,331903,331898,336847,340278]
[null,null,null,null,null,null,null,null,null,null,null,null,null,null,null,null,null,null,null,null,null,null,null,null,null,null,null,null,null,null,null,null,null,null,null,null,null,null,null,null,null,null,null,null,null,null,null,null,null,null,null,"North East and Yorkshire","NHS South Yorkshire Integrated Care Board","NHS South Yorkshire ICB - 03L",254079,255338,256271,257354,257798,257567,257028,256297,258258,257809,258688,259458,266090,263020,264343,265018,264960,267038,269670,273038,276073]
[null,null,null,null,null,null,null,null,null,null,null,null,null,null,null,null,null,null,null,null,null,null,null,null,null,null,null,null,null,null,null,null,null,null,null,null,null,null,null,null,null,null,null,null,null,null,null,null,null,null,null,"North East and Yorkshire","NHS South Yorkshire Integrated Care Board","NHS South Yorkshire ICB - 03N",540513,549389,554124,557518,561134,565861,568154,565185,578294,583890,586399,590428,596996,600514,608195,615556,614259,618854,630602,638435,640059]
[null,null,null,null,null,null,null,null,null,null,null,null,null,null,null,null,null,null,null,null,null,null,null,null,null,null,null,null,null,null,null,null,null,null,null,null,null,null,null,null,null,null,null,null,null,null,null,null,null,null,null,"North East and Yorkshire","NHS West Yorkshire Integrated Care Board","NHS West Yorkshire ICB - 02T",202818,204412,205742,207479,209168,210351,211906,212976,214193,215629,217058,218499,219695,220461,221736,222153,222035,222570,223543,224503,225718]
[null,null,null,null,null,null,null,null,null,null,null,null,null,null,null,null,null,null,null,null,null,null,null,null,null,null,null,null,null,null,null,null,null,null,null,null,null,null,null,null,null,null,null,null,null,null,null,null,null,null,null,"North East and Yorkshire","NHS West Yorkshire Integrated Care Board","NHS West Yorkshire ICB - 03R",332830,334815,336782,338455,340354,341078,341936,344184,346257,348095,351177,354467,358752,361889,350853,355043,357657,356445,392391,397069,399866]
[null,null,null,null,null,null,null,null,null,null,null,null,null,null,null,null,null,null,null,null,null,null,null,null,null,null,null,null,null,null,null,null,null,null,null,null,null,null,null,null,null,null,null,null,null,null,null,null,null,null,null,"North East and Yorkshire","NHS West Yorkshire Integrated Care Board","NHS West Yorkshire ICB - 15F",781550,785681,794401,803262,807575,820855,825728,829649,838581,844160,848490,865806,878304,891289,916499,924372,925524,942242,920638,936115,944179]
[null,null,null,null,null,null,null,null,null,null,null,null,null,null,null,null,null,null,null,null,null,null,null,null,null,null,null,null,null,null,null,null,null,null,null,null,null,null,null,null,null,null,null,null,null,null,null,null,null,null,null,"North East and Yorkshire","NHS West Yorkshire Integrated Care Board","NHS West Yorkshire ICB - 36J",561415,574244,579890,585870,592223,584918,589013,604541,607822,612061,617017,617400,625256,631844,638373,644014,645579,650021,657579,665790,669610]
[null,null,null,null,null,null,null,null,null,null,null,null,null,null,null,null,null,null,null,null,null,null,null,null,null,null,null,null,null,null,null,null,null,null,null,null,null,null,null,null,null,null,null,null,null,null,null,null,null,null,null,"North East and Yorkshire","NHS West Yorkshire Integrated Care Board","NHS West Yorkshire ICB - X2C4Y",397426,407264,409583,413805,416982,419138,421226,424058,427439,430356,432168,435184,438872,442174,444668,446784,447789,450837,454880,459440,462383]
[null,null,null,null,null,null,null,null,null,null,null,null,null,null,null,null,null,null,null,null,null,null,null,null,null,null,null,null,null,null,null,null,null,null,null,null,null,null,null,null,null,null,null,null,null,null,null,null,null,null,null,"North East and Yorkshire","NHS North East and North Cumbria Integrated Care Board","NHS North East and North Cumbria ICB - 00L",311385,318779,319959,321019,315504,321281,321620,321055,321731,321140,322094,322499,323439,325159,326706,328834,331113,331613,335876,338729,341903]
[null,null,null,null,null,null,null,null,null,null,null,null,null,null,null,null,null,null,null,null,null,null,null,null,null,null,null,null,null,null,null,null,null,null,null,null,null,null,null,null,null,null,null,null,null,null,null,null,null,null,null,"North East and Yorkshire","NHS North East and North Cumbria Integrated Care Board","NHS North East and North Cumbria ICB - 00N",155841,155285,155449,155349,155177,154960,153229,154487,154490,154613,154177,155694,156405,157145,157469,158561,158453,158827,159173,159837,159833]
[null,null,null,null,null,null,null,null,null,null,null,null,null,null,null,null,null,null,null,null,null,null,null,null,null,null,null,null,null,null,null,null,null,null,null,null,null,null,null,null,null,null,null,null,null,null,null,null,null,null,null,"North East and Yorkshire","NHS North East and North Cumbria Integrated Care Board","NHS North East and North Cumbria ICB - 00P",287487,285954,284898,284440,284389,284551,284778,284652,283910,283458,283436,283864,284122,283669,284010,284403,284323,286617,290120,294330,295451]
[null,null,null,null,null,null,null,null,null,null,null,null,null,null,null,null,null,null,null,null,null,null,null,null,null,null,null,null,null,null,null,null,null,null,null,null,null,null,null,null,null,null,null,null,null,null,null,null,null,null,null,"North East and Yorkshire","NHS North East and North Cumbria Integrated Care Board","NHS North East and North Cumbria ICB - 01H",317858,319436,321104,322993,324067,322461,323812,323769,323225,321374,322644,322615,323146,323943,325298,326342,327111,329171,332065,334496,336795]
[null,null,null,null,null,null,null,null,null,null,null,null,null,null,null,null,null,null,null,null,null,null,null,null,null,null,null,null,null,null,null,null,null,null,null,null,null,null,null,null,null,null,null,null,null,null,null,null,null,null,null,"North East and Yorkshire","NHS North East and North Cumbria Integrated Care Board","NHS North East and North Cumbria ICB - 13T",482949,484255,487012,483892,488128,490904,494055,491253,499497,505811,509722,518251,526128,531487,536748,540136,538490,545970,547590,556325,561266]
[null,null,null,null,null,null,null,null,null,null,null,null,null,null,null,null,null,null,null,null,null,null,null,null,null,null,null,null,null,null,null,null,null,null,null,null,null,null,null,null,null,null,null,null,null,null,null,null,null,null,null,"North East and Yorkshire","NHS North East and North Cumbria Integrated Care Board","NHS North East and North Cumbria ICB - 16C",673774,674867,677035,679055,680129,678555,681804,684745,688345,690123,691862,695547,696331,702149,706222,709497,711202,718316,725765,733628,739560]
[null,null,null,null,null,null,null,null,null,null,null,null,null,null,null,null,null,null,null,null,null,null,null,null,null,null,null,null,null,null,null,null,null,null,null,null,null,null,null,null,null,null,null,null,null,null,null,null,null,null,null,"North East and Yorkshire","NHS North East and North Cumbria Integrated Care Board","NHS North East and North Cumbria ICB - 84H",519259,520868,523901,527736,529788,532420,533179,535834,538170,539837,541775,543890,547163,551550,554881,557693,558564,560720,563795,566492,569629]
[null,null,null,null,null,null,null,null,null,null,null,null,null,null,null,null,null,null,null,null,null,null,null,null,null,null,null,null,null,null,null,null,null,null,null,null,null,null,null,null,null,null,null,null,null,null,null,null,null,null,null,"North East and Yorkshire","NHS North East and North Cumbria Integrated Care Board","NHS North East and North Cumbria ICB - 99C",201939,205196,206647,207849,208786,209113,210311,209910,210404,210849,211264,211961,212991,213277,214671,216041,217018,217753,225891,227476,228800]
[null,null,null,null,null,null,null,null,null,null,null,null,null,null,null,null,null,null,null,null,null,null,null,null,null,null,null,null,null,null,null,null,null,null,null,null,null,null,null,null,null,null,null,null,null,null,null,null,null,null,null,"North West","NHS Cheshire and Merseyside Integrated Care Board","NHS Cheshire and Merseyside ICB - 01F",125572,125894,126330,126731,126933,127453,127847,128154,128620,129007,127279,130147,130440,131206,132554,133419,134140,135230,135394,136056,136718]
[null,null,null,null,null,null,null,null,null,null,null,null,null,null,null,null,null,null,null,null,null,null,null,null,null,null,null,null,null,null,null,null,null,null,null,null,null,null,null,null,null,null,null,null,null,null,null,null,null,null,null,"North West","NHS Cheshire and Merseyside Integrated Care Board","NHS Cheshire and Merseyside ICB - 01J",134506,154391,153391,155146,154258,153947,153802,153615,156355,156056,156253,157590,158493,159996,161296,162558,163283,164826,170638,172070,173982]
[null,null,null,null,null,null,null,null,null,null,null,null,null,null,null,null,null,null,null,null,null,null,null,null,null,null,null,null,null,null,null,null,null,null,null,null,null,null,null,null,null,null,null,null,null,null,null,null,null,null,null,"North West","NHS Cheshire and Merseyside Integrated Care Board","NHS Cheshire and Merseyside ICB - 01T",158654,157953,157870,157392,156539,155968,155040,154058,151239,151050,143755,150609,147696,151010,151731,152287,152106,152510,157893,159590,161361]
[null,null,null,null,null,null,null,null,null,null,null,null,null,null,null,null,null,null,null,null,null,null,null,null,null,null,null,null,null,null,null,null,null,null,null,null,null,null,null,null,null,null,null,null,null,null,null,null,null,null,null,"North West","NHS Cheshire and Merseyside Integrated Care Board","NHS Cheshire and Merseyside ICB - 01V",120529,120489,120867,120867,120994,121404,121964,121921,122205,122391,123071,123842,124155,125003,121191,125658,125662,126593,127051,127818,128503]
[null,null,null,null,null,null,null,null,null,null,null,null,null,null,null,null,null,null,null,null,null,null,null,null,null,null,null,null,null,null,null,null,null,null,null,null,null,null,null,null,null,null,null,null,null,null,null,null,null,null,null,"North West","NHS Cheshire and Merseyside Integrated Care Board","NHS Cheshire and Merseyside ICB - 01X",189870,190429,190948,191231,191752,192000,192465,192980,193391,194012,190541,195523,196435,192527,198013,198525,199421,200349,200661,201937,203732]
[null,null,null,null,null,null,null,null,null,null,null,null,null,null,null,null,null,null,null,null,null,null,null,null,null,null,null,null,null,null,null,null,null,null,null,null,null,null,null,null,null,null,null,null,null,null,null,null,null,null,null,"North West","NHS Cheshire and Merseyside Integrated Care Board","NHS Cheshire and Merseyside ICB - 02E",199210,199939,201449,202910,204023,196496,195885,208781,208856,211260,212955,201299,203124,218036,219463,220742,220725,223699,226355,229125,230641]
[null,null,null,null,null,null,null,null,null,null,null,null,null,null,null,null,null,null,null,null,null,null,null,null,null,null,null,null,null,null,null,null,null,null,null,null,null,null,null,null,null,null,null,null,null,null,null,null,null,null,null,"North West","NHS Cheshire and Merseyside Integrated Care Board","NHS Cheshire and Merseyside ICB - 12F",334939,334573,334540,335902,331323,332014,332529,331592,331149,332309,333087,334297,343176,336210,337220,338419,338175,339544,341581,344019,346029]
[null,null,null,null,null,null,null,null,null,null,null,null,null,null,null,null,null,null,null,null,null,null,null,null,null,null,null,null,null,null,null,null,null,null,null,null,null,null,null,null,null,null,null,null,null,null,null,null,null,null,null,"North West","NHS Cheshire and Merseyside Integrated Care Board","NHS Cheshire and Merseyside ICB - 27D",714746,717456,718133,722857,724666,727917,727890,732453,735938,740569,744881,751006,757226,764389,773315,780622,786552,797049,806093,815376,822665]
[null,null,null,null,null,null,null,null,null,null,null,null,null,null,null,null,null,null,null,null,null,null,null,null,null,null,null,null,null,null,null,null,null,null,null,null,null,null,null,null,null,null,null,null,null,null,null,null,null,null,null,"North West","NHS Cheshire and Merseyside Integrated Care Board","NHS Cheshire and Merseyside ICB - 99A",494540,487404,487312,489271,488718,495140,498854,501201,504774,508655,513046,521452,531831,541949,550819,560713,564294,577593,577986,588688,598470]
[null,null,null,null,null,null,null,null,null,null,null,null,null,null,null,null,null,null,null,null,null,null,null,null,null,null,null,null,null,null,null,null,null,null,null,null,null,null,null,null,null,null,null,null,null,null,null,null,null,null,null,"North West","NHS Greater Manchester Integrated Care Board","NHS Greater Manchester ICB - 00T",281522,281599,285650,285180,288792,291325,294036,296304,297639,297379,299958,302844,306776,309149,312873,316292,317177,320318,323801,329990,333902]
[null,null,null,null,null,null,null,null,null,null,null,null,null,null,null,null,null,null,null,null,null,null,null,null,null,null,null,null,null,null,null,null,null,null,null,null,null,null,null,null,null,null,null,null,null,null,null,null,null,null,null,"North West","NHS Greater Manchester Integrated Care Board","NHS Greater Manchester ICB - 00V",188881,190281,191173,192086,192965,192101,194166,188744,185528,196806,198094,200344,202424,203952,205761,207043,207544,208875,209717,211597,212751]
[null,null,null,null,null,null,null,null,null,null,null,null,null,null,null,null,null,null,null,null,null,null,null,null,null,null,null,null,null,null,null,null,null,null,null,null,null,null,null,null,null,null,null,null,null,null,null,null,null,null,null,"North West","NHS Greater Manchester Integrated Care Board","NHS Greater Manchester ICB - 00Y",221279,221752,222971,224379,225643,226560,227585,229578,229729,231836,234068,237941,241244,243563,246531,248515,248764,250387,264386,268121,269269]
[null,null,null,null,null,null,null,null,null,null,null,null,null,null,null,null,null,null,null,null,null,null,null,null,null,null,null,null,null,null,null,null,null,null,null,null,null,null,null,null,null,null,null,null,null,null,null,null,null,null,null,"North West","NHS Greater Manchester Integrated Care Board","NHS Greater Manchester ICB - 01D",216136,205838,218749,219866,221411,222132,222992,224196,221027,223918,223939,228004,230919,233290,236012,238421,239865,242694,245247,249631,252357]
[null,null,null,null,null,null,null,null,null,null,null,null,null,null,null,null,null,null,null,null,null,null,null,null,null,null,null,null,null,null,null,null,null,null,null,null,null,null,null,null,null,null,null,null,null,null,null,null,null,null,null,"North West","NHS Greater Manchester Integrated Care Board","NHS Greater Manchester ICB - 01G",236145,236286,240146,238682,245643,248999,252475,255397,256401,259834,264027,269289,273092,278446,284747,290654,295749,308441,310077,316868,322669]
[null,null,null,null,null,null,null,null,null,null,null,null,null,null,null,null,null,null,null,null,null,null,null,null,null,null,null,null,null,null,null,null,null,null,null,null,null,null,null,null,null,null,null,null,null,null,null,null,null,null,null,"North West","NHS Greater Manchester Integrated Care Board","NHS Greater Manchester ICB - 01W",289559,289556,290374,291255,292488,297736,298190,299243,299943,301320,303259,307303,309712,311806,314199,316691,317863,320757,323883,326911,329315]
[null,null,null,null,null,null,null,null,null,null,null,null,null,null,null,null,null,null,null,null,null,null,null,null,null,null,null,null,null,null,null,null,null,null,null,null,null,null,null,null,null,null,null,null,null,null,null,null,null,null,null,"North West","NHS Greater Manchester Integrated Care Board","NHS Greater Manchester ICB - 01Y",212813,211894,215449,216322,217158,218662,219627,220056,220831,219191,222197,224066,225611,226986,228350,230228,230776,232596,221782,225651,228793]
[null,null,null,null,null,null,null,null,null,null,null,null,null,null,null,null,null,null,null,null,null,null,null,null,null,null,null,null,null,null,null,null,null,null,null,null,null,null,null,null,null,null,null,null,null,null,null,null,null,null,null,"North West","NHS Greater Manchester Integrated Care Board","NHS Greater Manchester ICB - 02A",226956,228436,229665,229273,223949,231859,232551,231440,227948,236910,237854,238397,240324,241640,243471,243353,243834,245660,242092,248678,249462]
[null,null,null,null,null,null,null,null,null,null,null,null,null,null,null,null,null,null,null,null,null,null,null,null,null,null,null,null,null,null,null,null,null,null,null,null,null,null,null,null,null,null,null,null,null,null,null,null,null,null,null,"North West","NHS Greater Manchester Integrated Care Board","NHS Greater Manchester ICB - 02H",302504,307366,308274,309660,311439,313107,313945,314200,314573,314832,316347,317814,320027,321874,324742,327298,328773,331950,342601,348197,352121]
[null,null,null,null,null,null,null,null,null,null,null,null,null,null,null,null,null,null,null,null,null,null,null,null,null,null,null,null,null,null,null,null,null,null,null,null,null,null,null,null,null,null,null,null,null,null,null,null,null,null,null,"North West","NHS Greater Manchester Integrated Care Board","NHS Greater Manchester ICB - 14L",500161,518576,523296,527853,536165,545577,554870,568122,574249,576954,587457,608955,628281,641098,657102,673643,677745,699027,716787,738263,751146]
[null,null,null,null,null,null,null,null,null,null,null,null,null,null,null,null,null,null,null,null,null,null,null,null,null,null,null,null,null,null,null,null,null,null,null,null,null,null,null,null,null,null,null,null,null,null,null,null,null,null,null,"North West","NHS Lancashire and South Cumbria Integrated Care Board","NHS Lancashire and South Cumbria ICB - 00Q",160651,159933,162860,164426,165736,166999,167693,168871,169467,169322,170216,172036,173797,181165,184069,178557,179552,181344,183005,185898,187788]
[null,null,null,null,null,null,null,null,null,null,null,null,null,null,null,null,null,null,null,null,null,null,null,null,null,null,null,null,null,null,null,null,null,null,null,null,null,null,null,null,null,null,null,null,null,null,null,null,null,null,null,"North West","NHS Lancashire and South Cumbria Integrated Care Board","NHS Lancashire and South Cumbria ICB - 00R",170820,168510,169309,171834,171927,171935,170077,172380,172782,172202,171786,171686,172699,177797,174194,174729,174970,176350,177381,178663,178784]
[null,null,null,null,null,null,null,null,null,null,null,null,null,null,null,null,null,null,null,null,null,null,null,null,null,null,null,null,null,null,null,null,null,null,null,null,null,null,null,null,null,null,null,null,null,null,null,null,null,null,null,"North West","NHS Lancashire and South Cumbria Integrated Care Board","NHS Lancashire and South Cumbria ICB - 00X",165070,165368,165640,166652,167236,167695,168769,170130,171461,172849,174349,176319,178082,184169,180879,179877,183370,184523,189746,191769,193925]
[null,null,null,null,null,null,null,null,null,null,null,null,null,null,null,null,null,null,null,null,null,null,null,null,null,null,null,null,null,null,null,null,null,null,null,null,null,null,null,null,null,null,null,null,null,null,null,null,null,null,null,"North West","NHS Lancashire and South Cumbria Integrated Care Board","NHS Lancashire and South Cumbria ICB - 01A",367428,360721,369363,370492,371248,371193,371188,368985,367891,371608,373091,375488,378849,381783,401627,384410,391192,395778,399811,406138,411033]
[null,null,null,null,null,null,null,null,null,null,null,null,null,null,null,null,null,null,null,null,null,null,null,null,null,null,null,null,null,null,null,null,null,null,null,null,null,null,null,null,null,null,null,null,null,null,null,null,null,null,null,"North West","NHS Lancashire and South Cumbria Integrated Care Board","NHS Lancashire and South Cumbria ICB - 01E",195647,198289,200965,203736,206051,204683,205618,208132,206653,203181,206157,207883,206548,213411,234380,218257,220387,224936,226213,230212,235243]
[null,null,null,null,null,null,null,null,null,null,null,null,null,null,null,null,null,null,null,null,null,null,null,null,null,null,null,null,null,null,null,null,null,null,null,null,null,null,null,null,null,null,null,null,null,null,null,null,null,null,null,"North West","NHS Lancashire and South Cumbria Integrated Care Board","NHS Lancashire and South Cumbria ICB - 01K",338203,340116,340545,343072,343812,344832,344708,345091,344670,341685,337457,340577,342566,345853,351254,352016,351442,353690,355640,355834,356436]
[null,null,null,null,null,null,null,null,null,null,null,null,null,null,null,null,null,null,null,null,null,null,null,null,null,null,null,null,null,null,null,null,null,null,null,null,null,null,null,null,null,null,null,null,null,null,null,null,null,null,null,"North West","NHS Lancashire and South Cumbria Integrated Care Board","NHS Lancashire and South Cumbria ICB - 02G",112587,110437,112213,111292,112050,111946,111628,111867,111967,111946,112122,112275,113228,113697,116745,114102,114019,115393,116852,117602,118307]
[null,null,null,null,null,null,null,null,null,null,null,null,null,null,null,null,null,null,null,null,null,null,null,null,null,null,null,null,null,null,null,null,null,null,null,null,null,null,null,null,null,null,null,null,null,null,null,null,null,null,null,"North West","NHS Lancashire and South Cumbria Integrated Care Board","NHS Lancashire and South Cumbria ICB - 02M",175456,176239,176859,177413,178044,178002,177390,176990,176422,175852,176119,176416,176761,177376,178186,179326,180451,182540,184243,185439,187469]
[null,null,null,null,null,null,null,null,null,null,null,null,null,null,null,null,null,null,null,null,null,null,null,null,null,null,null,null,null,null,null,null,null,null,null,null,null,null,null,null,null,null,null,null,null,null,null,null,null,null,null,"South East","NHS Buckinghamshire, Oxfordshire and Berkshire West Integrated Care Board","NHS Buckinghamshire, Oxfordshire and Berkshire West ICB - 10Q",669668,668282,667569,678865,686426,687169,684189,694252,693515,700541,711075,716628,730063,743487,759020,774860,779546,794786,807314,818339,828550]
[null,null,null,null,null,null,null,null,null,null,null,null,null,null,null,null,null,null,null,null,null,null,null,null,null,null,null,null,null,null,null,null,null,null,null,null,null,null,null,null,null,null,null,null,null,null,null,null,null,null,null,"South East","NHS Buckinghamshire, Oxfordshire and Berkshire West Integrated Care Board","NHS Buckinghamshire, Oxfordshire and Berkshire West ICB - 14Y",481013,508550,509562,511270,517580,521688,525397,524377,532006,536350,541057,547084,553800,559381.5,564963,570371,573374,578818,584012,590285,596211]
[null,null,null,null,null,null,null,null,null,null,null,null,null,null,null,null,null,null,null,null,null,null,null,null,null,null,null,null,null,null,null,null,null,null,null,null,null,null,null,null,null,null,null,null,null,null,null,null,null,null,null,"South East","NHS Buckinghamshire, Oxfordshire and Berkshire West Integrated Care Board","NHS Buckinghamshire, Oxfordshire and Berkshire West ICB - 15A",459060,476147,481064,479021,488469,494772,492305,498088,504778,508541,514328,519897,528996,536216,540942,548218,549308,560152,578480,585113,590053]
[null,null,null,null,null,null,null,null,null,null,null,null,null,null,null,null,null,null,null,null,null,null,null,null,null,null,null,null,null,null,null,null,null,null,null,null,null,null,null,null,null,null,null,null,null,null,null,null,null,null,null,"South East","NHS Frimley Integrated Care Board","NHS Frimley ICB - D4U1Y",685166,701033,710479,718429,721746,728893,729564,740418,749475,753615,763990,775650,783323,790606,792183,810434,812253,819678,826452,842220,853009]
[null,null,null,null,null,null,null,null,null,null,null,null,null,null,null,null,null,null,null,null,null,null,null,null,null,null,null,null,null,null,null,null,null,null,null,null,null,null,null,null,null,null,null,null,null,null,null,null,null,null,null,"South East","NHS Hampshire and Isle of Wight Integrated Care Board","NHS Hampshire and Isle Of Wight ICB - 10R",203167,203476,204924,206140,208668,211487,213174,212454,212719,212926,212760,216872,232321,222743,224519,224766,221711,231003,233595,235804,235758]
[null,null,null,null,null,null,null,null,null,null,null,null,null,null,null,null,null,null,null,null,null,null,null,null,null,null,null,null,null,null,null,null,null,null,null,null,null,null,null,null,null,null,null,null,null,null,null,null,null,null,null,"South East","NHS Hampshire and Isle of Wight Integrated Care Board","NHS Hampshire and Isle Of Wight ICB - D9Y0V",1497627,1504800,1519360,1521265,1532666,1553935,1564789,1575113,1584925,1584083,1597766,1616837,1636713,1647589,1696086,1672786,1680517,1688836,1708844,1725211,1734336]
[null,null,null,null,null,null,null,null,null,null,null,null,null,null,null,null,null,null,null,null,null,null,null,null,null,null,null,null,null,null,null,null,null,null,null,null,null,null,null,null,null,null,null,null,null,null,null,null,null,null,null,"South East","NHS Kent and Medway Integrated Care Board","NHS Kent and Medway ICB - 91Q",1675824,1675961,1705601,1729937,1733446,1752537,1765818,1779705,1790801,1805720,1816509,1830124,1849120,1883947,1900078,1914385,1937127,1964631,1988377,2017477,2037988]
[null,null,null,null,null,null,null,null,null,null,null,null,null,null,null,null,null,null,null,null,null,null,null,null,null,null,null,null,null,null,null,null,null,null,null,null,null,null,null,null,null,null,null,null,null,null,null,null,null,null,null,"South East","NHS Surrey Heartlands Integrated Care Board","NHS Surrey Heartlands ICB - 92A",983700,989859,999589,1007581,1013607,1023978,1022558,1022457,1034646,1049138,1061738,1072523,1075983,1085617,1098178,1103582,1113139,1124470,1133556,1141884,1148377]
[null,null,null,null,null,null,null,null,null,null,null,null,null,null,null,null,null,null,null,null,null,null,null,null,null,null,null,null,null,null,null,null,null,null,null,null,null,null,null,null,null,null,null,null,null,null,null,null,null,null,null,"South East","NHS Sussex Integrated Care Board","NHS Sussex ICB - 09D",288851,280766,292668,293550,298375,300897,300235,302041,300503,303478,305398,310702,302746,304185,308688,326136,324456,329655,331192,333277,333482]
[null,null,null,null,null,null,null,null,null,null,null,null,null,null,null,null,null,null,null,null,null,null,null,null,null,null,null,null,null,null,null,null,null,null,null,null,null,null,null,null,null,null,null,null,null,null,null,null,null,null,null,"South East","NHS Sussex Integrated Care Board","NHS Sussex ICB - 70F",797071,799905,807289,810417,815314,822724,826509,836392,846515,850681,860560,876636,879939,889008,896611,905155,911014,922725,931125,939786,948796]
[null,null,null,null,null,null,null,null,null,null,null,null,null,null,null,null,null,null,null,null,null,null,null,null,null,null,null,null,null,null,null,null,null,null,null,null,null,null,null,null,null,null,null,null,null,null,null,null,null,null,null,"South East","NHS Sussex Integrated Care Board","NHS Sussex ICB - 97R",516707,515037,520548,524626,527866,530297,530555,533486,537216,537908,543958,540286,535700,554763,558775,560333,562676,567204,571329,575206,577287]
[null,null,null,null,null,null,null,null,null,null,null,null,null,null,null,null,null,null,null,null,null,null,null,null,null,null,null,null,null,null,null,null,null,null,null,null,null,null,null,null,null,null,null,null,null,null,null,null,null,null,null,"South West","NHS Bath and North East Somerset, Swindon and Wiltshire Integrated Care Board","NHS Bath and North East Somerset, Swindon and Wiltshire ICB - 92G",830804,837310,844169,855112,862270,868421,874052,883768,889901,897861,908130,912018,919943,929131,925650,953997,961469,974365,992647,1004374,1012517]
[null,null,null,null,null,null,null,null,null,null,null,null,null,null,null,null,null,null,null,null,null,null,null,null,null,null,null,null,null,null,null,null,null,null,null,null,null,null,null,null,null,null,null,null,null,null,null,null,null,null,null,"South West","NHS Bristol, North Somerset and South Gloucestershire Integrated Care Board","NHS Bristol, North Somerset and South Gloucestershire ICB - 15C",888588,894702,903827,908543,910484,925872,934849,942925,955149,965557,969863,979001,986226,1008028,1023807,1039306,1042507,1060553,1071908,1087808,1096776]
[null,null,null,null,null,null,null,null,null,null,null,null,null,null,null,null,null,null,null,null,null,null,null,null,null,null,null,null,null,null,null,null,null,null,null,null,null,null,null,null,null,null,null,null,null,null,null,null,null,null,null,"South West","NHS Cornwall and the Isles of Scilly Integrated Care Board","NHS Cornwall and The Isles Of Scilly ICB - 11N",528745,532661,538092,541828,537552,548486,552820,555618,558443,559148,553146,562091,568682,574407,323308,585470,592376,597612,600327,603523,603520]
[null,null,null,null,null,null,null,null,null,null,null,null,null,null,null,null,null,null,null,null,null,null,null,null,null,null,null,null,null,null,null,null,null,null,null,null,null,null,null,null,null,null,null,null,null,null,null,null,null,null,null,"South West","NHS Devon Integrated Care Board","NHS Devon ICB - 15N",1128337,1143462,1152738,1165910,1176988,1178589,1182536,1183942,1188563,1196708,1168304,1197842,1205558,1224410,1180190,1247260,1256751,1271298,1283375,1293737,1297313]
[null,null,null,null,null,null,null,null,null,null,null,null,null,null,null,null,null,null,null,null,null,null,null,null,null,null,null,null,null,null,null,null,null,null,null,null,null,null,null,null,null,null,null,null,null,null,null,null,null,null,null,"South West","NHS Dorset Integrated Care Board","NHS Dorset ICB - 11J",738149,743477,750527,757064,762801,765697,770156,772266,778107,784313,789891,795906,801318,806400,810572,815442,817871,826441,825438,831576,832006]
[null,null,null,null,null,null,null,null,null,null,null,null,null,null,null,null,null,null,null,null,null,null,null,null,null,null,null,null,null,null,null,null,null,null,null,null,null,null,null,null,null,null,null,null,null,null,null,null,null,null,null,"South West","NHS Gloucestershire Integrated Care Board","NHS Gloucestershire ICB - 11M",591511,594927,599884,604800,607818,610433,612823,615239,620440,625876,632423,634015,637555,636319,646029,660718,666338,675000,682718,684719,696462]
[null,null,null,null,null,null,null,null,null,null,null,null,null,null,null,null,null,null,null,null,null,null,null,null,null,null,null,null,null,null,null,null,null,null,null,null,null,null,null,null,null,null,null,null,null,null,null,null,null,null,null,"South West","NHS Somerset Integrated Care Board","NHS Somerset ICB - 11X",518268,520108,525079,531983,535953,536811,539030,543498,548327,551656,556723,561912,569279,574614,580564,583921,588379,594527,600313,604613,607920]

{"sheet":"newDataRegister4","index":44,"n_rows":107,"n_cols":76,"rows_kept":107,"cut":false,"hidden":false,"merged":[]}
["Region","Start Row","End Row",2005,2006,2007,2008,2009,2010,2011,2012,2013,2014,2015,2016,2017,2018,2019,2020,2021,2022,2023,2024,2025,null,"Region","ICB name","Start Row","End Row",2005,2006,2007,2008,2009,2010,2011,2012,2013,2014,2015,2016,2017,2018,2019,2020,2021,2022,2023,2024,2025,null,null,"Region","ICB Name","Sub-ICB name",2005,2006,2007,2008,2009,2010,2011,2012,2013,2014,2015,2016,2017,2018,2019,2020,2021,2022,2023,2024,2025]
[{"$f":"newDataList3!A2","v":"East of England"},2,{"$f":"B2+COUNTIF(Z:Z,A2)-1","v":7},{"$f":"SUMIF($Z:$Z,$A2,AD:AD)","v":68885},72474,77169,81515,86311,90211,95447,101251,105811,109290,113247,117250,120167,122061,125576,127780,127813,126532,127070,129258,132137,null,{"$f":"newDataList3!Z2","v":"East of England"},"NHS Bedfordshire, Luton and Milton Keynes Integrated Care Board",2,{"$f":"AB2+COUNTIF(BB:BB,AA2)-1","v":2},{"$f":"SUMIF($BB:$BB,$AA2,BD:BD)","v":9341},9433,9762,9894,10492,10860,11375,12232,12778,13351,14033,14643,15138,15456,15834,16280,16549,16416,16343,16790,17963,null,null,"East of England","NHS Bedfordshire, Luton and Milton Keynes Integrated Care Board","NHS Bedfordshire, Luton and Milton Keynes ICB - M1J4Y",9341,9433,9762,9894,10492,10860,11375,12232,12778,13351,14033,14643,15138,15456,15834,16280,16549,16416,16343,16790,17963]
[{"$f":"newDataList3!A3","v":"London"},{"$f":"C2+1","v":8},{"$f":"B3+COUNTIF(Z:Z,A3)-1","v":12},{"$f":"SUMIF($Z:$Z,$A3,AD:AD)","v":70776},{"$f":"SUMIF($Z:$Z,$A3,AE:AE)","v":72441},{"$f":"SUMIF($Z:$Z,$A3,AF:AF)","v":76298},{"$f":"SUMIF($Z:$Z,$A3,AG:AG)","v":79322},{"$f":"SUMIF($Z:$Z,$A3,AH:AH)","v":82533},{"$f":"SUMIF($Z:$Z,$A3,AI:AI)","v":86718},{"$f":"SUMIF($Z:$Z,$A3,AJ:AJ)","v":90811},{"$f":"SUMIF($Z:$Z,$A3,AK:AK)","v":94791},{"$f":"SUMIF($Z:$Z,$A3,AL:AL)","v":98586},{"$f":"SUMIF($Z:$Z,$A3,AM:AM)","v":101001},{"$f":"SUMIF($Z:$Z,$A3,AN:AN)","v":104638},{"$f":"SUMIF($Z:$Z,$A3,AO:AO)","v":107606},{"$f":"SUMIF($Z:$Z,$A3,AP:AP)","v":110037},{"$f":"SUMIF($Z:$Z,$A3,AQ:AQ)","v":112030},{"$f":"SUMIF($Z:$Z,$A3,AR:AR)","v":115179},{"$f":"SUMIF($Z:$Z,$A3,AS:AS)","v":117246},{"$f":"SUMIF($Z:$Z,$A3,AT:AT)","v":114982},{"$f":"SUMIF($Z:$Z,$A3,AU:AU)","v":112717},110580,{"$f":"SUMIF($Z:$Z,$A3,AW:AW)","v":111687},{"$f":"SUMIF($Z:$Z,$A3,AX:AX)","v":114411},null,{"$f":"newDataList3!Z3","v":"East of England"},"NHS Cambridgeshire and Peterborough Integrated Care Board",{"$f":"AC2+1","v":3},{"$f":"AB3+COUNTIF(BB:BB,AA3)-1","v":3},{"$f":"SUMIF($BB:$BB,$AA3,BD:BD)","v":8749},{"$f":"SUMIF($BB:$BB,$AA3,BE:BE)","v":9137},{"$f":"SUMIF($BB:$BB,$AA3,BF:BF)","v":9597},{"$f":"SUMIF($BB:$BB,$AA3,BG:BG)","v":10523},{"$f":"SUMIF($BB:$BB,$AA3,BH:BH)","v":11162},{"$f":"SUMIF($BB:$BB,$AA3,BI:BI)","v":11604},{"$f":"SUMIF($BB:$BB,$AA3,BJ:BJ)","v":12219},{"$f":"SUMIF($BB:$BB,$AA3,BK:BK)","v":13057},{"$f":"SUMIF($BB:$BB,$AA3,BL:BL)","v":13657},{"$f":"SUMIF($BB:$BB,$AA3,BM:BM)","v":14070},{"$f":"SUMIF($BB:$BB,$AA3,BN:BN)","v":14622},{"$f":"SUMIF($BB:$BB,$AA3,BO:BO)","v":15203},{"$f":"SUMIF($BB:$BB,$AA3,BP:BP)","v":15611},{"$f":"SUMIF($BB:$BB,$AA3,BQ:BQ)","v":16102},{"$f":"SUMIF($BB:$BB,$AA3,BR:BR)","v":16610},{"$f":"SUMIF($BB:$BB,$AA3,BS:BS)","v":16920},{"$f":"SUMIF($BB:$BB,$AA3,BT:BT)","v":17070},{"$f":"SUMIF($BB:$BB,$AA3,BU:BU)","v":17027},{"$f":"SUMIF($BB:$BB,$AA3,BV:BV)","v":17446},{"$f":"SUMIF($BB:$BB,$AA3,BW:BW)","v":17800},{"$f":"SUMIF($BB:$BB,$AA3,BX:BX)","v":18187},null,null,"East of England","NHS Cambridgeshire and Peterborough Integrated Care Board","NHS Cambridgeshire and Peterborough ICB - 06H",8749,9137,9597,10523,11162,11604,12219,13057,13657,14070,14622,15203,15611,16102,16610,16920,17070,17027,17446,17800,18187]
[{"$f":"newDataList3!A4","v":"Midlands"},{"$f":"C3+1","v":13},{"$f":"B4+COUNTIF(Z:Z,A4)-1","v":23},139473,142474,148771,155813,163291,168598,176206,184746,191683,197750,203593,209457,208121,220194,225493,230388,229665,221784,223541,228541,234566,null,{"$f":"newDataList3!Z4","v":"East of England"},"NHS Hertfordshire and West Essex Integrated Care Board",{"$f":"AC3+1","v":4},6,14436,14999,15825,16887,17712,18453,19314,20260,20774,21153,21723,22496,23216,23737,24311,24558,24246,23865,23824,24057,24513,null,null,"East of England","NHS Hertfordshire and West Essex Integrated Care Board","NHS Hertfordshire and West Essex ICB - 06K",5287,5596,6050,6676,7039,7326,7679,8231,8494,8680,8852,9090,9298,9386,9584,9689,9563,9470,9494,9579,9882]
[{"$f":"newDataList3!A5","v":"North East and Yorkshire"},24,27,155593,156464,160025,164832,170438,174525,180432,186769,194077,200335,205918,211690,216596,221236,226802,229284,228773,224352,224687,229736,235778,null,{"$f":"newDataList3!Z5","v":"East of England"},"NHS Mid and South Essex Integrated Care Board",7,11,12153,13154,14268,15060,15934,16868,17923,18867,19994,20750,21683,22527,22806,23204,23839,23825,23627,23471,23295,23597,23872,null,null,"East of England","NHS Hertfordshire and West Essex Integrated Care Board","NHS Hertfordshire and West Essex ICB - 06N",6223,6352,6401,6545,6835,7082,7406,7591,7668,7735,7938,8271,8687,8954,9344,9568,9436,9248,9159,9188,9292]
[{"$f":"newDataList3!A6","v":"North West"},28,30,125687,125799,130415,136043,141008,144503,149964,155273,160025,163785,167226,171664,176119,180056,184435,186226,187460,183681,182660,185287,191045,null,{"$f":"newDataList3!Z6","v":"East of England"},"NHS Norfolk and Waveney Integrated Care Board",12,12,14059,14817,15735,16467,17342,17852,18829,19759,20680,21427,22057,22650,23209,22910,24237,24690,24824,24429,24816,25321,25797,null,null,"East of England","NHS Hertfordshire and West Essex Integrated Care Board","NHS Hertfordshire and West Essex ICB - 07H",2926,3051,3374,3666,3838,4045,4229,4438,4612,4738,4933,5135,5231,5397,5383,5301,5247,5147,5171,5290,5339]
[{"$f":"newDataList3!A7","v":"South East"},31,36,88798,93208,99403,104966,110348,113862,119172,124927,129915,134265,139053,144479,148663,153964.5,158771,161426,162394,160543,160675,164927,169859,null,{"$f":"newDataList3!Z7","v":"East of England"},"NHS Suffolk and North East Essex Integrated Care Board",13,15,10147,10934,11982,12684,13669,14574,15787,17076,17928,18539,19129,19731,20187,20652,20745,21507,21497,21324,21346,21693,21805,null,null,"East of England","NHS Mid and South Essex Integrated Care Board","NHS Mid and South Essex ICB - 06Q",3001,3205,3493,3612,3998,4260,4620,4882,5166,5436,5733,5983,6132,6196,6360,6406,6461,6430,6447,6590,6693]
[{"$f":"newDataList3!A8","v":"South West"},37,43,69241,71235,75402,79224,82712,85234,89266,93149,97543,101122,103819,107326,111043,114638,111183,121690,122583,121265,122261,125727,130178,null,{"$f":"newDataList3!Z8","v":"London"},"NHS North Central London Integrated Care Board",16,16,11002,11012,11686,12312,12864,13454,14278,14918,15460,15891,16567,17184,17813,18032,19012,20339,19064,18388,18559,18821,19170,null,null,"East of England","NHS Mid and South Essex Integrated Care Board","NHS Mid and South Essex ICB - 07G",1698,1880,2012,2120,2212,2386,2587,2709,2859,2989,3089,3270,3252,3354,3449,3512,3430,3559,3487,3595,3494]
["England",null,null,{"$f":"SUM(D2:D8)","v":718453},{"$f":"SUM(E2:E8)","v":734095},767483,801715,836641,863651,901298,940906,977640,1007548,1037494,1069472,1090746,1124179.5,1147439,1174040,1173670,1150874,1151474,1175163,1207974,null,{"$f":"newDataList3!Z9","v":"London"},"NHS North East London Integrated Care Board",17,17,16958,16826,17311,17755,18349,19247,20377,21532,22729,23059,23789,24368,24701,24748,25297,25590,25175,24711,23744,23785,23864,null,null,"East of England","NHS Mid and South Essex Integrated Care Board","NHS Mid and South Essex ICB - 99E",3217,3476,3687,3869,4074,4285,4446,4677,4926,5023,5167,5308,5320,5346,5493,5420,5299,5181,5070,5066,5151]
[null,null,null,null,null,null,null,null,null,null,null,null,null,null,null,null,null,null,null,null,null,null,null,null,null,{"$f":"newDataList3!Z10","v":"London"},"NHS North West London Integrated Care Board",18,18,14910,15500,16387,17007,17933,18752,19500,20157,20882,21165,22205,23157,23771,24468,25203,25440,25129,24965,24453,24864,26284,null,null,"East of England","NHS Mid and South Essex Integrated Care Board","NHS Mid and South Essex ICB - 99F",2190,2307,2521,2748,2858,3042,3235,3427,3644,3742,3903,4009,4088,4271,4383,4327,4336,4253,4149,4178,4221]
[null,null,null,null,null,null,null,null,null,null,null,null,null,null,null,null,null,null,null,null,null,null,null,null,null,{"$f":"newDataList3!Z11","v":"London"},"NHS South East London Integrated Care Board",19,19,16499,17157,18249,19087,19852,20897,21749,22527,23205,24224,24885,25368,25665,26239,26598,26701,26639,26181,25731,26152,26454,null,null,"East of England","NHS Mid and South Essex Integrated Care Board","NHS Mid and South Essex ICB - 99G",2047,2286,2555,2711,2792,2895,3035,3172,3399,3560,3791,3957,4014,4037,4154,4160,4101,4048,4142,4168,4313]
[null,null,null,null,null,null,null,null,null,null,null,null,null,null,null,null,null,null,null,null,null,null,null,null,null,{"$f":"newDataList3!Z12","v":"London"},"NHS South West London Integrated Care Board",20,20,11407,11946,12665,13161,13535,14368,14907,15657,16310,16662,17192,17529,18087,18543,19069,19176,18975,18472,18093,18065,18639,null,null,"East of England","NHS Norfolk and Waveney Integrated Care Board","NHS Norfolk and Waveney ICB - 26A",14059,14817,15735,16467,17342,17852,18829,19759,20680,21427,22057,22650,23209,22910,24237,24690,24824,24429,24816,25321,25797]
[null,null,null,null,null,null,null,null,null,null,null,null,null,null,null,null,null,null,null,null,null,null,null,null,null,{"$f":"newDataList3!Z13","v":"Midlands"},"NHS Birmingham and Solihull Integrated Care Board",21,21,16191,16442,17042,17536,18247,19008,19969,20827,21344,21894,22301,22771,23173,23616,24123,24214,24150,23578,23094,23632,24058,null,null,"East of England","NHS Suffolk and North East Essex Integrated Care Board","NHS Suffolk and North East Essex ICB - 06L",3994,4284,4675,4854,5234,5505,5825,6136,6430,6659,6841,7062,7224,7405,7618,7852,7766,7649,7220,7298,7258]
[null,null,null,null,null,null,null,null,null,null,null,null,null,null,null,null,null,null,null,null,null,null,null,null,null,{"$f":"newDataList3!Z14","v":"Midlands"},"NHS Black Country Integrated Care Board",22,{"$f":"AB14+COUNTIF(BB:BB,AA14)-1","v":22},15675,16094,17046,18171,18982,19765,20856,22143,23025,23857,24434,24911,19478,26107,27158,27317,27076,26564,26528,26713,27693,null,null,"East of England","NHS Suffolk and North East Essex Integrated Care Board","NHS Suffolk and North East Essex ICB - 06T",3646,4079,4380,4651,5012,5442,6016,6734,7094,7343,7561,7753,7817,7974,7685,7988,7971,7947,7968,8111,8181]
[null,null,null,null,null,null,null,null,null,null,null,null,null,null,null,null,null,null,null,null,null,null,null,null,null,{"$f":"newDataList3!Z15","v":"Midlands"},"NHS Coventry and Warwickshire Integrated Care Board",23,23,10100,10593,11468,12351,12955,13445,13978,14766,15227,15486,15416,15726,16021,16330,16742,16731,16948,16827,17136,17510,17892,null,null,"East of England","NHS Suffolk and North East Essex Integrated Care Board","NHS Suffolk and North East Essex ICB - 07K",2507,2571,2927,3179,3423,3627,3946,4206,4404,4537,4727,4916,5146,5273,5442,5667,5760,5728,6158,6284,6366]
[null,null,null,null,null,null,null,null,null,null,null,null,null,null,null,null,null,null,null,null,null,null,null,null,null,{"$f":"newDataList3!Z16","v":"Midlands"},"NHS Herefordshire and Worcestershire Integrated Care Board",24,24,8387,8609,9476,10032,10642,11218,11786,12619,13148,13790,14449,15095,15694,16408,17088,17514,17394,17034,17115,17514,17943,null,null,"London","NHS North Central London Integrated Care Board","NHS North Central London ICB - 93C",11002,11012,11686,12312,12864,13454,14278,14918,15460,15891,16567,17184,17813,18032,19012,20339,19064,18388,18559,18821,19170]
[null,null,null,null,null,null,null,null,null,null,null,null,null,null,null,null,null,null,null,null,null,null,null,null,null,{"$f":"newDataList3!Z17","v":"Midlands"},"NHS Shropshire, Telford and Wrekin Integrated Care Board",25,25,6984,7033,7222,7509,7762,7778,7900,8253,8465,8705,8978,9306,9341,9604,9894,10114,10287,10047,9902,10032,10268,null,null,"London","NHS North East London Integrated Care Board","NHS North East London ICB - A3A8R",16958,16826,17311,17755,18349,19247,20377,21532,22729,23059,23789,24368,24701,24748,25297,25590,25175,24711,23744,23785,23864]
[null,null,null,null,null,null,null,null,null,null,null,null,null,null,null,null,null,null,null,null,null,null,null,null,null,{"$f":"newDataList3!Z18","v":"Midlands"},"NHS Staffordshire and Stoke-on-Trent Integrated Care Board",26,31,15665,15930,16628,17396,18201,18667,19398,20267,21255,21645,22677,23298,24033,25077,26232,26815,26604,26179,26564,27019,27749,null,null,"London","NHS North West London Integrated Care Board","NHS North West London ICB - W2U3Z",14910,15500,16387,17007,17933,18752,19500,20157,20882,21165,22205,23157,23771,24468,25203,25440,25129,24965,24453,24864,26284]
[null,null,null,null,null,null,null,null,null,null,null,null,null,null,null,null,null,null,null,null,null,null,null,null,null,{"$f":"newDataList3!Z19","v":"Midlands"},"NHS Derby and Derbyshire Integrated Care Board",32,32,15765,15940,16308,16865,17935,18314,19067,19781,20362,20986,21603,22095,22776,23304,23636,24165,24067,23714,24488,25138,25498,null,null,"London","NHS South East London Integrated Care Board","NHS South East London ICB - 72Q",16499,17157,18249,19087,19852,20897,21749,22527,23205,24224,24885,25368,25665,26239,26598,26701,26639,26181,25731,26152,26454]
[null,null,null,null,null,null,null,null,null,null,null,null,null,null,null,null,null,null,null,null,null,null,null,null,null,{"$f":"newDataList3!Z20","v":"Midlands"},"NHS Leicester, Leicestershire and Rutland Integrated Care Board",33,35,11681,11823,12196,12684,13218,13816,14625,15476,16403,17079,17771,18406,18685,19178,19573,19842,19735,19330,18602,19040,19329,null,null,"London","NHS South West London Integrated Care Board","NHS South West London ICB - 36L",11407,11946,12665,13161,13535,14368,14907,15657,16310,16662,17192,17529,18087,18543,19069,19176,18975,18472,18093,18065,18639]
[null,null,null,null,null,null,null,null,null,null,null,null,null,null,null,null,null,null,null,null,null,null,null,null,null,{"$f":"newDataList3!Z21","v":"Midlands"},"NHS Lincolnshire Integrated Care Board",36,36,11654,12104,12718,13320,13677,13901,14300,14840,15253,15906,16184,16841,17269,17645,17563,18312,18196,18257,19073,20007,20987,null,null,"Midlands","NHS Birmingham and Solihull Integrated Care Board","NHS Birmingham and Solihull ICB - 15E",16191,16442,17042,17536,18247,19008,19969,20827,21344,21894,22301,22771,23173,23616,24123,24214,24150,23578,23094,23632,24058]
[null,null,null,null,null,null,null,null,null,null,null,null,null,null,null,null,null,null,null,null,null,null,null,null,null,{"$f":"newDataList3!Z22","v":"Midlands"},"NHS Northamptonshire Integrated Care Board",37,37,8242,8404,8548,9085,9971,10634,11246,11910,12472,12979,13499,13987,14240,14593,15005,15349,15328,15281,15664,15879,16184,null,null,"Midlands","NHS Black Country Integrated Care Board","NHS Black Country ICB - D2P2L",15675,16094,17046,18171,18982,19765,20856,22143,23025,23857,24434,24911,19478,26107,27158,27317,27076,26564,26528,26713,27693]
[null,null,null,null,null,null,null,null,null,null,null,null,null,null,null,null,null,null,null,null,null,null,null,null,null,{"$f":"newDataList3!Z23","v":"Midlands"},"NHS Nottingham and Nottinghamshire Integrated Care Board",38,39,19129,19502,20119,20864,21701,22052,23081,23864,24729,25423,26281,27021,27411,28332,28479,30015,29880,24973,25375,26057,26965,null,null,"Midlands","NHS Coventry and Warwickshire Integrated Care Board","NHS Coventry and Warwickshire ICB - B2M3M",10100,10593,11468,12351,12955,13445,13978,14766,15227,15486,15416,15726,16021,16330,16742,16731,16948,16827,17136,17510,17892]
[null,null,null,null,null,null,null,null,null,null,null,null,null,null,null,null,null,null,null,null,null,null,null,null,null,{"$f":"newDataList3!Z24","v":"North East and Yorkshire"},"NHS Humber and North Yorkshire Integrated Care Board",40,45,24923,25273,26120,26963,28017,29266,30657,32036,33437,34652,35908,37127,38127,39280,40907,41681,41546,41612,42205,43477,45330,null,null,"Midlands","NHS Herefordshire and Worcestershire Integrated Care Board","NHS Herefordshire and Worcestershire ICB - 18C",8387,8609,9476,10032,10642,11218,11786,12619,13148,13790,14449,15095,15694,16408,17088,17514,17394,17034,17115,17514,17943]
[null,null,null,null,null,null,null,null,null,null,null,null,null,null,null,null,null,null,null,null,null,null,null,null,null,{"$f":"newDataList3!Z25","v":"North East and Yorkshire"},"NHS South Yorkshire Integrated Care Board",46,49,26154,26774,28034,29159,30140,30369,31293,32238,33730,34537,35097,36110,36638,37667,38691,38945,38521,38123,38443,40556,42578,null,null,"Midlands","NHS Shropshire, Telford and Wrekin Integrated Care Board","NHS Shropshire, Telford and Wrekin ICB - M2L0M",6984,7033,7222,7509,7762,7778,7900,8253,8465,8705,8978,9306,9341,9604,9894,10114,10287,10047,9902,10032,10268]
[null,null,null,null,null,null,null,null,null,null,null,null,null,null,null,null,null,null,null,null,null,null,null,null,null,{"$f":"newDataList3!Z26","v":"North East and Yorkshire"},"NHS West Yorkshire Integrated Care Board",50,54,38280,38650,39788,40957,42194,43319,44869,46402,48487,50233,51865,53373,54589,55598,56750,57499,57257,55709,55417,55821,56332,null,null,"Midlands","NHS Staffordshire and Stoke-on-Trent Integrated Care Board","NHS Staffordshire and Stoke-on-Trent ICB - 04Y",2042,2141,2298,2416,2476,2533,2626,2728,2866,2935,2964,2998,3160,3321,3492,3608,3620,3552,3526,3627,3769]
[null,null,null,null,null,null,null,null,null,null,null,null,null,null,null,null,null,null,null,null,null,null,null,null,null,{"$f":"newDataList3!Z27","v":"North East and Yorkshire"},"NHS North East and North Cumbria Integrated Care Board",55,62,66236,65767,66083,67753,70087,71571,73613,76093,78423,80913,83048,85080,87242,88691,90454,91159,91449,88908,88622,89882,91538,null,null,"Midlands","NHS Staffordshire and Stoke-on-Trent Integrated Care Board","NHS Staffordshire and Stoke-on-Trent ICB - 05D",1444,1614,1655,1757,1771,1790,1908,2006,2077,2196,2179,2225,2339,2491,2524,2524,2483,2423,2514,2519,2596]
[null,null,null,null,null,null,null,null,null,null,null,null,null,null,null,null,null,null,null,null,null,null,null,null,null,{"$f":"newDataList3!Z28","v":"North West"},"NHS Cheshire and Merseyside Integrated Care Board",63,71,49555,49441,49964,51615,53162,54336,56541,58212,59876,60540,61132,62880,64456,66208,68194,68903,69436,68858,69545,70192,70969,null,null,"Midlands","NHS Staffordshire and Stoke-on-Trent Integrated Care Board","NHS Staffordshire and Stoke-on-Trent ICB - 05G",3385,3463,3512,3710,3921,4049,4104,4266,4480,4405,4795,4971,5193,5309,5671,5783,5717,5558,5453,6057,6131]
[null,null,null,null,null,null,null,null,null,null,null,null,null,null,null,null,null,null,null,null,null,null,null,null,null,{"$f":"newDataList3!Z29","v":"North West"},"NHS Greater Manchester Integrated Care Board",72,81,45314,45686,48912,51494,53702,55429,57231,59287,61178,62962,64390,66127,67864,69454,71159,71918,72438,70411,69215,71005,74973,null,null,"Midlands","NHS Staffordshire and Stoke-on-Trent Integrated Care Board","NHS Staffordshire and Stoke-on-Trent ICB - 05Q",2355,2455,2615,2725,2837,2986,3148,3307,3466,3557,3641,3746,3850,3938,4086,4132,4054,4004,4120,4169,4315]
[null,null,null,null,null,null,null,null,null,null,null,null,null,null,null,null,null,null,null,null,null,null,null,null,null,{"$f":"newDataList3!Z30","v":"North West"},"NHS Lancashire and South Cumbria Integrated Care Board",82,89,30818,30672,31539,32934,34144,34738,36192,37774,38971,40283,41704,42657,43799,44394,45082,45405,45586,44412,43900,44090,45103,null,null,"Midlands","NHS Staffordshire and Stoke-on-Trent Integrated Care Board","NHS Staffordshire and Stoke-on-Trent ICB - 05V",1508,1445,1570,1633,1671,1746,1801,1883,1949,2034,2165,2304,2417,2549,2723,2841,2820,2796,2762,2882,3001]
[null,null,null,null,null,null,null,null,null,null,null,null,null,null,null,null,null,null,null,null,null,null,null,null,null,{"$f":"newDataList3!Z31","v":"South East"},"NHS Buckinghamshire, Oxfordshire and Berkshire West Integrated Care Board",90,{"$f":"AB31+COUNTIF(BB:BB,AA31)-1","v":92},{"$f":"SUMIF($BB:$BB,$AA31,BD:BD)","v":14094},{"$f":"SUMIF($BB:$BB,$AA31,BE:BE)","v":14733},{"$f":"SUMIF($BB:$BB,$AA31,BF:BF)","v":15631},{"$f":"SUMIF($BB:$BB,$AA31,BG:BG)","v":16507},{"$f":"SUMIF($BB:$BB,$AA31,BH:BH)","v":17196},{"$f":"SUMIF($BB:$BB,$AA31,BI:BI)","v":17843},{"$f":"SUMIF($BB:$BB,$AA31,BJ:BJ)","v":18807},{"$f":"SUMIF($BB:$BB,$AA31,BK:BK)","v":19702},{"$f":"SUMIF($BB:$BB,$AA31,BL:BL)","v":20574},{"$f":"SUMIF($BB:$BB,$AA31,BM:BM)","v":21317},{"$f":"SUMIF($BB:$BB,$AA31,BN:BN)","v":22157},{"$f":"SUMIF($BB:$BB,$AA31,BO:BO)","v":22844},{"$f":"SUMIF($BB:$BB,$AA31,BP:BP)","v":23585},{"$f":"SUMIF($BB:$BB,$AA31,BQ:BQ)","v":24274.5},{"$f":"SUMIF($BB:$BB,$AA31,BR:BR)","v":25068},{"$f":"SUMIF($BB:$BB,$AA31,BS:BS)","v":25307},{"$f":"SUMIF($BB:$BB,$AA31,BT:BT)","v":25271},{"$f":"SUMIF($BB:$BB,$AA31,BU:BU)","v":24814},{"$f":"SUMIF($BB:$BB,$AA31,BV:BV)","v":24581},24694,25402,null,null,"Midlands","NHS Staffordshire and Stoke-on-Trent Integrated Care Board","NHS Staffordshire and Stoke-on-Trent ICB - 05W",4931,4812,4978,5155,5525,5563,5811,6077,6417,6518,6933,7054,7074,7469,7736,7927,7910,7846,8189,7765,7937]
[null,null,null,null,null,null,null,null,null,null,null,null,null,null,null,null,null,null,null,null,null,null,null,null,null,{"$f":"newDataList3!Z32","v":"South East"},"NHS Frimley Integrated Care Board",93,93,6253,6586,6825,7133,7404,7475,7790,8073,8242,8382,8692,9090,9486,9954,10169,10409,10374,10291,10118,10284,10452,null,null,"Midlands","NHS Derby and Derbyshire Integrated Care Board","NHS Derby and Derbyshire ICB - 15M",15765,15940,16308,16865,17935,18314,19067,19781,20362,20986,21603,22095,22776,23304,23636,24165,24067,23714,24488,25138,25498]
[null,null,null,null,null,null,null,null,null,null,null,null,null,null,null,null,null,null,null,null,null,null,null,null,null,{"$f":"newDataList3!Z33","v":"South East"},"NHS Hampshire and Isle of Wight Integrated Care Board",94,95,20131,20953,22141,23244,24310,25090,26399,27899,29191,30223,31582,32805,34171,35355,36649,37429,37950,37365,38032,39619,41282,null,null,"Midlands","NHS Leicester, Leicestershire and Rutland Integrated Care Board","NHS Leicester, Leicestershire and Rutland ICB - 03W",3468,3587,3761,3900,4099,4299,4573,4788,5034,5305,5535,5729,5809,5936,6159,6321,6305,6271,6055,6134,6283]
[null,null,null,null,null,null,null,null,null,null,null,null,null,null,null,null,null,null,null,null,null,null,null,null,null,{"$f":"newDataList3!Z34","v":"South East"},"NHS Kent and Medway Integrated Care Board",96,96,20314,21193,23375,24868,26355,27318,28679,30045,31257,32540,33798,35316,36487,37709,38987,39327,39730,39419,39301,40015,40986,null,null,"Midlands","NHS Leicester, Leicestershire and Rutland Integrated Care Board","NHS Leicester, Leicestershire and Rutland ICB - 04C",3706,3720,3888,3999,4128,4219,4419,4811,5165,5362,5494,5560,5600,5689,5745,5833,5800,5622,5311,5581,5638]
[null,null,null,null,null,null,null,null,null,null,null,null,null,null,null,null,null,null,null,null,null,null,null,null,null,{"$f":"newDataList3!Z35","v":"South East"},"NHS Surrey Heartlands Integrated Care Board",97,97,9579,10110,10456,10941,11407,11678,11975,12438,12733,12923,13167,13639,13835,14047,14292,14293,14325,14273,14181,14445,14776,null,null,"Midlands","NHS Leicester, Leicestershire and Rutland Integrated Care Board","NHS Leicester, Leicestershire and Rutland ICB - 04V",4507,4516,4547,4785,4991,5298,5633,5877,6204,6412,6742,7117,7276,7553,7669,7688,7630,7437,7236,7325,7408]
[null,null,null,null,null,null,null,null,null,null,null,null,null,null,null,null,null,null,null,null,null,null,null,null,null,{"$f":"newDataList3!Z36","v":"South East"},"NHS Sussex Integrated Care Board",98,100,18427,19633,20975,22273,23676,24458,25522,26770,27918,28880,29657,30785,31099,32625,33606,34661,34744,34381,34462,35870,36961,null,null,"Midlands","NHS Lincolnshire Integrated Care Board","NHS Lincolnshire ICB - 71E",11654,12104,12718,13320,13677,13901,14300,14840,15253,15906,16184,16841,17269,17645,17563,18312,18196,18257,19073,20007,20987]
[null,null,null,null,null,null,null,null,null,null,null,null,null,null,null,null,null,null,null,null,null,null,null,null,null,{"$f":"newDataList3!Z37","v":"South West"},"NHS Bath and North East Somerset, Swindon and Wiltshire Integrated Care Board",101,101,10608,10683,11124,11418,11792,12201,12772,13207,13629,14116,14571,14941,15298,15589,15906,16579,16581,16464,16927,17802,18583,null,null,"Midlands","NHS Northamptonshire Integrated Care Board","NHS Northamptonshire ICB - 78H",8242,8404,8548,9085,9971,10634,11246,11910,12472,12979,13499,13987,14240,14593,15005,15349,15328,15281,15664,15879,16184]
[null,null,null,null,null,null,null,null,null,null,null,null,null,null,null,null,null,null,null,null,null,null,null,null,null,{"$f":"newDataList3!Z38","v":"South West"},"NHS Bristol, North Somerset and South Gloucestershire Integrated Care Board",102,102,12048,12210,12754,13278,13901,13965,14514,14993,15794,16060,16495,16835,17384,17996,18554,18781,18953,18639,18595,19241,20316,null,null,"Midlands","NHS Nottingham and Nottinghamshire Integrated Care Board","NHS Nottingham and Nottinghamshire ICB - 52R",14198,14690,15141,15709,16176,16489,17270,17787,18312,18905,19348,19967,20337,20863,20743,22088,21970,21627,21714,22277,23127]
[null,null,null,null,null,null,null,null,null,null,null,null,null,null,null,null,null,null,null,null,null,null,null,null,null,{"$f":"newDataList3!Z39","v":"South West"},"NHS Cornwall and the Isles of Scilly Integrated Care Board",103,103,7529,7879,8368,8971,9298,9596,10036,10376,10732,11188,11481,11855,12290,12681,7105,13755,14095,13890,14348,14538,14897,null,null,"Midlands","NHS Nottingham and Nottinghamshire Integrated Care Board","NHS Nottingham and Nottinghamshire ICB - 02Q",4931,4812,4978,5155,5525,5563,5811,6077,6417,6518,6933,7054,7074,7469,7736,7927,7910,3346,3661,3780,3838]
[null,null,null,null,null,null,null,null,null,null,null,null,null,null,null,null,null,null,null,null,null,null,null,null,null,{"$f":"newDataList3!Z40","v":"South West"},"NHS Devon Integrated Care Board",104,104,14635,15507,16779,17716,18739,19425,20622,21842,23015,23971,24376,25359,26107,26947,26808,28793,29215,28980,29339,30210,31172,null,null,{"$f":"newDataList3!AZ40","v":"North East and Yorkshire"},"NHS Humber and North Yorkshire Integrated Care Board","NHS Humber and North Yorkshire ICB - 02Y",4478,4649,4875,5065,5316,5569,5749,6036,6288,6556,6782,7012,7218,7430,7740,7847,7834,7709,7778,8125,8813]
[null,null,null,null,null,null,null,null,null,null,null,null,null,null,null,null,null,null,null,null,null,null,null,null,null,{"$f":"newDataList3!Z41","v":"South West"},"NHS Dorset Integrated Care Board",105,105,9612,9931,10369,11072,11476,11879,12357,12946,13667,14219,14697,15344,16143,16909,17473,17860,17820,17711,17493,17826,18090,null,null,{"$f":"newDataList3!AZ41","v":"North East and Yorkshire"},"NHS Humber and North Yorkshire Integrated Care Board","NHS Humber and North Yorkshire ICB - 03F",4645,4687,4893,5036,5319,5947,6507,6778,7076,7350,7616,7849,7999,8196,8462,8719,8650,9182,9690,9826,9920]
[null,null,null,null,null,null,null,null,null,null,null,null,null,null,null,null,null,null,null,null,null,null,null,null,null,{"$f":"newDataList3!Z42","v":"South West"},"NHS Gloucestershire Integrated Care Board",106,106,7442,7623,8032,8473,8758,9063,9478,9861,10199,10539,10848,11020,11375,11568,11810,12269,12366,12286,12431,12683,13277,null,null,{"$f":"newDataList3!AZ42","v":"North East and Yorkshire"},"NHS Humber and North Yorkshire Integrated Care Board","NHS Humber and North Yorkshire ICB - 03H",3065,3106,3274,3337,3422,3414,3483,3612,3669,3775,3881,4064,4148,4312,4520,4683,4727,4664,4833,5292,5664]
[null,null,null,null,null,null,null,null,null,null,null,null,null,null,null,null,null,null,null,null,null,null,null,null,null,{"$f":"newDataList3!Z43","v":"South West"},"NHS Somerset Integrated Care Board",107,107,7367,7402,7976,8296,8748,9105,9487,9924,10507,11029,11351,11972,12446,12948,13527,13653,13553,13295,13128,13427,13843,null,null,{"$f":"newDataList3!AZ43","v":"North East and Yorkshire"},"NHS Humber and North Yorkshire Integrated Care Board","NHS Humber and North Yorkshire ICB - 03K",2693,2739,2862,2950,3012,3054,3140,3238,3417,3556,3679,3815,3983,4257,4449,4574,4634,4583,4509,4556,4937]
[null,null,null,null,null,null,null,null,null,null,null,null,null,null,null,null,null,null,null,null,null,null,null,null,null,null,null,null,null,null,null,null,null,null,null,null,null,null,null,null,null,null,null,null,null,null,null,null,null,null,null,null,{"$f":"newDataList3!AZ44","v":"North East and Yorkshire"},"NHS Humber and North Yorkshire Integrated Care Board","NHS Humber and North Yorkshire ICB - 03Q",4339,4417,4489,4662,4808,4962,5143,5338,5557,5632,5831,5970,6101,6190,6420,6350,6277,6243,6119,6293,4051]
[null,null,null,null,null,null,null,null,null,null,null,null,null,null,null,null,null,null,null,null,null,null,null,null,null,null,null,null,null,null,null,null,null,null,null,null,null,null,null,null,null,null,null,null,null,null,null,null,null,null,null,null,{"$f":"newDataList3!AZ45","v":"North East and Yorkshire"},"NHS Humber and North Yorkshire Integrated Care Board","NHS Humber and North Yorkshire ICB - 42D",5703,5675,5727,5913,6140,6320,6635,7034,7430,7783,8119,8417,8678,8895,9316,9508,9424,9231,9276,9385,11945]
[null,null,null,null,null,null,null,null,null,null,null,null,null,null,null,null,null,null,null,null,null,null,null,null,null,null,null,null,null,null,null,null,null,null,null,null,null,null,null,null,null,null,null,null,null,null,null,null,null,null,null,null,{"$f":"newDataList3!AZ46","v":"North East and Yorkshire"},"NHS South Yorkshire Integrated Care Board","NHS South Yorkshire ICB - 02P",5153,5602,5946,6289,6614,6747,7002,7335,7640,7899,7941,8170,8254,8475,8699,8658,8555,8237,8089,8827,9207]
[null,null,null,null,null,null,null,null,null,null,null,null,null,null,null,null,null,null,null,null,null,null,null,null,null,null,null,null,null,null,null,null,null,null,null,null,null,null,null,null,null,null,null,null,null,null,null,null,null,null,null,null,{"$f":"newDataList3!AZ47","v":"North East and Yorkshire"},"NHS South Yorkshire Integrated Care Board","NHS South Yorkshire ICB - 02X",6811,6865,7339,7591,7671,7608,7747,7868,8062,8189,8289,8500,8679,8997,9265,9413,9277,9550,9968,10267,10506]
[null,null,null,null,null,null,null,null,null,null,null,null,null,null,null,null,null,null,null,null,null,null,null,null,null,null,null,null,null,null,null,null,null,null,null,null,null,null,null,null,null,null,null,null,null,null,null,null,null,null,null,null,{"$f":"newDataList3!AZ48","v":"North East and Yorkshire"},"NHS South Yorkshire Integrated Care Board","NHS South Yorkshire ICB - 03L",5891,5659,5709,5859,6080,6033,6240,6493,6788,6935,7092,7382,7480,7741,7938,8007,7938,7773,7940,8713,9521]
[null,null,null,null,null,null,null,null,null,null,null,null,null,null,null,null,null,null,null,null,null,null,null,null,null,null,null,null,null,null,null,null,null,null,null,null,null,null,null,null,null,null,null,null,null,null,null,null,null,null,null,null,{"$f":"newDataList3!AZ49","v":"North East and Yorkshire"},"NHS South Yorkshire Integrated Care Board","NHS South Yorkshire ICB - 03N",8299,8648,9040,9420,9775,9981,10304,10542,11240,11514,11775,12058,12225,12454,12789,12867,12751,12563,12446,12749,13344]
[null,null,null,null,null,null,null,null,null,null,null,null,null,null,null,null,null,null,null,null,null,null,null,null,null,null,null,null,null,null,null,null,null,null,null,null,null,null,null,null,null,null,null,null,null,null,null,null,null,null,null,null,{"$f":"newDataList3!AZ50","v":"North East and Yorkshire"},"NHS West Yorkshire Integrated Care Board","NHS West Yorkshire ICB - 02T",3250,3116,3296,3391,3450,3519,3664,3819,4082,4345,4575,4807,4952,4990,5069,5102,5125,4992,5004,5006,5034]
[null,null,null,null,null,null,null,null,null,null,null,null,null,null,null,null,null,null,null,null,null,null,null,null,null,null,null,null,null,null,null,null,null,null,null,null,null,null,null,null,null,null,null,null,null,null,null,null,null,null,null,null,{"$f":"newDataList3!AZ51","v":"North East and Yorkshire"},"NHS West Yorkshire Integrated Care Board","NHS West Yorkshire ICB - 03R",7526,7706,7868,8136,8360,8561,8748,9021,9494,9805,9949,10115,10205,10375,10001,10105,10069,9667,10478,10640,10781]
[null,null,null,null,null,null,null,null,null,null,null,null,null,null,null,null,null,null,null,null,null,null,null,null,null,null,null,null,null,null,null,null,null,null,null,null,null,null,null,null,null,null,null,null,null,null,null,null,null,null,null,null,{"$f":"newDataList3!AZ52","v":"North East and Yorkshire"},"NHS West Yorkshire Integrated Care Board","NHS West Yorkshire ICB - 15F",12918,12864,12984,13190,13458,13817,14364,14824,15353,15711,16288,16722,17266,17627,18574,18931,18852,18477,17497,17614,17732]
[null,null,null,null,null,null,null,null,null,null,null,null,null,null,null,null,null,null,null,null,null,null,null,null,null,null,null,null,null,null,null,null,null,null,null,null,null,null,null,null,null,null,null,null,null,null,null,null,null,null,null,null,{"$f":"newDataList3!AZ53","v":"North East and Yorkshire"},"NHS West Yorkshire Integrated Care Board","NHS West Yorkshire ICB - 36J",9580,9748,9960,10352,10733,11005,11371,11737,12169,12491,12729,13009,13154,13395,13671,13825,13799,13407,13380,13378,13490]
[null,null,null,null,null,null,null,null,null,null,null,null,null,null,null,null,null,null,null,null,null,null,null,null,null,null,null,null,null,null,null,null,null,null,null,null,null,null,null,null,null,null,null,null,null,null,null,null,null,null,null,null,{"$f":"newDataList3!AZ54","v":"North East and Yorkshire"},"NHS West Yorkshire Integrated Care Board","NHS West Yorkshire ICB - X2C4Y",5006,5216,5680,5888,6193,6417,6722,7001,7389,7881,8324,8720,9012,9211,9435,9536,9412,9166,9058,9183,9295]
[null,null,null,null,null,null,null,null,null,null,null,null,null,null,null,null,null,null,null,null,null,null,null,null,null,null,null,null,null,null,null,null,null,null,null,null,null,null,null,null,null,null,null,null,null,null,null,null,null,null,null,null,{"$f":"newDataList3!AZ55","v":"North East and Yorkshire"},"NHS North East and North Cumbria Integrated Care Board","NHS North East and North Cumbria ICB - 00L",6615,6731,7022,7126,7115,7324,7468,7747,7873,8056,8201,8431,8692,8939,9149,9284,9311,9071,8963,9209,9466]
[null,null,null,null,null,null,null,null,null,null,null,null,null,null,null,null,null,null,null,null,null,null,null,null,null,null,null,null,null,null,null,null,null,null,null,null,null,null,null,null,null,null,null,null,null,null,null,null,null,null,null,null,{"$f":"newDataList3!AZ56","v":"North East and Yorkshire"},"NHS North East and North Cumbria Integrated Care Board","NHS North East and North Cumbria ICB - 00N",4187,4313,4431,4661,4924,5053,5032,5349,5492,5604,5736,5785,5841,5840,5898,5932,5831,5589,5458,5459,5561]
[null,null,null,null,null,null,null,null,null,null,null,null,null,null,null,null,null,null,null,null,null,null,null,null,null,null,null,null,null,null,null,null,null,null,null,null,null,null,null,null,null,null,null,null,null,null,null,null,null,null,null,null,{"$f":"newDataList3!AZ57","v":"North East and Yorkshire"},"NHS North East and North Cumbria Integrated Care Board","NHS North East and North Cumbria ICB - 00P",8722,8375,8012,8033,8210,8217,8404,8750,8985,9146,9128,9290,9496,9653,9917,9987,9984,9611,9515,9562,9716]
[null,null,null,null,null,null,null,null,null,null,null,null,null,null,null,null,null,null,null,null,null,null,null,null,null,null,null,null,null,null,null,null,null,null,null,null,null,null,null,null,null,null,null,null,null,null,null,null,null,null,null,null,{"$f":"newDataList3!AZ58","v":"North East and Yorkshire"},"NHS North East and North Cumbria Integrated Care Board","NHS North East and North Cumbria ICB - 01H",6623,6430,6234,6430,6614,6723,7009,7108,7328,7557,7678,7722,7811,7903,8048,8111,8224,7906,7962,7996,8153]
[null,null,null,null,null,null,null,null,null,null,null,null,null,null,null,null,null,null,null,null,null,null,null,null,null,null,null,null,null,null,null,null,null,null,null,null,null,null,null,null,null,null,null,null,null,null,null,null,null,null,null,null,{"$f":"newDataList3!AZ59","v":"North East and Yorkshire"},"NHS North East and North Cumbria Integrated Care Board","NHS North East and North Cumbria ICB - 13T",10067,10007,9899,10007,10545,10664,10968,11234,11617,11803,12167,12481,12722,12826,13009,13102,13125,12712,12577,12717,12990]
[null,null,null,null,null,null,null,null,null,null,null,null,null,null,null,null,null,null,null,null,null,null,null,null,null,null,null,null,null,null,null,null,null,null,null,null,null,null,null,null,null,null,null,null,null,null,null,null,null,null,null,null,{"$f":"newDataList3!AZ60","v":"North East and Yorkshire"},"NHS North East and North Cumbria Integrated Care Board","NHS North East and North Cumbria ICB - 16C",14324,13971,14438,14939,15461,15876,16493,17113,17606,18534,19423,20012,20609,21073,21366,21510,21691,21147,21353,21577,22159]
[null,null,null,null,null,null,null,null,null,null,null,null,null,null,null,null,null,null,null,null,null,null,null,null,null,null,null,null,null,null,null,null,null,null,null,null,null,null,null,null,null,null,null,null,null,null,null,null,null,null,null,null,{"$f":"newDataList3!AZ61","v":"North East and Yorkshire"},"NHS North East and North Cumbria Integrated Care Board","NHS North East and North Cumbria ICB - 84H",11434,11752,11995,12445,13051,13523,13861,14165,14669,15154,15525,16054,16575,16891,17345,17465,17569,17323,17173,17408,17471]
[null,null,null,null,null,null,null,null,null,null,null,null,null,null,null,null,null,null,null,null,null,null,null,null,null,null,null,null,null,null,null,null,null,null,null,null,null,null,null,null,null,null,null,null,null,null,null,null,null,null,null,null,{"$f":"newDataList3!AZ62","v":"North East and Yorkshire"},"NHS North East and North Cumbria Integrated Care Board","NHS North East and North Cumbria ICB - 99C",4264,4188,4052,4112,4167,4191,4378,4627,4853,5059,5190,5305,5496,5566,5722,5768,5714,5549,5621,5954,6022]
[null,null,null,null,null,null,null,null,null,null,null,null,null,null,null,null,null,null,null,null,null,null,null,null,null,null,null,null,null,null,null,null,null,null,null,null,null,null,null,null,null,null,null,null,null,null,null,null,null,null,null,null,"North West","NHS Cheshire and Merseyside Integrated Care Board","NHS Cheshire and Merseyside ICB - 01F",2734,2599,2534,2633,2761,2888,3048,3106,3210,3284,3280,3393,3547,3658,3799,3856,3878,3950,4208,4277,4322]
[null,null,null,null,null,null,null,null,null,null,null,null,null,null,null,null,null,null,null,null,null,null,null,null,null,null,null,null,null,null,null,null,null,null,null,null,null,null,null,null,null,null,null,null,null,null,null,null,null,null,null,null,"North West","NHS Cheshire and Merseyside Integrated Care Board","NHS Cheshire and Merseyside ICB - 01J",4010,4381,4363,4587,4939,5122,5142,5188,5472,5448,5564,5661,5654,5747,5829,5885,5937,5916,6256,6258,6182]
[null,null,null,null,null,null,null,null,null,null,null,null,null,null,null,null,null,null,null,null,null,null,null,null,null,null,null,null,null,null,null,null,null,null,null,null,null,null,null,null,null,null,null,null,null,null,null,null,null,null,null,null,"North West","NHS Cheshire and Merseyside Integrated Care Board","NHS Cheshire and Merseyside ICB - 01T",3903,4007,3970,4119,4193,4291,4296,4335,4347,4351,4073,4466,4304,4684,4708,4597,4591,4481,4482,4433,4506]
[null,null,null,null,null,null,null,null,null,null,null,null,null,null,null,null,null,null,null,null,null,null,null,null,null,null,null,null,null,null,null,null,null,null,null,null,null,null,null,null,null,null,null,null,null,null,null,null,null,null,null,null,"North West","NHS Cheshire and Merseyside Integrated Care Board","NHS Cheshire and Merseyside ICB - 01V",2129,1943,1959,1988,2131,2166,2230,2363,2430,2479,2477,2565,2656,2624,2627,2583,2737,2626,2566,2642,2713]
[null,null,null,null,null,null,null,null,null,null,null,null,null,null,null,null,null,null,null,null,null,null,null,null,null,null,null,null,null,null,null,null,null,null,null,null,null,null,null,null,null,null,null,null,null,null,null,null,null,null,null,null,"North West","NHS Cheshire and Merseyside Integrated Care Board","NHS Cheshire and Merseyside ICB - 01X",4622,4597,4581,4763,4847,5002,5392,5708,5849,5954,5750,5916,5960,5902,6192,6048,5953,5778,5649,5828,5906]
[null,null,null,null,null,null,null,null,null,null,null,null,null,null,null,null,null,null,null,null,null,null,null,null,null,null,null,null,null,null,null,null,null,null,null,null,null,null,null,null,null,null,null,null,null,null,null,null,null,null,null,null,"North West","NHS Cheshire and Merseyside Integrated Care Board","NHS Cheshire and Merseyside ICB - 02E",2872,3030,3148,3116,3214,3225,3419,3630,3718,3830,3833,3684,3755,3971,4007,4014,4062,3999,3904,4036,4202]
[null,null,null,null,null,null,null,null,null,null,null,null,null,null,null,null,null,null,null,null,null,null,null,null,null,null,null,null,null,null,null,null,null,null,null,null,null,null,null,null,null,null,null,null,null,null,null,null,null,null,null,null,"North West","NHS Cheshire and Merseyside Integrated Care Board","NHS Cheshire and Merseyside ICB - 12F",7392,7508,7496,7565,7324,7230,7396,7598,7814,7643,8003,8212,8364,8533,8724,8821,9107,8856,8840,8919,9014]
[null,null,null,null,null,null,null,null,null,null,null,null,null,null,null,null,null,null,null,null,null,null,null,null,null,null,null,null,null,null,null,null,null,null,null,null,null,null,null,null,null,null,null,null,null,null,null,null,null,null,null,null,"North West","NHS Cheshire and Merseyside Integrated Care Board","NHS Cheshire and Merseyside ICB - 27D",11059,10688,10722,11121,11527,11795,12108,12435,12784,13137,13421,13808,14245,14658,15354,15670,15903,15610,15604,16051,16350]
[null,null,null,null,null,null,null,null,null,null,null,null,null,null,null,null,null,null,null,null,null,null,null,null,null,null,null,null,null,null,null,null,null,null,null,null,null,null,null,null,null,null,null,null,null,null,null,null,null,null,null,null,"North West","NHS Cheshire and Merseyside Integrated Care Board","NHS Cheshire and Merseyside ICB - 99A",10834,10688,11191,11723,12226,12617,13510,13849,14252,14414,14731,15175,15971,16431,16954,17429,17268,17642,18036,17748,17774]
[null,null,null,null,null,null,null,null,null,null,null,null,null,null,null,null,null,null,null,null,null,null,null,null,null,null,null,null,null,null,null,null,null,null,null,null,null,null,null,null,null,null,null,null,null,null,null,null,null,null,null,null,"North West","NHS Greater Manchester Integrated Care Board","NHS Greater Manchester ICB - 00T",4838,4837,5073,5432,5674,5815,6045,6257,6455,6644,6714,6820,6916,7080,7190,7277,7240,7006,6906,7135,7922]
[null,null,null,null,null,null,null,null,null,null,null,null,null,null,null,null,null,null,null,null,null,null,null,null,null,null,null,null,null,null,null,null,null,null,null,null,null,null,null,null,null,null,null,null,null,null,null,null,null,null,null,null,"North West","NHS Greater Manchester Integrated Care Board","NHS Greater Manchester ICB - 00V",3000,2995,3181,3268,3371,3439,3553,3570,3721,4046,4235,4256,4273,4365,4475,4468,4489,4367,4365,4339,4365]
[null,null,null,null,null,null,null,null,null,null,null,null,null,null,null,null,null,null,null,null,null,null,null,null,null,null,null,null,null,null,null,null,null,null,null,null,null,null,null,null,null,null,null,null,null,null,null,null,null,null,null,null,"North West","NHS Greater Manchester Integrated Care Board","NHS Greater Manchester ICB - 00Y",3684,3733,3826,4005,4107,4247,4568,4977,5118,5167,5202,5347,5525,5686,5815,5907,5833,5625,5701,5768,6105]
[null,null,null,null,null,null,null,null,null,null,null,null,null,null,null,null,null,null,null,null,null,null,null,null,null,null,null,null,null,null,null,null,null,null,null,null,null,null,null,null,null,null,null,null,null,null,null,null,null,null,null,null,"North West","NHS Greater Manchester Integrated Care Board","NHS Greater Manchester ICB - 01D",3508,3274,3826,4017,4317,4472,4789,4947,5098,5154,5276,5489,5616,5756,5969,6061,6108,5914,5806,5966,6562]
[null,null,null,null,null,null,null,null,null,null,null,null,null,null,null,null,null,null,null,null,null,null,null,null,null,null,null,null,null,null,null,null,null,null,null,null,null,null,null,null,null,null,null,null,null,null,null,null,null,null,null,null,"North West","NHS Greater Manchester Integrated Care Board","NHS Greater Manchester ICB - 01G",4767,4922,5471,5940,6286,6837,6639,6906,7076,7105,7071,7151,7092,7083,7123,7210,7526,7587,7444,7862,8071]
[null,null,null,null,null,null,null,null,null,null,null,null,null,null,null,null,null,null,null,null,null,null,null,null,null,null,null,null,null,null,null,null,null,null,null,null,null,null,null,null,null,null,null,null,null,null,null,null,null,null,null,null,"North West","NHS Greater Manchester Integrated Care Board","NHS Greater Manchester ICB - 01W",4250,4406,4748,5046,5468,5652,5843,6109,6423,6605,6711,6948,7103,7171,7295,7348,7416,7172,6943,6847,7061]
[null,null,null,null,null,null,null,null,null,null,null,null,null,null,null,null,null,null,null,null,null,null,null,null,null,null,null,null,null,null,null,null,null,null,null,null,null,null,null,null,null,null,null,null,null,null,null,null,null,null,null,null,"North West","NHS Greater Manchester Integrated Care Board","NHS Greater Manchester ICB - 01Y",4062,4107,4432,4757,4987,5108,5286,5420,5639,5764,5888,6053,6305,6542,6772,6811,6747,6555,6368,6653,6994]
[null,null,null,null,null,null,null,null,null,null,null,null,null,null,null,null,null,null,null,null,null,null,null,null,null,null,null,null,null,null,null,null,null,null,null,null,null,null,null,null,null,null,null,null,null,null,null,null,null,null,null,null,"North West","NHS Greater Manchester Integrated Care Board","NHS Greater Manchester ICB - 02A",2836,2996,3235,3319,3438,3555,3749,3858,3860,4317,4468,4523,4693,4738,4822,4849,4911,4749,4579,4757,4841]
[null,null,null,null,null,null,null,null,null,null,null,null,null,null,null,null,null,null,null,null,null,null,null,null,null,null,null,null,null,null,null,null,null,null,null,null,null,null,null,null,null,null,null,null,null,null,null,null,null,null,null,null,"North West","NHS Greater Manchester Integrated Care Board","NHS Greater Manchester ICB - 02H",5403,5220,5467,5709,5881,6054,6370,6788,7016,7153,7369,7774,8143,8386,8640,8731,8836,8460,8290,8315,9049]
[null,null,null,null,null,null,null,null,null,null,null,null,null,null,null,null,null,null,null,null,null,null,null,null,null,null,null,null,null,null,null,null,null,null,null,null,null,null,null,null,null,null,null,null,null,null,null,null,null,null,null,null,"North West","NHS Greater Manchester Integrated Care Board","NHS Greater Manchester ICB - 14L",8966,9196,9653,10001,10173,10250,10389,10455,10772,11007,11456,11766,12198,12647,13058,13256,13332,12976,12813,13363,14003]
[null,null,null,null,null,null,null,null,null,null,null,null,null,null,null,null,null,null,null,null,null,null,null,null,null,null,null,null,null,null,null,null,null,null,null,null,null,null,null,null,null,null,null,null,null,null,null,null,null,null,null,null,"North West","NHS Lancashire and South Cumbria Integrated Care Board","NHS Lancashire and South Cumbria ICB - 00Q",3301,3132,3153,3249,3422,3426,3473,3575,3640,3679,3889,3860,3936,3906,3890,3865,3895,3812,3790,3754,3828]
[null,null,null,null,null,null,null,null,null,null,null,null,null,null,null,null,null,null,null,null,null,null,null,null,null,null,null,null,null,null,null,null,null,null,null,null,null,null,null,null,null,null,null,null,null,null,null,null,null,null,null,null,"North West","NHS Lancashire and South Cumbria Integrated Care Board","NHS Lancashire and South Cumbria ICB - 00R",3831,3909,3946,4232,4340,4554,4837,5098,5366,5784,6241,6337,6438,6415,6504,6577,6679,6609,6645,6741,6979]
[null,null,null,null,null,null,null,null,null,null,null,null,null,null,null,null,null,null,null,null,null,null,null,null,null,null,null,null,null,null,null,null,null,null,null,null,null,null,null,null,null,null,null,null,null,null,null,null,null,null,null,null,"North West","NHS Lancashire and South Cumbria Integrated Care Board","NHS Lancashire and South Cumbria ICB - 00X",2530,2551,2682,2868,3056,3165,3315,3438,3496,3799,3934,4099,4197,4219,4305,4297,4264,4124,4094,4092,4156]
[null,null,null,null,null,null,null,null,null,null,null,null,null,null,null,null,null,null,null,null,null,null,null,null,null,null,null,null,null,null,null,null,null,null,null,null,null,null,null,null,null,null,null,null,null,null,null,null,null,null,null,null,"North West","NHS Lancashire and South Cumbria Integrated Care Board","NHS Lancashire and South Cumbria ICB - 01A",6928,6987,7342,7619,7840,7932,8137,8479,8777,8994,9125,9386,9694,9910,10038,10094,10058,9667,9680,9863,10075]
[null,null,null,null,null,null,null,null,null,null,null,null,null,null,null,null,null,null,null,null,null,null,null,null,null,null,null,null,null,null,null,null,null,null,null,null,null,null,null,null,null,null,null,null,null,null,null,null,null,null,null,null,"North West","NHS Lancashire and South Cumbria Integrated Care Board","NHS Lancashire and South Cumbria ICB - 01E",3284,3221,3141,3212,3305,3366,3574,3861,4023,4053,4177,4287,4381,4410,4525,4551,4631,4483,4261,4280,4381]
[null,null,null,null,null,null,null,null,null,null,null,null,null,null,null,null,null,null,null,null,null,null,null,null,null,null,null,null,null,null,null,null,null,null,null,null,null,null,null,null,null,null,null,null,null,null,null,null,null,null,null,null,"North West","NHS Lancashire and South Cumbria Integrated Care Board","NHS Lancashire and South Cumbria ICB - 01K",5987,6033,6201,6413,6576,6583,6838,7034,7196,7308,7399,7511,7696,7879,7984,7993,8089,7949,7783,7638,7758]
[null,null,null,null,null,null,null,null,null,null,null,null,null,null,null,null,null,null,null,null,null,null,null,null,null,null,null,null,null,null,null,null,null,null,null,null,null,null,null,null,null,null,null,null,null,null,null,null,null,null,null,null,"North West","NHS Lancashire and South Cumbria Integrated Care Board","NHS Lancashire and South Cumbria ICB - 02G",2011,1800,1923,1995,2135,2173,2279,2373,2379,2394,2443,2497,2590,2604,2646,2693,2674,2630,2587,2585,2619]
[null,null,null,null,null,null,null,null,null,null,null,null,null,null,null,null,null,null,null,null,null,null,null,null,null,null,null,null,null,null,null,null,null,null,null,null,null,null,null,null,null,null,null,null,null,null,null,null,null,null,null,null,"North West","NHS Lancashire and South Cumbria Integrated Care Board","NHS Lancashire and South Cumbria ICB - 02M",2946,3039,3151,3346,3470,3539,3739,3916,4094,4272,4496,4680,4867,5051,5190,5335,5296,5138,5060,5137,5307]
[null,null,null,null,null,null,null,null,null,null,null,null,null,null,null,null,null,null,null,null,null,null,null,null,null,null,null,null,null,null,null,null,null,null,null,null,null,null,null,null,null,null,null,null,null,null,null,null,null,null,null,null,"South East","NHS Buckinghamshire, Oxfordshire and Berkshire West Integrated Care Board","NHS Buckinghamshire, Oxfordshire and Berkshire West ICB - 10Q",5942,6195,6612,7091,7336,7540,7877,8129,8411,8780,9161,9557,9897,10243,10631,10809,10796,10639,10526,10746,11148]
[null,null,null,null,null,null,null,null,null,null,null,null,null,null,null,null,null,null,null,null,null,null,null,null,null,null,null,null,null,null,null,null,null,null,null,null,null,null,null,null,null,null,null,null,null,null,null,null,null,null,null,null,"South East","NHS Buckinghamshire, Oxfordshire and Berkshire West Integrated Care Board","NHS Buckinghamshire, Oxfordshire and Berkshire West ICB - 14Y",4418,4645,4916,5133,5329,5588,6038,6470,6928,7183,7372,7403,7544,7616.5,7689,7632,7648,7421,7242,7131,7275]
[null,null,null,null,null,null,null,null,null,null,null,null,null,null,null,null,null,null,null,null,null,null,null,null,null,null,null,null,null,null,null,null,null,null,null,null,null,null,null,null,null,null,null,null,null,null,null,null,null,null,null,null,"South East","NHS Buckinghamshire, Oxfordshire and Berkshire West Integrated Care Board","NHS Buckinghamshire, Oxfordshire and Berkshire West ICB - 15A",3734,3893,4103,4283,4531,4715,4892,5103,5235,5354,5624,5884,6144,6415,6748,6866,6827,6754,6813,6817,6979]
[null,null,null,null,null,null,null,null,null,null,null,null,null,null,null,null,null,null,null,null,null,null,null,null,null,null,null,null,null,null,null,null,null,null,null,null,null,null,null,null,null,null,null,null,null,null,null,null,null,null,null,null,"South East","NHS Frimley Integrated Care Board","NHS Frimley ICB - D4U1Y",6253,6586,6825,7133,7404,7475,7790,8073,8242,8382,8692,9090,9486,9954,10169,10409,10374,10291,10118,10284,10452]
[null,null,null,null,null,null,null,null,null,null,null,null,null,null,null,null,null,null,null,null,null,null,null,null,null,null,null,null,null,null,null,null,null,null,null,null,null,null,null,null,null,null,null,null,null,null,null,null,null,null,null,null,"South East","NHS Hampshire and Isle of Wight Integrated Care Board","NHS Hampshire and Isle Of Wight ICB - 10R",2692,2848,2936,3126,3227,3358,3501,3646,3872,4082,4218,4451,4563,4704,4806,4864,4914,4872,5293,6388,6728]
[null,null,null,null,null,null,null,null,null,null,null,null,null,null,null,null,null,null,null,null,null,null,null,null,null,null,null,null,null,null,null,null,null,null,null,null,null,null,null,null,null,null,null,null,null,null,null,null,null,null,null,null,"South East","NHS Hampshire and Isle of Wight Integrated Care Board","NHS Hampshire and Isle Of Wight ICB - D9Y0V",17439,18105,19205,20118,21083,21732,22898,24253,25319,26141,27364,28354,29608,30651,31843,32565,33036,32493,32739,33231,34554]
[null,null,null,null,null,null,null,null,null,null,null,null,null,null,null,null,null,null,null,null,null,null,null,null,null,null,null,null,null,null,null,null,null,null,null,null,null,null,null,null,null,null,null,null,null,null,null,null,null,null,null,null,"South East","NHS Kent and Medway Integrated Care Board","NHS Kent and Medway ICB - 91Q",20314,21193,23375,24868,26355,27318,28679,30045,31257,32540,33798,35316,36487,37709,38987,39327,39730,39419,39301,40015,40986]
[null,null,null,null,null,null,null,null,null,null,null,null,null,null,null,null,null,null,null,null,null,null,null,null,null,null,null,null,null,null,null,null,null,null,null,null,null,null,null,null,null,null,null,null,null,null,null,null,null,null,null,null,"South East","NHS Surrey Heartlands Integrated Care Board","NHS Surrey Heartlands ICB - 92A",9579,10110,10456,10941,11407,11678,11975,12438,12733,12923,13167,13639,13835,14047,14292,14293,14325,14273,14181,14445,14776]
[null,null,null,null,null,null,null,null,null,null,null,null,null,null,null,null,null,null,null,null,null,null,null,null,null,null,null,null,null,null,null,null,null,null,null,null,null,null,null,null,null,null,null,null,null,null,null,null,null,null,null,null,"South East","NHS Sussex Integrated Care Board","NHS Sussex ICB - 09D",2799,2794,2912,3048,3136,3247,3381,3583,3737,3820,3916,4125,4232,4373,4389,4830,4861,4780,4818,5178,5417]
[null,null,null,null,null,null,null,null,null,null,null,null,null,null,null,null,null,null,null,null,null,null,null,null,null,null,null,null,null,null,null,null,null,null,null,null,null,null,null,null,null,null,null,null,null,null,null,null,null,null,null,null,"South East","NHS Sussex Integrated Care Board","NHS Sussex ICB - 70F",8961,9795,10629,11174,11807,12073,12421,12900,13529,14004,14399,14898,15309,15909,16329,16653,16593,16502,16448,17073,17479]
[null,null,null,null,null,null,null,null,null,null,null,null,null,null,null,null,null,null,null,null,null,null,null,null,null,null,null,null,null,null,null,null,null,null,null,null,null,null,null,null,null,null,null,null,null,null,null,null,null,null,null,null,"South East","NHS Sussex Integrated Care Board","NHS Sussex ICB - 97R",6667,7044,7434,8051,8733,9138,9720,10287,10652,11056,11342,11762,11558,12343,12888,13178,13290,13099,13196,13619,14065]
[null,null,null,null,null,null,null,null,null,null,null,null,null,null,null,null,null,null,null,null,null,null,null,null,null,null,null,null,null,null,null,null,null,null,null,null,null,null,null,null,null,null,null,null,null,null,null,null,null,null,null,null,"South West","NHS Bath and North East Somerset, Swindon and Wiltshire Integrated Care Board","NHS Bath and North East Somerset, Swindon and Wiltshire ICB - 92G",10608,10683,11124,11418,11792,12201,12772,13207,13629,14116,14571,14941,15298,15589,15906,16579,16581,16464,16927,17802,18583]
[null,null,null,null,null,null,null,null,null,null,null,null,null,null,null,null,null,null,null,null,null,null,null,null,null,null,null,null,null,null,null,null,null,null,null,null,null,null,null,null,null,null,null,null,null,null,null,null,null,null,null,null,"South West","NHS Bristol, North Somerset and South Gloucestershire Integrated Care Board","NHS Bristol, North Somerset and South Gloucestershire ICB - 15C",12048,12210,12754,13278,13901,13965,14514,14993,15794,16060,16495,16835,17384,17996,18554,18781,18953,18639,18595,19241,20316]
[null,null,null,null,null,null,null,null,null,null,null,null,null,null,null,null,null,null,null,null,null,null,null,null,null,null,null,null,null,null,null,null,null,null,null,null,null,null,null,null,null,null,null,null,null,null,null,null,null,null,null,null,"South West","NHS Cornwall and the Isles of Scilly Integrated Care Board","NHS Cornwall and The Isles Of Scilly ICB - 11N",7529,7879,8368,8971,9298,9596,10036,10376,10732,11188,11481,11855,12290,12681,7105,13755,14095,13890,14348,14538,14897]
[null,null,null,null,null,null,null,null,null,null,null,null,null,null,null,null,null,null,null,null,null,null,null,null,null,null,null,null,null,null,null,null,null,null,null,null,null,null,null,null,null,null,null,null,null,null,null,null,null,null,null,null,"South West","NHS Devon Integrated Care Board","NHS Devon ICB - 15N",14635,15507,16779,17716,18739,19425,20622,21842,23015,23971,24376,25359,26107,26947,26808,28793,29215,28980,29339,30210,31172]
[null,null,null,null,null,null,null,null,null,null,null,null,null,null,null,null,null,null,null,null,null,null,null,null,null,null,null,null,null,null,null,null,null,null,null,null,null,null,null,null,null,null,null,null,null,null,null,null,null,null,null,null,"South West","NHS Dorset Integrated Care Board","NHS Dorset ICB - 11J",9612,9931,10369,11072,11476,11879,12357,12946,13667,14219,14697,15344,16143,16909,17473,17860,17820,17711,17493,17826,18090]
[null,null,null,null,null,null,null,null,null,null,null,null,null,null,null,null,null,null,null,null,null,null,null,null,null,null,null,null,null,null,null,null,null,null,null,null,null,null,null,null,null,null,null,null,null,null,null,null,null,null,null,null,"South West","NHS Gloucestershire Integrated Care Board","NHS Gloucestershire ICB - 11M",7442,7623,8032,8473,8758,9063,9478,9861,10199,10539,10848,11020,11375,11568,11810,12269,12366,12286,12431,12683,13277]
[null,null,null,null,null,null,null,null,null,null,null,null,null,null,null,null,null,null,null,null,null,null,null,null,null,null,null,null,null,null,null,null,null,null,null,null,null,null,null,null,null,null,null,null,null,null,null,null,null,null,null,null,"South West","NHS Somerset Integrated Care Board","NHS Somerset ICB - 11X",7367,7402,7976,8296,8748,9105,9487,9924,10507,11029,11351,11972,12446,12948,13527,13653,13553,13295,13128,13427,13843]

{"sheet":"popdata","index":45,"n_rows":125,"n_cols":14,"rows_kept":125,"cut":false,"hidden":true,"merged":[]}
["Region","STP Code","STP Name","CCG code","CCG Code","CCG21NM",null,"Dropdown 1","Dropdown 2"]
["London","E54000027","North West London Health and Care Partnership","00Q","E38000256","NHS North West London CCG",null,"England","Total",null,"Total ",null,1,"Total"]
["London","E54000028","North London Partners in Health and Care","00R","E38000240","NHS North Central London CCG",null,"Region","North of England","North of England","Greater Manchester Health and Social Care Partnership","Greater Manchester Health and Social Care Partnership",2,"Total"]
["London","E54000029","East London Health and Care Partnership","00X","E38000255","NHS North East London CCG",null,null,"Midlands and East of England",null,"Cheshire and Merseyside",null,2,"NHS Bolton CCG"]
["London","E54000030","Our Healthier South East London","01A","E38000244","NHS South East London CCG",null,null,"London",null,"South Yorkshire and Bassetlaw",null,2,"NHS Bury CCG"]
["London","E54000031","South West London Health and Care Partnership","01E","E38000245","NHS South West London CCG",null,null,"South of England",null,"Healthier Lancashire and South Cumbria",null,2,"NHS Heywood, Middleton and Rochdale CCG"]
["Midlands and East of England","E54000010","Staffordshire and Stoke on Trent","02A","E38000028","NHS Cannock Chase CCG",null,null,null,null,"Cumbria and North East",null,2,"NHS Oldham CCG"]
["Midlands and East of England","E54000010","Staffordshire and Stoke on Trent","02H","E38000053","NHS East Staffordshire CCG",null,null,null,null,"Humber, Coast and Vale",null,2,"NHS Salford CCG"]
["Midlands and East of England","E54000010","Staffordshire and Stoke on Trent","14L","E38000126","NHS North Staffordshire CCG",null,null,null,null,"West Yorkshire and Harrogate (Health and Care Partnership)",null,2,"NHS Stockport CCG"]
["Midlands and East of England","E54000010","Staffordshire and Stoke on Trent","01C","E38000153","NHS South East Staffordshire and Seisdon Peninsula CCG",null,null,null,"Midlands and East of England","Total ",null,2,"NHS Tameside and Glossop CCG"]
["Midlands and East of England","E54000010","Staffordshire and Stoke on Trent","01F","E38000173","NHS Stafford and Surrounds CCG",null,null,null,null,"Staffordshire and Stoke on Trent",null,2,"NHS Trafford CCG"]
["Midlands and East of England","E54000010","Staffordshire and Stoke on Trent","01J","E38000175","NHS Stoke on Trent CCG",null,null,null,null,"Shropshire and Telford and Wrekin",null,2,"NHS Wigan Borough CCG"]
["Midlands and East of England","E54000011","Shropshire and Telford and Wrekin","01R","E38000257","NHS Shropshire, Telford and Wrekin CCG",null,null,null,null,"Joined Up Care Derbyshire",null,2,"NHS Manchester CCG"]
["Midlands and East of England","E54000012","Joined Up Care Derbyshire","01T","E38000229","NHS Derby and Derbyshire CCG",null,null,null,null,"Lincolnshire","Cheshire and Merseyside",3,"Total"]
["Midlands and East of England","E54000013","Lincolnshire","01V","E38000238","NHS Lincolnshire CCG",null,null,null,null,"Nottingham and Nottinghamshire Health and Care",null,3,"NHS Halton CCG"]
["Midlands and East of England","E54000014","Nottingham and Nottinghamshire Health and Care","01X","E38000243","NHS Nottingham and Nottinghamshire CCG",null,null,null,null,"Leicester, Leicestershire and Rutland",null,3,"NHS Knowsley CCG"]
["Midlands and East of England","E54000015","Leicester, Leicestershire and Rutland","02D","E38000051","NHS East Leicestershire and Rutland CCG",null,null,null,null,"The Black Country and West Birmingham",null,3,"NHS Liverpool CCG"]
["Midlands and East of England","E54000015","Leicester, Leicestershire and Rutland","02E","E38000097","NHS Leicester City CCG",null,null,null,null,"Birmingham and Solihull",null,3,"NHS South Sefton CCG"]
["Midlands and East of England","E54000015","Leicester, Leicestershire and Rutland","02F","E38000201","NHS West Leicestershire CCG",null,null,null,null,"Coventry and Warwickshire",null,3,"NHS Southport and Formby CCG"]
["Midlands and East of England","E54000016","The Black Country and West Birmingham","12F","E38000250","NHS Black Country and West Birmingham CCG",null,null,null,null,"Herefordshire and Worcestershire",null,3,"NHS St Helens CCG"]
["Midlands and East of England","E54000017","Birmingham and Solihull","99A","E38000220","NHS Birmingham and Solihull CCG",null,null,null,null,"Northamptonshire",null,3,"NHS Warrington CCG"]
["Midlands and East of England","E54000018","Coventry and Warwickshire","02P","E38000251","NHS Coventry and Warwickshire CCG",null,null,null,null,"Cambridgeshire and Peterborough",null,3,"NHS Wirral CCG"]
["Midlands and East of England","E54000019","Herefordshire and Worcestershire","02Q","E38000236","NHS Herefordshire and Worcestershire CCG",null,null,null,null,"Norfolk and Waveney Health and Care Partnership",null,3,"NHS Cheshire CCG"]
["Midlands and East of England","E54000020","Northamptonshire","02X","E38000242","NHS Northamptonshire CCG",null,null,null,null,"Suffolk and North East Essex","South Yorkshire and Bassetlaw",4,"Total"]
["Midlands and East of England","E54000021","Cambridgeshire and Peterborough","03L","E38000026","NHS Cambridgeshire and Peterborough CCG",null,null,null,null,"Bedfordshire, Luton and Milton Keynes",null,4,"NHS Barnsley CCG"]
["Midlands and East of England","E54000022","Norfolk and Waveney Health and Care Partnership","03N","E38000239","NHS Norfolk and Waveney CCG",null,null,null,null,"Hertfordshire and West Essex",null,4,"NHS Bassetlaw CCG"]
["Midlands and East of England","E54000023","Suffolk and North East Essex","03D","E38000086","NHS Ipswich and East Suffolk CCG",null,null,null,null,"Mid and South Essex",null,4,"NHS Doncaster CCG"]
["Midlands and East of England","E54000023","Suffolk and North East Essex","00C","E38000117","NHS North East Essex CCG",null,null,null,"London","Total ",null,4,"NHS Rotherham CCG"]
["Midlands and East of England","E54000023","Suffolk and North East Essex","00D","E38000204","NHS West Suffolk CCG",null,null,null,null,"North West London Health and Care Partnership",null,4,"NHS Sheffield CCG"]
["Midlands and East of England","E54000024","Bedfordshire, Luton and Milton Keynes","00K","E38000249","NHS Bedfordshire, Luton and Milton Keynes CCG",null,null,null,null,"North London Partners in Health and Care","Healthier Lancashire and South Cumbria",5,"Total"]
["Midlands and East of England","E54000025","Hertfordshire and West Essex","00M","E38000049","NHS East and North Hertfordshire CCG",null,null,null,null,"East London Health and Care Partnership",null,5,"NHS Blackburn with Darwen CCG"]
["Midlands and East of England","E54000025","Hertfordshire and West Essex","00J","E38000079","NHS Herts Valleys CCG",null,null,null,null,"Our Healthier South East London",null,5,"NHS Blackpool CCG"]
["Midlands and East of England","E54000025","Hertfordshire and West Essex","00L","E38000197","NHS West Essex CCG",null,null,null,null,"South West London Health and Care Partnership",null,5,"NHS Chorley and South Ribble CCG"]
["Midlands and East of England","E54000026","Mid and South Essex","00N","E38000007","NHS Basildon and Brentwood CCG",null,null,null,"South of England","Total ",null,5,"NHS East Lancashire CCG"]
["Midlands and East of England","E54000026","Mid and South Essex","00P","E38000030","NHS Castle Point and Rochford CCG",null,null,null,null,"Kent and Medway",null,5,"NHS West Lancashire CCG"]
["Midlands and East of England","E54000026","Mid and South Essex","13T","E38000106","NHS Mid Essex CCG",null,null,null,null,"Frimley Health and Care ICS",null,5,"NHS Fylde and Wyre CCG"]
["Midlands and East of England","E54000026","Mid and South Essex","99C","E38000168","NHS Southend CCG",null,null,null,null,"Cornwall and the Isles of Scilly Health and Social Care Partnership",null,5,"NHS Greater Preston CCG"]
["Midlands and East of England","E54000026","Mid and South Essex","01H","E38000185","NHS Thurrock CCG",null,null,null,null,"Devon",null,5,"NHS Morecambe Bay CCG"]
["North of England","E54000007","Greater Manchester Health and Social Care Partnership","02N","E38000016","NHS Bolton CCG",null,null,null,null,"Somerset","Cumbria and North East",6,"Total"]
["North of England","E54000007","Greater Manchester Health and Social Care Partnership","02R","E38000024","NHS Bury CCG",null,null,null,null,"Bristol, North Somerset and South Gloucestershire",null,6,"NHS North Tyneside CCG"]
["North of England","E54000007","Greater Manchester Health and Social Care Partnership","02T","E38000080","NHS Heywood, Middleton and Rochdale CCG",null,null,null,null,"Bath and North East Somerset, Swindon and Wiltshire",null,6,"NHS Northumberland CCG"]
["North of England","E54000007","Greater Manchester Health and Social Care Partnership","02V","E38000135","NHS Oldham CCG",null,null,null,null,"Dorset",null,6,"NHS South Tyneside CCG"]
["North of England","E54000007","Greater Manchester Health and Social Care Partnership","02W","E38000143","NHS Salford CCG",null,null,null,null,"Hampshire and the Isle of Wight",null,6,"NHS Sunderland CCG"]
["North of England","E54000007","Greater Manchester Health and Social Care Partnership","03A","E38000174","NHS Stockport CCG",null,null,null,null,"Gloucestershire",null,6,"NHS Newcastle Gateshead CCG"]
["North of England","E54000007","Greater Manchester Health and Social Care Partnership","03C","E38000182","NHS Tameside and Glossop CCG",null,null,null,null,"Buckinghamshire, Oxfordshire and Berkshire West",null,6,"NHS North Cumbria CCG"]
["North of England","E54000007","Greater Manchester Health and Social Care Partnership","03E","E38000187","NHS Trafford CCG",null,null,null,null,"Surrey Heartlands Health and Care Partnership",null,6,"NHS County Durham CCG"]
["North of England","E54000007","Greater Manchester Health and Social Care Partnership","03G","E38000205","NHS Wigan Borough CCG",null,null,null,null,"Sussex Health and Care Partnership",null,6,"NHS Tees Valley CCG"]
["North of England","E54000007","Greater Manchester Health and Social Care Partnership","03J","E38000217","NHS Manchester CCG",null,null,null,null,null,"Humber, Coast and Vale",7,"Total"]
["North of England","E54000008","Cheshire and Merseyside","03R","E38000068","NHS Halton CCG",null,null,null,null,null,null,7,"NHS East Riding of Yorkshire CCG"]
["North of England","E54000008","Cheshire and Merseyside","02Y","E38000091","NHS Knowsley CCG",null,null,null,null,null,null,7,"NHS Hull CCG"]
["North of England","E54000008","Cheshire and Merseyside","03F","E38000101","NHS Liverpool CCG",null,null,null,null,null,null,7,"NHS North East Lincolnshire CCG"]
["North of England","E54000008","Cheshire and Merseyside","03H","E38000161","NHS South Sefton CCG",null,null,null,null,null,null,7,"NHS North Lincolnshire CCG"]
["North of England","E54000008","Cheshire and Merseyside","03K","E38000170","NHS Southport and Formby CCG",null,null,null,null,null,null,7,"NHS Vale of York CCG"]
["North of England","E54000008","Cheshire and Merseyside","03M","E38000172","NHS St Helens CCG",null,null,null,null,null,null,7,"NHS North Yorkshire CCG"]
["North of England","E54000008","Cheshire and Merseyside","03Q","E38000194","NHS Warrington CCG",null,null,null,null,null,"West Yorkshire and Harrogate (Health and Care Partnership)",8,"Total"]
["North of England","E54000008","Cheshire and Merseyside","00T","E38000208","NHS Wirral CCG",null,null,null,null,null,null,8,"NHS Calderdale CCG"]
["North of England","E54000008","Cheshire and Merseyside","00V","E38000233","NHS Cheshire CCG",null,null,null,null,null,null,8,"NHS Kirklees CCG"]
["North of England","E54000009","South Yorkshire and Bassetlaw","00Y","E38000006","NHS Barnsley CCG",null,null,null,null,null,null,8,"NHS Wakefield CCG"]
["North of England","E54000009","South Yorkshire and Bassetlaw","01D","E38000008","NHS Bassetlaw CCG",null,null,null,null,null,null,8,"NHS Leeds CCG"]
["North of England","E54000009","South Yorkshire and Bassetlaw","01G","E38000044","NHS Doncaster CCG",null,null,null,null,null,null,8,"NHS Bradford District and Craven CCG"]
["North of England","E54000009","South Yorkshire and Bassetlaw","01W","E38000141","NHS Rotherham CCG"]
["North of England","E54000009","South Yorkshire and Bassetlaw","01Y","E38000146","NHS Sheffield CCG",null,null,null,null,null,"Staffordshire and Stoke on Trent",2,"Total"]
["North of England","E54000048","Healthier Lancashire and South Cumbria","04R","E38000014","NHS Blackburn with Darwen CCG",null,null,null,null,null,null,2,"NHS Cannock Chase CCG"]
["North of England","E54000048","Healthier Lancashire and South Cumbria","03T","E38000015","NHS Blackpool CCG",null,null,null,null,null,null,2,"NHS East Staffordshire CCG"]
["North of England","E54000048","Healthier Lancashire and South Cumbria","04D","E38000034","NHS Chorley and South Ribble CCG",null,null,null,null,null,null,2,"NHS North Staffordshire CCG"]
["North of England","E54000048","Healthier Lancashire and South Cumbria","04Q","E38000050","NHS East Lancashire CCG",null,null,null,null,null,null,2,"NHS South East Staffordshire and Seisdon Peninsula CCG"]
["North of England","E54000048","Healthier Lancashire and South Cumbria","99D","E38000200","NHS West Lancashire CCG",null,null,null,null,null,null,2,"NHS Stafford and Surrounds CCG"]
["North of England","E54000048","Healthier Lancashire and South Cumbria","04E","E38000226","NHS Fylde and Wyre CCG",null,null,null,null,null,null,2,"NHS Stoke on Trent CCG"]
["North of England","E54000048","Healthier Lancashire and South Cumbria","04H","E38000227","NHS Greater Preston CCG",null,null,null,null,null,"Shropshire and Telford and Wrekin",3,"NHS Shropshire, Telford and Wrekin CCG"]
["North of England","E54000048","Healthier Lancashire and South Cumbria","04K","E38000228","NHS Morecambe Bay CCG",null,null,null,null,null,"Joined Up Care Derbyshire",4,"NHS Derby and Derbyshire CCG"]
["North of England","E54000050","Cumbria and North East","04L","E38000127","NHS North Tyneside CCG",null,null,null,null,null,"Lincolnshire",5,"NHS Lincolnshire CCG"]
["North of England","E54000050","Cumbria and North East","04M","E38000130","NHS Northumberland CCG",null,null,null,null,null,"Nottingham and Nottinghamshire Health and Care",6,"NHS Nottingham and Nottinghamshire CCG"]
["North of England","E54000050","Cumbria and North East","04N","E38000163","NHS South Tyneside CCG",null,null,null,null,null,"Leicester, Leicestershire and Rutland",7,"NHS East Leicestershire and Rutland CCG"]
["North of England","E54000050","Cumbria and North East","03W","E38000176","NHS Sunderland CCG",null,null,null,null,null,null,7,"NHS Leicester City CCG"]
["North of England","E54000050","Cumbria and North East","04C","E38000212","NHS Newcastle Gateshead CCG",null,null,null,null,null,null,7,"NHS West Leicestershire CCG"]
["North of England","E54000050","Cumbria and North East","04V","E38000215","NHS North Cumbria CCG",null,null,null,null,null,"The Black Country and West Birmingham",8,"NHS Black Country and West Birmingham CCG"]
["North of England","E54000050","Cumbria and North East","05C","E38000234","NHS County Durham CCG",null,null,null,null,null,"Birmingham and Solihull",9,"NHS Birmingham and Solihull CCG"]
["North of England","E54000050","Cumbria and North East","05L","E38000247","NHS Tees Valley CCG",null,null,null,null,null,"Coventry and Warwickshire",10,"NHS Coventry and Warwickshire CCG"]
["North of England","E54000051","Humber, Coast and Vale","05Y","E38000052","NHS East Riding of Yorkshire CCG",null,null,null,null,null,"Herefordshire and Worcestershire",11,"NHS Herefordshire CCG"]
["North of England","E54000051","Humber, Coast and Vale","06A","E38000085","NHS Hull CCG",null,null,null,null,null,"Northamptonshire",12,"NHS Northamptonshire CCG"]
["North of England","E54000051","Humber, Coast and Vale","04X","E38000119","NHS North East Lincolnshire CCG",null,null,null,null,null,"Cambridgeshire and Peterborough",13,"NHS Cambridgeshire and Peterborough CCG"]
["North of England","E54000051","Humber, Coast and Vale","05P","E38000122","NHS North Lincolnshire CCG",null,null,null,null,null,"Norfolk and Waveney Health and Care Partnership",14,"NHS Norfolk and Waveney CCG"]
["North of England","E54000051","Humber, Coast and Vale","13P","E38000188","NHS Vale of York CCG",null,null,null,null,null,"Suffolk and North East Essex",15,"Total"]
["North of England","E54000051","Humber, Coast and Vale","05A","E38000241","NHS North Yorkshire CCG",null,null,null,null,null,null,15,"NHS Ipswich and East Suffolk CCG"]
["North of England","E54000054","West Yorkshire and Harrogate (Health and Care Partnership)","05T","E38000025","NHS Calderdale CCG",null,null,null,null,null,null,15,"NHS North East Essex CCG"]
["North of England","E54000054","West Yorkshire and Harrogate (Health and Care Partnership)","06D","E38000254","NHS Kirklees CCG",null,null,null,null,null,null,15,"NHS West Suffolk CCG"]
["North of England","E54000054","West Yorkshire and Harrogate (Health and Care Partnership)","03V","E38000190","NHS Wakefield CCG",null,null,null,null,null,"Bedfordshire, Luton and Milton Keynes",16,"NHS Bedfordshire, Luton and Milton Keynes CCG"]
["North of England","E54000054","West Yorkshire and Harrogate (Health and Care Partnership)","04G","E38000225","NHS Leeds CCG",null,null,null,null,null,"Hertfordshire and West Essex",17,"Total"]
["North of England","E54000054","West Yorkshire and Harrogate (Health and Care Partnership)","06H","E38000232","NHS Bradford District and Craven CCG",null,null,null,null,null,null,17,"NHS East and North Hertfordshire CCG"]
["South of England","E54000032","Kent and Medway","01K","E38000237","NHS Kent and Medway CCG",null,null,null,null,null,null,17,"NHS Herts Valley CCG"]
["South of England","E54000034","Frimley Health and Care ICS","02G","E38000252","NHS Frimley CCG",null,null,null,null,null,"Mid and South Essex",18,"Total"]
["South of England","E54000036","Cornwall and the Isles of Scilly Health and Social Care Partnership","02M","E38000089","NHS Kernow CCG",null,null,null,null,null,null,18,"NHS West Essex CCG"]
["South of England","E54000037","Devon","04Y","E38000230","NHS Devon CCG",null,null,null,null,null,null,18,"NHS Basildon and Brentwood CCG"]
["South of England","E54000038","Somerset","05D","E38000150","NHS Somerset CCG",null,null,null,null,null,null,18,"NHS Castle Point and Rochford CCG"]
["South of England","E54000039","Bristol, North Somerset and South Gloucestershire","05G","E38000222","NHS Bristol, North Somerset and South Gloucestershire CCG",null,null,null,null,null,null,18,"NHS Mid Essex CCG"]
["South of England","E54000040","Bath and North East Somerset, Swindon and Wiltshire","05Q","E38000231","NHS Bath and North East Somerset, Swindon and Wiltshire CCG",null,null,null,null,null,null,18,"NHS Southend CCG"]
["South of England","E54000041","Dorset","05V","E38000045","NHS Dorset CCG",null,null,null,null,null,null,18,"NHS Thurrock CCG"]
["South of England","E54000042","Hampshire and the Isle of Wight","05W","E38000253","NHS Hampshire, Southampton and Isle of Wight CCG"]
["South of England","E54000042","Hampshire and the Isle of Wight","05N","E38000137","NHS Portsmouth CCG",null,null,null,null,null,"North West London Health and Care Partnership",2,"NHS North West London CCG"]
["South of England","E54000043","Gloucestershire","05X","E38000062","NHS Gloucestershire CCG",null,null,null,null,null,"North London Partners in Health and Care",3,"NHS North Central London CCG"]
["South of England","E54000044","Buckinghamshire, Oxfordshire and Berkshire West","03X","E38000136","NHS Oxfordshire CCG",null,null,null,null,null,"East London Health and Care Partnership",4,"NHS North East London CCG"]
["South of England","E54000044","Buckinghamshire, Oxfordshire and Berkshire West","03Y","E38000221","NHS Berkshire West CCG",null,null,null,null,null,"Our Healthier South East London",5,"NHS South East London CCG"]
["South of England","E54000044","Buckinghamshire, Oxfordshire and Berkshire West","04J","E38000223","NHS Buckinghamshire CCG",null,null,null,null,null,"South West London Health and Care Partnership",6,"NHS South West London CCG"]
["South of England","E54000052","Surrey Heartlands Health and Care Partnership","05H","E38000246","NHS Surrey Heartlands CCG"]
["South of England","E54000053","Sussex Health and Care Partnership","05R","E38000021","NHS Brighton and Hove CCG",null,null,null,null,null,"Kent and Medway",2,"NHS Kent and Medway CCG"]
["South of England","E54000053","Sussex Health and Care Partnership","05F","E38000235","NHS East Sussex CCG",null,null,null,null,null,"Frimley Health and Care ICS",3,"NHS Frimley CCG"]
["South of England","E54000053","Sussex Health and Care Partnership","05J","E38000248","NHS West Sussex CCG",null,null,null,null,null,"Cornwall and the Isles of Scilly Health and Social Care Partnership",4,"NHS Kernow CCG"]
[null,null,null,null,null,null,null,null,null,null,null,"Devon",5,"NHS Devon CCG"]
[null,null,null,null,null,null,null,null,null,null,null,"Somerset",6,"NHS Somerset CCG"]
[null,null,null,null,null,null,null,null,null,null,null,"Bristol, North Somerset and South Gloucestershire",7,"NHS Bristol, North Somerset and South Gloucestershire CCG"]
[null,null,null,null,null,null,null,null,null,null,null,"Bath and North East Somerset, Swindon and Wiltshire",8,"NHS Bath and North East Somerset, Swindon and Wiltshire CCG"]
[null,null,null,null,null,null,null,null,null,null,null,"Dorset",9,"NHS Dorset CCG"]
[null,null,null,null,null,null,null,null,null,null,null,"Hampshire and the Isle of Wight",10,"Total"]
[null,null,null,null,null,null,null,null,null,null,null,null,10,"NHS Hampshire, Southampton and Isle of Wight CCG"]
[null,null,null,null,null,null,null,null,null,null,null,null,10,"NHS Portsmouth CCG"]
[null,null,null,null,null,null,null,null,null,null,null,"Gloucestershire",11,"NHS Gloucestershire CCG"]
[null,null,null,null,null,null,null,null,null,null,null,"Buckinghamshire, Oxfordshire and Berkshire West",12,"Total"]
[null,null,null,null,null,null,null,null,null,null,null,null,12,"NHS Oxfordshire CCG"]
[null,null,null,null,null,null,null,null,null,null,null,null,12,"NHS Berkshire West CCG"]
[null,null,null,null,null,null,null,null,null,null,null,null,12,"NHS Buckinghamshire CCG"]
[null,null,null,null,null,null,null,null,null,null,null,"Surrey Heartlands Health and Care Partnership",13,"NHS Surrey Heartlands CCG"]
[null,null,null,null,null,null,null,null,null,null,null,"Sussex and East Surrey Health and Care Partnership",14,"Total "]
[null,null,null,null,null,null,null,null,null,null,null,null,14,"NHS Brighton and Hove CCG"]
[null,null,null,null,null,null,null,null,null,null,null,null,14,"NHS East Sussex CCG"]
[null,null,null,null,null,null,null,null,null,null,null,null,14,"NHS West Sussex CCG"]

{"sheet":"newDataPrevalence","index":46,"n_rows":107,"n_cols":37,"rows_kept":107,"cut":false,"hidden":true,"merged":[]}
["Region","Start Row","End Row",2012,2013,2014,2015,2016,2017,2018,2019,2020,null,"Region","Sub-Region Name","Start Row","End Row",2015,2016,2017,2018,2019,2020,null,null,"Region","ICSName","CCG Name",2012,2013,2014,2015,2016,2017,2018,2019,2020]
["East of England",2,{"$f":"B2+COUNTIF(N:N,A2)-1","v":1},null,null,null,1.7683145519390622E-2,1.7791759238383296E-2,1.8043561384902856E-2,1.8351271779245042E-2,1.8419686411349927E-2,1.8337046346694943E-2,null,"London","East London Health and Care Partnership",2,{"$f":"P2+COUNTIF(AA:AA,O2)-1","v":2},1.1723421774659415,1.1584985512295132,1.1364673244330568,1.1366064642125899,1.1284088502204099,1.0984133154379301,null,null,"London","East London Health and Care Partnership","NHS North East London CCG",1.114622059996405,1.114622059996405,1.114622059996405,1.114622059996405,1.114622059996405,1.114622059996405,1.114622059996405,1.1308308045548801,1.0984133154379301]
["London",{"$f":"C2+1","v":2},{"$f":"B3+COUNTIF(N:N,A3)-1","v":6},null,null,null,1.1347245958517735E-2,1.1471035205765574E-2,1.1442776357108084E-2,1.1447674685174276E-2,1.1408090486653939E-2,1.1092816254198997E-2,null,"London","North London Partners in Health and Care",{"$f":"Q2+1","v":3},{"$f":"P3+COUNTIF(AA:AA,O3)-1","v":3},1.1352367675980322,1.1588145408785648,1.1664187821957244,1.1693854169259701,1.2236991540775799,1.13648954804458,null,null,"London","North London Partners in Health and Care","NHS North Central London CCG",1.17713473695724,1.17713473695724,1.17713473695724,1.17713473695724,1.17713473695724,1.17713473695724,1.17713473695724,1.2177799258699,1.13648954804458]
["Midlands",{"$f":"C3+1","v":7},{"$f":"B4+COUNTIF(N:N,A4)-1","v":6},null,null,null,2.5598661542124802E-2,2.5598661542124802E-2,2.5598661542124802E-2,2.5614679949224194E-2,2.5640935086491748E-2,2.5540491486594645E-2,null,"London","North West London Health and Care Partnership",{"$f":"Q3+1","v":4},{"$f":"P4+COUNTIF(AA:AA,O4)-1","v":4},0.99500424412464117,1.0085417091645783,1.0084210734316286,1.00390382732615,0.98028385429998099,0.94976160685582101,null,null,"London","North West London Health and Care Partnership","NHS North West London CCG",0.96461389209543658,0.96461389209543658,0.96461389209543658,0.96461389209543658,0.96461389209543658,0.96461389209543658,0.96461389209543658,0.97946617733505204,0.94976160685582101]
["North East and Yorkshire",7,6,null,null,null,2.5598661542124802E-2,2.5598661542124802E-2,2.5598661542124802E-2,2.5614679949224194E-2,2.5640935086491748E-2,2.5540491486594645E-2,null,"London","Our Healthier South East London",5,5,1.3246373365699105,1.3375805509802157,1.3338198743499319,1.3315504257864701,1.3174535838464301,1.31422969953951,null,null,"London","Our Healthier South East London","NHS South East London CCG",1.31462625829404,1.31462625829404,1.31462625829404,1.31462625829404,1.31462625829404,1.31462625829404,1.31462625829404,1.31502281704857,1.31422969953951]
["North West",null,null,null,null,null,2.4669390091389076E-2,2.4669390091389076E-2,2.4669390091389076E-2,2.4557939091417947E-2,2.4710974365199104E-2,2.4738497875900076E-2,null,"London","South West London Health and Care Partnership",6,6,1.0738008960835406,1.0983034173314385,1.1086371564674822,1.1210976391484,1.11123108575431,1.1021936864633499,null,null,"London","South West London Health and Care Partnership","NHS South West London CCG",1.1047531002588848,1.1047531002588848,1.1047531002588848,1.1047531002588848,1.1047531002588848,1.1047531002588848,1.1047531002588848,1.10731251405442,1.1021936864633499]
["South East ",null,null,null,null,null,1.6555223275836042E-2,1.6859202882971814E-2,1.7365505379209261E-2,1.7389818992223385E-2,1.7584438998431103E-2,1.7624513859827828E-2,null,"Midlands and East of England","Bedfordshire, Luton and Milton Keynes",7,7,1.4956240781928527,1.5054103481298722,1.5332831365639814,1.54925746400819,1.5673951010238101,1.5760547109741001,null,null,"Midlands and East of England","Bedfordshire, Luton and Milton Keynes","NHS Bedfordshire, Luton and Milton Keynes CCG",1.5666620268257851,1.5666620268257851,1.5666620268257851,1.5666620268257851,1.5666620268257851,1.5666620268257851,1.5666620268257851,1.55726934267747,1.5760547109741001]
["South West",null,null,null,null,null,1.8950272118938145E-2,1.9520402435695073E-2,1.9925576742010554E-2,2.025146991322594E-2,2.0674081405830741E-2,2.0686701348416582E-2,null,"Midlands and East of England","Birmingham and Solihull",8,8,1.669024536924373,1.669024536924373,1.6596186434209119,1.6759042016616199,1.6732974052882701,1.66727789732669,null,null,"Midlands and East of England","Birmingham and Solihull","NHS Birmingham and Solihull CCG",1.6733941336601574,1.6733941336601574,1.6733941336601574,1.6733941336601574,1.6733941336601574,1.68397132060939,1.6759042016616199,1.6664231150429301,1.66727789732669]
[null,null,null,null,null,null,null,null,null,null,null,null,null,"Midlands and East of England","Cambridgeshire and Peterborough",9,9,1.6728367612628783,1.6857124818486016,1.7071105657252557,1.7323151656623601,1.7384628012804999,1.74139918694254,null,null,"Midlands and East of England","Cambridgeshire and Peterborough","NHS Cambridgeshire and Peterborough CCG",1.5955770881659941,1.6177671671797449,1.6476804605024664,1.6728367612628783,1.6857124818486016,1.7078109845899601,1.7323151656623601,1.7347147399388301,1.74139918694254]
[null,null,null,null,null,null,null,null,null,null,null,null,null,"Midlands and East of England","Coventry and Warwickshire",10,10,1.6466901868014487,1.6466901868014487,1.6465046309833253,1.65811627216005,1.63432722100879,1.6478126230536301,null,null,"Midlands and East of England","Coventry and Warwickshire","NHS Coventry and Warwickshire CCG",1.6418509860437851,1.6418509860437851,1.6418509860437851,1.6418509860437851,1.6418509860437851,1.6418509860437851,1.6418509860437851,1.6358893490339399,1.6478126230536301]
[null,null,null,null,null,null,null,null,null,null,null,null,null,"Midlands and East of England","Herefordshire and Worcestershire",11,11,1.9421110663662904,1.9804579004420508,2.0700391854077882,2.1407202882355598,2.1814513115611698,2.1542904985311102,null,null,"Midlands and East of England","Herefordshire and Worcestershire","NHS Herefordshire CCG",2.1642768835275801,2.1642768835275801,2.1642768835275801,2.1642768835275801,2.1642768835275801,2.1642768835275801,2.1642768835275801,2.1742632685240499,2.1542904985311102]
[null,null,null,null,null,null,null,null,null,null,null,null,null,"Midlands and East of England","Hertfordshire and West Essex",12,14,1.4825334237768637,1.5103772126333985,1.5331797048508611,1.55370455012113,1.54895451074424,1.52916621861348,null,null,"Midlands and East of England","Hertfordshire and West Essex","NHS East and North Hertfordshire CCG",1.4822493054683028,1.5025619720260353,1.5179497732163834,1.5482679949145752,1.5676845882003829,1.56569129381008,1.58977659525058,1.61241011903053,1.57701707459457]
[null,null,null,null,null,null,null,null,null,null,null,null,null,"Midlands and East of England","Joined Up Care Derbyshire",15,15,2.2414038935516101,2.2414038935516101,2.2414038935516101,2.2347748395456999,2.2544413718219301,2.2349954692871998,null,null,"Midlands and East of England","Hertfordshire and West Essex","NHS Herts Valley CCG",1.2584541102443876,1.2547509396438032,1.2711945834107345,1.3056944760172766,1.349162345215964,1.3918667418966399,1.4318682632161299,1.4458186008084599,1.4248288046145401]
[null,null,null,null,null,null,null,null,null,null,null,null,null,"Midlands and East of England","Leicester, Leicestershire and Rutland",16,18,1.6754221563226437,1.6754221563226437,1.6754221563226437,1.67883237117103,1.6810975940420501,1.6663365037548501,null,null,"Midlands and East of England","Hertfordshire and West Essex","NHS West Essex CCG",1.6016571668404165,1.6448003250325878,1.6936274755913472,1.7261397179403084,1.7364191495010588,1.77104580840564,1.7355416130179799,1.6648909949592099,1.6538126632665799]
[null,null,null,null,null,null,null,null,null,null,null,null,null,"Midlands and East of England","Lincolnshire",19,19,2.306634483298577,2.306634483298577,2.306634483298577,2.2865168035407399,2.3294132082298802,2.30397343812511,null,null,"Midlands and East of England","Joined Up Care Derbyshire","NHS Derby and Derbyshire CCG",2.2340853114484647,2.2340853114484647,2.2340853114484647,2.2340853114484647,2.2340853114484647,2.2067257006259999,2.2347748395456999,2.2598452363349599,2.2349954692871998]
[null,null,null,null,null,null,null,null,null,null,null,null,null,"Midlands and East of England","Mid and South Essex",20,24,1.8748713229624852,1.8754270107312072,1.8983299320871296,1.9435570190131499,1.92157397273422,1.9022905262276499,null,null,"Midlands and East of England","Leicester, Leicestershire and Rutland","NHS East Leicestershire and Rutland CCG",1.5655940788873044,1.6288134485987413,1.6929756551403319,1.7348914567999303,1.7454354265312297,1.76401744866475,1.79869306192626,1.8221429398268401,1.8009275188429801]
[null,null,null,null,null,null,null,null,null,null,null,null,null,"Midlands and East of England","Norfolk and Waveney Health and Care Partnership",25,25,2.1996399000110709,2.1832114062425041,2.2233975960908574,2.2864749211332702,2.3140207727648501,2.3113959904393302,null,null,"Midlands and East of England","Leicester, Leicestershire and Rutland","NHS Leicester City CCG",1.3595537387067196,1.4175832342449466,1.4347469335004102,1.4167311644976601,1.3872869727762642,1.39675163756665,1.3789163119750101,1.37790439474256,1.37473660757669]
[null,null,null,null,null,null,null,null,null,null,null,null,null,"Midlands and East of England","Northamptonshire",26,26,1.8900712813756291,1.8855757428095872,1.9094137381487595,1.93193113286742,1.9522897971902999,1.9388444345500899,null,null,"Midlands and East of England","Leicester, Leicestershire and Rutland","NHS West Leicestershire CCG",1.6408246444475594,1.6904261120199424,1.7621004493196246,1.8295920065291633,1.8535991083231809,1.8929397499516001,1.8922655746179,1.88241271612379,1.85750163926314]
[null,null,null,null,null,null,null,null,null,null,null,null,null,"Midlands and East of England","Nottingham and Nottinghamshire Health and Care",27,27,1.9966451224888966,1.9966451224888966,1.9966451224888966,1.9691676120703101,2.0135671576109,2.0072005977854799,null,null,"Midlands and East of England","Lincolnshire","NHS Lincolnshire CCG",2.3173060292934249,2.3173060292934249,2.3173060292934249,2.3173060292934249,2.3173060292934249,2.3173060292934249,2.3173060292934249,2.3306386204617402,2.30397343812511]
[null,null,null,null,null,null,null,null,null,null,null,null,null,"Midlands and East of England","Shropshire and Telford and Wrekin",28,28,1.9756894231112101,1.9756894231112101,1.9756894231112101,1.9565468301633,1.9779917198517001,1.99252971931863,null,null,"Midlands and East of England","Mid and South Essex","NHS Basildon and Brentwood CCG",1.8615513683876379,1.8765433943655132,1.9094745711350416,1.935333323610483,1.9239045135812469,1.9206081506280399,1.9506599857242799,1.90791998000556,1.86538529235752]
[null,null,null,null,null,null,null,null,null,null,null,null,null,"Midlands and East of England","Staffordshire and Stoke on Trent",29,34,2.3027656784241999,2.3027656784241999,2.3027656784241999,2.28255847593387,2.3179661560559799,2.3077724032827498,null,null,"Midlands and East of England","Mid and South Essex","NHS Castle Point and Rochford CCG",2.0164347176493376,2.0711336440218293,2.1440696122216911,2.1826477057427209,2.2148058252427183,2.29306585769314,2.3601440964089,2.3266818301581398,2.3383234824625698]
[null,null,null,null,null,null,null,null,null,null,null,null,null,"Midlands and East of England","Suffolk and North East Essex",35,37,1.9857299981399263,2.0116932723324661,2.0450035449896822,2.05821539975712,2.0864964187001802,2.07436527626199,null,null,"Midlands and East of England","Mid and South Essex","NHS Mid Essex CCG",1.3470889047239805,1.4338019879155519,1.5000973576604693,1.5465364757997848,1.5626043748811731,1.57281664618525,1.6001420544626701,1.6095720035980401,1.61469696628905]
[null,null,null,null,null,null,null,null,null,null,null,null,null,"Midlands and East of England","The Black Country and West Birmingham",38,38,1.9540415987108712,1.9540415987108712,1.9270063944299247,1.97869950583506,1.9709600764930499,1.93950041808545,null,null,"Midlands and East of England","Mid and South Essex","NHS Southend CCG",1.8398731196648279,1.9285462769847506,2.0503418137763929,2.1319698496252757,2.122394594080137,2.1534685721732298,2.19307970899722,2.19072988811934,2.1610825964609002]
[null,null,null,null,null,null,null,null,null,null,null,null,null,"North of England","Cheshire and Merseyside",39,47,2.5807069958456399,2.5807069958456399,2.5807069958456399,2.57763639428758,2.57779533645125,2.5866892567980901,null,null,"Midlands and East of England","Mid and South Essex","NHS Thurrock CCG",1.7429632203668819,1.800407184763098,1.8324079347000759,1.9067500116620797,1.8696962031138606,1.87083738681434,1.9941603307218601,1.9309434792170701,1.8781759243034899]
[null,null,null,null,null,null,null,null,null,null,null,null,null,"North of England","Cumbria and North East",48,55,2.9227638587004448,2.9227638587004448,2.9227638587004448,2.9227638587004448,2.9203522529342401,2.9251754644666499,null,null,"Midlands and East of England","Norfolk and Waveney Health and Care Partnership","NHS Norfolk and Waveney CCG",2.3127083816020901,2.3127083816020901,2.3127083816020901,2.3127083816020901,2.3127083816020901,2.3127083816020901,2.3127083816020901,2.3140207727648501,2.3113959904393302]
[null,null,null,null,null,null,null,null,null,null,null,null,null,"North of England","Greater Manchester Health and Social Care Partnership",56,65,2.3384873468978102,2.3384873468978102,2.3384873468978102,2.3398955726591599,2.3354243410189901,2.3401421270152798,null,null,"Midlands and East of England","Northamptonshire","NHS Northamptonshire CCG",1.9455671158701948,1.9455671158701948,1.9455671158701948,1.9455671158701948,1.9455671158701948,1.9455671158701948,1.9455671158701948,1.9522897971902999,1.9388444345500899]
[null,null,null,null,null,null,null,null,null,null,null,null,null,"North of England","Healthier Lancashire and South Cumbria",66,73,2.5211017552950636,2.5211017552950636,2.5211017552950636,2.4752187133167198,2.5490182869115001,2.5390682656569701,null,null,"Midlands and East of England","Nottingham and Nottinghamshire Health and Care","NHS Nottingham and Nottinghamshire CCG",2.0133450335625351,2.0133450335625351,2.0133450335625351,2.0133450335625351,2.0133450335625351,2.0133450335625351,2.0133450335625351,2.0194894693395899,2.0072005977854799]
[null,null,null,null,null,null,null,null,null,null,null,null,null,"North of England","Humber, Coast and Vale",74,79,2.3582042260961753,2.3582042260961753,2.3582042260961753,2.3582042260961753,2.3652929532250102,2.35111549896734,null,null,"Midlands and East of England","Shropshire and Telford and Wrekin","NHS Shropshire, Telford and Wrekin CCG",1.985260719585165,1.985260719585165,1.985260719585165,1.985260719585165,1.985260719585165,1.985260719585165,1.985260719585165,1.9779917198517001,1.99252971931863]
[null,null,null,null,null,null,null,null,null,null,null,null,null,"North of England","South Yorkshire and Bassetlaw",80,84,2.64044513187629,2.64044513187629,2.64044513187629,2.6502578539828598,2.6487033281161101,2.6223742135299002,null,null,"Midlands and East of England","Staffordshire and Stoke on Trent","NHS Cannock Chase CCG",2.1627903466803504,2.2044961205374913,2.2566866905735363,2.2793426868521967,2.3897753913635333,2.4939921898468,2.6086566762785601,2.6659358561521298,2.6726912967721002]
[null,null,null,null,null,null,null,null,null,null,null,null,null,"North of England","West Yorkshire and Harrogate (Health and Care Partnership)",85,89,2.2107023673783699,2.2107023673783699,2.2107023673783699,2.2107023673783699,2.2180124257145799,2.2033923090421599,null,null,"Midlands and East of England","Staffordshire and Stoke on Trent","NHS East Staffordshire CCG",1.6286090598315897,1.7000242022427412,1.6685724274050822,1.6842165873741335,1.7119133924301546,1.85241292813709,1.8500365001564301,1.8310662661782,1.79816288034118]
[null,null,null,null,null,null,null,null,null,null,null,null,null,"South of England","Bath and North East Somerset, Swindon and Wiltshire",90,90,1.6396584770866005,1.6642875190853705,1.6786578435555044,1.7194310843264899,1.7386930277316099,1.72453340166306,null,null,"Midlands and East of England","Staffordshire and Stoke on Trent","NHS North Staffordshire CCG",2.0577076209658531,2.1233763357238136,2.1825811273110434,2.2562546542768467,2.3448415324656224,2.4103852049969001,2.56162197850567,2.6122329179870798,2.5959674560163499]
[null,null,null,null,null,null,null,null,null,null,null,null,null,"South of England","Bristol, North Somerset and South Gloucestershire",91,91,1.7024124877260227,1.7626791425089179,1.7852678695433062,1.81225563021155,1.8070712571658401,1.81802136580378,null,null,"Midlands and East of England","Staffordshire and Stoke on Trent","NHS South East Staffordshire and Seisdon Peninsula CCG",1.6743466510708744,1.7138960092185407,1.7418315155195367,1.7644537245737515,1.7460169404950674,1.8397980261647899,1.8955440092492299,1.88783904479857,1.9065512246815099]
[null,null,null,null,null,null,null,null,null,null,null,null,null,"South of England","Buckinghamshire, Oxfordshire and Berkshire West",92,94,1.2823787199638896,1.2990752289948404,1.2990686084449172,1.34219012188231,1.33466154317085,1.3263360326959399,null,null,"Midlands and East of England","Staffordshire and Stoke on Trent","NHS Stafford and Surrounds CCG",1.3448149758154104,1.4004985058595094,1.4872774236095847,1.5682964515931412,1.633108108108108,1.7096826120784501,1.8279707041345801,1.89238516465949,1.87032418952618]
[null,null,null,null,null,null,null,null,null,null,null,null,null,"South of England","Cornwall and the Isles of Scilly Health and Social Care Partnership",95,95,2.1228332439023951,2.1611375074294599,2.2076680820393904,2.19759486310268,2.34939450356124,2.3794009210366398,null,null,"Midlands and East of England","Staffordshire and Stoke on Trent","NHS Stoke on Trent CCG",2.3203461967941834,2.411146215642352,2.4748760976846911,2.4869515097823651,2.4879076922008521,2.57635118515006,2.6565929026165098,2.7099466000191201,2.6966451425620299]
[null,null,null,null,null,null,null,null,null,null,null,null,null,"South of England","Devon",96,96,2.1044823419200482,2.1655532127031631,2.2008150864498002,2.2714986569959099,2.30850023250966,2.32464505697628,null,null,"Midlands and East of England","Suffolk and North East Essex","NHS Ipswich and East Suffolk CCG",1.6130892131865879,1.6594322004142219,1.687332161085052,1.7229594891239275,1.7479289442875494,1.77344470837669,1.80739745957137,1.85689617433179,1.8200406538290399]
[null,null,null,null,null,null,null,null,null,null,null,null,null,"South of England","Dorset",97,97,1.9225542859892149,2.0156974894329309,2.0990678029640364,2.1577832370229699,2.1926881560980398,2.1824213416407501,null,null,"Midlands and East of England","Suffolk and North East Essex","NHS North East Essex CCG",2.1363480313917282,2.2186233839218543,2.2451724783010212,2.2400294579216382,2.2291994615928639,2.1907695575973198,2.2349926857428701,2.2208321169912599,2.2056504053792301]
[null,null,null,null,null,null,null,null,null,null,null,null,null,"South of England","Frimley Health and Care ICS",98,98,1.1741124080410832,1.2146515654306738,1.2629737907086593,1.2878419057766199,1.28834990287536,1.28179296792408,null,null,"Midlands and East of England","Suffolk and North East Essex","NHS West Suffolk CCG",1.903863092991066,1.9424980674762486,2.0032743457478754,2.0601677872798554,2.1334576644506789,2.1751969289459598,2.2254278148836102,2.2761170840842699,2.2991875689563401]
[null,null,null,null,null,null,null,null,null,null,null,null,null,"South of England","Gloucestershire",99,99,1.7381292240719857,1.7841597979782138,1.8179560880627486,1.8280913085945101,1.85691929083209,1.8558149167539599,null,null,"Midlands and East of England","The Black Country and West Birmingham","NHS Black Country and West Birmingham CCG",1.9572714174033301,1.9572714174033301,1.9572714174033301,1.9572714174033301,1.9572714174033301,1.9572714174033301,1.9572714174033301,1.9750424167212099,1.93950041808545]
[null,null,null,null,null,null,null,null,null,null,null,null,null,"South of England","Hampshire and the Isle of Wight",100,101,1.7762978219647132,1.8282706467619103,1.890306106081701,1.90820080131,1.9724887644712801,1.9950289870614899,null,null,"North of England","Cheshire and Merseyside","NHS Cheshire CCG",2.0200775838766347,2.0200775838766347,2.0200775838766347,2.0200775838766347,2.0200775838766347,2.0200775838766347,2.0200775838766347,2.0182926589807999,2.02186250877247]
[null,null,null,null,null,null,null,null,null,null,null,null,null,"South of England","Kent and Medway",102,102,1.9265370532686881,1.9732088777364369,2.0015955862877246,2.0518631340397602,2.0542889753106102,2.0509754910235598,null,null,"North of England","Cheshire and Merseyside","NHS Halton CCG",2.4957238376613278,2.545598300867395,2.5770158470761082,2.6143112587010666,2.7192578963508125,2.7879822569089798,2.8660017804064801,2.8901430830691299,2.8910093931713101]
[null,null,null,null,null,null,null,null,null,null,null,null,null,"South of England","Somerset",103,103,2.126023806137165,2.1862742170359351,2.2533387630652926,2.32997567882266,2.3381587577771699,2.3034472678324698,null,null,"North of England","Cheshire and Merseyside","NHS Knowsley CCG",3.4705407586763521,3.4574782430187927,3.5203657006571181,3.5435861091424519,3.528490403264787,3.5584881424122301,3.58415187287856,3.5944365719185001,3.6133432171979201]
[null,null,null,null,null,null,null,null,null,null,null,null,null,"South of England","Surrey Heartlands Health and Care Partnership",104,104,1.291023722976945,1.291023722976945,1.291023722976945,1.291023722976945,1.29514616947359,1.2869012764803001,null,null,"North of England","Cheshire and Merseyside","NHS Liverpool CCG",2.8332134270818847,2.844705021326289,2.8847335720261533,2.9250532067705981,3.0160700249952668,3.0075436096735202,3.0878982679625699,3.1179095103773,3.0671604234571799]
[null,null,null,null,null,null,null,null,null,null,null,null,null,"South of England","Sussex and East Surrey Health and Care Partnership",105,107,1.9334129568259599,1.9334129568259599,1.9334129568259599,1.9334129568259599,1.9346135126566699,1.9322124009952499,null,null,"North of England","Cheshire and Merseyside","NHS South Sefton CCG",2.8514866808101784,2.8588764596149003,2.8103282441713966,2.8630861820580829,2.8949103375527425,3.08308398679323,3.0816601449740202,2.99763864956283,2.9993170314484701]
[null,null,null,null,null,null,null,null,null,null,null,null,null,null,null,null,null,null,null,null,null,null,null,null,null,"North of England","Cheshire and Merseyside","NHS Southport and Formby CCG",1.9884620105560331,2.0254757294245489,2.0126593592316633,2.0711874808223381,2.1392614071120777,2.12461591853664,2.1676527134853298,2.0555794298811101,2.1780649679298398]
[null,null,null,null,null,null,null,null,null,null,null,null,null,null,null,null,null,null,null,null,null,null,null,null,null,"North of England","Cheshire and Merseyside","NHS St Helens CCG",3.0244427093298034,3.0688823371750202,3.0177232196745054,3.0016143310940997,3.0340825209356783,3.0655440535613199,3.1270674147656998,3.01113254224496,2.98514198604961]
[null,null,null,null,null,null,null,null,null,null,null,null,null,null,null,null,null,null,null,null,null,null,null,null,null,"North of England","Cheshire and Merseyside","NHS Warrington CCG",1.7801738997203813,1.8129319322162263,1.7999107792726163,1.8301134133800963,1.8486244855359288,1.83962173854783,1.8258202977267199,1.8184124452981301,1.8402990146109399]
[null,null,null,null,null,null,null,null,null,null,null,null,null,null,null,null,null,null,null,null,null,null,null,null,null,"North of England","Cheshire and Merseyside","NHS Wirral CCG",2.359662870792302,2.2999678010526345,2.4026755772515886,2.4450397584725945,2.4372333729631444,2.5383170413620602,2.5870351699187499,2.6047002200386702,2.6929844015672399]
[null,null,null,null,null,null,null,null,null,null,null,null,null,null,null,null,null,null,null,null,null,null,null,null,null,"North of England","Cumbria and North East","NHS County Durham CCG",3.13652427970043,3.13652427970043,3.13652427970043,3.13652427970043,3.13652427970043,3.13652427970043,3.13652427970043,3.1276614596235701,3.1453870997772899]
[null,null,null,null,null,null,null,null,null,null,null,null,null,null,null,null,null,null,null,null,null,null,null,null,null,"North of England","Cumbria and North East","NHS Newcastle Gateshead CCG",2.419024069679792,2.419024069679792,2.3896647297610532,2.3997489529839466,2.420509827561713,2.42094475054822,2.4300368301574,2.43024673211487,2.4420166646313399]
[null,null,null,null,null,null,null,null,null,null,null,null,null,null,null,null,null,null,null,null,null,null,null,null,null,"North of England","Cumbria and North East","NHS North Cumbria CCG",2.1606616489711814,2.2246489799606635,2.2708746451758364,2.3980165697355424,2.4171736614409585,2.4278100290261202,2.4740391886823798,2.4881214930712798,2.5141312887674201]
[null,null,null,null,null,null,null,null,null,null,null,null,null,null,null,null,null,null,null,null,null,null,null,null,null,"North of England","Cumbria and North East","NHS North Tyneside CCG",2.3000408648487998,2.3930895137820452,2.4487927151307178,2.4995391705069125,2.5705998524539835,2.6204846114526599,2.6436510670704099,2.6451013130691798,2.6164314222618401]
[null,null,null,null,null,null,null,null,null,null,null,null,null,null,null,null,null,null,null,null,null,null,null,null,null,"North of England","Cumbria and North East","NHS Northumberland CCG",2.4470753517690245,2.5085632434452263,2.5461511235850405,2.6142716721602235,2.6873691793506658,2.73790014202994,2.8003770974515301,2.80522027250904,2.8120309380785402]
[null,null,null,null,null,null,null,null,null,null,null,null,null,null,null,null,null,null,null,null,null,null,null,null,null,"North of England","Cumbria and North East","NHS South Tyneside CCG",3.5549226487151273,3.6245335127059173,3.7203992813454665,3.7260546290081069,3.7345353409417861,3.72094531072714,3.7454991141113498,3.7411469402942701,3.6799555704215101]
[null,null,null,null,null,null,null,null,null,null,null,null,null,null,null,null,null,null,null,null,null,null,null,null,null,"North of England","Cumbria and North East","NHS Sunderland CCG",3.1647353034412316,3.2265803046659469,3.2204801083842565,3.3112606982846202,3.3422262267617429,3.3932020224670301,3.4917784585049798,3.4716865232421901,3.5114992455763301]
[null,null,null,null,null,null,null,null,null,null,null,null,null,null,null,null,null,null,null,null,null,null,null,null,null,"North of England","Cumbria and North East","NHS Tees Valley CCG",3.0408161757307104,3.0408161757307104,3.0408161757307104,3.0408161757307104,3.0408161757307104,3.0408161757307104,3.0408161757307104,3.0317252927073701,3.0499070587540502]
[null,null,null,null,null,null,null,null,null,null,null,null,null,null,null,null,null,null,null,null,null,null,null,null,null,"North of England","Greater Manchester Health and Social Care Partnership","NHS Bolton CCG",2.1687346080318775,2.2341860050642448,2.238313363870942,2.2519845200829471,2.25441364383133,2.29015782033906,2.2980570391181101,2.3007221175369601,2.2826371395151601]
[null,null,null,null,null,null,null,null,null,null,null,null,null,null,null,null,null,null,null,null,null,null,null,null,null,"North of England","Greater Manchester Health and Social Care Partnership","NHS Bury CCG",2.0056271829589063,2.0558316311494571,2.1378739386351935,2.1243461246655753,2.110915701695451,2.1424900238503599,2.17485334927416,2.1580058248769598,2.1629148517904602]
[null,null,null,null,null,null,null,null,null,null,null,null,null,null,null,null,null,null,null,null,null,null,null,null,null,"North of England","Greater Manchester Health and Social Care Partnership","NHS Heywood, Middleton and Rochdale CCG",2.3065055400471435,2.3017354567296957,2.3559987317974986,2.4029830133959398,2.4320216179699377,2.4673153585665899,2.5291086893886701,2.5421418415324202,2.5464323682071202]
[null,null,null,null,null,null,null,null,null,null,null,null,null,null,null,null,null,null,null,null,null,null,null,null,null,"North of England","Greater Manchester Health and Social Care Partnership","NHS Manchester CCG",1.9619578411517775,1.9619578411517775,1.9619578411517775,1.9354198536403855,1.9414879647800902,1.97270932057189,1.98721050917514,1.96780787449732,1.9671115242458399]
[null,null,null,null,null,null,null,null,null,null,null,null,null,null,null,null,null,null,null,null,null,null,null,null,null,"North of England","Greater Manchester Health and Social Care Partnership","NHS Oldham CCG",2.2392582016204012,2.238821326419326,2.2203645557231986,2.2493550056775549,2.2914688192465968,2.36884603699973,2.36075677391631,2.37573553268789,2.3415576648827701]
[null,null,null,null,null,null,null,null,null,null,null,null,null,null,null,null,null,null,null,null,null,null,null,null,null,"North of England","Greater Manchester Health and Social Care Partnership","NHS Salford CCG",2.7922018220266147,2.7657486908106534,2.7042633420788489,2.6762741975006126,2.6140832002035297,2.5595035047371701,2.5162305654438599,2.4735407463107402,2.55760392531948]
[null,null,null,null,null,null,null,null,null,null,null,null,null,null,null,null,null,null,null,null,null,null,null,null,null,"North of England","Greater Manchester Health and Social Care Partnership","NHS Stockport CCG",2.1414068673047879,2.1920217708748173,2.2129598791791834,2.2521575809739223,2.2934209846567133,2.2768317643575098,2.3217769630075198,2.3255961642269698,2.3330806039079701]
[null,null,null,null,null,null,null,null,null,null,null,null,null,null,null,null,null,null,null,null,null,null,null,null,null,"North of England","Greater Manchester Health and Social Care Partnership","NHS Tameside and Glossop CCG",2.5500140884756268,2.6294491631484971,2.6775967539288583,2.7341637336395328,2.8272051510021474,2.9077429283181901,3.02886890676763,3.0271897548621398,2.9956461633800999]
[null,null,null,null,null,null,null,null,null,null,null,null,null,null,null,null,null,null,null,null,null,null,null,null,null,"North of England","Greater Manchester Health and Social Care Partnership","NHS Trafford CCG",1.6933686630284099,1.8222109661896924,1.8784632589739927,1.8972554184826149,1.9527804131089694,1.96076808475418,1.9805233477498301,2.0034803027444101,2.01407514948695]
[null,null,null,null,null,null,null,null,null,null,null,null,null,null,null,null,null,null,null,null,null,null,null,null,null,"North of England","Greater Manchester Health and Social Care Partnership","NHS Wigan Borough CCG",2.2153092299875627,2.2559624536045848,2.314968495704806,2.4311947967277749,2.5313347819148282,2.59938979432552,2.6453681853936,2.6473303538129498,2.6738127584611]
[null,null,null,null,null,null,null,null,null,null,null,null,null,null,null,null,null,null,null,null,null,null,null,null,null,"North of England","Healthier Lancashire and South Cumbria","NHS Blackburn with Darwen CCG",2.1479108026931497,2.172783217774418,2.2847440898622926,2.2437164314445814,2.2647111285004922,2.2321785742859399,2.1133379330577098,2.1645748976517298,2.1692880057030801]
[null,null,null,null,null,null,null,null,null,null,null,null,null,null,null,null,null,null,null,null,null,null,null,null,null,"North of England","Healthier Lancashire and South Cumbria","NHS Blackpool CCG",3.1056475790302231,3.358846006434304,3.633008510588756,3.6992616687923427,3.7278733519012848,3.7025921030607698,3.7337680976382699,3.7641147147869001,3.8172258101388801]
[null,null,null,null,null,null,null,null,null,null,null,null,null,null,null,null,null,null,null,null,null,null,null,null,null,"North of England","Healthier Lancashire and South Cumbria","NHS Chorley and South Ribble CCG",2.0428617245487035,2.1945995693744567,2.2527518932462485,2.3205495452902078,2.3530899077122647,2.3518251995289798,2.3811195420300799,2.4059712850124799,2.32136554689255]
[null,null,null,null,null,null,null,null,null,null,null,null,null,null,null,null,null,null,null,null,null,null,null,null,null,"North of England","Healthier Lancashire and South Cumbria","NHS East Lancashire CCG",2.3857609998613722,2.4202923510796324,2.4457840044385954,2.4923734394108399,2.5588031115299237,2.5957153671064499,2.49933395912127,2.6258421997346599,2.5711159737417901]
[null,null,null,null,null,null,null,null,null,null,null,null,null,null,null,null,null,null,null,null,null,null,null,null,null,"North of England","Healthier Lancashire and South Cumbria","NHS Fylde and Wyre CCG",2.4082750952986025,2.5157650182542319,2.6547674341450467,2.7864385641470557,2.8978506008788183,2.8594675595307799,2.9126867430662302,2.9750287186464899,2.9348687455320301]
[null,null,null,null,null,null,null,null,null,null,null,null,null,null,null,null,null,null,null,null,null,null,null,null,null,"North of England","Healthier Lancashire and South Cumbria","NHS Greater Preston CCG",1.951182513308904,2.0063648199045279,2.0381578134137124,2.0434616102202541,2.1291581401989244,2.0608758364099198,1.9213886498561501,2.0814411497574099,2.1009895965491001]
[null,null,null,null,null,null,null,null,null,null,null,null,null,null,null,null,null,null,null,null,null,null,null,null,null,"North of England","Healthier Lancashire and South Cumbria","NHS Morecambe Bay CCG",2.1593194122196442,2.2419767217622284,2.2688574031604412,2.1609964743991266,2.2193334515943057,2.2781355084385599,2.2729990263456101,2.2704715729932499,2.3016600178692399]
[null,null,null,null,null,null,null,null,null,null,null,null,null,null,null,null,null,null,null,null,null,null,null,null,null,"North of England","Healthier Lancashire and South Cumbria","NHS West Lancashire CCG",2.1247331803120559,2.1385310774837869,2.1788765808672697,2.1350232457257099,2.2874200727735188,2.3002008752421301,2.2664782217653898,2.3601689716218801,2.3452231645602901]
[null,null,null,null,null,null,null,null,null,null,null,null,null,null,null,null,null,null,null,null,null,null,null,null,null,"North of England","Humber, Coast and Vale","NHS East Riding of Yorkshire CCG",2.0894252751342441,2.1783842874563475,2.2478166481613444,2.329212752114509,2.3604974769689613,2.4438538555659299,2.52826330523063,2.5548776120180499,2.5501136060312102]
[null,null,null,null,null,null,null,null,null,null,null,null,null,null,null,null,null,null,null,null,null,null,null,null,null,"North of England","Humber, Coast and Vale","NHS Hull CCG",2.4367817675277132,2.5471570608233383,2.622652749894109,2.6569683142870884,2.5914406971846957,2.7269953515085201,2.8100446977093299,2.87324055956601,2.85095597662546]
[null,null,null,null,null,null,null,null,null,null,null,null,null,null,null,null,null,null,null,null,null,null,null,null,null,"North of England","Humber, Coast and Vale","NHS North East Lincolnshire CCG",2.1813706546490126,2.2447923790042039,2.2992795867102704,2.4128380970650296,2.4153914238464584,2.54444244927276,2.6576666627468,2.73909688797443,2.7727592679493198]
[null,null,null,null,null,null,null,null,null,null,null,null,null,null,null,null,null,null,null,null,null,null,null,null,null,"North of England","Humber, Coast and Vale","NHS North Lincolnshire CCG",1.9635566709672858,2.0435654746848475,2.114400831664327,2.1709665222070331,2.2505825955716952,2.32526934323301,2.4088635531846498,2.4568144535335601,2.4788815724600402]
[null,null,null,null,null,null,null,null,null,null,null,null,null,null,null,null,null,null,null,null,null,null,null,null,null,"North of England","Humber, Coast and Vale","NHS North Yorkshire CCG",2.201335875602505,2.201335875602505,2.201335875602505,2.201335875602505,2.201335875602505,2.201335875602505,2.201335875602505,2.21599769790584,2.18667405329917]
[null,null,null,null,null,null,null,null,null,null,null,null,null,null,null,null,null,null,null,null,null,null,null,null,null,"North of England","Humber, Coast and Vale","NHS Vale of York CCG",1.665375794489131,1.6135122281629652,1.6522828904269562,1.6931756918437537,1.6678445618367466,1.72418622107451,1.7641399368547901,1.7320585529714301,1.70352905135205]
[null,null,null,null,null,null,null,null,null,null,null,null,null,null,null,null,null,null,null,null,null,null,null,null,null,"North of England","South Yorkshire and Bassetlaw","NHS Barnsley CCG",3.0773716330638723,3.1289983956901501,3.1650942832203368,3.1481142624783978,3.1613135499092282,3.2558336086545601,3.3168488601310901,3.2795486343451601,3.23720726072857]
[null,null,null,null,null,null,null,null,null,null,null,null,null,null,null,null,null,null,null,null,null,null,null,null,null,"North of England","South Yorkshire and Bassetlaw","NHS Bassetlaw CCG",2.4309836504958455,2.4746057678647535,2.4980188430043144,2.5361599162137272,2.4673960174777356,2.5666328834835799,2.6622999313295699,2.70532776247373,2.6967469398616299]
[null,null,null,null,null,null,null,null,null,null,null,null,null,null,null,null,null,null,null,null,null,null,null,null,null,"North of England","South Yorkshire and Bassetlaw","NHS Doncaster CCG",2.5813837248673837,2.6156281368234113,2.6379503602882304,2.6820227609842555,2.7154708138853718,2.7588845158822299,2.8470070362585602,2.8689279834885402,2.8226585426434601]
[null,null,null,null,null,null,null,null,null,null,null,null,null,null,null,null,null,null,null,null,null,null,null,null,null,"North of England","South Yorkshire and Bassetlaw","NHS Rotherham CCG",2.6196126106117106,2.6899759124002656,2.7415264720435428,2.8315674803934114,2.8110789582472098,2.9269320663627001,3.0029166650904302,3.0213042132987198,2.9959239130434798]
[null,null,null,null,null,null,null,null,null,null,null,null,null,null,null,null,null,null,null,null,null,null,null,null,null,"North of England","South Yorkshire and Bassetlaw","NHS Sheffield CCG",1.9436480406160188,1.9719467707958689,2.0080184311364788,2.0573144573144573,2.0477524137515157,2.0688120264241401,2.1027795361685002,2.08605750815601,2.0758344607079402]
[null,null,null,null,null,null,null,null,null,null,null,null,null,null,null,null,null,null,null,null,null,null,null,null,null,"North of England","West Yorkshire and Harrogate (Health and Care Partnership)","NHS Bradford District and Craven CCG",2.1492839100889354,2.1492839100889354,2.1492839100889354,2.1492839100889354,2.1492839100889354,2.1492839100889354,2.1492839100889354,2.1611067193675901,2.1374611008102802]
[null,null,null,null,null,null,null,null,null,null,null,null,null,null,null,null,null,null,null,null,null,null,null,null,null,"North of England","West Yorkshire and Harrogate (Health and Care Partnership)","NHS Calderdale CCG",1.9057578912476132,2.0150350834071484,2.1077315740493328,2.2000100686959665,2.2540340016841531,2.2582624383007199,2.2860518815167601,2.2962939616473901,2.3081946539959901]
[null,null,null,null,null,null,null,null,null,null,null,null,null,null,null,null,null,null,null,null,null,null,null,null,null,"North of England","West Yorkshire and Harrogate (Health and Care Partnership)","NHS Kirklees CCG",2.1191590270495801,2.1191590270495801,2.1191590270495801,2.1191590270495801,2.1191590270495801,2.1191590270495801,2.1191590270495801,2.1364352476880999,2.10188280641106]
[null,null,null,null,null,null,null,null,null,null,null,null,null,null,null,null,null,null,null,null,null,null,null,null,null,"North of England","West Yorkshire and Harrogate (Health and Care Partnership)","NHS Leeds CCG",2.0002984737551772,2.0002984737551772,2.0002984737551772,2.0002984737551772,2.0002984737551772,1.96042157000453,2.0010839157693998,2.02406504503351,2.0156233642132699]
[null,null,null,null,null,null,null,null,null,null,null,null,null,null,null,null,null,null,null,null,null,null,null,null,null,"North of England","West Yorkshire and Harrogate (Health and Care Partnership)","NHS Wakefield CCG",2.737284663010592,2.8119390150954668,2.8272280312997715,2.8525344737253566,2.8462592253669841,2.8737510439973302,2.8514434473416901,2.8417869980706101,2.8090164679012202]
[null,null,null,null,null,null,null,null,null,null,null,null,null,null,null,null,null,null,null,null,null,null,null,null,null,"South of England","Bath and North East Somerset, Swindon and Wiltshire","NHS Bath and North East Somerset, Swindon and Wiltshire CCG",1.7316132146973349,1.7316132146973349,1.7316132146973349,1.7316132146973349,1.7316132146973349,1.7316132146973349,1.7316132146973349,1.7386930277316099,1.72453340166306]
[null,null,null,null,null,null,null,null,null,null,null,null,null,null,null,null,null,null,null,null,null,null,null,null,null,"South of England","Bristol, North Somerset and South Gloucestershire","NHS Bristol, North Somerset and South Gloucestershire CCG",1.7985084813970527,1.7985084813970527,1.7985084813970527,1.7985084813970527,1.7985084813970527,1.7584716514277801,1.81225563021155,1.8052852781451001,1.81802136580378]
[null,null,null,null,null,null,null,null,null,null,null,null,null,null,null,null,null,null,null,null,null,null,null,null,null,"South of England","Buckinghamshire, Oxfordshire and Berkshire West","NHS Berkshire West CCG",1.2310725344134275,1.2310725344134275,1.2310725344134275,1.2310725344134275,1.2310725344134275,1.19484950283188,1.2419800940418899,1.25075800764725,1.23670253313269]
[null,null,null,null,null,null,null,null,null,null,null,null,null,null,null,null,null,null,null,null,null,null,null,null,null,"South of England","Buckinghamshire, Oxfordshire and Berkshire West","NHS Buckinghamshire CCG",1.3423867399694103,1.3423867399694103,1.3423867399694103,1.3423867399694103,1.3423867399694103,1.3423867399694103,1.3609740814885201,1.3323272609679899,1.3338588774517199]
[null,null,null,null,null,null,null,null,null,null,null,null,null,null,null,null,null,null,null,null,null,null,null,null,null,"South of England","Buckinghamshire, Oxfordshire and Berkshire West","NHS Oxfordshire CCG",1.2128072211848338,1.2533170792287673,1.2883310480610344,1.3435093076079203,1.3556364313764704,1.3776972563070999,1.40062185449659,1.3858676722444001,1.38490865195896]
[null,null,null,null,null,null,null,null,null,null,null,null,null,null,null,null,null,null,null,null,null,null,null,null,null,"South of England","Cornwall and the Isles of Scilly Health and Social Care Partnership","NHS Kernow CCG",1.9217717833333032,2.0009013713721591,2.0755822151836947,2.1228332439023951,2.1611375074294599,2.1185322494480801,2.19759486310268,2.34939450356124,2.3794009210366398]
[null,null,null,null,null,null,null,null,null,null,null,null,null,null,null,null,null,null,null,null,null,null,null,null,null,"South of England","Devon","NHS Devon CCG",2.271465668775265,2.271465668775265,2.271465668775265,2.271465668775265,2.271465668775265,2.1888072715185101,2.2714986569959099,2.3009116896103601,2.32464505697628]
[null,null,null,null,null,null,null,null,null,null,null,null,null,null,null,null,null,null,null,null,null,null,null,null,null,"South of England","Dorset","NHS Dorset CCG",1.7587848536915953,1.8150616696767725,1.8624376709382895,1.9225542859892149,2.0156974894329309,2.0826218385828401,2.1577832370229699,2.19347965636396,2.1824213416407501]
[null,null,null,null,null,null,null,null,null,null,null,null,null,null,null,null,null,null,null,null,null,null,null,null,null,"South of England","Frimley Health and Care ICS","NHS Frimley CCG",1.2850714353997201,1.2850714353997201,1.2850714353997201,1.2850714353997201,1.2850714353997201,1.2850714353997201,1.2850714353997201,1.28834990287536,1.28179296792408]
[null,null,null,null,null,null,null,null,null,null,null,null,null,null,null,null,null,null,null,null,null,null,null,null,null,"South of England","Gloucestershire","NHS Gloucestershire CCG",1.643833408548772,1.6838798739686456,1.7153076342890754,1.7381292240719857,1.7841597979782138,1.8103118946764301,1.8280913085945101,1.8498342567050701,1.8558149167539599]
[null,null,null,null,null,null,null,null,null,null,null,null,null,null,null,null,null,null,null,null,null,null,null,null,null,"South of England","Hampshire and the Isle of Wight","NHS Hampshire, Southampton and Isle of Wight CCG",1.952393138980945,1.952393138980945,1.952393138980945,1.952393138980945,1.952393138980945,1.952393138980945,1.952393138980945,1.93366417364552,1.97112210431637]
[null,null,null,null,null,null,null,null,null,null,null,null,null,null,null,null,null,null,null,null,null,null,null,null,null,"South of England","Hampshire and the Isle of Wight","NHS Portsmouth CCG",1.7952546110205112,1.885472305553523,1.9522925374772484,2.0049848197955393,1.9262146293831188,2.08043828610244,2.0935812321557599,2.0282519842102098,2.1687731437214199]
[null,null,null,null,null,null,null,null,null,null,null,null,null,null,null,null,null,null,null,null,null,null,null,null,null,"South of England","Kent and Medway","NHS Kent and Medway CCG",2.05391737979068,2.05391737979068,2.05391737979068,2.05391737979068,2.05391737979068,2.05391737979068,2.05391737979068,2.0568592685578002,2.0509754910235598]
[null,null,null,null,null,null,null,null,null,null,null,null,null,null,null,null,null,null,null,null,null,null,null,null,null,"South of England","Somerset","NHS Somerset CCG",1.9161923450787579,1.9992531577649839,2.0388954650697024,2.126023806137165,2.1862742170359351,2.2541137307707402,2.32997567882266,2.3381587577771699,2.3034472678324698]
[null,null,null,null,null,null,null,null,null,null,null,null,null,null,null,null,null,null,null,null,null,null,null,null,null,"South of England","Surrey Heartlands Health and Care Partnership","NHS Surrey Heartlands CCG",1.291023722976945,1.291023722976945,1.291023722976945,1.291023722976945,1.291023722976945,1.291023722976945,1.291023722976945,1.29514616947359,1.2869012764803001]
[null,null,null,null,null,null,null,null,null,null,null,null,null,null,null,null,null,null,null,null,null,null,null,null,null,"South of England","Sussex and East Surrey Health and Care Partnership","NHS Brighton and Hove CCG",1.2435815948592861,1.2587403370260777,1.2822611804923412,1.3400256486668385,1.3978714830253745,1.4373495897745301,1.42182397760846,1.4809772610199401,1.4982000641073101]
[null,null,null,null,null,null,null,null,null,null,null,null,null,null,null,null,null,null,null,null,null,null,null,null,null,"South of England","Sussex and East Surrey Health and Care Partnership","NHS East Sussex CCG",2.358358167120775,2.358358167120775,2.358358167120775,2.358358167120775,2.358358167120775,2.358358167120775,2.358358167120775,2.3547886884915998,2.3619276457499501]
[null,null,null,null,null,null,null,null,null,null,null,null,null,null,null,null,null,null,null,null,null,null,null,null,null,"South of England","Sussex and East Surrey Health and Care Partnership","NHS West Sussex CCG",1.83135146151573,1.83135146151573,1.83135146151573,1.83135146151573,1.83135146151573,1.83135146151573,1.83135146151573,1.8413258640620001,1.82137705896946]

{"sheet":"newDataList","index":47,"n_rows":107,"n_cols":37,"rows_kept":107,"cut":false,"hidden":true,"merged":[]}
["Region","Start Row","End Row",2012,2013,2014,2015,2016,2017,2018,2019,2020,null,"Region","ICS Name","Start Row","End Row",2015,2016,2017,2018,2019,2020,null,null,"Region","ICSName","CCG Name",2012,2013,2014,2015,2016,2017,2018,2019,2020]
["East of England",2,{"$f":"B2+COUNTIF(N:N,A2)-1","v":1},null,null,null,6638751,6781679,6791841,6870532,6965048,6997910,null,"London","East London Health and Care Partnership",2,{"$f":"P2+COUNTIF(AA:AA,O2)-1","v":2},2018438,2124215,2169970,2218182,2261503,2284386,null,null,"London","East London Health and Care Partnership","NHS North East London CCG",2612047.5,2612047.5,2612047.5,2612047.5,2612047.5,2612047.5,2612047.5,2573851,2650244]
["London",{"$f":"C2+1","v":2},{"$f":"B3+COUNTIF(N:N,A3)-1","v":6},null,null,null,9232813,9585447,9783727,10054531,10271570,10359317,null,"London","North London Partners in Health and Care",{"$f":"Q2+1","v":3},{"$f":"P3+COUNTIF(AA:AA,O3)-1","v":3},1503563,1557540,1566590,1647019,1680887,1696716,null,null,"London","North London Partners in Health and Care","NHS North Central London CCG",1644930.5,1644930.5,1644930.5,1644930.5,1644930.5,1644930.5,1644930.5,1593145,1696716]
["Midlands",{"$f":"C3+1","v":7},{"$f":"B4+COUNTIF(N:N,A4)-1","v":6},null,null,null,11103775.75,11134153.75,11081913,11079204,11233602,11270175,null,"London","North West London Health and Care Partnership",{"$f":"Q3+1","v":4},{"$f":"P4+COUNTIF(AA:AA,O4)-1","v":4},2314965,2357959,2429144,2513687,2598023,2650244,null,null,"London","North West London Health and Care Partnership","NHS North West London CCG",2264111.5,2264111.5,2264111.5,2264111.5,2264111.5,2264111.5,2264111.5,2243837,2284386]
["North East and Yorkshire",7,6,null,null,null,9062967.3333333321,9062967.3333333321,9062967.3333333321,9050767,9060980,9077155,null,"London","Our Healthier South East London",5,5,1808495,1911212,1959410,1989260,2017832,2017836,null,null,"London","Our Healthier South East London","NHS South East London CCG",2005212.5,2005212.5,2005212.5,2005212.5,2005212.5,2005212.5,2005212.5,1992589,2017836]
["North West",null,null,null,null,null,7584568,7584568,7584568,7553484,7579345,7620875,null,"London","South West London Health and Care Partnership",6,6,1587352,1634521,1658613,1686383,1713325,1710135,null,null,"London","South West London Health and Care Partnership","NHS South West London CCG",1708891.5,1708891.5,1708891.5,1708891.5,1708891.5,1708891.5,1708891.5,1707648,1710135]
["South East ",null,null,null,null,null,10814683.5,11086615.5,10598165.5,11301641.5,11308578,11367349,null,"Midlands and East of England","Bedfordshire, Luton and Milton Keynes",7,7,974309,1005573,1008033,1022038,1038666,1050027,null,null,"Midlands and East of England","Bedfordshire, Luton and Milton Keynes","NHS Bedfordshire, Luton and Milton Keynes CCG",132514,133137,131343,129862,132230,133160,133862,131361,135444]
["South West",null,null,null,null,null,5532691,5688561,5753309,5490120,5886114,5925691,null,"Midlands and East of England","Birmingham and Solihull",8,8,1326935.25,1326935.25,1310060,1323405,1335447,1338829,null,null,"Midlands and East of England","Birmingham and Solihull","NHS Birmingham and Solihull CCG",135146,136351,137303,138937,144283,141923,143835,145489,146316]
[null,null,null,null,null,null,null,null,null,null,null,null,null,"Midlands and East of England","Cambridgeshire and Peterborough",9,9,933265,950340,967307,983597,998986,1005341,null,null,"Midlands and East of England","Cambridgeshire and Peterborough","NHS Cambridgeshire and Peterborough CCG",213490,203167,215433,216199,217584,214613,218104,218051,217183]
[null,null,null,null,null,null,null,null,null,null,null,null,null,"Midlands and East of England","Coventry and Warwickshire",10,10,1013434.25,1013434.25,991798,1009700,1023724,1028515,null,null,"Midlands and East of England","Coventry and Warwickshire","NHS Coventry and Warwickshire CCG",212023,212615,214085,216951,225141,217850,218829,212730,216097]
[null,null,null,null,null,null,null,null,null,null,null,null,null,"Midlands and East of England","Herefordshire and Worcestershire",11,11,777247,792443,792642,798236,802860,807412,null,null,"Midlands and East of England","Herefordshire and Worcestershire","NHS Herefordshire CCG",144927,145234,145568,146911,148000,149092,148963,150128,150776]
[null,null,null,null,null,null,null,null,null,null,null,null,null,"Midlands and East of England","Hertfordshire and West Essex",12,14,1512546,1545839,1556569,1573079,1589782,1590213,null,null,"Midlands and East of England","Hertfordshire and West Essex","NHS East and North Hertfordshire CCG",280303,274102,283893,281067,287993,280513,294362,292884,296257]
[null,null,null,null,null,null,null,null,null,null,null,null,null,"Midlands and East of England","Joined Up Care Derbyshire",15,15,1059564.3333333333,1059564.3333333333,1059564.3333333333,1048741,1062791,1067161,null,null,"Midlands and East of England","Hertfordshire and West Essex","NHS Herts Valley CCG",510705.5,510705.5,510705.5,510705.5,510705.5,510705.5,510705.5,508445,512966]
[null,null,null,null,null,null,null,null,null,null,null,null,null,"Midlands and East of England","Leicester, Leicestershire and Rutland",16,18,1158531.3333333333,1158531.3333333333,1158531.3333333333,1147762,1161741,1166091,null,null,"Midlands and East of England","Hertfordshire and West Essex","NHS West Essex CCG",1051679.5,1051679.5,1051679.5,1051679.5,1051679.5,1035788,1048741,1055028,1067161]
[null,null,null,null,null,null,null,null,null,null,null,null,null,"Midlands and East of England","Lincolnshire",19,19,793817.66666666663,793817.66666666663,793817.66666666663,780401,798699,802353,null,null,"Midlands and East of England","Joined Up Care Derbyshire","NHS Derby and Derbyshire CCG",797570,797570,797570,797570,797570,797570,797570,792787,802353]
[null,null,null,null,null,null,null,null,null,null,null,null,null,"Midlands and East of England","Mid and South Essex",20,24,1199709,1213377,1219651,1223890,1239869,1242029,null,null,"Midlands and East of England","Leicester, Leicestershire and Rutland","NHS East Leicestershire and Rutland CCG",1089302,1089302,1089302,1089302,1089302,1089302,1089302,1074529,1104075]
[null,null,null,null,null,null,null,null,null,null,null,null,null,"Midlands and East of England","Norfolk and Waveney Health and Care Partnership",25,25,1029714,1063067,1030405,1060016,1066974,1073983,null,null,"Midlands and East of England","Leicester, Leicestershire and Rutland","NHS Leicester City CCG",317643,321461,322450,322268,327139,328965,332686,336911,340047]
[null,null,null,null,null,null,null,null,null,null,null,null,null,"Midlands and East of England","Northamptonshire",26,26,740025,755207,764266,776684,786205,790574,null,null,"Midlands and East of England","Leicester, Leicestershire and Rutland","NHS West Leicestershire CCG",378433,376768,381461,390194,402296,407159,416559,423324,421899]
[null,null,null,null,null,null,null,null,null,null,null,null,null,"Midlands and East of England","Nottingham and Nottinghamshire Health and Care",27,27,1091252,1091252,1091252,1063038,1106643,1104075,null,null,"Midlands and East of England","Lincolnshire","NHS Lincolnshire CCG",370972,372273,375234,378609,385790,392564,398517,401506,404145]
[null,null,null,null,null,null,null,null,null,null,null,null,null,"Midlands and East of England","Shropshire and Telford and Wrekin",28,28,507976.33333333331,507976.33333333331,507976.33333333331,502518,508445,512966,null,null,"Midlands and East of England","Mid and South Essex","NHS Basildon and Brentwood CCG",1479148.5,1479148.5,1479148.5,1479148.5,1479148.5,1479148.5,1479148.5,1468171,1490126]
[null,null,null,null,null,null,null,null,null,null,null,null,null,"Midlands and East of England","Staffordshire and Stoke on Trent",29,34,1159960.3333333333,1159960.3333333333,1159960.3333333333,1157955,1159853,1162073,null,null,"Midlands and East of England","Mid and South Essex","NHS Castle Point and Rochford CCG",1309939.5,1309939.5,1309939.5,1309939.5,1309939.5,1256791,1323405,1320733,1338829]
[null,null,null,null,null,null,null,null,null,null,null,null,null,"Midlands and East of England","Suffolk and North East Essex",35,37,989208,1003483,1009876,1007912,1030771,1036317,null,null,"Midlands and East of England","Mid and South Essex","NHS Mid Essex CCG",1023155,1023155,1023155,1023155,1023155,1023155,1023155,1017795,1028515]
[null,null,null,null,null,null,null,null,null,null,null,null,null,"Midlands and East of England","The Black Country and West Birmingham",38,38,1475032.25,1475032.25,1452045,1470764,1487194,1490126,null,null,"Midlands and East of England","Mid and South Essex","NHS Southend CCG",797862.5,797862.5,797862.5,797862.5,797862.5,797862.5,797862.5,788313,807412]
[null,null,null,null,null,null,null,null,null,null,null,null,null,"North of England","Cheshire and Merseyside",39,47,2667634.3333333335,2667634.3333333335,2667634.3333333335,2645602,2672943,2684358,null,null,"Midlands and East of England","Mid and South Essex","NHS Thurrock CCG",788389.5,788389.5,788389.5,788389.5,788389.5,788389.5,788389.5,786205,790574]
[null,null,null,null,null,null,null,null,null,null,null,null,null,"North of England","Cumbria and North East",48,55,3123890.5,3123890.5,3123890.5,3123890.5,3121507,3126274,null,null,"Midlands and East of England","Norfolk and Waveney Health and Care Partnership","NHS Norfolk and Waveney CCG",875984,891352,910310,933265,950340,890848,983597,992901,1005341]
[null,null,null,null,null,null,null,null,null,null,null,null,null,"North of England","Greater Manchester Health and Social Care Partnership",56,65,3117603.3333333335,3117603.3333333335,3117603.3333333335,3086548,3125128,3141134,null,null,"Midlands and East of England","Northamptonshire","NHS Northamptonshire CCG",1070478.5,1070478.5,1070478.5,1070478.5,1070478.5,1070478.5,1070478.5,1066974,1073983]
[null,null,null,null,null,null,null,null,null,null,null,null,null,"North of England","Healthier Lancashire and South Cumbria",66,73,1799330.3333333333,1799330.3333333333,1799330.3333333333,1821334,1781274,1795383,null,null,"Midlands and East of England","Nottingham and Nottinghamshire Health and Care","NHS Nottingham and Nottinghamshire CCG",390245,393026,396958,400880,404021,407512,411033,411170,415705]
[null,null,null,null,null,null,null,null,null,null,null,null,null,"North of England","Humber, Coast and Vale",74,79,1759969.5,1759969.5,1759969.5,1759969.5,1757499,1762440,null,null,"Midlands and East of England","Shropshire and Telford and Wrekin","NHS Shropshire, Telford and Wrekin CCG",332062,330971,336767,342183,350664,301264,343849,359685,361390]
[null,null,null,null,null,null,null,null,null,null,null,null,null,"North of England","South Yorkshire and Bassetlaw",80,84,1583632.3333333333,1583632.3333333333,1583632.3333333333,1571432,1589608,1589857,null,null,"Midlands and East of England","Staffordshire and Stoke on Trent","NHS Cannock Chase CCG",238410,240618,243102,246145,248798,250598,253030,257456,259222]
[null,null,null,null,null,null,null,null,null,null,null,null,null,"North of England","West Yorkshire and Harrogate (Health and Care Partnership)",85,89,2595475,2595475,2595475,2595475,2592366,2598584,null,null,"Midlands and East of England","Staffordshire and Stoke on Trent","NHS East Staffordshire CCG",1036421.5,1036421.5,1036421.5,1036421.5,1036421.5,1036421.5,1036421.5,1022816,1050027]
[null,null,null,null,null,null,null,null,null,null,null,null,null,"South of England","Bath and North East Somerset, Swindon and Wiltshire",90,90,918240,926102,935271,931878,960204,967856,null,null,"Midlands and East of England","Staffordshire and Stoke on Trent","NHS North Staffordshire CCG",573048,577680,583155,574190,593104,587536,602852,592033,606398]
[null,null,null,null,null,null,null,null,null,null,null,null,null,"South of England","Bristol, North Somerset and South Gloucestershire",91,91,950181,986226,1008028,1023807,1039306,1042507,null,null,"Midlands and East of England","Staffordshire and Stoke on Trent","NHS South East Staffordshire and Seisdon Peninsula CCG",609319,616457,624452,633456,643881,593735,652574,631822,662255]
[null,null,null,null,null,null,null,null,null,null,null,null,null,"South of England","Buckinghamshire, Oxfordshire and Berkshire West",92,94,1750185,1819910,1286999,1872462,1901306,1910451,null,null,"Midlands and East of England","Staffordshire and Stoke on Trent","NHS Stafford and Surrounds CCG",295444,295355,298767,304900,308854,307389,317653,314435,321560]
[null,null,null,null,null,null,null,null,null,null,null,null,null,"South of England","Cornwall and the Isles of Scilly Health and Social Care Partnership",95,95,557227,568682,574407,323308,585470,592376,null,null,"Midlands and East of England","Staffordshire and Stoke on Trent","NHS Stoke on Trent CCG",264618,267673,270598,274268,276521,278089,281597,284079,284070]
[null,null,null,null,null,null,null,null,null,null,null,null,null,"South of England","Devon",96,96,1148596,1205558,1224410,1180190,1247260,1256751,null,null,"Midlands and East of England","Suffolk and North East Essex","NHS Ipswich and East Suffolk CCG",180715,180674,182037,183676,184576,171081,185709,185973,185432]
[null,null,null,null,null,null,null,null,null,null,null,null,null,"South of England","Dorset",97,97,769029,795159,800260,804344,809235,811484,null,null,"Midlands and East of England","Suffolk and North East Essex","NHS North East Essex CCG",381712,377179,380042,384666,389222,384088,394215,397994,400137]
[null,null,null,null,null,null,null,null,null,null,null,null,null,"South of England","Frimley Health and Care ICS",98,98,756316,776272,783310,784646,802577,804030,null,null,"Midlands and East of England","Suffolk and North East Essex","NHS West Suffolk CCG",184741,184595,184896,185603,189126,184168,189414,187700,189766]
[null,null,null,null,null,null,null,null,null,null,null,null,null,"South of England","Gloucestershire",99,99,634015,637555,636319,646029,660718,666338,null,null,"Midlands and East of England","The Black Country and West Birmingham","NHS Black Country and West Birmingham CCG",164031,166018,168576,171496,173932,160356,172955,181880,182624]
[null,null,null,null,null,null,null,null,null,null,null,null,null,"South of England","Hampshire and the Isle of Wight",100,101,1805159,1869034,1870332,1920605,1897552,1902228,null,null,"North of England","Cheshire and Merseyside","NHS Cheshire CCG",297639,297379,299958,302844,306776,309149,312873,316292,317177]
[null,null,null,null,null,null,null,null,null,null,null,null,null,"South of England","Kent and Medway",102,102,1794619,1849120,1883947,1900078,1914385,1937127,null,null,"North of England","Cheshire and Merseyside","NHS Halton CCG",185528,196806,198094,200344,202424,173163,205761,207043,207544]
[null,null,null,null,null,null,null,null,null,null,null,null,null,"South of England","Somerset",103,103,555403,569279,574614,580564,583921,588379,null,null,"North of England","Cheshire and Merseyside","NHS Knowsley CCG",221027,223918,223939,224471,230919,233290,236012,238421,239865]
[null,null,null,null,null,null,null,null,null,null,null,null,null,"South of England","Surrey Heartlands Health and Care Partnership",104,104,1108360.5,1108360.5,1108360.5,1108360.5,1103582,1113139,null,null,"North of England","Cheshire and Merseyside","NHS Liverpool CCG",240928,242985,245230,249227,252720,250164,258307,249649,260852]
[null,null,null,null,null,null,null,null,null,null,null,null,null,"South of England","Sussex and East Surrey Health and Care Partnership",105,107,1794885,1794885,1794885,1794885,1791624,1798146,null,null,"North of England","Cheshire and Merseyside","NHS South Sefton CCG",250161,253783,258037,261184,267283,272631,278949,265975,289607]
[null,null,null,null,null,null,null,null,null,null,null,null,null,null,null,null,null,null,null,null,null,null,null,null,null,"North of England","Cheshire and Merseyside","NHS Southport and Formby CCG",299943,301320,303259,299757,309712,307313,314199,314930,317863]
[null,null,null,null,null,null,null,null,null,null,null,null,null,null,null,null,null,null,null,null,null,null,null,null,null,"North of England","Cheshire and Merseyside","NHS St Helens CCG",241332,239708,242755,240366,246321,235234,249334,251124,251732]
[null,null,null,null,null,null,null,null,null,null,null,null,null,null,null,null,null,null,null,null,null,null,null,null,null,"North of England","Cheshire and Merseyside","NHS Warrington CCG",227948,236910,237854,238397,240324,241640,243471,238485,243834]
[null,null,null,null,null,null,null,null,null,null,null,null,null,null,null,null,null,null,null,null,null,null,null,null,null,"North of England","Cheshire and Merseyside","NHS Wirral CCG",320813,320883,322337,322105,325836,324153,330540,327122,334915]
[null,null,null,null,null,null,null,null,null,null,null,null,null,null,null,null,null,null,null,null,null,null,null,null,null,"North of England","Cumbria and North East","NHS County Durham CCG",647090.66666666663,647090.66666666663,647090.66666666663,604675,628281,641098,657102,673643,677745]
[null,null,null,null,null,null,null,null,null,null,null,null,null,null,null,null,null,null,null,null,null,null,null,null,null,"North of England","Cumbria and North East","NHS Newcastle Gateshead CCG",128620,129007,127279,125272,130440,131206,132554,133419,134140]
[null,null,null,null,null,null,null,null,null,null,null,null,null,null,null,null,null,null,null,null,null,null,null,null,null,"North of England","Cumbria and North East","NHS North Cumbria CCG",161070,160753,161006,159443,163441,165042,166455,167954,168625]
[null,null,null,null,null,null,null,null,null,null,null,null,null,null,null,null,null,null,null,null,null,null,null,null,null,"North of England","Cumbria and North East","NHS North Tyneside CCG",496221,500087,504414,511683,522899,515138,541501,550914,554389]
[null,null,null,null,null,null,null,null,null,null,null,null,null,null,null,null,null,null,null,null,null,null,null,null,null,"North of England","Cumbria and North East","NHS Northumberland CCG",155077,154921,147634,148546,151680,155072,155890,156690,156669]
[null,null,null,null,null,null,null,null,null,null,null,null,null,null,null,null,null,null,null,null,null,null,null,null,null,"North of England","Cumbria and North East","NHS South Tyneside CCG",122205,122391,123071,123842,124155,118139,121191,125658,125662]
[null,null,null,null,null,null,null,null,null,null,null,null,null,null,null,null,null,null,null,null,null,null,null,null,null,"North of England","Cumbria and North East","NHS Sunderland CCG",193391,194012,190541,192030,196435,192527,198013,190792,199421]
[null,null,null,null,null,null,null,null,null,null,null,null,null,null,null,null,null,null,null,null,null,null,null,null,null,"North of England","Cumbria and North East","NHS Tees Valley CCG",208856,211260,212955,201299,203124,208956,219463,220742,220725]
[null,null,null,null,null,null,null,null,null,null,null,null,null,null,null,null,null,null,null,null,null,null,null,null,null,"North of England","Greater Manchester Health and Social Care Partnership","NHS Bolton CCG",331149,332309,333087,329238,343176,334316,337220,329942,338175]
[null,null,null,null,null,null,null,null,null,null,null,null,null,null,null,null,null,null,null,null,null,null,null,null,null,"North of England","Greater Manchester Health and Social Care Partnership","NHS Bury CCG",775232.5,775232.5,775232.5,775232.5,775232.5,775232.5,775232.5,763913,786552]
[null,null,null,null,null,null,null,null,null,null,null,null,null,null,null,null,null,null,null,null,null,null,null,null,null,"North of England","Greater Manchester Health and Social Care Partnership","NHS Heywood, Middleton and Rochdale CCG",250376,252445,250893,245925,261094,260302,262267,263024,264271]
[null,null,null,null,null,null,null,null,null,null,null,null,null,null,null,null,null,null,null,null,null,null,null,null,null,"North of England","Greater Manchester Health and Social Care Partnership","NHS Manchester CCG",111930,112624,113570,110758,119924,112482,113586,119431,120256]
[null,null,null,null,null,null,null,null,null,null,null,null,null,null,null,null,null,null,null,null,null,null,null,null,null,"North of England","Greater Manchester Health and Social Care Partnership","NHS Oldham CCG",310105,310824,312250,314837,317514,308458,323041,325592,326111]
[null,null,null,null,null,null,null,null,null,null,null,null,null,null,null,null,null,null,null,null,null,null,null,null,null,"North of England","Greater Manchester Health and Social Care Partnership","NHS Salford CCG",256641,257809,258688,257949,266090,260990,264343,265018,264960]
[null,null,null,null,null,null,null,null,null,null,null,null,null,null,null,null,null,null,null,null,null,null,null,null,null,"North of England","Greater Manchester Health and Social Care Partnership","NHS Stockport CCG",578294,583890,586399,582750,596996,593094,608195,605688,614259]
[null,null,null,null,null,null,null,null,null,null,null,null,null,null,null,null,null,null,null,null,null,null,null,null,null,"North of England","Greater Manchester Health and Social Care Partnership","NHS Tameside and Glossop CCG",169467,169322,170216,172036,173797,174986,184069,178557,179552]
[null,null,null,null,null,null,null,null,null,null,null,null,null,null,null,null,null,null,null,null,null,null,null,null,null,"North of England","Greater Manchester Health and Social Care Partnership","NHS Trafford CCG",172782,172202,171786,170926,172699,173257,174194,174729,174970]
[null,null,null,null,null,null,null,null,null,null,null,null,null,null,null,null,null,null,null,null,null,null,null,null,null,"North of England","Greater Manchester Health and Social Care Partnership","NHS Wigan Borough CCG",174608,176023,177605,179785,181931,183432,185165,178722,187002]
[null,null,null,null,null,null,null,null,null,null,null,null,null,null,null,null,null,null,null,null,null,null,null,null,null,"North of England","Healthier Lancashire and South Cumbria","NHS Blackburn with Darwen CCG",367891,371608,373091,372055,378849,381783,401627,384410,391192]
[null,null,null,null,null,null,null,null,null,null,null,null,null,null,null,null,null,null,null,null,null,null,null,null,null,"North of England","Healthier Lancashire and South Cumbria","NHS Blackpool CCG",111967,111946,112122,106041,113228,111512,116745,114102,114019]
[null,null,null,null,null,null,null,null,null,null,null,null,null,null,null,null,null,null,null,null,null,null,null,null,null,"North of England","Healthier Lancashire and South Cumbria","NHS Chorley and South Ribble CCG",151104,150650,150710,147536,151112,170836,178186,179326,180451]
[null,null,null,null,null,null,null,null,null,null,null,null,null,null,null,null,null,null,null,null,null,null,null,null,null,"North of England","Healthier Lancashire and South Cumbria","NHS East Lancashire CCG",210949,207390,210337,203674,210130,209377,230094,212497,216755]
[null,null,null,null,null,null,null,null,null,null,null,null,null,null,null,null,null,null,null,null,null,null,null,null,null,"North of England","Healthier Lancashire and South Cumbria","NHS Fylde and Wyre CCG",161625,160751,159155,335262,360784,345853,351254,341559,351442]
[null,null,null,null,null,null,null,null,null,null,null,null,null,null,null,null,null,null,null,null,null,null,null,null,null,"North of England","Healthier Lancashire and South Cumbria","NHS Greater Preston CCG",215344,215788,216229,217000,218237,213243,220604,216211,223243]
[null,null,null,null,null,null,null,null,null,null,null,null,null,null,null,null,null,null,null,null,null,null,null,null,null,"North of England","Healthier Lancashire and South Cumbria","NHS Morecambe Bay CCG",321731,321140,322094,322499,323439,320355,326706,295770,331113]
[null,null,null,null,null,null,null,null,null,null,null,null,null,null,null,null,null,null,null,null,null,null,null,null,null,"North of England","Healthier Lancashire and South Cumbria","NHS West Lancashire CCG",154490,154613,154177,154936,156405,154235,157469,158561,158453]
[null,null,null,null,null,null,null,null,null,null,null,null,null,null,null,null,null,null,null,null,null,null,null,null,null,"North of England","Humber, Coast and Vale","NHS East Riding of Yorkshire CCG",283910,283458,283436,273642,284122,276494,284010,280008,284323]
[null,null,null,null,null,null,null,null,null,null,null,null,null,null,null,null,null,null,null,null,null,null,null,null,null,"North of England","Humber, Coast and Vale","NHS Hull CCG",521918.14285714284,521918.14285714284,504757,506678,520882,523969,530815,534061,532265]
[null,null,null,null,null,null,null,null,null,null,null,null,null,null,null,null,null,null,null,null,null,null,null,null,null,"North of England","Humber, Coast and Vale","NHS North East Lincolnshire CCG",524145,520127,518919,291616,323146,319712,325298,302437,327111]
[null,null,null,null,null,null,null,null,null,null,null,null,null,null,null,null,null,null,null,null,null,null,null,null,null,"North of England","Humber, Coast and Vale","NHS North Lincolnshire CCG",555798.5,555798.5,555798.5,555798.5,555798.5,555798.5,555798.5,553033,558564]
[null,null,null,null,null,null,null,null,null,null,null,null,null,null,null,null,null,null,null,null,null,null,null,null,null,"North of England","Humber, Coast and Vale","NHS North Yorkshire CCG",710349.5,710349.5,710349.5,710349.5,710349.5,710349.5,710349.5,709497,711202]
[null,null,null,null,null,null,null,null,null,null,null,null,null,null,null,null,null,null,null,null,null,null,null,null,null,"North of England","Humber, Coast and Vale","NHS Vale of York CCG",300944,300957,301715,299715,305783,304028,306139,307138,307202]
[null,null,null,null,null,null,null,null,null,null,null,null,null,null,null,null,null,null,null,null,null,null,null,null,null,"North of England","South Yorkshire and Bassetlaw","NHS Barnsley CCG",290383,288557,290393,291046,308670,278585,301134,301019,303407]
[null,null,null,null,null,null,null,null,null,null,null,null,null,null,null,null,null,null,null,null,null,null,null,null,null,"North of England","South Yorkshire and Bassetlaw","NHS Bassetlaw CCG",168197,168167,168792,166816,171732,167070,170074,163302,170480]
[null,null,null,null,null,null,null,null,null,null,null,null,null,null,null,null,null,null,null,null,null,null,null,null,null,"North of England","South Yorkshire and Bassetlaw","NHS Doncaster CCG",169743,169997,170261,171905,172933,178861,180334,181658,182542]
[null,null,null,null,null,null,null,null,null,null,null,null,null,null,null,null,null,null,null,null,null,null,null,null,null,"North of England","South Yorkshire and Bassetlaw","NHS Rotherham CCG",331817,346945,351090,346863,363643,357038,361706,361997,365594]
[null,null,null,null,null,null,null,null,null,null,null,null,null,null,null,null,null,null,null,null,null,null,null,null,null,"North of England","South Yorkshire and Bassetlaw","NHS Sheffield CCG",432063.5,432063.5,432063.5,432063.5,432063.5,432063.5,432063.5,430912,433215]
[null,null,null,null,null,null,null,null,null,null,null,null,null,null,null,null,null,null,null,null,null,null,null,null,null,"North of England","West Yorkshire and Harrogate (Health and Care Partnership)","NHS Bradford District and Craven CCG",214193,215629,217058,218499,219695,218398,221736,222097,222035]
[null,null,null,null,null,null,null,null,null,null,null,null,null,null,null,null,null,null,null,null,null,null,null,null,null,"North of England","West Yorkshire and Harrogate (Health and Care Partnership)","NHS Calderdale CCG",445736,445736,445736,445736,445736,445736,445736,443683,447789]
[null,null,null,null,null,null,null,null,null,null,null,null,null,null,null,null,null,null,null,null,null,null,null,null,null,"North of England","West Yorkshire and Harrogate (Health and Care Partnership)","NHS Kirklees CCG",356302,358187,361025,364553,369362,357999,377984,374729,385295]
[null,null,null,null,null,null,null,null,null,null,null,null,null,null,null,null,null,null,null,null,null,null,null,null,null,"North of England","West Yorkshire and Harrogate (Health and Care Partnership)","NHS Leeds CCG",714273.6,714273.6,714273.6,714273.6,714273.6,875679,889368,890337,897886]
[null,null,null,null,null,null,null,null,null,null,null,null,null,null,null,null,null,null,null,null,null,null,null,null,null,"North of England","West Yorkshire and Harrogate (Health and Care Partnership)","NHS Wakefield CCG",639039.5,639039.5,639039.5,639039.5,639039.5,639039.5,639039.5,632500,645579]
[null,null,null,null,null,null,null,null,null,null,null,null,null,null,null,null,null,null,null,null,null,null,null,null,null,"South of England","Bath and North East Somerset, Swindon and Wiltshire","NHS Bath and North East Somerset, Swindon and Wiltshire CCG",1910169,1910169,1910169,1910169,1910169,1910169,1910169,1883211,1937127]
[null,null,null,null,null,null,null,null,null,null,null,null,null,null,null,null,null,null,null,null,null,null,null,null,null,"South of England","Bristol, North Somerset and South Gloucestershire","NHS Bristol, North Somerset and South Gloucestershire CCG",803303.5,803303.5,803303.5,803303.5,803303.5,803303.5,803303.5,802577,804030]
[null,null,null,null,null,null,null,null,null,null,null,null,null,null,null,null,null,null,null,null,null,null,null,null,null,"South of England","Buckinghamshire, Oxfordshire and Berkshire West","NHS Berkshire West CCG",558443,559148,553146,557227,568682,310734,323308,585470,592376]
[null,null,null,null,null,null,null,null,null,null,null,null,null,null,null,null,null,null,null,null,null,null,null,null,null,"South of England","Buckinghamshire, Oxfordshire and Berkshire West","NHS Buckinghamshire CCG",1203030.25,1203030.25,1203030.25,1203030.25,1203030.25,1137149,1180190,1238031,1256751]
[null,null,null,null,null,null,null,null,null,null,null,null,null,null,null,null,null,null,null,null,null,null,null,null,null,"South of England","Buckinghamshire, Oxfordshire and Berkshire West","NHS Oxfordshire CCG",548327,551656,556723,555403,569279,559954,580564,583921,588379]
[null,null,null,null,null,null,null,null,null,null,null,null,null,null,null,null,null,null,null,null,null,null,null,null,null,"South of England","Cornwall and the Isles of Scilly Health and Social Care Partnership","NHS Kernow CCG",1008548.25,1008548.25,1008548.25,1008548.25,1008548.25,941670,1023807,1026209,1042507]
[null,null,null,null,null,null,null,null,null,null,null,null,null,null,null,null,null,null,null,null,null,null,null,null,null,"South of England","Devon","NHS Devon CCG",964030,964030,964030,964030,964030,964030,964030,960204,967856]
[null,null,null,null,null,null,null,null,null,null,null,null,null,null,null,null,null,null,null,null,null,null,null,null,null,"South of England","Dorset","NHS Dorset CCG",771726,777935,783543,769029,795159,787661,804344,805387,811484]
[null,null,null,null,null,null,null,null,null,null,null,null,null,null,null,null,null,null,null,null,null,null,null,null,null,"South of England","Frimley Health and Care ICS","NHS Frimley CCG",1646735,1646735,1646735,1646735,1646735,1646735,1646735,1621326,1672144]
[null,null,null,null,null,null,null,null,null,null,null,null,null,null,null,null,null,null,null,null,null,null,null,null,null,"South of England","Gloucestershire","NHS Gloucestershire CCG",217685,218672,218666,217059,239641,225241,232568,214569,230084]
[null,null,null,null,null,null,null,null,null,null,null,null,null,null,null,null,null,null,null,null,null,null,null,null,null,"South of England","Hampshire and the Isle of Wight","NHS Hampshire, Southampton and Isle of Wight CCG",620440,625876,632423,634015,637555,594207,646029,647085,666338]
[null,null,null,null,null,null,null,null,null,null,null,null,null,null,null,null,null,null,null,null,null,null,null,null,null,"South of England","Hampshire and the Isle of Wight","NHS Portsmouth CCG",693515,700541,711075,698246,730063,743487,759020,760823,779546]
[null,null,null,null,null,null,null,null,null,null,null,null,null,null,null,null,null,null,null,null,null,null,null,null,null,"South of England","Kent and Medway","NHS Kent and Medway CCG",547856,547856,547856,547856,547856,534628,548479,550786,557531]
[null,null,null,null,null,null,null,null,null,null,null,null,null,null,null,null,null,null,null,null,null,null,null,null,null,"South of England","Somerset","NHS Somerset CCG",564985.66666666663,564985.66666666663,564985.66666666663,564985.66666666663,564985.66666666663,564985.66666666663,564963,556620,573374]
[null,null,null,null,null,null,null,null,null,null,null,null,null,null,null,null,null,null,null,null,null,null,null,null,null,"South of England","Surrey Heartlands Health and Care Partnership","NHS Surrey Heartlands CCG",1108360.5,1108360.5,1108360.5,1108360.5,1108360.5,1108360.5,1108360.5,1103582,1113139]
[null,null,null,null,null,null,null,null,null,null,null,null,null,null,null,null,null,null,null,null,null,null,null,null,null,"South of England","Sussex and East Surrey Health and Care Partnership","NHS Brighton and Hove CCG",300503,303478,305398,298651,302746,288378,308688,326136,324456]
[null,null,null,null,null,null,null,null,null,null,null,null,null,null,null,null,null,null,null,null,null,null,null,null,null,"South of England","Sussex and East Surrey Health and Care Partnership","NHS East Sussex CCG",534779,534779,534779,534779,534779,534779,534779,506882,562676]
[null,null,null,null,null,null,null,null,null,null,null,null,null,null,null,null,null,null,null,null,null,null,null,null,null,"South of England","Sussex and East Surrey Health and Care Partnership","NHS West Sussex CCG",894104,894104,894104,894104,894104,894104,894104,877194,911014]

{"sheet":"newDataRegister","index":48,"n_rows":107,"n_cols":37,"rows_kept":107,"cut":false,"hidden":true,"merged":[]}
["Region","Start Row","End Row",2012,2013,2014,2015,2016,2017,2018,"2019-20","2020-21",null,"Region","ICS Name","Start Row","End Row",2015,2016,2017,2018,2019,2020,null,null,"Region","ICSName","CCG Name",2012,2013,2014,2015,2016,2017,2018,2019,2020]
["East of England",2,{"$f":"B2+COUNTIF(N:N,A2)-1","v":1},null,null,null,117394,120658,122549,126083,127018,128321,null,"London","East London Health and Care Partnership",2,{"$f":"P2+COUNTIF(AA:AA,O2)-1","v":2},23663,24609,24661,25212,25519,25092,null,null,"London","East London Health and Care Partnership","NHS North East London CCG",25233,25233,25233,25233,25233,25233,25233,25374,25092]
["London",{"$f":"C2+1","v":2},{"$f":"B3+COUNTIF(N:N,A3)-1","v":6},null,null,null,104767,109955,111953,115101,115097,114914,null,"London","North London Partners in Health and Care",{"$f":"Q2+1","v":3},{"$f":"P3+COUNTIF(AA:AA,O3)-1","v":3},17069,18049,18273,19260,20569,19283,null,null,"London","North London Partners in Health and Care","NHS North Central London CCG",19342,19342,19342,19342,19342,19342,19342,19401,19283]
["Midlands",{"$f":"C3+1","v":7},{"$f":"B4+COUNTIF(N:N,A4)-1","v":6},null,null,null,216752.33333333331,217604.33333333331,217065.33333333334,217862,220407,221861,null,"London","North West London Health and Care Partnership",{"$f":"Q3+1","v":4},{"$f":"P4+COUNTIF(AA:AA,O4)-1","v":4},23034,23781,24496,25235,25468,25171,null,null,"London","North West London Health and Care Partnership","NHS North West London CCG",25190.5,25190.5,25190.5,25190.5,25190.5,25190.5,25190.5,25210,25171]
["North East and Yorkshire",7,6,null,null,null,231999.83333333334,231999.83333333334,231999.83333333334,231832.5,228989,231835,null,"London","Our Healthier South East London",5,5,23956,25564,26135,26488,26584,26519,null,null,"London","Our Healthier South East London","NHS South East London CCG",26361,26361,26361,26361,26361,26361,26361,26203,26519]
["North West",null,null,null,null,null,187106.66666666666,187106.66666666666,187106.66666666666,185498,185099,188529,null,"London","South West London Health and Care Partnership",6,6,17045,17952,18388,18906,19039,18849,null,null,"London","South West London Health and Care Partnership","NHS South West London CCG",18879,18879,18879,18879,18879,18879,18879,18909,18849]
["South East ",null,null,null,null,null,179039.5,186911.5,184042.5,196533.5,156838,162394,null,"Midlands and East of England","Bedfordshire, Luton and Milton Keynes",7,7,14572,15138,15456,15834,16280,16549,null,null,"Midlands and East of England","Bedfordshire, Luton and Milton Keynes","NHS Bedfordshire, Luton and Milton Keynes CCG",16238.5,16238.5,16238.5,16238.5,16238.5,16238.5,16238.5,15928,16549]
["South West",null,null,null,null,null,104846,111043,114638,111183,120751,122583,null,"Midlands and East of England","Birmingham and Solihull",8,8,22147.25,22147.25,21742,22179,22346,22322,null,null,"Midlands and East of England","Birmingham and Solihull","NHS Birmingham and Solihull CCG",21918.5,21918.5,21918.5,21918.5,21918.5,21164,22179,22009,22322]
[null,null,null,null,null,null,null,null,null,null,null,null,null,"Midlands and East of England","Cambridgeshire and Peterborough",9,9,15612,16020,16513,17039,17367,17507,null,null,"Midlands and East of England","Cambridgeshire and Peterborough","NHS Cambridgeshire and Peterborough CCG",13977,14420,14999,15612,16020,15214,17039,17224,17507]
[null,null,null,null,null,null,null,null,null,null,null,null,null,"Midlands and East of England","Coventry and Warwickshire",10,10,16687.75,16687.75,16330,16742,16731,16948,null,null,"Midlands and East of England","Coventry and Warwickshire","NHS Coventry and Warwickshire CCG",16799,16799,16799,16799,16799,16799,16799,16650,16948]
[null,null,null,null,null,null,null,null,null,null,null,null,null,"Midlands and East of England","Herefordshire and Worcestershire",11,11,15095,15694,16408,17088,17514,17394,null,null,"Midlands and East of England","Herefordshire and Worcestershire","NHS Herefordshire CCG",17267,17267,17267,17267,17267,17267,17267,17140,17394]
[null,null,null,null,null,null,null,null,null,null,null,null,null,"Midlands and East of England","Hertfordshire and West Essex",12,14,22424,23348,23865,24441,24625,24317,null,null,"Midlands and East of England","Hertfordshire and West Essex","NHS East and North Hertfordshire CCG",8494,8680,8852,8890,9298,9199,9584,9546,9563]
[null,null,null,null,null,null,null,null,null,null,null,null,null,"Midlands and East of England","Joined Up Care Derbyshire",15,15,23749.333333333332,23749.333333333332,23749.333333333332,23437,23960,23851,null,null,"Midlands and East of England","Hertfordshire and West Essex","NHS Herts Valley CCG",7668,7735,7938,8271,8687,8264,9344,9135,9436]
[null,null,null,null,null,null,null,null,null,null,null,null,null,"Midlands and East of England","Leicester, Leicestershire and Rutland",16,18,19410,19410,19410,19269,19530,19431,null,null,"Midlands and East of England","Hertfordshire and West Essex","NHS West Essex CCG",4732,4858,5060,5263,5363,5444,5513,5235,5318]
[null,null,null,null,null,null,null,null,null,null,null,null,null,"Midlands and East of England","Lincolnshire",19,19,18311.666666666668,18311.666666666668,18311.666666666668,17844,18605,18486,null,null,"Midlands and East of England","Joined Up Care Derbyshire","NHS Derby and Derbyshire CCG",23496.75,23496.75,23496.75,23496.75,23496.75,22857,23437,23842,23851]
[null,null,null,null,null,null,null,null,null,null,null,null,null,"Midlands and East of England","Mid and South Essex",20,24,22493,22756,23153,23787,23825,23627,null,null,"Midlands and East of England","Leicester, Leicestershire and Rutland","NHS East Leicestershire and Rutland CCG",4973,5236,5459,5591,5710,5803,5984,6139,6124]
[null,null,null,null,null,null,null,null,null,null,null,null,null,"Midlands and East of England","Norfolk and Waveney Health and Care Partnership",25,25,22650,23209,22910,24237,24690,24824,null,null,"Midlands and East of England","Leicester, Leicestershire and Rutland","NHS Leicester City CCG",5145,5341,5473,5528,5581,5687,5744,5833,5800]
[null,null,null,null,null,null,null,null,null,null,null,null,null,"Midlands and East of England","Northamptonshire",26,26,13987,14240,14593,15005,15349,15328,null,null,"Midlands and East of England","Leicester, Leicestershire and Rutland","NHS West Leicestershire CCG",6087,6293,6612,6927,7151,7431,7541,7558,7507]
[null,null,null,null,null,null,null,null,null,null,null,null,null,"Midlands and East of England","Nottingham and Nottinghamshire Health and Care",27,27,21792.333333333332,21792.333333333332,21792.333333333332,20933,22283,22161,null,null,"Midlands and East of England","Lincolnshire","NHS Lincolnshire CCG",18481.5,18481.5,18481.5,18481.5,18481.5,18481.5,18481.5,18477,18486]
[null,null,null,null,null,null,null,null,null,null,null,null,null,"Midlands and East of England","Shropshire and Telford and Wrekin",28,28,10036.666666666666,10036.666666666666,10036.666666666666,9832,10057,10221,null,null,"Midlands and East of England","Mid and South Essex","NHS Basildon and Brentwood CCG",4926,5023,5167,5308,5320,5341,5493,5420,5299]
[null,null,null,null,null,null,null,null,null,null,null,null,null,"Midlands and East of England","Staffordshire and Stoke on Trent",29,34,26711.333333333332,26711.333333333332,26711.333333333332,26431,26885,26818,null,null,"Midlands and East of England","Mid and South Essex","NHS Castle Point and Rochford CCG",3644,3742,3903,4009,4088,3923,4383,4327,4336]
[null,null,null,null,null,null,null,null,null,null,null,null,null,"Midlands and East of England","Suffolk and North East Essex",35,37,19643,20187,20652,20745,21507,21497,null,null,"Midlands and East of England","Mid and South Essex","NHS Mid Essex CCG",5142,5408,5701,5949,6082,6041,6308,6406,6461]
[null,null,null,null,null,null,null,null,null,null,null,null,null,"Midlands and East of England","The Black Country and West Birmingham",38,38,28824,28824,27981,29102,29312,28901,null,null,"Midlands and East of England","Mid and South Essex","NHS Southend CCG",3399,3560,3791,3957,4014,3966,4154,4112,4101]
[null,null,null,null,null,null,null,null,null,null,null,null,null,"North of England","Cheshire and Merseyside",39,47,68844.333333333328,68844.333333333328,68844.333333333328,68194,68903,69436,null,null,"Midlands and East of England","Mid and South Essex","NHS Thurrock CCG",2859,2989,3089,3270,3252,3000,3449,3512,3430]
[null,null,null,null,null,null,null,null,null,null,null,null,null,"North of England","Cumbria and North East",48,55,91304,91304,91304,91304,91159,91449,null,null,"Midlands and East of England","Norfolk and Waveney Health and Care Partnership","NHS Norfolk and Waveney CCG",24757,24757,24757,24757,24757,24757,24757,24690,24824]
[null,null,null,null,null,null,null,null,null,null,null,null,null,"North of England","Greater Manchester Health and Social Care Partnership",56,65,72904.666666666672,72904.666666666672,72904.666666666672,72222,72985,73507,null,null,"Midlands and East of England","Northamptonshire","NHS Northamptonshire CCG",15338.5,15338.5,15338.5,15338.5,15338.5,15338.5,15338.5,15349,15328]
[null,null,null,null,null,null,null,null,null,null,null,null,null,"North of England","Healthier Lancashire and South Cumbria",66,73,45357.666666666664,45357.666666666664,45357.666666666664,45082,45405,45586,null,null,"Midlands and East of England","Nottingham and Nottinghamshire Health and Care","NHS Nottingham and Nottinghamshire CCG",21930.5,21930.5,21930.5,21930.5,21930.5,21930.5,21930.5,21700,22161]
[null,null,null,null,null,null,null,null,null,null,null,null,null,"North of England","Humber, Coast and Vale",74,79,41503.5,41503.5,41503.5,41503.5,41570,41437,null,null,"Midlands and East of England","Shropshire and Telford and Wrekin","NHS Shropshire, Telford and Wrekin CCG",10139,10139,10139,10139,10139,10139,10139,10057,10221]
[null,null,null,null,null,null,null,null,null,null,null,null,null,"North of England","South Yorkshire and Bassetlaw",80,84,41814.333333333336,41814.333333333336,41814.333333333336,41647,42104,41692,null,null,"Midlands and East of England","Staffordshire and Stoke on Trent","NHS Cannock Chase CCG",2866,2935,2964,2960,3160,3321,3492,3502,3620]
[null,null,null,null,null,null,null,null,null,null,null,null,null,"North of England","West Yorkshire and Harrogate (Health and Care Partnership)",85,89,57378,57378,57378,57378,57499,57257,null,null,"Midlands and East of England","Staffordshire and Stoke on Trent","NHS East Staffordshire CCG",2201,2318,2291,2340,2470,2629,2661,2664,2631]
[null,null,null,null,null,null,null,null,null,null,null,null,null,"South of England","Bath and North East Somerset, Swindon and Wiltshire",90,90,15056,15413,15700,16023,16695,16691,null,null,"Midlands and East of England","Staffordshire and Stoke on Trent","NHS North Staffordshire CCG",4393,4314,4702,4878,5102,5173,5587,5696,5638]
[null,null,null,null,null,null,null,null,null,null,null,null,null,"South of England","Bristol, North Somerset and South Gloucestershire",91,91,16176,17384,17996,18554,18781,18953,null,null,"Midlands and East of England","Staffordshire and Stoke on Trent","NHS South East Staffordshire and Seisdon Peninsula CCG",3550,3644,3729,3828,3931,4008,4148,4016,4120]
[null,null,null,null,null,null,null,null,null,null,null,null,null,"South of England","Buckinghamshire, Oxfordshire and Berkshire West",92,94,22444,23642,16719,25132,25376,25339,null,null,"Midlands and East of England","Staffordshire and Stoke on Trent","NHS Stafford and Surrounds CCG",1949,2034,2165,2304,2417,2549,2723,2841,2820]
[null,null,null,null,null,null,null,null,null,null,null,null,null,"South of England","Cornwall and the Isles of Scilly Health and Social Care Partnership",95,95,11829,12290,12681,7105,13755,14095,null,null,"Midlands and East of England","Staffordshire and Stoke on Trent","NHS Stoke on Trent CCG",6504,6609,7026,6990,7165,7227,7820,7937,7989]
[null,null,null,null,null,null,null,null,null,null,null,null,null,"South of England","Devon",96,96,24172,26107,26947,26808,28793,29215,null,null,"Midlands and East of England","Suffolk and North East Essex","NHS Ipswich and East Suffolk CCG",6295,6522,6698,6907,7062,7227,7429,7635,7566]
[null,null,null,null,null,null,null,null,null,null,null,null,null,"South of England","Dorset",97,97,14785,16028,16798,17356,17744,17710,null,null,"Midlands and East of England","Suffolk and North East Essex","NHS North East Essex CCG",7094,7343,7561,7665,7817,6600,7685,7988,7971]
[null,null,null,null,null,null,null,null,null,null,null,null,null,"South of England","Frimley Health and Care ICS",98,98,8880,9429,9893,10105,10340,10306,null,null,"Midlands and East of England","Suffolk and North East Essex","NHS West Suffolk CCG",4539,4674,4870,5071,5308,5451,5631,5860,5960]
[null,null,null,null,null,null,null,null,null,null,null,null,null,"South of England","Gloucestershire",99,99,11020,11375,11568,11810,12269,12366,null,null,"Midlands and East of England","The Black Country and West Birmingham","NHS Black Country and West Birmingham CCG",28949,28949,28949,28949,28949,28949,28949,28997,28901]
[null,null,null,null,null,null,null,null,null,null,null,null,null,"South of England","Hampshire and the Isle of Wight",100,101,32065,34171,35355,36649,37429,37950,null,null,"North of England","Cheshire and Merseyside","NHS Cheshire CCG",15660.5,15660.5,15660.5,15660.5,15660.5,15660.5,15660.5,15418,15903]
[null,null,null,null,null,null,null,null,null,null,null,null,null,"South of England","Kent and Medway",102,102,34574,36487,37709,38987,39327,39730,null,null,"North of England","Cheshire and Merseyside","NHS Halton CCG",3210,3284,3280,3275,3547,3658,3799,3856,3878]
[null,null,null,null,null,null,null,null,null,null,null,null,null,"South of England","Somerset",103,103,11808,12446,12948,13527,13653,13553,null,null,"North of England","Cheshire and Merseyside","NHS Knowsley CCG",5590,5558,5668,5650,5767,5873,5966,6037,6093]
[null,null,null,null,null,null,null,null,null,null,null,null,null,"South of England","Surrey Heartlands Health and Care Partnership",104,104,14309,14309,14309,14309,14293,14325,null,null,"North of England","Cheshire and Merseyside","NHS Liverpool CCG",14059,14226,14551,14967,15771,15493,16721,17177,17004]
[null,null,null,null,null,null,null,null,null,null,null,null,null,"South of England","Sussex and East Surrey Health and Care Partnership",105,107,34702.5,34702.5,34702.5,34702.5,34661,34744,null,null,"North of England","Cheshire and Merseyside","NHS South Sefton CCG",4422,4429,4149,4253,4391,4781,4804,4697,4699]
[null,null,null,null,null,null,null,null,null,null,null,null,null,null,null,null,null,null,null,null,null,null,null,null,null,"North of England","Cheshire and Merseyside","NHS Southport and Formby CCG",2430,2479,2477,2565,2656,2510,2627,2583,2737]
[null,null,null,null,null,null,null,null,null,null,null,null,null,null,null,null,null,null,null,null,null,null,null,null,null,"North of England","Cheshire and Merseyside","NHS St Helens CCG",5849,5954,5750,5764,5960,5902,6192,5745,5953]
[null,null,null,null,null,null,null,null,null,null,null,null,null,null,null,null,null,null,null,null,null,null,null,null,null,"North of England","Cheshire and Merseyside","NHS Warrington CCG",3718,3830,3833,3684,3755,3844,4007,4014,4062]
[null,null,null,null,null,null,null,null,null,null,null,null,null,null,null,null,null,null,null,null,null,null,null,null,null,"North of England","Cheshire and Merseyside","NHS Wirral CCG",7814,7643,8003,8050,8364,8486,8724,8594,9107]
[null,null,null,null,null,null,null,null,null,null,null,null,null,null,null,null,null,null,null,null,null,null,null,null,null,"North of England","Cumbria and North East","NHS County Durham CCG",17433,17433,17433,17433,17433,17433,17433,17297,17569]
[null,null,null,null,null,null,null,null,null,null,null,null,null,null,null,null,null,null,null,null,null,null,null,null,null,"North of England","Cumbria and North East","NHS Newcastle Gateshead CCG",12627.142857142857,12627.142857142857,12062,12159,12608,12685,12899,12979,12998]
[null,null,null,null,null,null,null,null,null,null,null,null,null,null,null,null,null,null,null,null,null,null,null,null,null,"North of England","Cumbria and North East","NHS North Cumbria CCG",11325,11571,11784,6993,7811,7762,8048,7525,8224]
[null,null,null,null,null,null,null,null,null,null,null,null,null,null,null,null,null,null,null,null,null,null,null,null,null,"North of England","Cumbria and North East","NHS North Tyneside CCG",4953,5164,5295,5424,5610,5588,5832,5719,5841]
[null,null,null,null,null,null,null,null,null,null,null,null,null,null,null,null,null,null,null,null,null,null,null,null,null,"North of England","Cumbria and North East","NHS Northumberland CCG",7873,8056,8201,8431,8692,8771,9149,8297,9311]
[null,null,null,null,null,null,null,null,null,null,null,null,null,null,null,null,null,null,null,null,null,null,null,null,null,"North of England","Cumbria and North East","NHS South Tyneside CCG",5492,5604,5736,5773,5841,5739,5898,5932,5831]
[null,null,null,null,null,null,null,null,null,null,null,null,null,null,null,null,null,null,null,null,null,null,null,null,null,"North of England","Cumbria and North East","NHS Sunderland CCG",8985,9146,9128,9061,9496,9382,9917,9721,9984]
[null,null,null,null,null,null,null,null,null,null,null,null,null,null,null,null,null,null,null,null,null,null,null,null,null,"North of England","Cumbria and North East","NHS Tees Valley CCG",21600.5,21600.5,21600.5,21600.5,21600.5,21600.5,21600.5,21510,21691]
[null,null,null,null,null,null,null,null,null,null,null,null,null,null,null,null,null,null,null,null,null,null,null,null,null,"North of England","Greater Manchester Health and Social Care Partnership","NHS Bolton CCG",6455,6644,6714,6820,6916,7080,7190,7277,7240]
[null,null,null,null,null,null,null,null,null,null,null,null,null,null,null,null,null,null,null,null,null,null,null,null,null,"North of England","Greater Manchester Health and Social Care Partnership","NHS Bury CCG",3721,4046,4235,4256,4273,3710,4475,4468,4489]
[null,null,null,null,null,null,null,null,null,null,null,null,null,null,null,null,null,null,null,null,null,null,null,null,null,"North of England","Greater Manchester Health and Social Care Partnership","NHS Heywood, Middleton and Rochdale CCG",5098,5154,5276,5394,5616,5756,5969,6061,6108]
[null,null,null,null,null,null,null,null,null,null,null,null,null,null,null,null,null,null,null,null,null,null,null,null,null,"North of England","Greater Manchester Health and Social Care Partnership","NHS Manchester CCG",12699,12699,12699,11703,12198,12647,13058,13256,13332]
[null,null,null,null,null,null,null,null,null,null,null,null,null,null,null,null,null,null,null,null,null,null,null,null,null,"North of England","Greater Manchester Health and Social Care Partnership","NHS Oldham CCG",5395,5440,5445,5606,5791,5926,6098,5931,6108]
[null,null,null,null,null,null,null,null,null,null,null,null,null,null,null,null,null,null,null,null,null,null,null,null,null,"North of England","Greater Manchester Health and Social Care Partnership","NHS Salford CCG",6985,7019,6978,6990,6987,6978,7019,6579,7407]
[null,null,null,null,null,null,null,null,null,null,null,null,null,null,null,null,null,null,null,null,null,null,null,null,null,"North of England","Greater Manchester Health and Social Care Partnership","NHS Stockport CCG",6423,6605,6711,6751,7103,6997,7295,7324,7416]
[null,null,null,null,null,null,null,null,null,null,null,null,null,null,null,null,null,null,null,null,null,null,null,null,null,"North of England","Greater Manchester Health and Social Care Partnership","NHS Tameside and Glossop CCG",6154,6303,6500,6572,6964,6840,7552,7602,7541]
[null,null,null,null,null,null,null,null,null,null,null,null,null,null,null,null,null,null,null,null,null,null,null,null,null,"North of England","Greater Manchester Health and Social Care Partnership","NHS Trafford CCG",3860,4317,4468,4523,4693,4738,4822,4778,4911]
[null,null,null,null,null,null,null,null,null,null,null,null,null,null,null,null,null,null,null,null,null,null,null,null,null,"North of England","Greater Manchester Health and Social Care Partnership","NHS Wigan Borough CCG",7107,7239,7462,7831,8248,8426,8744,8660,8955]
[null,null,null,null,null,null,null,null,null,null,null,null,null,null,null,null,null,null,null,null,null,null,null,null,null,"North of England","Healthier Lancashire and South Cumbria","NHS Blackburn with Darwen CCG",3640,3679,3889,3860,3936,3906,3890,3865,3895]
[null,null,null,null,null,null,null,null,null,null,null,null,null,null,null,null,null,null,null,null,null,null,null,null,null,"North of England","Healthier Lancashire and South Cumbria","NHS Blackpool CCG",5366,5784,6241,6323,6438,6415,6504,6577,6679]
[null,null,null,null,null,null,null,null,null,null,null,null,null,null,null,null,null,null,null,null,null,null,null,null,null,"North of England","Healthier Lancashire and South Cumbria","NHS Chorley and South Ribble CCG",3567,3863,4001,4172,4281,4314,4409,4300,4341]
[null,null,null,null,null,null,null,null,null,null,null,null,null,null,null,null,null,null,null,null,null,null,null,null,null,"North of England","Healthier Lancashire and South Cumbria","NHS East Lancashire CCG",8777,8994,9125,9273,9694,9910,10038,10094,10058]
[null,null,null,null,null,null,null,null,null,null,null,null,null,null,null,null,null,null,null,null,null,null,null,null,null,"North of England","Healthier Lancashire and South Cumbria","NHS Fylde and Wyre CCG",3639,3790,4001,4111,4379,4885,5190,5335,5296]
[null,null,null,null,null,null,null,null,null,null,null,null,null,null,null,null,null,null,null,null,null,null,null,null,null,"North of England","Healthier Lancashire and South Cumbria","NHS Greater Preston CCG",4116,4161,4287,4162,4474,4315,4421,4423,4554]
[null,null,null,null,null,null,null,null,null,null,null,null,null,null,null,null,null,null,null,null,null,null,null,null,null,"North of England","Healthier Lancashire and South Cumbria","NHS Morecambe Bay CCG",3490,3604,3611,7245,8007,7879,7984,7755,8089]
[null,null,null,null,null,null,null,null,null,null,null,null,null,null,null,null,null,null,null,null,null,null,null,null,null,"North of England","Healthier Lancashire and South Cumbria","NHS West Lancashire CCG",2379,2394,2443,2264,2590,2565,2646,2693,2674]
[null,null,null,null,null,null,null,null,null,null,null,null,null,null,null,null,null,null,null,null,null,null,null,null,null,"North of England","Humber, Coast and Vale","NHS East Riding of Yorkshire CCG",6288,6556,6782,6981,7218,7430,7740,7847,7834]
[null,null,null,null,null,null,null,null,null,null,null,null,null,null,null,null,null,null,null,null,null,null,null,null,null,"North of England","Humber, Coast and Vale","NHS Hull CCG",7076,7350,7616,7733,7999,7597,8462,8649,8650]
[null,null,null,null,null,null,null,null,null,null,null,null,null,null,null,null,null,null,null,null,null,null,null,null,null,"North of England","Humber, Coast and Vale","NHS North East Lincolnshire CCG",3669,3775,3881,4025,4148,4251,4520,4473,4727]
[null,null,null,null,null,null,null,null,null,null,null,null,null,null,null,null,null,null,null,null,null,null,null,null,null,"North of England","Humber, Coast and Vale","NHS North Lincolnshire CCG",3333,3474,3600,3732,3892,4159,4344,4463,4525]
[null,null,null,null,null,null,null,null,null,null,null,null,null,null,null,null,null,null,null,null,null,null,null,null,null,"North of England","Humber, Coast and Vale","NHS North Yorkshire CCG",9511,9511,9511,9511,9511,9511,9511,9549,9473]
[null,null,null,null,null,null,null,null,null,null,null,null,null,null,null,null,null,null,null,null,null,null,null,null,null,"North of England","Humber, Coast and Vale","NHS Vale of York CCG",5526,5598,5801,5873,6065,6156,6381,6270,6228]
[null,null,null,null,null,null,null,null,null,null,null,null,null,null,null,null,null,null,null,null,null,null,null,null,null,"North of England","South Yorkshire and Bassetlaw","NHS Barnsley CCG",7705,7899,7941,7742,8254,8475,8699,8626,8555]
[null,null,null,null,null,null,null,null,null,null,null,null,null,null,null,null,null,null,null,null,null,null,null,null,null,"North of England","South Yorkshire and Bassetlaw","NHS Bassetlaw CCG",2721,2787,2837,2809,2959,2887,3024,3231,3243]
[null,null,null,null,null,null,null,null,null,null,null,null,null,null,null,null,null,null,null,null,null,null,null,null,null,"North of England","South Yorkshire and Bassetlaw","NHS Doncaster CCG",8005,8130,8237,8444,8622,8510,9197,9341,9205]
[null,null,null,null,null,null,null,null,null,null,null,null,null,null,null,null,null,null,null,null,null,null,null,null,null,"North of England","South Yorkshire and Bassetlaw","NHS Rotherham CCG",6723,6935,7092,7304,7480,7639,7938,8007,7938]
[null,null,null,null,null,null,null,null,null,null,null,null,null,null,null,null,null,null,null,null,null,null,null,null,null,"North of England","South Yorkshire and Bassetlaw","NHS Sheffield CCG",11240,11514,11775,11989,12225,12270,12789,12635,12751]
[null,null,null,null,null,null,null,null,null,null,null,null,null,null,null,null,null,null,null,null,null,null,null,null,null,"North of England","West Yorkshire and Harrogate (Health and Care Partnership)","NHS Bradford District and Craven CCG",13734,13734,13734,13734,13734,13734,13734,13669,13799]
[null,null,null,null,null,null,null,null,null,null,null,null,null,null,null,null,null,null,null,null,null,null,null,null,null,"North of England","West Yorkshire and Harrogate (Health and Care Partnership)","NHS Calderdale CCG",4082,4345,4575,4807,4952,4932,5069,5100,5125]
[null,null,null,null,null,null,null,null,null,null,null,null,null,null,null,null,null,null,null,null,null,null,null,null,null,"North of England","West Yorkshire and Harrogate (Health and Care Partnership)","NHS Kirklees CCG",9445.5,9445.5,9445.5,9445.5,9445.5,9445.5,9445.5,9479,9412]
[null,null,null,null,null,null,null,null,null,null,null,null,null,null,null,null,null,null,null,null,null,null,null,null,null,"North of England","West Yorkshire and Harrogate (Health and Care Partnership)","NHS Leeds CCG",{"$error":"#N/A"},{"$error":"#N/A"},{"$error":"#N/A"},{"$error":"#N/A"},{"$error":"#N/A"},17167,17797,18021,18098]
[null,null,null,null,null,null,null,null,null,null,null,null,null,null,null,null,null,null,null,null,null,null,null,null,null,"North of England","West Yorkshire and Harrogate (Health and Care Partnership)","NHS Wakefield CCG",9753,10072,10207,10399,10513,10288,10778,10649,10823]
[null,null,null,null,null,null,null,null,null,null,null,null,null,null,null,null,null,null,null,null,null,null,null,null,null,"South of England","Bath and North East Somerset, Swindon and Wiltshire","NHS Bath and North East Somerset, Swindon and Wiltshire CCG",16693,16693,16693,16693,16693,16693,16693,16695,16691]
[null,null,null,null,null,null,null,null,null,null,null,null,null,null,null,null,null,null,null,null,null,null,null,null,null,"South of England","Bristol, North Somerset and South Gloucestershire","NHS Bristol, North Somerset and South Gloucestershire CCG",18148,18148,18148,18148,18148,16559,18554,18526,18953]
[null,null,null,null,null,null,null,null,null,null,null,null,null,null,null,null,null,null,null,null,null,null,null,null,null,"South of England","Buckinghamshire, Oxfordshire and Berkshire West","NHS Berkshire West CCG",6746,6746,6746,6746,6746,6388,6812,6889,6895]
[null,null,null,null,null,null,null,null,null,null,null,null,null,null,null,null,null,null,null,null,null,null,null,null,null,"South of England","Buckinghamshire, Oxfordshire and Berkshire West","NHS Buckinghamshire CCG",7584.333333333333,7584.333333333333,7584.333333333333,7584.333333333333,7584.333333333333,7584.333333333333,7689,7416,7648]
[null,null,null,null,null,null,null,null,null,null,null,null,null,null,null,null,null,null,null,null,null,null,null,null,null,"South of England","Buckinghamshire, Oxfordshire and Berkshire West","NHS Oxfordshire CCG",8411,8780,9161,9381,9897,10243,10631,10544,10796]
[null,null,null,null,null,null,null,null,null,null,null,null,null,null,null,null,null,null,null,null,null,null,null,null,null,"South of England","Cornwall and the Isles of Scilly Health and Social Care Partnership","NHS Kernow CCG",10732,11188,11481,11829,12290,6583,7105,13755,14095]
[null,null,null,null,null,null,null,null,null,null,null,null,null,null,null,null,null,null,null,null,null,null,null,null,null,"South of England","Devon","NHS Devon CCG",27349.75,27349.75,27349.75,27349.75,27349.75,24890,26808,28486,29215]
[null,null,null,null,null,null,null,null,null,null,null,null,null,null,null,null,null,null,null,null,null,null,null,null,null,"South of England","Dorset","NHS Dorset CCG",13573,14120,14593,14785,16028,16404,17356,17666,17710]
[null,null,null,null,null,null,null,null,null,null,null,null,null,null,null,null,null,null,null,null,null,null,null,null,null,"South of England","Frimley Health and Care ICS","NHS Frimley CCG",10323,10323,10323,10323,10323,10323,10323,10340,10306]
[null,null,null,null,null,null,null,null,null,null,null,null,null,null,null,null,null,null,null,null,null,null,null,null,null,"South of England","Gloucestershire","NHS Gloucestershire CCG",10199,10539,10848,11020,11375,10757,11810,11970,12366]
[null,null,null,null,null,null,null,null,null,null,null,null,null,null,null,null,null,null,null,null,null,null,null,null,null,"South of England","Hampshire and the Isle of Wight","NHS Hampshire, Southampton and Isle of Wight CCG",32155.5,32155.5,32155.5,32155.5,32155.5,32155.5,32155.5,31351,32960]
[null,null,null,null,null,null,null,null,null,null,null,null,null,null,null,null,null,null,null,null,null,null,null,null,null,"South of England","Hampshire and the Isle of Wight","NHS Portsmouth CCG",3908,4123,4269,4352,4616,4686,4869,4352,4990]
[null,null,null,null,null,null,null,null,null,null,null,null,null,null,null,null,null,null,null,null,null,null,null,null,null,"South of England","Kent and Medway","NHS Kent and Medway CCG",39232.5,39232.5,39232.5,39232.5,39232.5,39232.5,39232.5,38735,39730]
[null,null,null,null,null,null,null,null,null,null,null,null,null,null,null,null,null,null,null,null,null,null,null,null,null,"South of England","Somerset","NHS Somerset CCG",10507,11029,11351,11808,12446,12622,13527,13653,13553]
[null,null,null,null,null,null,null,null,null,null,null,null,null,null,null,null,null,null,null,null,null,null,null,null,null,"South of England","Surrey Heartlands Health and Care Partnership","NHS Surrey Heartlands CCG",14309,14309,14309,14309,14309,14309,14309,14293,14325]
[null,null,null,null,null,null,null,null,null,null,null,null,null,null,null,null,null,null,null,null,null,null,null,null,null,"South of England","Sussex and East Surrey Health and Care Partnership","NHS Brighton and Hove CCG",3737,3820,3916,4002,4232,4145,4389,4830,4861]
[null,null,null,null,null,null,null,null,null,null,null,null,null,null,null,null,null,null,null,null,null,null,null,null,null,"South of England","Sussex and East Surrey Health and Care Partnership","NHS East Sussex CCG",12613,12613,12613,12613,12613,12613,12613,11936,13290]
[null,null,null,null,null,null,null,null,null,null,null,null,null,null,null,null,null,null,null,null,null,null,null,null,null,"South of England","Sussex and East Surrey Health and Care Partnership","NHS West Sussex CCG",16372.5,16372.5,16372.5,16372.5,16372.5,16372.5,16372.5,16152,16593]

{"sheet":"newCOPD005","index":49,"n_rows":107,"n_cols":31,"rows_kept":107,"cut":false,"hidden":true,"merged":[]}
["Region","Start Row","End Row",2013,2014,2015,2016,2017,2018,null,"Region","ICS Name","Start Row","End Row",2016,2017,2018,null,null,null,null,null,"Region","ICSName","CCG Name",2013,2014,2015,2016,2017,2018]
["London",2,{"$f":"B2+COUNTIF(K:K,A2)-1","v":6},36299,37360,37600,38848,39805,41256,null,"London","East London Health and Care Partnership",2,{"$f":"M2+COUNTIF(X:X,L2)-1","v":2},8582,8779,3166,null,null,null,null,null,"London","East London Health and Care Partnership","NHS North East London CCG",{"$f":"D$16*newDataList!AD2","v":17025.482654363779},{"$f":"E$16*newDataList!AE2","v":17333.089694622027},{"$f":"F$16*newDataList!AF2","v":17478.702979926293},{"$f":"G$16*newDataList!AG2","v":17938.948891020231},{"$f":"H$16*newDataList!AH2","v":18120.591516625671},{"$f":"I$16*newDataList!AI2","v":18576.665648765666}]
["Midlands and East of England",{"$f":"C2+1","v":7},{"$f":"B3+COUNTIF(K:K,A3)-1","v":23},108596,112141,114837,116987,121096,126995,null,"London","North London Partners in Health and Care",{"$f":"N2+1","v":3},{"$f":"M3+COUNTIF(X:X,L3)-1","v":3},6109,6038,3303,null,null,null,null,null,"London","North London Partners in Health and Care","NHS North Central London CCG",{"$f":"D$16*newDataList!AD3","v":10721.755900451251},{"$f":"E$16*newDataList!AE3","v":10915.470678814017},{"$f":"F$16*newDataList!AF3","v":11007.170287723193},{"$f":"G$16*newDataList!AG3","v":11297.009020234262},{"$f":"H$16*newDataList!AH3","v":11411.398017738507},{"$f":"I$16*newDataList!AI3","v":11698.609582695923}]
["North of England",{"$f":"C3+1","v":24},{"$f":"B4+COUNTIF(K:K,A4)-1","v":30},141013,143770,147019,153372,155278,160484,null,"London","North West London Health and Care Partnership",{"$f":"N3+1","v":4},{"$f":"M4+COUNTIF(X:X,L4)-1","v":4},8280,8734,1921,null,null,null,null,null,"London","North West London Health and Care Partnership","NHS North West London CCG",{"$f":"D$16*newDataList!AD4","v":14757.614886710737},{"$f":"E$16*newDataList!AE4","v":15024.247341644905},{"$f":"F$16*newDataList!AF4","v":15150.464308912986},{"$f":"G$16*newDataList!AG4","v":15549.403478333052},{"$f":"H$16*newDataList!AH4","v":15706.850522279792},{"$f":"I$16*newDataList!AI4","v":16102.173611707023}]
["South of England",31,{"$f":"B5+COUNTIF(K:K,A5)-1","v":43},81221,83761,85640,89324,88844,93614,null,"London","Our Healthier South East London",5,5,9634,9879,4389,null,null,null,null,null,"London","Our Healthier South East London","NHS South East London CCG",{"$f":"D$16*newDataList!AD5","v":13070.095638407583},{"$f":"E$16*newDataList!AE5","v":13306.23892531712},{"$f":"F$16*newDataList!AF5","v":13418.023102235105},{"$f":"G$16*newDataList!AG5","v":13771.343956468978},{"$f":"H$16*newDataList!AH5","v":13910.787080453842},{"$f":"I$16*newDataList!AI5","v":14260.90535000819}]
[null,null,null,null,null,null,null,null,null,null,"London","South West London Health and Care Partnership",6,6,6243,6375,1592,null,null,null,null,null,"London","South West London Health and Care Partnership","NHS South West London CCG",{"$f":"D$16*newDataList!AD6","v":11138.657544106569},{"$f":"E$16*newDataList!AE6","v":11339.904671671238},{"$f":"F$16*newDataList!AF6","v":11435.169901550686},{"$f":"G$16*newDataList!AG6","v":11736.278639189715},{"$f":"H$16*newDataList!AH6","v":11855.1155052631},{"$f":"I$16*newDataList!AI6","v":12153.494921328051}]
[null,null,null,null,null,null,null,null,null,null,"Midlands and East of England","Bedfordshire, Luton and Milton Keynes",7,7,5366,5414,882,null,null,null,null,null,"Midlands and East of England","Bedfordshire, Luton and Milton Keynes","NHS Bedfordshire, Luton and Milton Keynes CCG",{"$f":"D$16*newDataList!AD7","v":867.79497086252479},{"$f":"E$16*newDataList!AE7","v":871.56914250630621},{"$f":"F$16*newDataList!AF7","v":868.98087664148079},{"$f":"G$16*newDataList!AG7","v":908.12560332827218},{"$f":"H$16*newDataList!AH7","v":923.77262142203551},{"$f":"I$16*newDataList!AI7","v":952.01546567398543}]
[null,null,null,null,null,null,null,null,null,null,"Midlands and East of England","Birmingham and Solihull",8,8,8492,8548,3023,null,null,null,null,null,"Midlands and East of England","Birmingham and Solihull","NHS Birmingham and Solihull CCG",{"$f":"D$16*newDataList!AD8","v":888.74401610428447},{"$f":"E$16*newDataList!AE8","v":911.11865857749081},{"$f":"F$16*newDataList!AF8","v":929.7068892973881},{"$f":"G$16*newDataList!AG8","v":990.90286943214926},{"$f":"H$16*newDataList!AH8","v":984.56429671132139},{"$f":"I$16*newDataList!AI8","v":1022.9426163154419}]
[null,null,null,null,null,null,null,null,null,null,"Midlands and East of England","Cambridgeshire and Peterborough",9,9,5557,5777,428,null,null,null,null,null,"Midlands and East of England","Cambridgeshire and Peterborough","NHS Cambridgeshire and Peterborough CCG",4798,5043,5102,5557,5777,6174]
[null,null,null,null,null,null,null,null,null,null,"Midlands and East of England","Coventry and Warwickshire",10,10,5500,5634,1491,null,null,null,null,null,"Midlands and East of England","Coventry and Warwickshire","NHS Coventry and Warwickshire CCG",{"$f":"D$16*newDataList!AD10","v":1385.8373534775135},{"$f":"E$16*newDataList!AE10","v":1420.6305617616665},{"$f":"F$16*newDataList!AF10","v":1451.7431594172729},{"$f":"G$16*newDataList!AG10","v":1546.2172461539026},{"$f":"H$16*newDataList!AH10","v":1511.2936736016104},{"$f":"I$16*newDataList!AI10","v":1556.2937378641627}]
[null,null,null,null,null,null,null,null,null,null,"Midlands and East of England","Herefordshire and Worcestershire",11,11,5761,5753,1020,null,null,null,null,null,"Midlands and East of England","Herefordshire and Worcestershire","NHS Herefordshire CCG",{"$f":"D$16*newDataList!AD11","v":946.64394419468613},{"$f":"E$16*newDataList!AE11","v":965.96375091446055},{"$f":"F$16*newDataList!AF11","v":983.06548157487634},{"$f":"G$16*newDataList!AG11","v":1016.4303810979678},{"$f":"H$16*newDataList!AH11","v":1034.2978948111604},{"$f":"I$16*newDataList!AI11","v":1059.4125279257287}]
[null,null,null,null,null,null,null,null,null,null,"Midlands and East of England","Hertfordshire and West Essex",12,14,8052,8315,4673,null,null,null,null,null,"Midlands and East of England","Hertfordshire and West Essex","NHS East and North Hertfordshire CCG",3133,3196,3201,3280,3468,3622]
[null,null,null,null,null,null,null,null,null,null,"Midlands and East of England","Joined Up Care Derbyshire",15,15,8409,8524,4307,null,null,null,null,null,"Midlands and East of England","Hertfordshire and West Essex","NHS Herts Valley CCG",2749,2765,2802,2932,2935,{"$f":"AVERAGE(Z13:AD13)","v":2836.6}]
["England COPD005 Numerator",null,null,367129,377032,385096,398531,405023,422349,null,"Midlands and East of England","Leicester, Leicestershire and Rutland",16,18,6559,6822,3932,null,null,null,null,null,"Midlands and East of England","Hertfordshire and West Essex","NHS West Essex CCG",1559,1658,1777,1840,1912,1930]
["England COPD register",null,null,56324887,56817654,57549410,58029147,58383266,59386096,null,"Midlands and East of England","Lincolnshire",19,19,6503,6608,2565,null,null,null,null,null,"Midlands and East of England","Joined Up Care Derbyshire","NHS Derby and Derbyshire CCG",{"$f":"D$16*newDataList!AD15","v":5198.6092138986451},{"$f":"E$16*newDataList!AE15","v":5292.5348209554732},{"$f":"F$16*newDataList!AF15","v":5336.9967949280453},{"$f":"G$16*newDataList!AG15","v":5477.529588191258},{"$f":"H$16*newDataList!AH15","v":5532.9928632289939},{"$f":"I$16*newDataList!AI15","v":5672.2518336615358}]
["National average",null,null,{"$f":"D14/D15","v":6.5180601250030027E-3},{"$f":"E14/E15","v":6.6358248441584725E-3},6.6915716425242243E-3,6.8677728452565395E-3,6.9373131677833849E-3,7.1119172406955327E-3,null,"Midlands and East of England","Mid and South Essex",20,24,8698,8920,3059,null,null,null,null,null,"Midlands and East of England","Leicester, Leicestershire and Rutland","NHS East Leicestershire and Rutland CCG",1569,1563,1630,1828,1847,1949]
[null,null,null,null,null,null,null,null,null,null,"Midlands and East of England","Norfolk and Waveney Health and Care Partnership",25,25,7950,7913,3176,null,null,null,null,null,"Midlands and East of England","Leicester, Leicestershire and Rutland","NHS Leicester City CCG",1980,2115,2118,2251,2331,2443]
[null,null,null,null,null,null,null,null,null,null,"Midlands and East of England","Northamptonshire",26,26,5145,5247,2846,null,null,null,null,null,"Midlands and East of England","Leicester, Leicestershire and Rutland","NHS West Leicestershire CCG",2079,2187,2271,2480,2644,2696]
[null,null,null,null,null,null,null,null,null,null,"Midlands and East of England","Nottingham and Nottinghamshire Health and Care",27,27,8530,8639,{"$f":"AVERAGE(O19:P19)","v":8584.5},null,null,null,null,null,"Midlands and East of England","Lincolnshire","NHS Lincolnshire CCG",{"$f":"D$16*newDataList!AD19","v":2426.4977969152428},{"$f":"E$16*newDataList!AE19","v":2489.9870995729602},{"$f":"F$16*newDataList!AF19","v":2533.4892480044541},{"$f":"G$16*newDataList!AG19","v":2649.5180859715206},{"$f":"H$16*newDataList!AH19","v":2723.3394063977166},{"$f":"I$16*newDataList!AI19","v":2834.2199230102615}]
[null,null,null,null,null,null,null,null,null,null,"Midlands and East of England","Shropshire and Telford and Wrekin",28,28,3354,3397,2124,null,null,null,null,null,"Midlands and East of England","Mid and South Essex","NHS Basildon and Brentwood CCG",2217,2199,2238,2440,2360,2540]
[null,null,null,null,null,null,null,null,null,null,"Midlands and East of England","Staffordshire and Stoke on Trent",29,34,8306,8388,911,null,null,null,null,null,"Midlands and East of England","Mid and South Essex","NHS Castle Point and Rochford CCG",1362,1460,1425,1417,1535,1718]
[null,null,null,null,null,null,null,null,null,null,"Midlands and East of England","Suffolk and North East Essex",35,37,7022,7376,1535,null,null,null,null,null,"Midlands and East of England","Mid and South Essex","NHS Mid Essex CCG",2036,2096,2220,2078,2215,2301]
[null,null,null,null,null,null,null,null,null,null,"Midlands and East of England","The Black Country and West Birmingham",38,38,7783,9821,688,null,null,null,null,null,"Midlands and East of England","Mid and South Essex","NHS Southend CCG",1200,1264,1291,1349,1385,1442]
[null,null,null,null,null,null,null,null,null,null,"North of England","Cheshire and Merseyside",39,47,26835,27262,3318,null,null,null,null,null,"Midlands and East of England","Mid and South Essex","NHS Thurrock CCG",1084,1171,1336,1414,1425,1541]
[null,null,null,null,null,null,null,null,null,null,"North of England","Cumbria and North East",48,55,{"$f":"P25","v":2226},{"$f":"Q25","v":2226},2226,null,null,null,null,null,"Midlands and East of England","Norfolk and Waveney Health and Care Partnership","NHS Norfolk and Waveney CCG",{"$f":"D$16*newDataList!AD25","v":5809.8859285416765},{"$f":"E$16*newDataList!AE25","v":6040.6577138858993},{"$f":"F$16*newDataList!AF25","v":6245.0096089603703},{"$f":"G$16*newDataList!AG25","v":6526.7192457611},{"$f":"H$16*newDataList!AH25","v":6180.0915608934929},{"$f":"I$16*newDataList!AI25","v":6995.2604621964038}]
[null,null,null,null,null,null,null,null,null,null,"North of England","Greater Manchester Health and Social Care Partnership",56,65,25500,25951,1538,null,null,null,null,null,"Midlands and East of England","Northamptonshire","NHS Northamptonshire CCG",{"$f":"D$16*newDataList!AD26","v":6977.4432255230267},{"$f":"E$16*newDataList!AE26","v":7103.5078254374957},{"$f":"F$16*newDataList!AF26","v":7163.1835745318676},{"$f":"G$16*newDataList!AG26","v":7351.8031737309529},{"$f":"H$16*newDataList!AH26","v":7426.2445938790061},{"$f":"I$16*newDataList!AI26","v":7613.1544999438929}]
[null,null,null,null,null,null,null,null,null,null,"North of England","Healthier Lancashire and South Cumbria",66,73,17087,16761,2713,null,null,null,null,null,"Midlands and East of England","Nottingham and Nottinghamshire Health and Care","NHS Nottingham and Nottinghamshire CCG",{"$f":"D$16*newDataList!AD27","v":2561.76709868943},{"$f":"E$16*newDataList!AE27","v":2634.1437584874589},{"$f":"F$16*newDataList!AF27","v":2682.517240055111},{"$f":"G$16*newDataList!AG27","v":2774.7244527133926},{"$f":"H$16*newDataList!AH27","v":2827.0383636297429},{"$f":"I$16*newDataList!AI27","v":2923.2326791948067}]
[null,null,null,null,null,null,null,null,null,null,"North of England","Humber, Coast and Vale",74,79,{"$f":"P28","v":1966},{"$f":"Q28","v":1966},1966,null,null,null,null,null,"Midlands and East of England","Shropshire and Telford and Wrekin","NHS Shropshire, Telford and Wrekin CCG",{"$f":"D$16*newDataList!AD28","v":2157.2888776323689},{"$f":"E$16*newDataList!AE28","v":2234.7268252927165},{"$f":"F$16*newDataList!AF28","v":2289.7420593538668},{"$f":"G$16*newDataList!AG28","v":2408.2806970090392},{"$f":"H$16*newDataList!AH28","v":2089.9627141790938},{"$f":"I$16*newDataList!AI28","v":2445.4256312959183}]
[null,null,null,null,null,null,null,null,null,null,"North of England","South Yorkshire and Bassetlaw",80,84,14946,15658,2988,null,null,null,null,null,"Midlands and East of England","Staffordshire and Stoke on Trent","NHS Cannock Chase CCG",1067,1187,1158,1201,1195,1248]
[null,null,null,null,null,null,null,null,null,null,"North of England","West Yorkshire and Harrogate (Health and Care Partnership)",85,89,{"$f":"P30","v":1522},{"$f":"Q30","v":1522},1522,null,null,null,null,null,"Midlands and East of England","Staffordshire and Stoke on Trent","NHS East Staffordshire CCG",678,776,745,775,809,871]
[null,null,null,null,null,null,null,null,null,null,"South of England","Bath and North East Somerset, Swindon and Wiltshire",90,90,5598,5646,2604,null,null,null,null,null,"Midlands and East of England","Staffordshire and Stoke on Trent","NHS North Staffordshire CCG",1551,1613,1654,1635,1587,1693]
[null,null,null,null,null,null,null,null,null,null,"South of England","Bristol, North Somerset and South Gloucestershire",91,91,6527,6642,1921,null,null,null,null,null,"Midlands and East of England","Staffordshire and Stoke on Trent","NHS South East Staffordshire and Seisdon Peninsula CCG",1022,1113,1186,1235,1304,1411]
[null,null,null,null,null,null,null,null,null,null,"South of England","Buckinghamshire, Oxfordshire and Berkshire West",92,94,8216,5990,1149,null,null,null,null,null,"Midlands and East of England","Staffordshire and Stoke on Trent","NHS Stafford and Surrounds CCG",668,683,714,752,775,795]
[null,null,null,null,null,null,null,null,null,null,"South of England","Cornwall and the Isles of Scilly Health and Social Care Partnership",95,95,4296,4361,2308,null,null,null,null,null,"Midlands and East of England","Staffordshire and Stoke on Trent","NHS Stoke on Trent CCG",2661,2716,2656,2708,2718,2834]
[null,null,null,null,null,null,null,null,null,null,"South of England","Devon",96,96,9117,9423,991,null,null,null,null,null,"Midlands and East of England","Suffolk and North East Essex","NHS Ipswich and East Suffolk CCG",2124,2193,2322,2379,2520,2696]
[null,null,null,null,null,null,null,null,null,null,"South of England","Dorset",97,97,5672,5816,983,null,null,null,null,null,"Midlands and East of England","Suffolk and North East Essex","NHS North East Essex CCG",2708,2724,2978,2978,3262,3165]
[null,null,null,null,null,null,null,null,null,null,"South of England","Frimley Health and Care ICS",98,98,3266,3461,2890,null,null,null,null,null,"Midlands and East of England","Suffolk and North East Essex","NHS West Suffolk CCG",1406,1611,1643,1665,1594,1662]
[null,null,null,null,null,null,null,null,null,null,"South of England","Gloucestershire",99,99,3994,3793,1603,null,null,null,null,null,"Midlands and East of England","The Black Country and West Birmingham","NHS Black Country and West Birmingham CCG",{"$f":"D$16*newDataList!AD38","v":1082.1153058327486},{"$f":"E$16*newDataList!AE38","v":1118.6408089288586},{"$f":"F$16*newDataList!AF38","v":1147.5777704063344},{"$f":"G$16*newDataList!AG38","v":1194.5254665211605},{"$f":"H$16*newDataList!AH38","v":1112.4397903330726},{"$f":"I$16*newDataList!AI38","v":1230.0416463644958}]
[null,null,null,null,null,null,null,null,null,null,"South of England","Hampshire and the Isle of Wight",100,101,11882,12193,1550,null,null,null,null,null,"North of England","Cheshire and Merseyside","NHS Cheshire CCG",{"$f":"D$16*newDataList!AD39","v":1938.3342019132679},{"$f":"E$16*newDataList!AE39","v":1990.4687486040871},{"$f":"F$16*newDataList!AF39","v":2026.5023225086061},{"$f":"G$16*newDataList!AG39","v":2106.8678823764203},{"$f":"H$16*newDataList!AH39","v":2144.6634285070659},{"$f":"I$16*newDataList!AI39","v":2225.1268828481334}]
[null,null,null,null,null,null,null,null,null,null,"South of England","Kent and Medway",102,102,12808,13043,1186,null,null,null,null,null,"North of England","Cheshire and Merseyside","NHS Halton CCG",1610,1592,1583,1721,1771,1725]
[null,null,null,null,null,null,null,null,null,null,"South of England","Somerset",103,103,3595,3682,931,null,null,null,null,null,"North of England","Cheshire and Merseyside","NHS Knowsley CCG",2829,2988,3012,3151,3128,3052]
[null,null,null,null,null,null,null,null,null,null,"South of England","Surrey Heartlands Health and Care Partnership",104,104,{"$f":"P42","v":695},{"$f":"Q42","v":695},695,null,null,null,null,null,"North of England","Cheshire and Merseyside","NHS Liverpool CCG",6344,6595,6756,7154,7277,7179]
[null,null,null,null,null,null,null,null,null,null,"South of England","Sussex and East Surrey Health and Care Partnership",105,107,{"$f":"P43","v":2334},{"$f":"Q43","v":2334},2334,null,null,null,null,null,"North of England","Cheshire and Merseyside","NHS South Sefton CCG",1496,1535,1684,1607,1771,1702]
[null,null,null,null,null,null,null,null,null,null,null,null,null,null,null,null,null,null,null,null,null,null,"North of England","Cheshire and Merseyside","NHS Southport and Formby CCG",691,695,657,785,805,766]
[null,null,null,null,null,null,null,null,null,null,null,null,null,null,null,null,null,null,null,null,null,null,"North of England","Cheshire and Merseyside","NHS St Helens CCG",2455,2334,2208,2338,2276,2305]
[null,null,null,null,null,null,null,null,null,null,null,null,null,null,null,null,null,null,null,null,null,null,"North of England","Cheshire and Merseyside","NHS Warrington CCG",1478,1522,1421,1501,1604,1672]
[null,null,null,null,null,null,null,null,null,null,null,null,null,null,null,null,null,null,null,null,null,null,"North of England","Cheshire and Merseyside","NHS Wirral CCG",3388,3674,3688,3785,3802,3860]
[null,null,null,null,null,null,null,null,null,null,null,null,null,null,null,null,null,null,null,null,null,null,"North of England","Cumbria and North East","NHS County Durham CCG",{"$f":"D$16*newDataList!AD48","v":4217.775871661609},{"$f":"E$16*newDataList!AE48","v":4293.9803222897353},{"$f":"F$16*newDataList!AF48","v":4046.2260829433353},{"$f":"G$16*newDataList!AG48","v":4314.8911909906237},{"$f":"H$16*newDataList!AH48","v":4447.4975972395923},{"$f":"I$16*newDataList!AI48","v":4673.2550426955158}]
[null,null,null,null,null,null,null,null,null,null,null,null,null,null,null,null,null,null,null,null,null,null,"North of England","Cumbria and North East","NHS Newcastle Gateshead CCG",{"$f":"AVERAGE(AA49:AE49)","v":4829.8},4389,4510,4992,5014,5244]
[null,null,null,null,null,null,null,null,null,null,null,null,null,null,null,null,null,null,null,null,null,null,"North of England","Cumbria and North East","NHS North Cumbria CCG",{"$f":"AVERAGE(AC50:AE50)","v":3096},{"$f":"AVERAGE(AC50:AE50)","v":3096},{"$f":"AVERAGE(AC50:AE50)","v":3096},3006,3074,3208]
[null,null,null,null,null,null,null,null,null,null,null,null,null,null,null,null,null,null,null,null,null,null,"North of England","Cumbria and North East","NHS North Tyneside CCG",2085,2124,2186,2319,2222,2414]
[null,null,null,null,null,null,null,null,null,null,null,null,null,null,null,null,null,null,null,null,null,null,"North of England","Cumbria and North East","NHS Northumberland CCG",3177,3176,3148,3174,3245,3375]
[null,null,null,null,null,null,null,null,null,null,null,null,null,null,null,null,null,null,null,null,null,null,"North of England","Cumbria and North East","NHS South Tyneside CCG",1918,1921,1919,1934,1831,1888]
[null,null,null,null,null,null,null,null,null,null,null,null,null,null,null,null,null,null,null,null,null,null,"North of England","Cumbria and North East","NHS Sunderland CCG",3053,2846,2745,2998,3183,3434]
[null,null,null,null,null,null,null,null,null,null,null,null,null,null,null,null,null,null,null,null,null,null,"North of England","Cumbria and North East","NHS Tees Valley CCG",{"$f":"D$16*newDataList!AD55","v":1377.0053820081343},{"$f":"E$16*newDataList!AE55","v":1413.1320796877676},{"$f":"F$16*newDataList!AF55","v":1347.0066800684838},{"$f":"G$16*newDataList!AG55","v":1395.0094914198894},{"$f":"H$16*newDataList!AH55","v":1449.5932102873451},{"$f":"I$16*newDataList!AI55","v":1560.8026933947638}]
[null,null,null,null,null,null,null,null,null,null,null,null,null,null,null,null,null,null,null,null,null,null,"North of England","Greater Manchester Health and Social Care Partnership","NHS Bolton CCG",2486,2480,2514,2599,2556,2681]
[null,null,null,null,null,null,null,null,null,null,null,null,null,null,null,null,null,null,null,null,null,null,"North of England","Greater Manchester Health and Social Care Partnership","NHS Bury CCG",1173,1265,1418,1494,1442,1563]
[null,null,null,null,null,null,null,null,null,null,null,null,null,null,null,null,null,null,null,null,null,null,"North of England","Greater Manchester Health and Social Care Partnership","NHS Heywood, Middleton and Rochdale CCG",1910,2101,2212,2424,2499,2514]
[null,null,null,null,null,null,null,null,null,null,null,null,null,null,null,null,null,null,null,null,null,null,"North of England","Greater Manchester Health and Social Care Partnership","NHS Manchester CCG",{"$f":"AVERAGE(AC59:AE59)","v":4796},{"$f":"AVERAGE(AC59:AE59)","v":4796},{"$f":"AVERAGE(AC59:AE59)","v":4796},4587,4709,5092]
[null,null,null,null,null,null,null,null,null,null,null,null,null,null,null,null,null,null,null,null,null,null,"North of England","Greater Manchester Health and Social Care Partnership","NHS Oldham CCG",1702,1707,1836,1905,2063,2186]
[null,null,null,null,null,null,null,null,null,null,null,null,null,null,null,null,null,null,null,null,null,null,"North of England","Greater Manchester Health and Social Care Partnership","NHS Salford CCG",2411,2499,2547,2636,2690,2711]
[null,null,null,null,null,null,null,null,null,null,null,null,null,null,null,null,null,null,null,null,null,null,"North of England","Greater Manchester Health and Social Care Partnership","NHS Stockport CCG",2071,2051,2202,2259,2404,2309]
[null,null,null,null,null,null,null,null,null,null,null,null,null,null,null,null,null,null,null,null,null,null,"North of England","Greater Manchester Health and Social Care Partnership","NHS Tameside and Glossop CCG",2322,2490,2541,2554,2745,2907]
[null,null,null,null,null,null,null,null,null,null,null,null,null,null,null,null,null,null,null,null,null,null,"North of England","Greater Manchester Health and Social Care Partnership","NHS Trafford CCG",1593,1616,1731,1805,1711,1738]
[null,null,null,null,null,null,null,null,null,null,null,null,null,null,null,null,null,null,null,null,null,null,"North of England","Greater Manchester Health and Social Care Partnership","NHS Wigan Borough CCG",2738,2833,3077,3237,3132,3090]
[null,null,null,null,null,null,null,null,null,null,null,null,null,null,null,null,null,null,null,null,null,null,"North of England","Healthier Lancashire and South Cumbria","NHS Blackburn with Darwen CCG",1487,1545,1599,1574,1559,1612]
[null,null,null,null,null,null,null,null,null,null,null,null,null,null,null,null,null,null,null,null,null,null,"North of England","Healthier Lancashire and South Cumbria","NHS Blackpool CCG",2682,2721,2765,2647,2692,2770]
[null,null,null,null,null,null,null,null,null,null,null,null,null,null,null,null,null,null,null,null,null,null,"North of England","Healthier Lancashire and South Cumbria","NHS Chorley and South Ribble CCG",1406,1422,1553,1520,1421,1519]
[null,null,null,null,null,null,null,null,null,null,null,null,null,null,null,null,null,null,null,null,null,null,"North of England","Healthier Lancashire and South Cumbria","NHS East Lancashire CCG",3532,3428,3466,3740,3602,3774]
[null,null,null,null,null,null,null,null,null,null,null,null,null,null,null,null,null,null,null,null,null,null,"North of England","Healthier Lancashire and South Cumbria","NHS Fylde and Wyre CCG",{"$f":"D$16*newDataList!AD70","v":1047.7846831543577},{"$f":"E$16*newDataList!AE70","v":1056.1247030720417},{"$f":"F$16*newDataList!AF70","v":2243.4296920159563},{"$f":"G$16*newDataList!AG70","v":2477.7825582030355},{"$f":"H$16*newDataList!AH70","v":2399.2905710173868},{"$f":"I$16*newDataList!AI70","v":2498.0893784632685}]
[null,null,null,null,null,null,null,null,null,null,null,null,null,null,null,null,null,null,null,null,null,null,"North of England","Healthier Lancashire and South Cumbria","NHS Greater Preston CCG",{"$f":"D$16*newDataList!AD71","v":1406.5191582541479},{"$f":"E$16*newDataList!AE71","v":1434.8577702275425},{"$f":"F$16*newDataList!AF71","v":1452.0710464277568},{"$f":"G$16*newDataList!AG71","v":1498.8021424302515},{"$f":"H$16*newDataList!AH71","v":1479.3334718376323},{"$f":"I$16*newDataList!AI71","v":1568.9173909663973}]
[null,null,null,null,null,null,null,null,null,null,null,null,null,null,null,null,null,null,null,null,null,null,"North of England","Healthier Lancashire and South Cumbria","NHS Morecambe Bay CCG",{"$f":"D$16*newDataList!AD72","v":2093.2098285434645},{"$f":"E$16*newDataList!AE72","v":2137.3593673543792},{"$f":"F$16*newDataList!AF72","v":2158.0251631424198},{"$f":"G$16*newDataList!AG72","v":2221.3055812969301},{"$f":"H$16*newDataList!AH72","v":2222.4029598652464},{"$f":"I$16*newDataList!AI72","v":2323.5060340386749}]
[null,null,null,null,null,null,null,null,null,null,null,null,null,null,null,null,null,null,null,null,null,null,"North of England","Healthier Lancashire and South Cumbria","NHS West Lancashire CCG",1011,1136,1227,1281,1224,1219]
[null,null,null,null,null,null,null,null,null,null,null,null,null,null,null,null,null,null,null,null,null,null,"North of England","Humber, Coast and Vale","NHS East Riding of Yorkshire CCG",2286,2308,2341,2271,2229,2276]
[null,null,null,null,null,null,null,null,null,null,null,null,null,null,null,null,null,null,null,null,null,null,"North of England","Humber, Coast and Vale","NHS Hull CCG",2923,3166,3066,3242,3210,3346]
[null,null,null,null,null,null,null,null,null,null,null,null,null,null,null,null,null,null,null,null,null,null,"North of England","Humber, Coast and Vale","NHS North East Lincolnshire CCG",1584,1603,1673,1780,1860,1988]
[null,null,null,null,null,null,null,null,null,null,null,null,null,null,null,null,null,null,null,null,null,null,"North of England","Humber, Coast and Vale","NHS North Lincolnshire CCG",1506,1550,1638,1621,1795,1800]
[null,null,null,null,null,null,null,null,null,null,null,null,null,null,null,null,null,null,null,null,null,null,"North of England","Humber, Coast and Vale","NHS North Yorkshire CCG",{"$f":"D$16*newDataList!AD78","v":4630.1007507658205},{"$f":"E$16*newDataList!AE78","v":4713.7548601355493},{"$f":"F$16*newDataList!AF78","v":4753.3545704812614},{"$f":"G$16*newDataList!AG78","v":4878.5190067415606},{"$f":"H$16*newDataList!AH78","v":4927.9169400783439},{"$f":"I$16*newDataList!AI78","v":5051.9468559694515}]
[null,null,null,null,null,null,null,null,null,null,null,null,null,null,null,null,null,null,null,null,null,null,"North of England","Humber, Coast and Vale","NHS Vale of York CCG",2039,1966,2006,2124,2094,2274]
[null,null,null,null,null,null,null,null,null,null,null,null,null,null,null,null,null,null,null,null,null,null,"North of England","South Yorkshire and Bassetlaw","NHS Barnsley CCG",2626,2604,2620,2700,2948,3169]
[null,null,null,null,null,null,null,null,null,null,null,null,null,null,null,null,null,null,null,null,null,null,"North of England","South Yorkshire and Bassetlaw","NHS Bassetlaw CCG",850,882,889,996,967,967]
[null,null,null,null,null,null,null,null,null,null,null,null,null,null,null,null,null,null,null,null,null,null,"North of England","South Yorkshire and Bassetlaw","NHS Doncaster CCG",3187,3318,3586,3564,3674,3972]
[null,null,null,null,null,null,null,null,null,null,null,null,null,null,null,null,null,null,null,null,null,null,"North of England","South Yorkshire and Bassetlaw","NHS Rotherham CCG",2758,2713,2794,2737,2983,2910]
[null,null,null,null,null,null,null,null,null,null,null,null,null,null,null,null,null,null,null,null,null,null,"North of England","South Yorkshire and Bassetlaw","NHS Sheffield CCG",4614,4673,4781,4949,5086,5313]
[null,null,null,null,null,null,null,null,null,null,null,null,null,null,null,null,null,null,null,null,null,null,"North of England","West Yorkshire and Harrogate (Health and Care Partnership)","NHS Bradford District and Craven CCG",{"$f":"D$16*newDataList!AD85","v":1405.4827866942726},{"$f":"E$16*newDataList!AE85","v":1440.3588690233498},{"$f":"F$16*newDataList!AF85","v":1462.1017123199006},{"$f":"G$16*newDataList!AG85","v":1508.8153552386354},{"$f":"H$16*newDataList!AH85","v":1515.0953212175557},{"$f":"I$16*newDataList!AI85","v":1576.9680812828647}]
[null,null,null,null,null,null,null,null,null,null,null,null,null,null,null,null,null,null,null,null,null,null,"North of England","West Yorkshire and Harrogate (Health and Care Partnership)","NHS Calderdale CCG",1919,1921,1843,1741,1809,1879]
[null,null,null,null,null,null,null,null,null,null,null,null,null,null,null,null,null,null,null,null,null,null,"North of England","West Yorkshire and Harrogate (Health and Care Partnership)","NHS Kirklees CCG",{"$f":"D$16*newDataList!AD87","v":2334.6844019944506},{"$f":"E$16*newDataList!AE87","v":2395.6986643623127},{"$f":"F$16*newDataList!AF87","v":2439.4325169971335},{"$f":"G$16*newDataList!AG87","v":2536.6943136696459},{"$f":"H$16*newDataList!AH87","v":2483.5511767532839},{"$f":"I$16*newDataList!AI87","v":2688.1909263070602}]
[null,null,null,null,null,null,null,null,null,null,null,null,null,null,null,null,null,null,null,null,null,null,"North of England","West Yorkshire and Harrogate (Health and Care Partnership)","NHS Leeds CCG",{"$f":"D$16*newDataList!AD88","v":4655.6782705023443},{"$f":"E$16*newDataList!AE88","v":4739.7945004065114},{"$f":"F$16*newDataList!AF88","v":4779.6129667636906},{"$f":"G$16*newDataList!AG88","v":4905.4688341636311},{"$f":"H$16*newDataList!AH88","v":6074.8594574513863},{"$f":"I$16*newDataList!AI88","v":6325.1116125229046}]
[null,null,null,null,null,null,null,null,null,null,null,null,null,null,null,null,null,null,null,null,null,null,"North of England","West Yorkshire and Harrogate (Health and Care Partnership)","NHS Wakefield CCG",4364,4307,4248,4442,4588,4623]
[null,null,null,null,null,null,null,null,null,null,null,null,null,null,null,null,null,null,null,null,null,null,"South of England","Bath and North East Somerset, Swindon and Wiltshire","NHS Bath and North East Somerset, Swindon and Wiltshire CCG",{"$f":"D$16*newDataList!AD90","v":12450.59639091686},{"$f":"E$16*newDataList!AE90","v":12675.546906741345},{"$f":"F$16*newDataList!AF90","v":12782.032712828855},{"$f":"G$16*newDataList!AG90","v":13118.606788050838},{"$f":"H$16*newDataList!AH90","v":13251.440556391621},{"$f":"I$16*newDataList!AI90","v":13584.963843742145}]
[null,null,null,null,null,null,null,null,null,null,null,null,null,null,null,null,null,null,null,null,null,null,"South of England","Bristol, North Somerset and South Gloucestershire","NHS Bristol, North Somerset and South Gloucestershire CCG",{"$f":"D$16*newDataList!AD91","v":5235.9805116253492},{"$f":"E$16*newDataList!AE91","v":5330.5813226994551},{"$f":"F$16*newDataList!AF91","v":5375.362920940458},{"$f":"G$16*newDataList!AG91","v":5516.9059637995369},{"$f":"H$16*newDataList!AH91","v":5572.7679482764806},{"$f":"I$16*newDataList!AI91","v":5713.0280111610637}]
[null,null,null,null,null,null,null,null,null,null,null,null,null,null,null,null,null,null,null,null,null,null,"South of England","Buckinghamshire, Oxfordshire and Berkshire West","NHS Berkshire West CCG",{"$f":"D$16*newDataList!AD92","v":3644.5602827751791},{"$f":"E$16*newDataList!AE92","v":3670.5799692468822},{"$f":"F$16*newDataList!AF92","v":3728.724391648846},{"$f":"G$16*newDataList!AG92","v":3905.5787971861796},{"$f":"H$16*newDataList!AH92","v":2155.6590698780024},{"$f":"I$16*newDataList!AI92","v":2299.3397392547913}]
[null,null,null,null,null,null,null,null,null,null,null,null,null,null,null,null,null,null,null,null,null,null,"South of England","Buckinghamshire, Oxfordshire and Berkshire West","NHS Buckinghamshire CCG",{"$f":"D$16*newDataList!AD93","v":7841.4235016973935},{"$f":"E$16*newDataList!AE93","v":7983.0980212241784},{"$f":"F$16*newDataList!AF93","v":8050.1631059988285},{"$f":"G$16*newDataList!AG93","v":8262.1384829721865},{"$f":"H$16*newDataList!AH93","v":7888.7587314317079},{"$f":"I$16*newDataList!AI93","v":8393.4136082964615}]
[null,null,null,null,null,null,null,null,null,null,null,null,null,null,null,null,null,null,null,null,null,null,"South of England","Buckinghamshire, Oxfordshire and Berkshire West","NHS Oxfordshire CCG",2991,3150,3318,3335,3555,3700]
[null,null,null,null,null,null,null,null,null,null,null,null,null,null,null,null,null,null,null,null,null,null,"South of England","Cornwall and the Isles of Scilly Health and Social Care Partnership","NHS Kernow CCG",3554,3860,3964,4296,4361,2507]
[null,null,null,null,null,null,null,null,null,null,null,null,null,null,null,null,null,null,null,null,null,null,"South of England","Devon","NHS Devon CCG",{"$f":"D$16*newDataList!AD96","v":6283.6055023066447},{"$f":"E$16*newDataList!AE96","v":6397.1342245140922},{"$f":"F$16*newDataList!AF96","v":6450.8758105426277},{"$f":"G$16*newDataList!AG96","v":6620.7390560126614},{"$f":"H$16*newDataList!AH96","v":6687.7780131382169},{"$f":"I$16*newDataList!AI96","v":6856.1015775477144}]
[null,null,null,null,null,null,null,null,null,null,null,null,null,null,null,null,null,null,null,null,null,null,"South of England","Dorset","NHS Dorset CCG",5028,5238,5295,5672,5816,6280]
[null,null,null,null,null,null,null,null,null,null,null,null,null,null,null,null,null,null,null,null,null,null,"South of England","Frimley Health and Care ICS","NHS Frimley CCG",{"$f":"D$16*newDataList!AD98","v":10733.517739946819},{"$f":"E$16*newDataList!AE98","v":10927.445024745302},{"$f":"F$16*newDataList!AF98","v":11019.245228752128},{"$f":"G$16*newDataList!AG98","v":11309.401916333527},{"$f":"H$16*newDataList!AH98","v":11423.916399349773},{"$f":"I$16*newDataList!AI98","v":11711.443037356757}]
[null,null,null,null,null,null,null,null,null,null,null,null,null,null,null,null,null,null,null,null,null,null,"South of England","Gloucestershire","NHS Gloucestershire CCG",3726,3783,3918,3994,3793,4074]
[null,null,null,null,null,null,null,null,null,null,null,null,null,null,null,null,null,null,null,null,null,null,"South of England","Hampshire and the Isle of Wight","NHS Hampshire, Southampton and Isle of Wight CCG",{"$f":"D$16*newDataList!AD100","v":4079.4973987963795},{"$f":"E$16*newDataList!AE100","v":4196.6482554172335},{"$f":"F$16*newDataList!AF100","v":4242.5567949349961},{"$f":"G$16*newDataList!AG100","v":4378.5829163575327},{"$f":"H$16*newDataList!AH100","v":4122.2000454890622},{"$f":"I$16*newDataList!AI100","v":4594.5047830892945}]
[null,null,null,null,null,null,null,null,null,null,null,null,null,null,null,null,null,null,null,null,null,null,"South of England","Hampshire and the Isle of Wight","NHS Portsmouth CCG",1626,1704,1686,1746,1784,1801]
[null,null,null,null,null,null,null,null,null,null,null,null,null,null,null,null,null,null,null,null,null,null,"South of England","Kent and Medway","NHS Kent and Medway CCG",{"$f":"D$16*newDataList!AD102","v":3570.9583478436452},{"$f":"E$16*newDataList!AE102","v":3635.4764558212842},{"$f":"F$16*newDataList!AF102","v":3666.0176737867514},{"$f":"G$16*newDataList!AG102","v":3762.5505599108669},{"$f":"H$16*newDataList!AH102","v":3708.8818642656956},{"$f":"I$16*newDataList!AI102","v":3900.7372562594451}]
[null,null,null,null,null,null,null,null,null,null,null,null,null,null,null,null,null,null,null,null,null,null,"South of England","Somerset","NHS Somerset CCG",3276,3337,3642,3595,3682,4163]
[null,null,null,null,null,null,null,null,null,null,null,null,null,null,null,null,null,null,null,null,null,null,"South of England","Surrey Heartlands Health and Care Partnership","NHS Surrey Heartlands CCG",{"$f":"D$16*newDataList!AD104","v":7224.3603791783908},{"$f":"E$16*newDataList!AE104","v":7354.8861421839065},{"$f":"F$16*newDataList!AF104","v":7416.6736914939702},{"$f":"G$16*newDataList!AG104","v":7611.9681446549612},{"$f":"H$16*newDataList!AH104","v":7689.0438913009766},{"$f":"I$16*newDataList!AI104","v":7882.5681488559212}]
[null,null,null,null,null,null,null,null,null,null,null,null,null,null,null,null,null,null,null,null,null,null,"South of England","Sussex and East Surrey Health and Care Partnership","NHS Brighton and Hove CCG",1459,1429,1466,1458,1543,1565]
[null,null,null,null,null,null,null,null,null,null,null,null,null,null,null,null,null,null,null,null,null,null,"South of England","Sussex and East Surrey Health and Care Partnership","NHS East Sussex CCG",{"$f":"D$16*newDataList!AD106","v":3485.7216755889808},{"$f":"E$16*newDataList!AE106","v":3548.699774334224},{"$f":"F$16*newDataList!AF106","v":3578.511991417462},{"$f":"G$16*newDataList!AG106","v":3672.7406944134468},{"$f":"H$16*newDataList!AH106","v":3709.9293985540307},{"$f":"I$16*newDataList!AI106","v":3803.3039900619165}]
[null,null,null,null,null,null,null,null,null,null,null,null,null,null,null,null,null,null,null,null,null,null,"South of England","Sussex and East Surrey Health and Care Partnership","NHS West Sussex CCG",{"$f":"D$16*newDataList!AD107","v":5827.8236300056851},{"$f":"E$16*newDataList!AE107","v":5933.1175364614674},{"$f":"F$16*newDataList!AF107","v":5982.9609718674792},{"$f":"G$16*newDataList!AG107","v":6140.5031720352526},{"$f":"H$16*newDataList!AH107","v":6202.679452567796},{"$f":"I$16*newDataList!AI107","v":6358.7936525748382}]

{"sheet":"dataLookup","index":50,"n_rows":16,"n_cols":57,"rows_kept":16,"cut":false,"hidden":false,"merged":[]}
[null,"Tier 1","Tier 2","Tier 3","Tier 4"]
["Index",1,6,0,0]
["Start row",null,{"$f":"IF(C2=0,\"\",OFFSET(newDataPrevalence!B1,C2,0))","v":0},{"$f":"IF(D2=0,\"\",_xlfn.XLOOKUP(B11,newDataPrevalence!$O:$O,newDataPrevalence!P:P))","v":""}]
["End row",null,{"$f":"IF(C2=0,\"\",OFFSET(newDataPrevalence!C1,C2,0))","v":0},{"$f":"IF(D2=0,\"\",_xlfn.XLOOKUP(B11,newDataPrevalence!$O:$O,newDataPrevalence!Q:Q))","v":""}]
[null,null,{"$f":"IF(#REF!=1,0,1)","v":{"$error":"#REF!"}}]
[]
["Prevalence",null,null,null,null,null,null,null,null,null,null,null,null,null,null,null,"List size",null,null,null,null,null,null,null,null,null,null,null,null,"Register size",null,null,null,null,null,null,null,null,null,null,null,null,null,null,null,"COPD005"]
[null,null,null,{"$f":"IF(LocationSwitch=1,2009,2015)","v":2015},{"$f":"D8+1","v":2016},{"$f":"E8+1","v":2017},2018,2019,2020,2021,2022,2023,2024,2025,2026,null,null,null,null,2012,2013,2014,2015,2016,2017,2018,2019,2020,null,null,null,null,"2009-10","2010-11","2011-12","2012-13","2013-14","2014-15","2015-16","2016-17","2017-18","2018-19","2019-21","2020-21",null,null,null,null,2012,2013,2014,2015,2016,2017,2018,2019,2020]
["Tier 1","England",null,1.5707421915097799E-2,1.6294993969781499E-2,1.6902271545E-2,1.740693653E-2,1.7841491630511398E-2,1.8208741951929199E-2,1.8531397629999998E-2,1.8747613160676E-2,1.90325648605894E-2,1.9266311090730699E-2,1.93814081767908E-2,1.9277164114433702E-2,null,"Tier 1","England",null,null,null,null,null,null,null,null,null,null,null,"Tier 1","England",null,861341,898989,938511,974999,1004920,1034578,1066471,1087908,1113417,1144151,1170786,1170437,null,"Tier 1","England",null,null,367129,377032,385096,398531,405023,422349]
["Tier 2",{"$f":"IF(C2=0,\"\",INDEX(newDataPrevalence!$A$2:$A$8,dataLookup!C2))","v":"South East "},null,null,null,null,{"$f":"IF($B10=\"\",\"\",_xlfn.XLOOKUP($B10,newDataPrevalence!$A:$A,newDataPrevalence!D:D))","v":0},{"$f":"IF($B10=\"\",\"\",_xlfn.XLOOKUP($B10,newDataPrevalence!$A:$A,newDataPrevalence!E:E))","v":0},{"$f":"IF($B10=\"\",\"\",_xlfn.XLOOKUP($B10,newDataPrevalence!$A:$A,newDataPrevalence!F:F))","v":0},{"$f":"IF($B10=\"\",\"\",_xlfn.XLOOKUP($B10,newDataPrevalence!$A:$A,newDataPrevalence!G:G))","v":1.6555223275836042E-2},{"$f":"IF($B10=\"\",\"\",_xlfn.XLOOKUP($B10,newDataPrevalence!$A:$A,newDataPrevalence!H:H))","v":1.6859202882971814E-2},{"$f":"IF($B10=\"\",\"\",_xlfn.XLOOKUP($B10,newDataPrevalence!$A:$A,newDataPrevalence!I:I))","v":1.7365505379209261E-2},{"$f":"IF($B10=\"\",\"\",_xlfn.XLOOKUP($B10,newDataPrevalence!$A:$A,newDataPrevalence!J:J))","v":1.7389818992223385E-2},{"$f":"IF($B10=\"\",\"\",_xlfn.XLOOKUP($B10,newDataPrevalence!$A:$A,newDataPrevalence!K:K))","v":1.7584438998431103E-2},{"$f":"IF($B10=\"\",\"\",_xlfn.XLOOKUP($B10,newDataPrevalence!$A:$A,newDataPrevalence!L:L))","v":1.7624513859827828E-2},null,"Tier 2",{"$f":"IF(C2=0,\"\",INDEX(newDataPrevalence!$A$2:$A$8,dataLookup!C2))","v":"South East "},null,{"$f":"IF($B10=\"\",\"\",_xlfn.XLOOKUP($B10,newDataList!$A:$A,newDataList!D:D))","v":0},{"$f":"IF($B10=\"\",\"\",_xlfn.XLOOKUP($B10,newDataList!$A:$A,newDataList!E:E))","v":0},{"$f":"IF($B10=\"\",\"\",_xlfn.XLOOKUP($B10,newDataList!$A:$A,newDataList!F:F))","v":0},{"$f":"IF($B10=\"\",\"\",_xlfn.XLOOKUP($B10,newDataList!$A:$A,newDataList!G:G))","v":10814683.5},{"$f":"IF($B10=\"\",\"\",_xlfn.XLOOKUP($B10,newDataList!$A:$A,newDataList!H:H))","v":11086615.5},{"$f":"IF($B10=\"\",\"\",_xlfn.XLOOKUP($B10,newDataList!$A:$A,newDataList!I:I))","v":10598165.5},{"$f":"IF($B10=\"\",\"\",_xlfn.XLOOKUP($B10,newDataList!$A:$A,newDataList!J:J))","v":11301641.5},{"$f":"IF($B10=\"\",\"\",_xlfn.XLOOKUP($B10,newDataList!$A:$A,newDataList!K:K))","v":11308578},{"$f":"IF($B10=\"\",\"\",_xlfn.XLOOKUP($B10,newDataList!$A:$A,newDataList!L:L))","v":11367349},null,"Tier 2",{"$f":"IF(AF2=0,\"\",INDEX(newDataPrevalence!$A$2:$A$5,dataLookup!AF2))","v":""},null,{"$f":"IF($B10=\"\",\"\",_xlfn.XLOOKUP($B10,newDataRegister!$A:$A,newDataRegister!D:D))","v":0},{"$f":"IF($B10=\"\",\"\",_xlfn.XLOOKUP($B10,newDataRegister!$A:$A,newDataRegister!E:E))","v":0},{"$f":"IF($B10=\"\",\"\",_xlfn.XLOOKUP($B10,newDataRegister!$A:$A,newDataRegister!F:F))","v":0},{"$f":"IF($B10=\"\",\"\",_xlfn.XLOOKUP($B10,newDataRegister!$A:$A,newDataRegister!G:G))","v":179039.5},{"$f":"IF($B10=\"\",\"\",_xlfn.XLOOKUP($B10,newDataRegister!$A:$A,newDataRegister!H:H))","v":186911.5},{"$f":"IF($B10=\"\",\"\",_xlfn.XLOOKUP($B10,newDataRegister!$A:$A,newDataRegister!I:I))","v":184042.5},{"$f":"IF($B10=\"\",\"\",_xlfn.XLOOKUP($B10,newDataRegister!$A:$A,newDataRegister!J:J))","v":196533.5},{"$f":"IF($B10=\"\",\"\",_xlfn.XLOOKUP($B10,newDataRegister!$A:$A,newDataRegister!K:K))","v":156838},{"$f":"IF($B10=\"\",\"\",_xlfn.XLOOKUP($B10,newDataRegister!$A:$A,newDataRegister!L:L))","v":162394},null,null,null,null,"Tier 2",{"$f":"IF(AV3=0,\"\",INDEX(newDataPrevalence!$A$2:$A$5,dataLookup!AV3))","v":""},null,null,{"$f":"IF($B10=\"\",\"\",_xlfn.XLOOKUP($B10,newCOPD005!$A:$A,newCOPD005!D:D))","v":{"$error":"#N/A"}},{"$f":"IF($B10=\"\",\"\",_xlfn.XLOOKUP($B10,newCOPD005!$A:$A,newCOPD005!E:E))","v":{"$error":"#N/A"}},{"$f":"IF($B10=\"\",\"\",_xlfn.XLOOKUP($B10,newCOPD005!$A:$A,newCOPD005!F:F))","v":{"$error":"#N/A"}},{"$f":"IF($B10=\"\",\"\",_xlfn.XLOOKUP($B10,newCOPD005!$A:$A,newCOPD005!G:G))","v":{"$error":"#N/A"}},{"$f":"IF($B10=\"\",\"\",_xlfn.XLOOKUP($B10,newCOPD005!$A:$A,newCOPD005!H:H))","v":{"$error":"#N/A"}},{"$f":"IF($B10=\"\",\"\",_xlfn.XLOOKUP($B10,newCOPD005!$A:$A,newCOPD005!I:I))","v":{"$error":"#N/A"}}]
["Tier 3",{"$f":"IF(D2=0,\"\",INDEX(OFFSET(newDataPrevalence!O1,C3-1,0):OFFSET(newDataPrevalence!O1,C4-1,0),D2))","v":""},null,null,null,null,{"$f":"IF($B11=\"\",\"\",_xlfn.XLOOKUP($B11,newDataPrevalence!$O:$O,newDataPrevalence!R:R))","v":""},{"$f":"IF($B11=\"\",\"\",_xlfn.XLOOKUP($B11,newDataPrevalence!$O:$O,newDataPrevalence!S:S))","v":""},{"$f":"IF($B11=\"\",\"\",_xlfn.XLOOKUP($B11,newDataPrevalence!$O:$O,newDataPrevalence!T:T))","v":""},{"$f":"IF($B11=\"\",\"\",_xlfn.XLOOKUP($B11,newDataPrevalence!$O:$O,newDataPrevalence!U:U))","v":""},{"$f":"IF($B11=\"\",\"\",_xlfn.XLOOKUP($B11,newDataPrevalence!$O:$O,newDataPrevalence!V:V))","v":""},{"$f":"IF($B11=\"\",\"\",_xlfn.XLOOKUP($B11,newDataPrevalence!$O:$O,newDataPrevalence!W:W))","v":""},null,null,null,null,"Tier 3",{"$f":"IF(D2=0,\"\",INDEX(OFFSET(newDataPrevalence!O1,C3-1,0):OFFSET(newDataPrevalence!O1,C4-1,0),D2))","v":""},null,null,null,null,{"$f":"IF($B11=\"\",\"\",_xlfn.XLOOKUP($B11,newDataList!$O:$O,newDataList!R:R))","v":""},{"$f":"IF($B11=\"\",\"\",_xlfn.XLOOKUP($B11,newDataList!$O:$O,newDataList!S:S))","v":""},{"$f":"IF($B11=\"\",\"\",_xlfn.XLOOKUP($B11,newDataList!$O:$O,newDataList!T:T))","v":""},{"$f":"IF($B11=\"\",\"\",_xlfn.XLOOKUP($B11,newDataList!$O:$O,newDataList!U:U))","v":""},{"$f":"IF($B11=\"\",\"\",_xlfn.XLOOKUP($B11,newDataList!$O:$O,newDataList!V:V))","v":""},{"$f":"IF($B11=\"\",\"\",_xlfn.XLOOKUP($B11,newDataList!$O:$O,newDataList!W:W))","v":""},null,"Tier 3",{"$f":"IF(AG2=0,\"\",INDEX(OFFSET(newDataPrevalence!AO1,AF3-1,0):OFFSET(newDataPrevalence!AO1,AF4-1,0),AG2))","v":""},null,null,null,null,{"$f":"IF($B11=\"\",\"\",_xlfn.XLOOKUP($B11,newDataRegister!$O:$O,newDataRegister!R:R))","v":""},{"$f":"IF($B11=\"\",\"\",_xlfn.XLOOKUP($B11,newDataRegister!$O:$O,newDataRegister!S:S))","v":""},{"$f":"IF($B11=\"\",\"\",_xlfn.XLOOKUP($B11,newDataRegister!$O:$O,newDataRegister!T:T))","v":""},{"$f":"IF($B11=\"\",\"\",_xlfn.XLOOKUP($B11,newDataRegister!$O:$O,newDataRegister!U:U))","v":""},{"$f":"IF($B11=\"\",\"\",_xlfn.XLOOKUP($B11,newDataRegister!$O:$O,newDataRegister!V:V))","v":""},{"$f":"IF($B11=\"\",\"\",_xlfn.XLOOKUP($B11,newDataRegister!$O:$O,newDataRegister!W:W))","v":""},null,null,null,null,"Tier 3",{"$f":"IF(AW3=0,\"\",INDEX(OFFSET(newDataPrevalence!BE2,AV4-1,0):OFFSET(newDataPrevalence!BE2,AV5-1,0),AW3))","v":""},null,null,null,null,null,{"$f":"IF($B11=\"\",\"\",_xlfn.XLOOKUP($B11,newCOPD005!$L:$L,newCOPD005!O:O))","v":""},{"$f":"IF($B11=\"\",\"\",_xlfn.XLOOKUP($B11,newCOPD005!$L:$L,newCOPD005!P:P))","v":""},{"$f":"IF($B11=\"\",\"\",_xlfn.XLOOKUP($B11,newCOPD005!$L:$L,newCOPD005!Q:Q))","v":""}]
["Tier 4",{"$f":"IF(E2=0,\"\",INDEX(OFFSET(newDataPrevalence!AB1,D3-1,0):OFFSET(newDataPrevalence!AB1,D4-1,0),E2))","v":""},null,{"$f":"IF($B12=\"\",\"\",_xlfn.XLOOKUP($B12,newDataPrevalence!$AB:$AB,newDataPrevalence!AC:AC))","v":""},{"$f":"IF($B12=\"\",\"\",_xlfn.XLOOKUP($B12,newDataPrevalence!$AB:$AB,newDataPrevalence!AD:AD))","v":""},{"$f":"IF($B12=\"\",\"\",_xlfn.XLOOKUP($B12,newDataPrevalence!$AB:$AB,newDataPrevalence!AE:AE))","v":""},{"$f":"IF($B12=\"\",\"\",_xlfn.XLOOKUP($B12,newDataPrevalence!$AB:$AB,newDataPrevalence!AF:AF))","v":""},{"$f":"IF($B12=\"\",\"\",_xlfn.XLOOKUP($B12,newDataPrevalence!$AB:$AB,newDataPrevalence!AG:AG))","v":""},{"$f":"IF($B12=\"\",\"\",_xlfn.XLOOKUP($B12,newDataPrevalence!$AB:$AB,newDataPrevalence!AH:AH))","v":""},{"$f":"IF($B12=\"\",\"\",_xlfn.XLOOKUP($B12,newDataPrevalence!$AB:$AB,newDataPrevalence!AI:AI))","v":""},{"$f":"IF($B12=\"\",\"\",_xlfn.XLOOKUP($B12,newDataPrevalence!$AB:$AB,newDataPrevalence!AJ:AJ))","v":""},{"$f":"IF($B12=\"\",\"\",_xlfn.XLOOKUP($B12,newDataPrevalence!$AB:$AB,newDataPrevalence!AK:AK))","v":""},null,null,null,null,"Tier 4",{"$f":"IF(D2=0,\"\",INDEX(OFFSET(newDataPrevalence!O1,C3-1,0):OFFSET(newDataPrevalence!O1,C4-1,0),D2))","v":""},null,{"$f":"IF($B12=\"\",\"\",_xlfn.XLOOKUP($B12,newDataList!$AB:$AB,newDataList!AC:AC))","v":""},{"$f":"IF($B12=\"\",\"\",_xlfn.XLOOKUP($B12,newDataList!$AB:$AB,newDataList!AD:AD))","v":""},{"$f":"IF($B12=\"\",\"\",_xlfn.XLOOKUP($B12,newDataList!$AB:$AB,newDataList!AE:AE))","v":""},{"$f":"IF($B12=\"\",\"\",_xlfn.XLOOKUP($B12,newDataList!$AB:$AB,newDataList!AF:AF))","v":""},{"$f":"IF($B12=\"\",\"\",_xlfn.XLOOKUP($B12,newDataList!$AB:$AB,newDataList!AG:AG))","v":""},{"$f":"IF($B12=\"\",\"\",_xlfn.XLOOKUP($B12,newDataList!$AB:$AB,newDataList!AH:AH))","v":""},{"$f":"IF($B12=\"\",\"\",_xlfn.XLOOKUP($B12,newDataList!$AB:$AB,newDataList!AI:AI))","v":""},{"$f":"IF($B12=\"\",\"\",_xlfn.XLOOKUP($B12,newDataList!$AB:$AB,newDataList!AJ:AJ))","v":""},{"$f":"IF($B12=\"\",\"\",_xlfn.XLOOKUP($B12,newDataList!$AB:$AB,newDataList!AK:AK))","v":""},null,"Tier 4",{"$f":"IF(AH2=0,\"\",INDEX(OFFSET(newDataPrevalence!BB1,AG3-1,0):OFFSET(newDataPrevalence!BB1,AG4-1,0),AH2))","v":""},null,{"$f":"IF($B12=\"\",\"\",_xlfn.XLOOKUP($B12,newDataRegister!$AB:$AB,newDataRegister!AC:AC))","v":""},{"$f":"IF($B12=\"\",\"\",_xlfn.XLOOKUP($B12,newDataRegister!$AB:$AB,newDataRegister!AD:AD))","v":""},{"$f":"IF($B12=\"\",\"\",_xlfn.XLOOKUP($B12,newDataRegister!$AB:$AB,newDataRegister!AE:AE))","v":""},{"$f":"IF($B12=\"\",\"\",_xlfn.XLOOKUP($B12,newDataRegister!$AB:$AB,newDataRegister!AF:AF))","v":""},{"$f":"IF($B12=\"\",\"\",_xlfn.XLOOKUP($B12,newDataRegister!$AB:$AB,newDataRegister!AG:AG))","v":""},{"$f":"IF($B12=\"\",\"\",_xlfn.XLOOKUP($B12,newDataRegister!$AB:$AB,newDataRegister!AH:AH))","v":""},{"$f":"IF($B12=\"\",\"\",_xlfn.XLOOKUP($B12,newDataRegister!$AB:$AB,newDataRegister!AI:AI))","v":""},{"$f":"IF($B12=\"\",\"\",_xlfn.XLOOKUP($B12,newDataRegister!$AB:$AB,newDataRegister!AJ:AJ))","v":""},{"$f":"IF($B12=\"\",\"\",_xlfn.XLOOKUP($B12,newDataRegister!$AB:$AB,newDataRegister!AK:AK))","v":""},null,null,null,null,"Tier 4",{"$f":"IF(AX3=0,\"\",INDEX(OFFSET(newDataPrevalence!BR2,AW4-1,0):OFFSET(newDataPrevalence!BR2,AW5-1,0),AX3))","v":""},null,null,{"$f":"IF($B12=\"\",\"\",_xlfn.XLOOKUP($B12,newCOPD005!$AB:$AB,newCOPD005!AC:AC))","v":""},{"$f":"IF($B12=\"\",\"\",_xlfn.XLOOKUP($B12,newCOPD005!$AB:$AB,newCOPD005!AD:AD))","v":""},{"$f":"IF($B12=\"\",\"\",_xlfn.XLOOKUP($B12,newCOPD005!$AB:$AB,newCOPD005!AE:AE))","v":""},{"$f":"IF($B12=\"\",\"\",_xlfn.XLOOKUP($B12,newCOPD005!$AB:$AB,newCOPD005!AF:AF))","v":""},{"$f":"IF($B12=\"\",\"\",_xlfn.XLOOKUP($B12,newCOPD005!$AB:$AB,newCOPD005!AG:AG))","v":""},{"$f":"IF($B12=\"\",\"\",_xlfn.XLOOKUP($B12,newCOPD005!$AB:$AB,newCOPD005!AH:AH))","v":""}]
[null,null,null,null,null,null,null,null,null,null,null,null,null,null,null,null,null,null,54836561,55169643,55525732,56012096,56324887,56817654,57549410,58029147,58383266,59386096,60407685,60716244]
[]
[null,"DynamicDropDown1",null,null,null,null,null,"DynamicDropDown2"]
[null,{"$f":"OFFSET(newDataPrevalence!$O$1,dataLookup!$C$3-1,0):OFFSET(newDataPrevalence!$O$1,dataLookup!$C$4-1,0)","v":{"$error":"#REF!"}},null,null,null,null,null,{"$f":"OFFSET(newDataPrevalence!$AB$1,dataLookup!$D$3-1,0):OFFSET(newDataPrevalence!$AB$1,dataLookup!$D$4-1,0)","v":{"$error":"#VALUE!"}}]

{"sheet":"CalculationSheet","index":51,"n_rows":171,"n_cols":24,"rows_kept":171,"cut":false,"hidden":false,"merged":[[143,14,144,15],[143,16,144,17],[143,18,144,19],[143,20,144,21],[143,22,144,23],[142,2,142,4],[142,5,142,7],[142,8,142,10],[142,11,142,13],[143,2,143,4],[143,5,143,7],[143,8,143,10],[143,11,143,13],[112,22,113,23],[111,2,111,4],[111,5,111,7],[112,2,112,4],[112,5,112,7],[112,14,113,15],[112,16,113,17],[112,18,113,19],[112,20,113,21],[111,8,111,10],[112,8,112,10],[111,11,111,13],[112,11,112,13]]}
["Prevalence",{"$f":"(IF(dataLookup1!C2=0,dataLookup1!B9,IF(AND(dataLookup1!C2<>0,dataLookup1!D2=0),dataLookup1!B10,IF(AND(dataLookup1!C2<>0,dataLookup1!D2<>0,dataLookup1!E2=0),dataLookup1!B11,IF(AND(dataLookup1!C2<>0,dataLookup1!D2<>0,dataLookup1!E2<>0),dataLookup1!B12)))))","v":"England"},null,{"$f":"IF(dataLookup1!C2=0,dataLookup1!B9,dataLookup1!B10)","v":"England"}]
[null,"Year","COPD Prevalence",null,null,"Linear Modelled",null,null,"Log Modelled",null,null,null,"Years of data used","Year projected to"]
[1,2005,{"$f":"TRANSPOSE(IF(dataLookup1!C2=0,dataLookup1!D9:X9,IF(AND(dataLookup1!C2<>0,dataLookup1!D2=0),dataLookup1!D10:X10,IF(AND(dataLookup1!C2<>0,dataLookup1!D2<>0,dataLookup1!E2=0),dataLookup1!D11:X11,IF(AND(dataLookup1!C2<>0,dataLookup1!D2<>0,dataLookup1!E2<>0),dataLookup1!D12:X12)))))","v":1.3574000904236858E-2},"$C$3","$A$3",{"$f":"(A3)*LinearPrevalenceSlope+LinearPrevalenceConstant","v":1.6925757753010726E-2},null,null,{"$f":"(LogPrevalenceSlope*LN(A3))+LogPrevalenceConstant","v":1.3755948213777697E-2},null,null,null,{"$f":"IF(AND(A3>=$B$31,A3<=$B$32),C3,\"\")","v":""}]
[2,2006,1.3769808795495731E-2,"$C$4","$A$4",1.7044474744507924E-2,null,null,1.501256331669688E-2,null,null,null,""]
[3,2007,1.42701054062604E-2,"$C$5","$A$5",1.7163191736005119E-2,null,null,1.5747636029744459E-2,null,null,null,""]
[4,2008,1.4811323125036488E-2,"$C$6","$A$6",1.7281908727502317E-2,null,null,1.6269178419616063E-2,null,null,null,""]
[5,2009,1.5371204857106795E-2,"$C$7","$A$7",1.7400625718999516E-2,null,null,1.6673718125705523E-2,null,null,null,""]
[6,2010,1.5715368038153699E-2,"$C$8","$A$8",1.7519342710496714E-2,null,null,1.7004251132663642E-2,null,null,null,""]
[7,2011,1.6303249138221326E-2,"$C$9","$A$9",1.7638059701993912E-2,null,null,1.7283712808089789E-2,null,null,null,""]
[8,2012,1.6910118217668732E-2,"$C$10","$A$10",1.775677669349111E-2,null,null,1.7525793522535249E-2,null,null,null,1.6910118217668732E-2]
[9,2013,1.7417470693712359E-2,"$C$11","$A$11",1.7875493684988305E-2,null,null,1.7739323845711221E-2,null,null,null,1.7417470693712359E-2]
[10,2014,1.78530838630057E-2,"$C$12","$A$12",1.7994210676485503E-2,null,null,1.7930333228624709E-2,null,null,null,1.78530838630057E-2]
[11,2015,1.8221780033899907E-2,"$C$13","$A$13",1.8112927667982701E-2,null,null,1.8103122233273483E-2,null,null,null,1.8221780033899907E-2]
[12,2016,1.8543572085199255E-2,"$C$14","$A$14",1.8231644659479899E-2,null,null,1.8260866235582825E-2,null,null,null,1.8543572085199255E-2]
[13,2017,1.8758962994875339E-2,"$C$15","$A$15",1.8350361650977098E-2,null,null,1.8405976651035799E-2,null,null,null,1.8758962994875339E-2]
[14,2018,1.9035283163847731E-2,"$C$16","$A$16",1.8469078642474296E-2,null,null,1.8540327911008972E-2,null,null,null,1.9035283163847731E-2]
[15,2019,1.9280181077661305E-2,"$C$17","$A$17",1.8587795633971491E-2,null,null,1.8665405941672285E-2,null,null,null,1.9280181077661305E-2]
[16,2020,1.9395570684980306E-2,"$C$18","$A$18",1.8706512625468689E-2,null,null,1.8782408625454432E-2,null,null,null,1.9395570684980306E-2]
[17,2021,1.9292081358941528E-2,"$C$19","$A$19",1.8825229616965887E-2,null,null,1.8892315752713832E-2,null,null,null,1.9292081358941528E-2]
[18,2022,1.8696348823884715E-2,"$C$20","$A$20",1.8943946608463085E-2,null,null,1.8995938948630404E-2,null,null,null,1.8696348823884715E-2]
[19,2023,1.8459600304639178E-2,"$C$21","$A$21",1.9062663599960283E-2,null,null,1.9093958083276838E-2,null,null,null,1.8459600304639178E-2]
[20,2024,1.8590408746069247E-2,"$C$22","$A$22",{"$f":"(A22)*LinearPrevalenceSlope+LinearPrevalenceConstant","v":1.9181380591457478E-2},null,null,{"$f":"(LogPrevalenceSlope*LN(A22))+LogPrevalenceConstant","v":1.9186948331543892E-2},null,null,null,1.8590408746069247E-2]
[21,2025,1.8943657886735219E-2,"$C$23","$A$23",{"$f":"(A23)*LinearPrevalenceSlope+LinearPrevalenceConstant","v":1.9300097582954676E-2},null,null,1.9275400624056551E-2,null,null,null,1.8943657886735219E-2]
[22,2026,null,"$C$24","$A$24",1.9418814574451874E-2,null,null,1.9359737336192666E-2,null,null,null,""]
[23,2027,null,"$C$25","$A$25",1.9537531565949073E-2,null,null,1.9440324486749583E-2]
[24,2028,null,"$C$26","$A$26",1.9656248557446271E-2,null,null,1.9517481338502011E-2]
[25,2029,null,"$C$27","$A$27",1.9774965548943469E-2,null,null,1.9591488037633352E-2]
[26,2030,null,"$C$28","$A$28",1.9893682540440667E-2,null,null,1.9662591753954982E-2]
[27,2031,null,"$C$29","$A$29",2.0012399531937862E-2,null,null,1.9731011661677983E-2]
[28]
["Start Year",8,{"$f":"_xlfn.XLOOKUP(B31,A3:A24,D3:D24)","v":"$C$10"},{"$f":"_xlfn.XLOOKUP(B31,A3:A24,E3:E24)","v":"$A$10"},{"$f":"_xlfn.XLOOKUP(B31,$A$3:$A$21,$B$3:$B$21)","v":2012}]
["Stop Year",21,{"$f":"_xlfn.XLOOKUP($B32,A$3:$A24,D3:D24)","v":"$C$23"},{"$f":"_xlfn.XLOOKUP($B32,$A$3:A24,E3:E24)","v":"$A$23"},{"$f":"_xlfn.XLOOKUP(B32,$A$3:$A$23,$B$3:$B$23)","v":2025}]
[]
["Linear Slope","Linear Constant"]
[{"$f":"SLOPE(INDIRECT(StartCell):INDIRECT(StopCell),INDIRECT(Year1):INDIRECT(Year2))","v":1.187169914971976E-4},{"$f":"INTERCEPT(INDIRECT(StartCell):INDIRECT(StopCell),INDIRECT(Year1):INDIRECT(Year2))","v":1.6807040761513528E-2}]
["Log Slope","Log Constant"]
[{"$f":"SLOPE((INDIRECT(StartCell):INDIRECT(StopCell)),LN(INDIRECT(Year1):INDIRECT(Year2)))","v":1.8129123772876803E-3},{"$f":"INTERCEPT((INDIRECT(StartCell):INDIRECT(StopCell)),LN(INDIRECT(Year1):INDIRECT(Year2)))","v":1.3755948213777697E-2}]
[]
[]
["Attrition points"]
[null,"List Size","Register","List Ref","Register Ref"]
[1,{"$f":"TRANSPOSE(IF(dataLookup1!B2=1,dataLookup1!AC9:AW9,IF(AND(dataLookup1!B2=2,dataLookup1!D2=0),dataLookup1!AC10:AW10,IF(AND(dataLookup1!B2=2,dataLookup1!E2=0),dataLookup1!AC11:AW11,IF(AND(dataLookup1!B2=2,dataLookup1!E2<>0),dataLookup1!AC12:AW12)))))","v":""},{"$f":"TRANSPOSE(IF(dataLookup1!B2=1,dataLookup1!BB9:BV9,IF(AND(dataLookup1!B2=2,dataLookup1!D2=0),dataLookup1!BB10:BV10,IF(AND(dataLookup1!B2=2,dataLookup1!E2=0),dataLookup1!BB11:BV11,IF(AND(dataLookup1!B2=2,dataLookup1!E2<>0),dataLookup1!BB12:BV12)))))","v":""},"$B$42","$C$42",2005]
[2,"","","$B$43","$C$43",2006]
[3,"","","$B$44","$C$44",2007]
[4,"","","$B$45","$C$45",2008]
[5,"","","$B$46","$C$46",2009]
[6,"","","$B$47","$C$47",2010]
[7,"","","$B$48","$C$48",2011]
[8,"","","$B$49","$C$49",2012]
[9,"","","$B$50","$C$50",2013]
[10,"","","$B$51","$C$51",2014]
[11,"","","$B$52","$C$52",2015]
[12,"","","$B$53","$C$53",2016]
[13,"","","$B$54","$C$54",2017]
[14,"","","$B$55","$C$55",2018]
[15,"","","$B$56","$C$56",2019]
[16,"","","$B$57","$C$57",2020]
[17,"","","$B$58","$C$58",2021]
[18,"","","$B$59","$C$59",2022]
[19,"","","$B$60","$C$60",2023]
[20,"","","$B$61","$C$61",2024]
[21,"","","$B$62","$C$62",2025]
[]
[null,null,"List","Register"]
["Start year",{"$f":"B31","v":8},{"$f":"_xlfn.XLOOKUP($B65,$A42:$A60,D42:D60)","v":"$B$49"},{"$f":"_xlfn.XLOOKUP($B65,$A42:$A60,E42:E60)","v":"$C$49"}]
["Stop year",{"$f":"B32","v":21},{"$f":"_xlfn.XLOOKUP(B66,A42:A62,D42:D62)","v":"$B$62"},{"$f":"_xlfn.XLOOKUP($B66,$A42:$A62,E42:E62)","v":"$C$62"}]
[]
["Linear List ","Slope","Constant"]
[null,{"$f":"SLOPE(INDIRECT(CombinedListStart):INDIRECT(CombinedListStop),INDIRECT(Year1):INDIRECT(Year2))","v":{"$error":"#DIV/0!"}},{"$f":"INTERCEPT(INDIRECT(CombinedListStart):INDIRECT(CombinedListStop),INDIRECT(Year1):INDIRECT(Year2))","v":{"$error":"#DIV/0!"}}]
["Log List","Slope","Constant"]
[null,{"$f":"SLOPE((INDIRECT(CombinedListStart):INDIRECT(CombinedListStop)),LN(INDIRECT(Year1):INDIRECT(Year2)))","v":{"$error":"#DIV/0!"}},{"$f":"INTERCEPT((INDIRECT(CombinedListStart):INDIRECT(CombinedListStop)),LN(INDIRECT(Year1):INDIRECT(Year2)))","v":{"$error":"#DIV/0!"}}]
[]
["Linear Register","Slope","Constant"]
[null,{"$f":"SLOPE(INDIRECT(CombinedRegStart):INDIRECT(CombinedRegStop),INDIRECT(Year1):INDIRECT(Year2))","v":{"$error":"#DIV/0!"}},{"$f":"INTERCEPT(INDIRECT(CombinedRegStart):INDIRECT(CombinedRegStop),INDIRECT(Year1):INDIRECT(Year2))","v":{"$error":"#DIV/0!"}}]
["Log Register","Slope","Constant"]
[null,{"$f":"SLOPE((INDIRECT(CombinedRegStart):INDIRECT(CombinedRegStop)),LN(INDIRECT(Year1):INDIRECT(Year2)))","v":{"$error":"#DIV/0!"}},{"$f":"INTERCEPT((INDIRECT(CombinedRegStart):INDIRECT(CombinedRegStop)),LN(INDIRECT(Year1):INDIRECT(Year2)))","v":{"$error":"#DIV/0!"}}]
[]
[]
["Modelled list size and register"]
[]
[]
[null,null,null,"Linear List Size","Log List Size","Linear Register","% growth","User input value","Log Register","% growth","User input value","Linear QoF corrected","Log QoF corrected","Linear Eligible","Log Eligible","Linear referred","Log referred","Linear uptake","Log uptake","Linear complete","Log complete"]
[0,null,null,null,null,{"$f":"($A83-$A$83)*$B$74+$C$74","v":{"$error":"#DIV/0!"}},null,{"$f":"populationFunnel!K11","v":500},{"$f":"I84","v":{"$error":"#DIV/0!"}},null,{"$f":"populationFunnel!K11","v":500}]
[1,2005,null,{"$f":"($A84-$A$83)*$B$69+$C$69","v":{"$error":"#DIV/0!"}},{"$f":"LN($A84-$A$83)*$B$71+$C$71","v":{"$error":"#DIV/0!"}},{"$f":"($A84-$A$83)*$B$74+$C$74","v":{"$error":"#DIV/0!"}},{"$f":"(F84-F83)/F$83","v":{"$error":"#DIV/0!"}},{"$f":"H83+(H$83*G84)","v":{"$error":"#DIV/0!"}},{"$f":"LN($A84-$A$83)*$B$74+$C$74","v":{"$error":"#DIV/0!"}},{"$f":"(I84-I83)/I$83","v":{"$error":"#DIV/0!"}},{"$f":"K83+(K$83*J84)","v":{"$error":"#DIV/0!"}},{"$f":"populationFunnel!$K$15*IF(_Mtech!$G$2=1,F84,CalculationSheet!H84)","v":{"$error":"#DIV/0!"}},{"$f":"populationFunnel!$K$15*IF(_Mtech!$G$2=1,I84,CalculationSheet!K84)","v":{"$error":"#DIV/0!"}},{"$f":"populationFunnel!$K$23*L84","v":{"$error":"#DIV/0!"}},{"$f":"populationFunnel!$K$23*M84","v":{"$error":"#DIV/0!"}},{"$f":"populationFunnel!$K$27*N84","v":{"$error":"#DIV/0!"}},{"$f":"populationFunnel!$K$27*O84","v":{"$error":"#DIV/0!"}},{"$f":"populationFunnel!$K$33*N84","v":{"$error":"#DIV/0!"}},{"$f":"populationFunnel!$K$33*O84","v":{"$error":"#DIV/0!"}},{"$f":"populationFunnel!$K$38*R84","v":{"$error":"#DIV/0!"}},{"$f":"populationFunnel!$K$38*S84","v":{"$error":"#DIV/0!"}}]
[2,2006,null,{"$f":"($A85-$A$83)*$B$69+$C$69","v":{"$error":"#DIV/0!"}},{"$f":"LN($A85-$A$83)*$B$71+$C$71","v":{"$error":"#DIV/0!"}},{"$f":"($A85-$A$83)*$B$74+$C$74","v":{"$error":"#DIV/0!"}},{"$f":"(F85-F84)/$F$83","v":{"$error":"#DIV/0!"}},{"$f":"H84+($H$83*G85)","v":{"$error":"#DIV/0!"}},{"$f":"LN($A85-$A$83)*$B$74+$C$74","v":{"$error":"#DIV/0!"}},{"$f":"(I85-I84)/I$83","v":{"$error":"#DIV/0!"}},{"$f":"K84+(K$83*J85)","v":{"$error":"#DIV/0!"}},{"$f":"populationFunnel!$K$15*IF(_Mtech!$G$2=1,F85,CalculationSheet!H85)","v":{"$error":"#DIV/0!"}},{"$f":"populationFunnel!$K$15*IF(_Mtech!$G$2=1,I85,CalculationSheet!K85)","v":{"$error":"#DIV/0!"}},{"$f":"populationFunnel!$K$23*L85","v":{"$error":"#DIV/0!"}},{"$f":"populationFunnel!$K$23*M85","v":{"$error":"#DIV/0!"}},{"$f":"populationFunnel!$K$27*N85","v":{"$error":"#DIV/0!"}},{"$f":"populationFunnel!$K$27*O85","v":{"$error":"#DIV/0!"}},{"$f":"populationFunnel!$K$33*N85","v":{"$error":"#DIV/0!"}},{"$f":"populationFunnel!$K$33*O85","v":{"$error":"#DIV/0!"}},{"$f":"populationFunnel!$K$38*R85","v":{"$error":"#DIV/0!"}},{"$f":"populationFunnel!$K$38*S85","v":{"$error":"#DIV/0!"}}]
[3,2007,null,{"$error":"#DIV/0!"},{"$error":"#DIV/0!"},{"$error":"#DIV/0!"},{"$error":"#DIV/0!"},{"$error":"#DIV/0!"},{"$error":"#DIV/0!"},{"$f":"(I86-I85)/I$83","v":{"$error":"#DIV/0!"}},{"$error":"#DIV/0!"},{"$f":"populationFunnel!$K$15*IF(_Mtech!$G$2=1,F86,CalculationSheet!H86)","v":{"$error":"#DIV/0!"}},{"$f":"populationFunnel!$K$15*IF(_Mtech!$G$2=1,I86,CalculationSheet!K86)","v":{"$error":"#DIV/0!"}},{"$f":"populationFunnel!$K$23*L86","v":{"$error":"#DIV/0!"}},{"$f":"populationFunnel!$K$23*M86","v":{"$error":"#DIV/0!"}},{"$f":"populationFunnel!$K$27*N86","v":{"$error":"#DIV/0!"}},{"$f":"populationFunnel!$K$27*O86","v":{"$error":"#DIV/0!"}},{"$f":"populationFunnel!$K$33*N86","v":{"$error":"#DIV/0!"}},{"$f":"populationFunnel!$K$33*O86","v":{"$error":"#DIV/0!"}},{"$f":"populationFunnel!$K$38*R86","v":{"$error":"#DIV/0!"}},{"$f":"populationFunnel!$K$38*S86","v":{"$error":"#DIV/0!"}}]
[4,2008,null,{"$error":"#DIV/0!"},{"$error":"#DIV/0!"},{"$error":"#DIV/0!"},{"$error":"#DIV/0!"},{"$error":"#DIV/0!"},{"$error":"#DIV/0!"},{"$f":"(I87-I86)/I$83","v":{"$error":"#DIV/0!"}},{"$error":"#DIV/0!"},{"$f":"populationFunnel!$K$15*IF(_Mtech!$G$2=1,F87,CalculationSheet!H87)","v":{"$error":"#DIV/0!"}},{"$f":"populationFunnel!$K$15*IF(_Mtech!$G$2=1,I87,CalculationSheet!K87)","v":{"$error":"#DIV/0!"}},{"$f":"populationFunnel!$K$23*L87","v":{"$error":"#DIV/0!"}},{"$f":"populationFunnel!$K$23*M87","v":{"$error":"#DIV/0!"}},{"$f":"populationFunnel!$K$27*N87","v":{"$error":"#DIV/0!"}},{"$f":"populationFunnel!$K$27*O87","v":{"$error":"#DIV/0!"}},{"$f":"populationFunnel!$K$33*N87","v":{"$error":"#DIV/0!"}},{"$f":"populationFunnel!$K$33*O87","v":{"$error":"#DIV/0!"}},{"$f":"populationFunnel!$K$38*R87","v":{"$error":"#DIV/0!"}},{"$f":"populationFunnel!$K$38*S87","v":{"$error":"#DIV/0!"}}]
[5,2009,null,{"$error":"#DIV/0!"},{"$error":"#DIV/0!"},{"$error":"#DIV/0!"},{"$error":"#DIV/0!"},{"$error":"#DIV/0!"},{"$error":"#DIV/0!"},{"$f":"(I88-I87)/I$83","v":{"$error":"#DIV/0!"}},{"$error":"#DIV/0!"},{"$f":"populationFunnel!$K$15*IF(_Mtech!$G$2=1,F88,CalculationSheet!H88)","v":{"$error":"#DIV/0!"}},{"$f":"populationFunnel!$K$15*IF(_Mtech!$G$2=1,I88,CalculationSheet!K88)","v":{"$error":"#DIV/0!"}},{"$f":"populationFunnel!$K$23*L88","v":{"$error":"#DIV/0!"}},{"$f":"populationFunnel!$K$23*M88","v":{"$error":"#DIV/0!"}},{"$f":"populationFunnel!$K$27*N88","v":{"$error":"#DIV/0!"}},{"$f":"populationFunnel!$K$27*O88","v":{"$error":"#DIV/0!"}},{"$f":"populationFunnel!$K$33*N88","v":{"$error":"#DIV/0!"}},{"$f":"populationFunnel!$K$33*O88","v":{"$error":"#DIV/0!"}},{"$f":"populationFunnel!$K$38*R88","v":{"$error":"#DIV/0!"}},{"$f":"populationFunnel!$K$38*S88","v":{"$error":"#DIV/0!"}}]
[6,2010,null,{"$error":"#DIV/0!"},{"$error":"#DIV/0!"},{"$error":"#DIV/0!"},{"$error":"#DIV/0!"},{"$error":"#DIV/0!"},{"$error":"#DIV/0!"},{"$error":"#DIV/0!"},{"$error":"#DIV/0!"},{"$f":"populationFunnel!$K$15*IF(_Mtech!$G$2=1,F89,CalculationSheet!H89)","v":{"$error":"#DIV/0!"}},{"$f":"populationFunnel!$K$15*IF(_Mtech!$G$2=1,I89,CalculationSheet!K89)","v":{"$error":"#DIV/0!"}},{"$f":"populationFunnel!$K$23*L89","v":{"$error":"#DIV/0!"}},{"$f":"populationFunnel!$K$23*M89","v":{"$error":"#DIV/0!"}},{"$f":"populationFunnel!$K$27*N89","v":{"$error":"#DIV/0!"}},{"$f":"populationFunnel!$K$27*O89","v":{"$error":"#DIV/0!"}},{"$f":"populationFunnel!$K$33*N89","v":{"$error":"#DIV/0!"}},{"$f":"populationFunnel!$K$33*O89","v":{"$error":"#DIV/0!"}},{"$f":"populationFunnel!$K$38*R89","v":{"$error":"#DIV/0!"}},{"$f":"populationFunnel!$K$38*S89","v":{"$error":"#DIV/0!"}}]
[7,2011,null,{"$error":"#DIV/0!"},{"$error":"#DIV/0!"},{"$error":"#DIV/0!"},{"$error":"#DIV/0!"},{"$error":"#DIV/0!"},{"$error":"#DIV/0!"},{"$error":"#DIV/0!"},{"$error":"#DIV/0!"},{"$f":"populationFunnel!$K$15*IF(_Mtech!$G$2=1,F90,CalculationSheet!H90)","v":{"$error":"#DIV/0!"}},{"$f":"populationFunnel!$K$15*IF(_Mtech!$G$2=1,I90,CalculationSheet!K90)","v":{"$error":"#DIV/0!"}},{"$f":"populationFunnel!$K$23*L90","v":{"$error":"#DIV/0!"}},{"$f":"populationFunnel!$K$23*M90","v":{"$error":"#DIV/0!"}},{"$f":"populationFunnel!$K$27*N90","v":{"$error":"#DIV/0!"}},{"$f":"populationFunnel!$K$27*O90","v":{"$error":"#DIV/0!"}},{"$f":"populationFunnel!$K$33*N90","v":{"$error":"#DIV/0!"}},{"$f":"populationFunnel!$K$33*O90","v":{"$error":"#DIV/0!"}},{"$f":"populationFunnel!$K$38*R90","v":{"$error":"#DIV/0!"}},{"$f":"populationFunnel!$K$38*S90","v":{"$error":"#DIV/0!"}}]
[8,2012,null,{"$error":"#DIV/0!"},{"$error":"#DIV/0!"},{"$error":"#DIV/0!"},{"$error":"#DIV/0!"},{"$error":"#DIV/0!"},{"$error":"#DIV/0!"},{"$error":"#DIV/0!"},{"$error":"#DIV/0!"},{"$f":"populationFunnel!$K$15*IF(_Mtech!$G$2=1,F91,CalculationSheet!H91)","v":{"$error":"#DIV/0!"}},{"$f":"populationFunnel!$K$15*IF(_Mtech!$G$2=1,I91,CalculationSheet!K91)","v":{"$error":"#DIV/0!"}},{"$f":"populationFunnel!$K$23*L91","v":{"$error":"#DIV/0!"}},{"$f":"populationFunnel!$K$23*M91","v":{"$error":"#DIV/0!"}},{"$f":"populationFunnel!$K$27*N91","v":{"$error":"#DIV/0!"}},{"$f":"populationFunnel!$K$27*O91","v":{"$error":"#DIV/0!"}},{"$f":"populationFunnel!$K$33*N91","v":{"$error":"#DIV/0!"}},{"$f":"populationFunnel!$K$33*O91","v":{"$error":"#DIV/0!"}},{"$f":"populationFunnel!$K$38*R91","v":{"$error":"#DIV/0!"}},{"$f":"populationFunnel!$K$38*S91","v":{"$error":"#DIV/0!"}}]
[9,2013,null,{"$error":"#DIV/0!"},{"$error":"#DIV/0!"},{"$error":"#DIV/0!"},{"$error":"#DIV/0!"},{"$error":"#DIV/0!"},{"$error":"#DIV/0!"},{"$error":"#DIV/0!"},{"$error":"#DIV/0!"},{"$f":"populationFunnel!$K$15*IF(_Mtech!$G$2=1,F92,CalculationSheet!H92)","v":{"$error":"#DIV/0!"}},{"$f":"populationFunnel!$K$15*IF(_Mtech!$G$2=1,I92,CalculationSheet!K92)","v":{"$error":"#DIV/0!"}},{"$f":"populationFunnel!$K$23*L92","v":{"$error":"#DIV/0!"}},{"$f":"populationFunnel!$K$23*M92","v":{"$error":"#DIV/0!"}},{"$f":"populationFunnel!$K$27*N92","v":{"$error":"#DIV/0!"}},{"$f":"populationFunnel!$K$27*O92","v":{"$error":"#DIV/0!"}},{"$f":"populationFunnel!$K$33*N92","v":{"$error":"#DIV/0!"}},{"$f":"populationFunnel!$K$33*O92","v":{"$error":"#DIV/0!"}},{"$f":"populationFunnel!$K$38*R92","v":{"$error":"#DIV/0!"}},{"$f":"populationFunnel!$K$38*S92","v":{"$error":"#DIV/0!"}}]
[10,2014,null,{"$error":"#DIV/0!"},{"$error":"#DIV/0!"},{"$error":"#DIV/0!"},{"$error":"#DIV/0!"},{"$error":"#DIV/0!"},{"$error":"#DIV/0!"},{"$error":"#DIV/0!"},{"$error":"#DIV/0!"},{"$f":"populationFunnel!$K$15*IF(_Mtech!$G$2=1,F93,CalculationSheet!H93)","v":{"$error":"#DIV/0!"}},{"$f":"populationFunnel!$K$15*IF(_Mtech!$G$2=1,I93,CalculationSheet!K93)","v":{"$error":"#DIV/0!"}},{"$f":"populationFunnel!$K$23*L93","v":{"$error":"#DIV/0!"}},{"$f":"populationFunnel!$K$23*M93","v":{"$error":"#DIV/0!"}},{"$f":"populationFunnel!$K$27*N93","v":{"$error":"#DIV/0!"}},{"$f":"populationFunnel!$K$27*O93","v":{"$error":"#DIV/0!"}},{"$f":"populationFunnel!$K$33*N93","v":{"$error":"#DIV/0!"}},{"$f":"populationFunnel!$K$33*O93","v":{"$error":"#DIV/0!"}},{"$f":"populationFunnel!$K$38*R93","v":{"$error":"#DIV/0!"}},{"$f":"populationFunnel!$K$38*S93","v":{"$error":"#DIV/0!"}}]
[11,2015,null,{"$error":"#DIV/0!"},{"$error":"#DIV/0!"},{"$error":"#DIV/0!"},{"$error":"#DIV/0!"},{"$error":"#DIV/0!"},{"$error":"#DIV/0!"},{"$error":"#DIV/0!"},{"$error":"#DIV/0!"},{"$f":"populationFunnel!$K$15*IF(_Mtech!$G$2=1,F94,CalculationSheet!H94)","v":{"$error":"#DIV/0!"}},{"$f":"populationFunnel!$K$15*IF(_Mtech!$G$2=1,I94,CalculationSheet!K94)","v":{"$error":"#DIV/0!"}},{"$f":"populationFunnel!$K$23*L94","v":{"$error":"#DIV/0!"}},{"$f":"populationFunnel!$K$23*M94","v":{"$error":"#DIV/0!"}},{"$f":"populationFunnel!$K$27*N94","v":{"$error":"#DIV/0!"}},{"$f":"populationFunnel!$K$27*O94","v":{"$error":"#DIV/0!"}},{"$f":"populationFunnel!$K$33*N94","v":{"$error":"#DIV/0!"}},{"$f":"populationFunnel!$K$33*O94","v":{"$error":"#DIV/0!"}},{"$f":"populationFunnel!$K$38*R94","v":{"$error":"#DIV/0!"}},{"$f":"populationFunnel!$K$38*S94","v":{"$error":"#DIV/0!"}}]
[12,2016,null,{"$error":"#DIV/0!"},{"$error":"#DIV/0!"},{"$error":"#DIV/0!"},{"$error":"#DIV/0!"},{"$error":"#DIV/0!"},{"$error":"#DIV/0!"},{"$error":"#DIV/0!"},{"$error":"#DIV/0!"},{"$f":"populationFunnel!$K$15*IF(_Mtech!$G$2=1,F95,CalculationSheet!H95)","v":{"$error":"#DIV/0!"}},{"$f":"populationFunnel!$K$15*IF(_Mtech!$G$2=1,I95,CalculationSheet!K95)","v":{"$error":"#DIV/0!"}},{"$f":"populationFunnel!$K$23*L95","v":{"$error":"#DIV/0!"}},{"$f":"populationFunnel!$K$23*M95","v":{"$error":"#DIV/0!"}},{"$f":"populationFunnel!$K$27*N95","v":{"$error":"#DIV/0!"}},{"$f":"populationFunnel!$K$27*O95","v":{"$error":"#DIV/0!"}},{"$f":"populationFunnel!$K$33*N95","v":{"$error":"#DIV/0!"}},{"$f":"populationFunnel!$K$33*O95","v":{"$error":"#DIV/0!"}},{"$f":"populationFunnel!$K$38*R95","v":{"$error":"#DIV/0!"}},{"$f":"populationFunnel!$K$38*S95","v":{"$error":"#DIV/0!"}}]
[13,2017,null,{"$error":"#DIV/0!"},{"$error":"#DIV/0!"},{"$error":"#DIV/0!"},{"$error":"#DIV/0!"},{"$error":"#DIV/0!"},{"$error":"#DIV/0!"},{"$error":"#DIV/0!"},{"$error":"#DIV/0!"},{"$f":"populationFunnel!$K$15*IF(_Mtech!$G$2=1,F96,CalculationSheet!H96)","v":{"$error":"#DIV/0!"}},{"$f":"populationFunnel!$K$15*IF(_Mtech!$G$2=1,I96,CalculationSheet!K96)","v":{"$error":"#DIV/0!"}},{"$f":"populationFunnel!$K$23*L96","v":{"$error":"#DIV/0!"}},{"$f":"populationFunnel!$K$23*M96","v":{"$error":"#DIV/0!"}},{"$f":"populationFunnel!$K$27*N96","v":{"$error":"#DIV/0!"}},{"$f":"populationFunnel!$K$27*O96","v":{"$error":"#DIV/0!"}},{"$f":"populationFunnel!$K$33*N96","v":{"$error":"#DIV/0!"}},{"$f":"populationFunnel!$K$33*O96","v":{"$error":"#DIV/0!"}},{"$f":"populationFunnel!$K$38*R96","v":{"$error":"#DIV/0!"}},{"$f":"populationFunnel!$K$38*S96","v":{"$error":"#DIV/0!"}}]
[14,2018,null,{"$error":"#DIV/0!"},{"$error":"#DIV/0!"},{"$error":"#DIV/0!"},{"$error":"#DIV/0!"},{"$error":"#DIV/0!"},{"$error":"#DIV/0!"},{"$error":"#DIV/0!"},{"$error":"#DIV/0!"},{"$f":"populationFunnel!$K$15*IF(_Mtech!$G$2=1,F97,CalculationSheet!H97)","v":{"$error":"#DIV/0!"}},{"$f":"populationFunnel!$K$15*IF(_Mtech!$G$2=1,I97,CalculationSheet!K97)","v":{"$error":"#DIV/0!"}},{"$f":"populationFunnel!$K$23*L97","v":{"$error":"#DIV/0!"}},{"$f":"populationFunnel!$K$23*M97","v":{"$error":"#DIV/0!"}},{"$f":"populationFunnel!$K$27*N97","v":{"$error":"#DIV/0!"}},{"$f":"populationFunnel!$K$27*O97","v":{"$error":"#DIV/0!"}},{"$f":"populationFunnel!$K$33*N97","v":{"$error":"#DIV/0!"}},{"$f":"populationFunnel!$K$33*O97","v":{"$error":"#DIV/0!"}},{"$f":"populationFunnel!$K$38*R97","v":{"$error":"#DIV/0!"}},{"$f":"populationFunnel!$K$38*S97","v":{"$error":"#DIV/0!"}}]
[15,2019,1,{"$error":"#DIV/0!"},{"$error":"#DIV/0!"},{"$error":"#DIV/0!"},{"$error":"#DIV/0!"},{"$error":"#DIV/0!"},{"$error":"#DIV/0!"},{"$error":"#DIV/0!"},{"$error":"#DIV/0!"},{"$f":"populationFunnel!$K$15*IF(_Mtech!$G$2=1,F98,CalculationSheet!H98)","v":{"$error":"#DIV/0!"}},{"$f":"populationFunnel!$K$15*IF(_Mtech!$G$2=1,I98,CalculationSheet!K98)","v":{"$error":"#DIV/0!"}},{"$f":"populationFunnel!$K$23*L98","v":{"$error":"#DIV/0!"}},{"$f":"populationFunnel!$K$23*M98","v":{"$error":"#DIV/0!"}},{"$f":"populationFunnel!$K$27*N98","v":{"$error":"#DIV/0!"}},{"$f":"populationFunnel!$K$27*O98","v":{"$error":"#DIV/0!"}},{"$f":"populationFunnel!$K$33*N98","v":{"$error":"#DIV/0!"}},{"$f":"populationFunnel!$K$33*O98","v":{"$error":"#DIV/0!"}},{"$f":"populationFunnel!$K$38*R98","v":{"$error":"#DIV/0!"}},{"$f":"populationFunnel!$K$38*S98","v":{"$error":"#DIV/0!"}}]
[16,2020,2,{"$error":"#DIV/0!"},{"$error":"#DIV/0!"},{"$error":"#DIV/0!"},{"$error":"#DIV/0!"},{"$error":"#DIV/0!"},{"$error":"#DIV/0!"},{"$error":"#DIV/0!"},{"$error":"#DIV/0!"},{"$f":"populationFunnel!$K$15*IF(_Mtech!$G$2=1,F99,CalculationSheet!H99)","v":{"$error":"#DIV/0!"}},{"$f":"populationFunnel!$K$15*IF(_Mtech!$G$2=1,I99,CalculationSheet!K99)","v":{"$error":"#DIV/0!"}},{"$f":"populationFunnel!$K$23*L99","v":{"$error":"#DIV/0!"}},{"$f":"populationFunnel!$K$23*M99","v":{"$error":"#DIV/0!"}},{"$f":"populationFunnel!$K$27*N99","v":{"$error":"#DIV/0!"}},{"$f":"populationFunnel!$K$27*O99","v":{"$error":"#DIV/0!"}},{"$f":"populationFunnel!$K$33*N99","v":{"$error":"#DIV/0!"}},{"$f":"populationFunnel!$K$33*O99","v":{"$error":"#DIV/0!"}},{"$f":"populationFunnel!$K$38*R99","v":{"$error":"#DIV/0!"}},{"$f":"populationFunnel!$K$38*S99","v":{"$error":"#DIV/0!"}}]
[17,2021,3,{"$error":"#DIV/0!"},{"$error":"#DIV/0!"},{"$error":"#DIV/0!"},{"$error":"#DIV/0!"},{"$error":"#DIV/0!"},{"$error":"#DIV/0!"},{"$error":"#DIV/0!"},{"$error":"#DIV/0!"},{"$f":"populationFunnel!$K$15*IF(_Mtech!$G$2=1,F100,CalculationSheet!H100)","v":{"$error":"#DIV/0!"}},{"$f":"populationFunnel!$K$15*IF(_Mtech!$G$2=1,I100,CalculationSheet!K100)","v":{"$error":"#DIV/0!"}},{"$f":"populationFunnel!$K$23*L100","v":{"$error":"#DIV/0!"}},{"$f":"populationFunnel!$K$23*M100","v":{"$error":"#DIV/0!"}},{"$f":"populationFunnel!$K$27*N100","v":{"$error":"#DIV/0!"}},{"$f":"populationFunnel!$K$27*O100","v":{"$error":"#DIV/0!"}},{"$f":"populationFunnel!$K$33*N100","v":{"$error":"#DIV/0!"}},{"$f":"populationFunnel!$K$33*O100","v":{"$error":"#DIV/0!"}},{"$f":"populationFunnel!$K$38*R100","v":{"$error":"#DIV/0!"}},{"$f":"populationFunnel!$K$38*S100","v":{"$error":"#DIV/0!"}}]
[18,2022,4,{"$error":"#DIV/0!"},{"$error":"#DIV/0!"},{"$error":"#DIV/0!"},{"$error":"#DIV/0!"},{"$error":"#DIV/0!"},{"$error":"#DIV/0!"},{"$error":"#DIV/0!"},{"$error":"#DIV/0!"},{"$f":"populationFunnel!$K$15*IF(_Mtech!$G$2=1,F101,CalculationSheet!H101)","v":{"$error":"#DIV/0!"}},{"$f":"populationFunnel!$K$15*IF(_Mtech!$G$2=1,I101,CalculationSheet!K101)","v":{"$error":"#DIV/0!"}},{"$f":"populationFunnel!$K$23*L101","v":{"$error":"#DIV/0!"}},{"$f":"populationFunnel!$K$23*M101","v":{"$error":"#DIV/0!"}},{"$f":"populationFunnel!$K$27*N101","v":{"$error":"#DIV/0!"}},{"$f":"populationFunnel!$K$27*O101","v":{"$error":"#DIV/0!"}},{"$f":"populationFunnel!$K$33*N101","v":{"$error":"#DIV/0!"}},{"$f":"populationFunnel!$K$33*O101","v":{"$error":"#DIV/0!"}},{"$f":"populationFunnel!$K$38*R101","v":{"$error":"#DIV/0!"}},{"$f":"populationFunnel!$K$38*S101","v":{"$error":"#DIV/0!"}}]
[19,2023,5,{"$error":"#DIV/0!"},{"$error":"#DIV/0!"},{"$error":"#DIV/0!"},{"$error":"#DIV/0!"},{"$error":"#DIV/0!"},{"$error":"#DIV/0!"},{"$error":"#DIV/0!"},{"$error":"#DIV/0!"},{"$f":"populationFunnel!$K$15*IF(_Mtech!$G$2=1,F102,CalculationSheet!H102)","v":{"$error":"#DIV/0!"}},{"$f":"populationFunnel!$K$15*IF(_Mtech!$G$2=1,I102,CalculationSheet!K102)","v":{"$error":"#DIV/0!"}},{"$f":"populationFunnel!$K$23*L102","v":{"$error":"#DIV/0!"}},{"$f":"populationFunnel!$K$23*M102","v":{"$error":"#DIV/0!"}},{"$f":"populationFunnel!$K$27*N102","v":{"$error":"#DIV/0!"}},{"$f":"populationFunnel!$K$27*O102","v":{"$error":"#DIV/0!"}},{"$f":"populationFunnel!$K$33*N102","v":{"$error":"#DIV/0!"}},{"$f":"populationFunnel!$K$33*O102","v":{"$error":"#DIV/0!"}},{"$f":"populationFunnel!$K$38*R102","v":{"$error":"#DIV/0!"}},{"$f":"populationFunnel!$K$38*S102","v":{"$error":"#DIV/0!"}}]
[20,2024,6,{"$error":"#DIV/0!"},{"$error":"#DIV/0!"},{"$error":"#DIV/0!"},{"$error":"#DIV/0!"},{"$error":"#DIV/0!"},{"$error":"#DIV/0!"},{"$error":"#DIV/0!"},{"$error":"#DIV/0!"},{"$f":"populationFunnel!$K$15*IF(_Mtech!$G$2=1,F103,CalculationSheet!H103)","v":{"$error":"#DIV/0!"}},{"$f":"populationFunnel!$K$15*IF(_Mtech!$G$2=1,I103,CalculationSheet!K103)","v":{"$error":"#DIV/0!"}},{"$f":"populationFunnel!$K$23*L103","v":{"$error":"#DIV/0!"}},{"$f":"populationFunnel!$K$23*M103","v":{"$error":"#DIV/0!"}},{"$f":"populationFunnel!$K$27*N103","v":{"$error":"#DIV/0!"}},{"$f":"populationFunnel!$K$27*O103","v":{"$error":"#DIV/0!"}},{"$f":"populationFunnel!$K$33*N103","v":{"$error":"#DIV/0!"}},{"$f":"populationFunnel!$K$33*O103","v":{"$error":"#DIV/0!"}},{"$f":"populationFunnel!$K$38*R103","v":{"$error":"#DIV/0!"}},{"$f":"populationFunnel!$K$38*S103","v":{"$error":"#DIV/0!"}}]
[21,2025,7,{"$error":"#DIV/0!"},{"$error":"#DIV/0!"},{"$error":"#DIV/0!"},{"$error":"#DIV/0!"},{"$error":"#DIV/0!"},{"$error":"#DIV/0!"},{"$error":"#DIV/0!"},{"$error":"#DIV/0!"},{"$f":"populationFunnel!$K$15*IF(_Mtech!$G$2=1,F104,CalculationSheet!H104)","v":{"$error":"#DIV/0!"}},{"$f":"populationFunnel!$K$15*IF(_Mtech!$G$2=1,I104,CalculationSheet!K104)","v":{"$error":"#DIV/0!"}},{"$f":"populationFunnel!$K$23*L104","v":{"$error":"#DIV/0!"}},{"$f":"populationFunnel!$K$23*M104","v":{"$error":"#DIV/0!"}},{"$f":"populationFunnel!$K$27*N104","v":{"$error":"#DIV/0!"}},{"$f":"populationFunnel!$K$27*O104","v":{"$error":"#DIV/0!"}},{"$f":"populationFunnel!$K$33*N104","v":{"$error":"#DIV/0!"}},{"$f":"populationFunnel!$K$33*O104","v":{"$error":"#DIV/0!"}},{"$f":"populationFunnel!$K$38*R104","v":{"$error":"#DIV/0!"}},{"$f":"populationFunnel!$K$38*S104","v":{"$error":"#DIV/0!"}}]
[22,2026,8,{"$error":"#DIV/0!"},{"$error":"#DIV/0!"},{"$error":"#DIV/0!"},{"$error":"#DIV/0!"},{"$error":"#DIV/0!"},{"$error":"#DIV/0!"},{"$error":"#DIV/0!"},{"$error":"#DIV/0!"},{"$f":"populationFunnel!$K$15*IF(_Mtech!$G$2=1,F105,CalculationSheet!H105)","v":{"$error":"#DIV/0!"}},{"$f":"populationFunnel!$K$15*IF(_Mtech!$G$2=1,I105,CalculationSheet!K105)","v":{"$error":"#DIV/0!"}},{"$f":"populationFunnel!$K$23*L105","v":{"$error":"#DIV/0!"}},{"$f":"populationFunnel!$K$23*M105","v":{"$error":"#DIV/0!"}},{"$f":"populationFunnel!$K$27*N105","v":{"$error":"#DIV/0!"}},{"$f":"populationFunnel!$K$27*O105","v":{"$error":"#DIV/0!"}},{"$f":"populationFunnel!$K$33*N105","v":{"$error":"#DIV/0!"}},{"$f":"populationFunnel!$K$33*O105","v":{"$error":"#DIV/0!"}},{"$f":"populationFunnel!$K$38*R105","v":{"$error":"#DIV/0!"}},{"$f":"populationFunnel!$K$38*S105","v":{"$error":"#DIV/0!"}}]
[23,2027,9,{"$error":"#DIV/0!"},{"$error":"#DIV/0!"},{"$error":"#DIV/0!"},{"$error":"#DIV/0!"},{"$error":"#DIV/0!"},{"$error":"#DIV/0!"},{"$error":"#DIV/0!"},{"$error":"#DIV/0!"},{"$f":"populationFunnel!$K$15*IF(_Mtech!$G$2=1,F106,CalculationSheet!H106)","v":{"$error":"#DIV/0!"}},{"$f":"populationFunnel!$K$15*IF(_Mtech!$G$2=1,I106,CalculationSheet!K106)","v":{"$error":"#DIV/0!"}},{"$f":"populationFunnel!$K$23*L106","v":{"$error":"#DIV/0!"}},{"$f":"populationFunnel!$K$23*M106","v":{"$error":"#DIV/0!"}},{"$f":"populationFunnel!$K$27*N106","v":{"$error":"#DIV/0!"}},{"$f":"populationFunnel!$K$27*O106","v":{"$error":"#DIV/0!"}},{"$f":"populationFunnel!$K$33*N106","v":{"$error":"#DIV/0!"}},{"$f":"populationFunnel!$K$33*O106","v":{"$error":"#DIV/0!"}},{"$f":"populationFunnel!$K$38*R106","v":{"$error":"#DIV/0!"}},{"$f":"populationFunnel!$K$38*S106","v":{"$error":"#DIV/0!"}}]
[24,2028,10,{"$error":"#DIV/0!"},{"$error":"#DIV/0!"},{"$error":"#DIV/0!"},{"$f":"(F107-F106)/$F$83","v":{"$error":"#DIV/0!"}},{"$f":"H106+($H$83*G107)","v":{"$error":"#DIV/0!"}},{"$error":"#DIV/0!"},{"$f":"(I107-I106)/I$83","v":{"$error":"#DIV/0!"}},{"$f":"K106+(K$83*J107)","v":{"$error":"#DIV/0!"}},{"$f":"populationFunnel!$K$15*IF(_Mtech!$G$2=1,F107,CalculationSheet!H107)","v":{"$error":"#DIV/0!"}},{"$f":"populationFunnel!$K$15*IF(_Mtech!$G$2=1,I107,CalculationSheet!K107)","v":{"$error":"#DIV/0!"}},{"$f":"populationFunnel!$K$23*L107","v":{"$error":"#DIV/0!"}},{"$f":"populationFunnel!$K$23*M107","v":{"$error":"#DIV/0!"}},{"$f":"populationFunnel!$K$27*N107","v":{"$error":"#DIV/0!"}},{"$f":"populationFunnel!$K$27*O107","v":{"$error":"#DIV/0!"}},{"$f":"populationFunnel!$K$33*N107","v":{"$error":"#DIV/0!"}},{"$f":"populationFunnel!$K$33*O107","v":{"$error":"#DIV/0!"}},{"$f":"populationFunnel!$K$38*R107","v":{"$error":"#DIV/0!"}},{"$f":"populationFunnel!$K$38*S107","v":{"$error":"#DIV/0!"}}]
[25,2029,11,{"$error":"#DIV/0!"},{"$error":"#DIV/0!"},{"$error":"#DIV/0!"},{"$error":"#DIV/0!"},{"$error":"#DIV/0!"},{"$error":"#DIV/0!"},{"$error":"#DIV/0!"},{"$error":"#DIV/0!"},{"$f":"populationFunnel!$K$15*IF(_Mtech!$G$2=1,F108,CalculationSheet!H108)","v":{"$error":"#DIV/0!"}},{"$f":"populationFunnel!$K$15*IF(_Mtech!$G$2=1,I108,CalculationSheet!K108)","v":{"$error":"#DIV/0!"}},{"$f":"populationFunnel!$K$23*L108","v":{"$error":"#DIV/0!"}},{"$f":"populationFunnel!$K$23*M108","v":{"$error":"#DIV/0!"}},{"$f":"populationFunnel!$K$27*N108","v":{"$error":"#DIV/0!"}},{"$f":"populationFunnel!$K$27*O108","v":{"$error":"#DIV/0!"}},{"$f":"populationFunnel!$K$33*N108","v":{"$error":"#DIV/0!"}},{"$f":"populationFunnel!$K$33*O108","v":{"$error":"#DIV/0!"}},{"$f":"populationFunnel!$K$38*R108","v":{"$error":"#DIV/0!"}},{"$f":"populationFunnel!$K$38*S108","v":{"$error":"#DIV/0!"}}]
[26,2030,12,{"$error":"#DIV/0!"},{"$error":"#DIV/0!"},{"$error":"#DIV/0!"},{"$error":"#DIV/0!"},{"$error":"#DIV/0!"},{"$error":"#DIV/0!"},{"$error":"#DIV/0!"},{"$error":"#DIV/0!"},{"$f":"populationFunnel!$K$15*IF(_Mtech!$G$2=1,F109,CalculationSheet!H109)","v":{"$error":"#DIV/0!"}},{"$f":"populationFunnel!$K$15*IF(_Mtech!$G$2=1,I109,CalculationSheet!K109)","v":{"$error":"#DIV/0!"}},{"$f":"populationFunnel!$K$23*L109","v":{"$error":"#DIV/0!"}},{"$f":"populationFunnel!$K$23*M109","v":{"$error":"#DIV/0!"}},{"$f":"populationFunnel!$K$27*N109","v":{"$error":"#DIV/0!"}},{"$f":"populationFunnel!$K$27*O109","v":{"$error":"#DIV/0!"}},{"$f":"populationFunnel!$K$33*N109","v":{"$error":"#DIV/0!"}},{"$f":"populationFunnel!$K$33*O109","v":{"$error":"#DIV/0!"}},{"$f":"populationFunnel!$K$38*R109","v":{"$error":"#DIV/0!"}},{"$f":"populationFunnel!$K$38*S109","v":{"$error":"#DIV/0!"}}]
[27,2031,13,{"$error":"#DIV/0!"},{"$error":"#DIV/0!"},{"$error":"#DIV/0!"},{"$error":"#DIV/0!"},{"$error":"#DIV/0!"},{"$error":"#DIV/0!"},{"$error":"#DIV/0!"},{"$error":"#DIV/0!"},{"$f":"populationFunnel!$K$15*IF(_Mtech!$G$2=1,F110,CalculationSheet!H110)","v":{"$error":"#DIV/0!"}},{"$f":"populationFunnel!$K$15*IF(_Mtech!$G$2=1,I110,CalculationSheet!K110)","v":{"$error":"#DIV/0!"}},{"$f":"populationFunnel!$K$23*L110","v":{"$error":"#DIV/0!"}},{"$f":"populationFunnel!$K$23*M110","v":{"$error":"#DIV/0!"}},{"$f":"populationFunnel!$K$27*N110","v":{"$error":"#DIV/0!"}},{"$f":"populationFunnel!$K$27*O110","v":{"$error":"#DIV/0!"}},{"$f":"populationFunnel!$K$33*N110","v":{"$error":"#DIV/0!"}},{"$f":"populationFunnel!$K$33*O110","v":{"$error":"#DIV/0!"}},{"$f":"populationFunnel!$K$38*R110","v":{"$error":"#DIV/0!"}},{"$f":"populationFunnel!$K$38*S110","v":{"$error":"#DIV/0!"}}]
[28,null,14]
[null,null,"Linear",null,null,"Log",null,null,"Linear",null,null,"Log",null,null,"Linear ","Log","Linear ","Log","Linear ","Log","Linear ","Log","Linear ","Log"]
[null,null,"List size",null,null,"List size",null,null,"Register Size",null,null,"Register size",null,null,"QoF Corrected register size",null,"Eligible",null,"Referred",null,"Uptake",null,"Completion"]
["Year ","x","y","%change from last observed","y'","y","% change from last observe","y'","y","%change from last observed","y'","y","% change from last observe","y'"]
[2005,1,{"$f":"(B115*$B$69)+$C$69","v":{"$error":"#DIV/0!"}},null,{"$f":"E117-($E$133*D115)","v":{"$error":"#DIV/0!"}},{"$f":"$B$71*LN(B115)+$C$71","v":{"$error":"#DIV/0!"}},null,{"$f":"H116+($H$133*G145)","v":{"$error":"#DIV/0!"}},{"$f":"(B115*$B$74)+$C$74","v":{"$error":"#DIV/0!"}},null,{"$f":"K116-($K$133*J116)","v":{"$error":"#DIV/0!"}},{"$f":"$B$76*LN(B115)+$C$76","v":{"$error":"#DIV/0!"}},null,{"$f":"N116-($N$133*M116)","v":{"$error":"#DIV/0!"}},{"$f":"IF(_Mtech!$G$2=1,CalculationSheet!I115,CalculationSheet!K115)*populationFunnel!$K$15","v":{"$error":"#DIV/0!"}},{"$f":"IF(_Mtech!$G$2=1,L115,N115)*populationFunnel!$K$15","v":{"$error":"#DIV/0!"}},{"$f":"O115*populationFunnel!$K$23","v":{"$error":"#DIV/0!"}},{"$f":"P115*populationFunnel!$K$23","v":{"$error":"#DIV/0!"}},{"$f":"Q115*populationFunnel!$K$27","v":{"$error":"#DIV/0!"}},{"$f":"R115*populationFunnel!$K$27","v":{"$error":"#DIV/0!"}},{"$f":"S115*populationFunnel!$K$33","v":{"$error":"#DIV/0!"}},{"$f":"T115*populationFunnel!$K$33","v":{"$error":"#DIV/0!"}},{"$f":"U115*populationFunnel!$K$38","v":{"$error":"#DIV/0!"}},{"$f":"V115*populationFunnel!$K$38","v":{"$error":"#DIV/0!"}}]
[2006,2,{"$f":"(B116*$B$69)+$C$69","v":{"$error":"#DIV/0!"}},{"$f":"(C116-C115)/C$132","v":{"$error":"#DIV/0!"}},{"$error":"#DIV/0!"},{"$f":"$B$71*LN(B116)+$C$71","v":{"$error":"#DIV/0!"}},null,{"$f":"H117+($H$133*G117)","v":{"$error":"#DIV/0!"}},{"$error":"#DIV/0!"},{"$f":"(I116-I115)/$I$132","v":{"$error":"#DIV/0!"}},{"$error":"#DIV/0!"},{"$f":"$B$76*LN(B116)+$C$76","v":{"$error":"#DIV/0!"}},{"$f":"(L116-L115)/$L$132","v":{"$error":"#DIV/0!"}},{"$error":"#DIV/0!"},{"$f":"IF(_Mtech!$G$2=1,CalculationSheet!I116,CalculationSheet!K116)*populationFunnel!$K$15","v":{"$error":"#DIV/0!"}},{"$f":"IF(_Mtech!$G$2=1,L116,N116)*populationFunnel!$K$15","v":{"$error":"#DIV/0!"}},{"$f":"O116*populationFunnel!$K$23","v":{"$error":"#DIV/0!"}},{"$f":"P116*populationFunnel!$K$23","v":{"$error":"#DIV/0!"}},{"$f":"Q116*populationFunnel!$K$27","v":{"$error":"#DIV/0!"}},{"$f":"R116*populationFunnel!$K$27","v":{"$error":"#DIV/0!"}},{"$f":"S116*populationFunnel!$K$33","v":{"$error":"#DIV/0!"}},{"$f":"T116*populationFunnel!$K$33","v":{"$error":"#DIV/0!"}},{"$f":"U116*populationFunnel!$K$38","v":{"$error":"#DIV/0!"}},{"$f":"V116*populationFunnel!$K$38","v":{"$error":"#DIV/0!"}}]
[2007,3,{"$error":"#DIV/0!"},{"$f":"(C117-C116)/$C$132","v":{"$error":"#DIV/0!"}},{"$error":"#DIV/0!"},{"$error":"#DIV/0!"},{"$f":"(F117-F116)/F$132","v":{"$error":"#DIV/0!"}},{"$error":"#DIV/0!"},{"$error":"#DIV/0!"},{"$error":"#DIV/0!"},{"$error":"#DIV/0!"},{"$error":"#DIV/0!"},{"$error":"#DIV/0!"},{"$error":"#DIV/0!"},{"$f":"IF(_Mtech!$G$2=1,CalculationSheet!I117,CalculationSheet!K117)*populationFunnel!$K$15","v":{"$error":"#DIV/0!"}},{"$f":"IF(_Mtech!$G$2=1,L117,N117)*populationFunnel!$K$15","v":{"$error":"#DIV/0!"}},{"$f":"O117*populationFunnel!$K$23","v":{"$error":"#DIV/0!"}},{"$f":"P117*populationFunnel!$K$23","v":{"$error":"#DIV/0!"}},{"$f":"Q117*populationFunnel!$K$27","v":{"$error":"#DIV/0!"}},{"$f":"R117*populationFunnel!$K$27","v":{"$error":"#DIV/0!"}},{"$f":"S117*populationFunnel!$K$33","v":{"$error":"#DIV/0!"}},{"$f":"T117*populationFunnel!$K$33","v":{"$error":"#DIV/0!"}},{"$f":"U117*populationFunnel!$K$38","v":{"$error":"#DIV/0!"}},{"$f":"V117*populationFunnel!$K$38","v":{"$error":"#DIV/0!"}}]
[2008,4,{"$error":"#DIV/0!"},{"$error":"#DIV/0!"},{"$error":"#DIV/0!"},{"$error":"#DIV/0!"},{"$f":"(F118-F117)/F$132","v":{"$error":"#DIV/0!"}},{"$error":"#DIV/0!"},{"$error":"#DIV/0!"},{"$error":"#DIV/0!"},{"$error":"#DIV/0!"},{"$error":"#DIV/0!"},{"$error":"#DIV/0!"},{"$error":"#DIV/0!"},{"$f":"IF(_Mtech!$G$2=1,CalculationSheet!I118,CalculationSheet!K118)*populationFunnel!$K$15","v":{"$error":"#DIV/0!"}},{"$f":"IF(_Mtech!$G$2=1,L118,N118)*populationFunnel!$K$15","v":{"$error":"#DIV/0!"}},{"$f":"O118*populationFunnel!$K$23","v":{"$error":"#DIV/0!"}},{"$f":"P118*populationFunnel!$K$23","v":{"$error":"#DIV/0!"}},{"$f":"Q118*populationFunnel!$K$27","v":{"$error":"#DIV/0!"}},{"$f":"R118*populationFunnel!$K$27","v":{"$error":"#DIV/0!"}},{"$f":"S118*populationFunnel!$K$33","v":{"$error":"#DIV/0!"}},{"$f":"T118*populationFunnel!$K$33","v":{"$error":"#DIV/0!"}},{"$f":"U118*populationFunnel!$K$38","v":{"$error":"#DIV/0!"}},{"$f":"V118*populationFunnel!$K$38","v":{"$error":"#DIV/0!"}}]
[2009,5,{"$error":"#DIV/0!"},{"$error":"#DIV/0!"},{"$error":"#DIV/0!"},{"$error":"#DIV/0!"},{"$error":"#DIV/0!"},{"$error":"#DIV/0!"},{"$error":"#DIV/0!"},{"$error":"#DIV/0!"},{"$error":"#DIV/0!"},{"$error":"#DIV/0!"},{"$error":"#DIV/0!"},{"$error":"#DIV/0!"},{"$f":"IF(_Mtech!$G$2=1,CalculationSheet!I119,CalculationSheet!K119)*populationFunnel!$K$15","v":{"$error":"#DIV/0!"}},{"$f":"IF(_Mtech!$G$2=1,L119,N119)*populationFunnel!$K$15","v":{"$error":"#DIV/0!"}},{"$f":"O119*populationFunnel!$K$23","v":{"$error":"#DIV/0!"}},{"$f":"P119*populationFunnel!$K$23","v":{"$error":"#DIV/0!"}},{"$f":"Q119*populationFunnel!$K$27","v":{"$error":"#DIV/0!"}},{"$f":"R119*populationFunnel!$K$27","v":{"$error":"#DIV/0!"}},{"$f":"S119*populationFunnel!$K$33","v":{"$error":"#DIV/0!"}},{"$f":"T119*populationFunnel!$K$33","v":{"$error":"#DIV/0!"}},{"$f":"U119*populationFunnel!$K$38","v":{"$error":"#DIV/0!"}},{"$f":"V119*populationFunnel!$K$38","v":{"$error":"#DIV/0!"}}]
[2010,6,{"$error":"#DIV/0!"},{"$error":"#DIV/0!"},{"$error":"#DIV/0!"},{"$error":"#DIV/0!"},{"$error":"#DIV/0!"},{"$error":"#DIV/0!"},{"$error":"#DIV/0!"},{"$error":"#DIV/0!"},{"$error":"#DIV/0!"},{"$error":"#DIV/0!"},{"$error":"#DIV/0!"},{"$error":"#DIV/0!"},{"$f":"IF(_Mtech!$G$2=1,CalculationSheet!I120,CalculationSheet!K120)*populationFunnel!$K$15","v":{"$error":"#DIV/0!"}},{"$f":"IF(_Mtech!$G$2=1,L120,N120)*populationFunnel!$K$15","v":{"$error":"#DIV/0!"}},{"$f":"O120*populationFunnel!$K$23","v":{"$error":"#DIV/0!"}},{"$f":"P120*populationFunnel!$K$23","v":{"$error":"#DIV/0!"}},{"$f":"Q120*populationFunnel!$K$27","v":{"$error":"#DIV/0!"}},{"$f":"R120*populationFunnel!$K$27","v":{"$error":"#DIV/0!"}},{"$f":"S120*populationFunnel!$K$33","v":{"$error":"#DIV/0!"}},{"$f":"T120*populationFunnel!$K$33","v":{"$error":"#DIV/0!"}},{"$f":"U120*populationFunnel!$K$38","v":{"$error":"#DIV/0!"}},{"$f":"V120*populationFunnel!$K$38","v":{"$error":"#DIV/0!"}}]
[2011,7,{"$error":"#DIV/0!"},{"$error":"#DIV/0!"},{"$error":"#DIV/0!"},{"$error":"#DIV/0!"},{"$error":"#DIV/0!"},{"$error":"#DIV/0!"},{"$error":"#DIV/0!"},{"$error":"#DIV/0!"},{"$error":"#DIV/0!"},{"$error":"#DIV/0!"},{"$error":"#DIV/0!"},{"$error":"#DIV/0!"},{"$f":"IF(_Mtech!$G$2=1,CalculationSheet!I121,CalculationSheet!K121)*populationFunnel!$K$15","v":{"$error":"#DIV/0!"}},{"$f":"IF(_Mtech!$G$2=1,L121,N121)*populationFunnel!$K$15","v":{"$error":"#DIV/0!"}},{"$f":"O121*populationFunnel!$K$23","v":{"$error":"#DIV/0!"}},{"$f":"P121*populationFunnel!$K$23","v":{"$error":"#DIV/0!"}},{"$f":"Q121*populationFunnel!$K$27","v":{"$error":"#DIV/0!"}},{"$f":"R121*populationFunnel!$K$27","v":{"$error":"#DIV/0!"}},{"$f":"S121*populationFunnel!$K$33","v":{"$error":"#DIV/0!"}},{"$f":"T121*populationFunnel!$K$33","v":{"$error":"#DIV/0!"}},{"$f":"U121*populationFunnel!$K$38","v":{"$error":"#DIV/0!"}},{"$f":"V121*populationFunnel!$K$38","v":{"$error":"#DIV/0!"}}]
[2012,8,{"$error":"#DIV/0!"},{"$error":"#DIV/0!"},{"$error":"#DIV/0!"},{"$error":"#DIV/0!"},{"$error":"#DIV/0!"},{"$error":"#DIV/0!"},{"$error":"#DIV/0!"},{"$error":"#DIV/0!"},{"$error":"#DIV/0!"},{"$error":"#DIV/0!"},{"$error":"#DIV/0!"},{"$error":"#DIV/0!"},{"$f":"IF(_Mtech!$G$2=1,CalculationSheet!I122,CalculationSheet!K122)*populationFunnel!$K$15","v":{"$error":"#DIV/0!"}},{"$f":"IF(_Mtech!$G$2=1,L122,N122)*populationFunnel!$K$15","v":{"$error":"#DIV/0!"}},{"$f":"O122*populationFunnel!$K$23","v":{"$error":"#DIV/0!"}},{"$f":"P122*populationFunnel!$K$23","v":{"$error":"#DIV/0!"}},{"$f":"Q122*populationFunnel!$K$27","v":{"$error":"#DIV/0!"}},{"$f":"R122*populationFunnel!$K$27","v":{"$error":"#DIV/0!"}},{"$f":"S122*populationFunnel!$K$33","v":{"$error":"#DIV/0!"}},{"$f":"T122*populationFunnel!$K$33","v":{"$error":"#DIV/0!"}},{"$f":"U122*populationFunnel!$K$38","v":{"$error":"#DIV/0!"}},{"$f":"V122*populationFunnel!$K$38","v":{"$error":"#DIV/0!"}}]
[2013,9,{"$error":"#DIV/0!"},{"$error":"#DIV/0!"},{"$error":"#DIV/0!"},{"$error":"#DIV/0!"},{"$error":"#DIV/0!"},{"$error":"#DIV/0!"},{"$error":"#DIV/0!"},{"$error":"#DIV/0!"},{"$error":"#DIV/0!"},{"$error":"#DIV/0!"},{"$error":"#DIV/0!"},{"$error":"#DIV/0!"},{"$f":"IF(_Mtech!$G$2=1,CalculationSheet!I123,CalculationSheet!K123)*populationFunnel!$K$15","v":{"$error":"#DIV/0!"}},{"$f":"IF(_Mtech!$G$2=1,L123,N123)*populationFunnel!$K$15","v":{"$error":"#DIV/0!"}},{"$f":"O123*populationFunnel!$K$23","v":{"$error":"#DIV/0!"}},{"$f":"P123*populationFunnel!$K$23","v":{"$error":"#DIV/0!"}},{"$f":"Q123*populationFunnel!$K$27","v":{"$error":"#DIV/0!"}},{"$f":"R123*populationFunnel!$K$27","v":{"$error":"#DIV/0!"}},{"$f":"S123*populationFunnel!$K$33","v":{"$error":"#DIV/0!"}},{"$f":"T123*populationFunnel!$K$33","v":{"$error":"#DIV/0!"}},{"$f":"U123*populationFunnel!$K$38","v":{"$error":"#DIV/0!"}},{"$f":"V123*populationFunnel!$K$38","v":{"$error":"#DIV/0!"}}]
[2014,10,{"$error":"#DIV/0!"},{"$error":"#DIV/0!"},{"$error":"#DIV/0!"},{"$error":"#DIV/0!"},{"$error":"#DIV/0!"},{"$error":"#DIV/0!"},{"$error":"#DIV/0!"},{"$error":"#DIV/0!"},{"$error":"#DIV/0!"},{"$error":"#DIV/0!"},{"$error":"#DIV/0!"},{"$error":"#DIV/0!"},{"$f":"IF(_Mtech!$G$2=1,CalculationSheet!I124,CalculationSheet!K124)*populationFunnel!$K$15","v":{"$error":"#DIV/0!"}},{"$f":"IF(_Mtech!$G$2=1,L124,N124)*populationFunnel!$K$15","v":{"$error":"#DIV/0!"}},{"$f":"O124*populationFunnel!$K$23","v":{"$error":"#DIV/0!"}},{"$f":"P124*populationFunnel!$K$23","v":{"$error":"#DIV/0!"}},{"$f":"Q124*populationFunnel!$K$27","v":{"$error":"#DIV/0!"}},{"$f":"R124*populationFunnel!$K$27","v":{"$error":"#DIV/0!"}},{"$f":"S124*populationFunnel!$K$33","v":{"$error":"#DIV/0!"}},{"$f":"T124*populationFunnel!$K$33","v":{"$error":"#DIV/0!"}},{"$f":"U124*populationFunnel!$K$38","v":{"$error":"#DIV/0!"}},{"$f":"V124*populationFunnel!$K$38","v":{"$error":"#DIV/0!"}}]
[2015,11,{"$error":"#DIV/0!"},{"$error":"#DIV/0!"},{"$error":"#DIV/0!"},{"$error":"#DIV/0!"},{"$error":"#DIV/0!"},{"$error":"#DIV/0!"},{"$error":"#DIV/0!"},{"$error":"#DIV/0!"},{"$error":"#DIV/0!"},{"$error":"#DIV/0!"},{"$error":"#DIV/0!"},{"$error":"#DIV/0!"},{"$f":"IF(_Mtech!$G$2=1,CalculationSheet!I125,CalculationSheet!K125)*populationFunnel!$K$15","v":{"$error":"#DIV/0!"}},{"$f":"IF(_Mtech!$G$2=1,L125,N125)*populationFunnel!$K$15","v":{"$error":"#DIV/0!"}},{"$f":"O125*populationFunnel!$K$23","v":{"$error":"#DIV/0!"}},{"$f":"P125*populationFunnel!$K$23","v":{"$error":"#DIV/0!"}},{"$f":"Q125*populationFunnel!$K$27","v":{"$error":"#DIV/0!"}},{"$f":"R125*populationFunnel!$K$27","v":{"$error":"#DIV/0!"}},{"$f":"S125*populationFunnel!$K$33","v":{"$error":"#DIV/0!"}},{"$f":"T125*populationFunnel!$K$33","v":{"$error":"#DIV/0!"}},{"$f":"U125*populationFunnel!$K$38","v":{"$error":"#DIV/0!"}},{"$f":"V125*populationFunnel!$K$38","v":{"$error":"#DIV/0!"}}]
[2016,12,{"$error":"#DIV/0!"},{"$error":"#DIV/0!"},{"$error":"#DIV/0!"},{"$error":"#DIV/0!"},{"$error":"#DIV/0!"},{"$error":"#DIV/0!"},{"$error":"#DIV/0!"},{"$error":"#DIV/0!"},{"$error":"#DIV/0!"},{"$error":"#DIV/0!"},{"$error":"#DIV/0!"},{"$error":"#DIV/0!"},{"$f":"IF(_Mtech!$G$2=1,CalculationSheet!I126,CalculationSheet!K126)*populationFunnel!$K$15","v":{"$error":"#DIV/0!"}},{"$f":"IF(_Mtech!$G$2=1,L126,N126)*populationFunnel!$K$15","v":{"$error":"#DIV/0!"}},{"$f":"O126*populationFunnel!$K$23","v":{"$error":"#DIV/0!"}},{"$f":"P126*populationFunnel!$K$23","v":{"$error":"#DIV/0!"}},{"$f":"Q126*populationFunnel!$K$27","v":{"$error":"#DIV/0!"}},{"$f":"R126*populationFunnel!$K$27","v":{"$error":"#DIV/0!"}},{"$f":"S126*populationFunnel!$K$33","v":{"$error":"#DIV/0!"}},{"$f":"T126*populationFunnel!$K$33","v":{"$error":"#DIV/0!"}},{"$f":"U126*populationFunnel!$K$38","v":{"$error":"#DIV/0!"}},{"$f":"V126*populationFunnel!$K$38","v":{"$error":"#DIV/0!"}}]
[2017,13,{"$error":"#DIV/0!"},{"$error":"#DIV/0!"},{"$error":"#DIV/0!"},{"$error":"#DIV/0!"},{"$error":"#DIV/0!"},{"$error":"#DIV/0!"},{"$error":"#DIV/0!"},{"$error":"#DIV/0!"},{"$error":"#DIV/0!"},{"$error":"#DIV/0!"},{"$error":"#DIV/0!"},{"$error":"#DIV/0!"},{"$f":"IF(_Mtech!$G$2=1,CalculationSheet!I127,CalculationSheet!K127)*populationFunnel!$K$15","v":{"$error":"#DIV/0!"}},{"$f":"IF(_Mtech!$G$2=1,L127,N127)*populationFunnel!$K$15","v":{"$error":"#DIV/0!"}},{"$f":"O127*populationFunnel!$K$23","v":{"$error":"#DIV/0!"}},{"$f":"P127*populationFunnel!$K$23","v":{"$error":"#DIV/0!"}},{"$f":"Q127*populationFunnel!$K$27","v":{"$error":"#DIV/0!"}},{"$f":"R127*populationFunnel!$K$27","v":{"$error":"#DIV/0!"}},{"$f":"S127*populationFunnel!$K$33","v":{"$error":"#DIV/0!"}},{"$f":"T127*populationFunnel!$K$33","v":{"$error":"#DIV/0!"}},{"$f":"U127*populationFunnel!$K$38","v":{"$error":"#DIV/0!"}},{"$f":"V127*populationFunnel!$K$38","v":{"$error":"#DIV/0!"}}]
[2018,14,{"$error":"#DIV/0!"},{"$error":"#DIV/0!"},{"$error":"#DIV/0!"},{"$error":"#DIV/0!"},{"$error":"#DIV/0!"},{"$error":"#DIV/0!"},{"$error":"#DIV/0!"},{"$error":"#DIV/0!"},{"$error":"#DIV/0!"},{"$error":"#DIV/0!"},{"$error":"#DIV/0!"},{"$error":"#DIV/0!"},{"$f":"IF(_Mtech!$G$2=1,CalculationSheet!I128,CalculationSheet!K128)*populationFunnel!$K$15","v":{"$error":"#DIV/0!"}},{"$f":"IF(_Mtech!$G$2=1,L128,N128)*populationFunnel!$K$15","v":{"$error":"#DIV/0!"}},{"$f":"O128*populationFunnel!$K$23","v":{"$error":"#DIV/0!"}},{"$f":"P128*populationFunnel!$K$23","v":{"$error":"#DIV/0!"}},{"$f":"Q128*populationFunnel!$K$27","v":{"$error":"#DIV/0!"}},{"$f":"R128*populationFunnel!$K$27","v":{"$error":"#DIV/0!"}},{"$f":"S128*populationFunnel!$K$33","v":{"$error":"#DIV/0!"}},{"$f":"T128*populationFunnel!$K$33","v":{"$error":"#DIV/0!"}},{"$f":"U128*populationFunnel!$K$38","v":{"$error":"#DIV/0!"}},{"$f":"V128*populationFunnel!$K$38","v":{"$error":"#DIV/0!"}}]
[2019,15,{"$error":"#DIV/0!"},{"$error":"#DIV/0!"},{"$error":"#DIV/0!"},{"$error":"#DIV/0!"},{"$error":"#DIV/0!"},{"$error":"#DIV/0!"},{"$error":"#DIV/0!"},{"$error":"#DIV/0!"},{"$error":"#DIV/0!"},{"$error":"#DIV/0!"},{"$error":"#DIV/0!"},{"$error":"#DIV/0!"},{"$f":"IF(_Mtech!$G$2=1,CalculationSheet!I129,CalculationSheet!K129)*populationFunnel!$K$15","v":{"$error":"#DIV/0!"}},{"$f":"IF(_Mtech!$G$2=1,L129,N129)*populationFunnel!$K$15","v":{"$error":"#DIV/0!"}},{"$f":"O129*populationFunnel!$K$23","v":{"$error":"#DIV/0!"}},{"$f":"P129*populationFunnel!$K$23","v":{"$error":"#DIV/0!"}},{"$f":"Q129*populationFunnel!$K$27","v":{"$error":"#DIV/0!"}},{"$f":"R129*populationFunnel!$K$27","v":{"$error":"#DIV/0!"}},{"$f":"S129*populationFunnel!$K$33","v":{"$error":"#DIV/0!"}},{"$f":"T129*populationFunnel!$K$33","v":{"$error":"#DIV/0!"}},{"$f":"U129*populationFunnel!$K$38","v":{"$error":"#DIV/0!"}},{"$f":"V129*populationFunnel!$K$38","v":{"$error":"#DIV/0!"}}]
[2020,16,{"$error":"#DIV/0!"},{"$error":"#DIV/0!"},{"$error":"#DIV/0!"},{"$error":"#DIV/0!"},{"$error":"#DIV/0!"},{"$error":"#DIV/0!"},{"$error":"#DIV/0!"},{"$error":"#DIV/0!"},{"$error":"#DIV/0!"},{"$error":"#DIV/0!"},{"$error":"#DIV/0!"},{"$error":"#DIV/0!"},{"$f":"IF(_Mtech!$G$2=1,CalculationSheet!I130,CalculationSheet!K130)*populationFunnel!$K$15","v":{"$error":"#DIV/0!"}},{"$f":"IF(_Mtech!$G$2=1,L130,N130)*populationFunnel!$K$15","v":{"$error":"#DIV/0!"}},{"$f":"O130*populationFunnel!$K$23","v":{"$error":"#DIV/0!"}},{"$f":"P130*populationFunnel!$K$23","v":{"$error":"#DIV/0!"}},{"$f":"Q130*populationFunnel!$K$27","v":{"$error":"#DIV/0!"}},{"$f":"R130*populationFunnel!$K$27","v":{"$error":"#DIV/0!"}},{"$f":"S130*populationFunnel!$K$33","v":{"$error":"#DIV/0!"}},{"$f":"T130*populationFunnel!$K$33","v":{"$error":"#DIV/0!"}},{"$f":"U130*populationFunnel!$K$38","v":{"$error":"#DIV/0!"}},{"$f":"V130*populationFunnel!$K$38","v":{"$error":"#DIV/0!"}}]
[2021,17,{"$error":"#DIV/0!"},{"$error":"#DIV/0!"},{"$f":"E133-($E$133*D131)","v":{"$error":"#DIV/0!"}},{"$error":"#DIV/0!"},{"$error":"#DIV/0!"},{"$f":"H133+($H$133*G132)","v":{"$error":"#DIV/0!"}},{"$error":"#DIV/0!"},{"$error":"#DIV/0!"},{"$f":"K133-($K$133*J132)","v":{"$error":"#DIV/0!"}},{"$error":"#DIV/0!"},{"$error":"#DIV/0!"},{"$f":"N133-($N$133*M132)","v":{"$error":"#DIV/0!"}},{"$f":"IF(_Mtech!$G$2=1,CalculationSheet!I131,CalculationSheet!K131)*populationFunnel!$K$15","v":{"$error":"#DIV/0!"}},{"$f":"IF(_Mtech!$G$2=1,L131,N131)*populationFunnel!$K$15","v":{"$error":"#DIV/0!"}},{"$f":"O131*populationFunnel!$K$23","v":{"$error":"#DIV/0!"}},{"$f":"P131*populationFunnel!$K$23","v":{"$error":"#DIV/0!"}},{"$f":"Q131*populationFunnel!$K$27","v":{"$error":"#DIV/0!"}},{"$f":"R131*populationFunnel!$K$27","v":{"$error":"#DIV/0!"}},{"$f":"S131*populationFunnel!$K$33","v":{"$error":"#DIV/0!"}},{"$f":"T131*populationFunnel!$K$33","v":{"$error":"#DIV/0!"}},{"$f":"U131*populationFunnel!$K$38","v":{"$error":"#DIV/0!"}},{"$f":"V131*populationFunnel!$K$38","v":{"$error":"#DIV/0!"}}]
[2022,18,{"$error":"#DIV/0!"},{"$error":"#DIV/0!"},{"$f":"E134-($E$133*D132)","v":{"$error":"#DIV/0!"}},{"$error":"#DIV/0!"},{"$f":"(F132-F131)/F$132","v":{"$error":"#DIV/0!"}},{"$f":"H134+($H$133*G133)","v":{"$error":"#DIV/0!"}},{"$error":"#DIV/0!"},{"$error":"#DIV/0!"},{"$f":"K134-($K$133*J133)","v":{"$error":"#DIV/0!"}},{"$error":"#DIV/0!"},{"$error":"#DIV/0!"},{"$f":"N134-($N$133*M133)","v":{"$error":"#DIV/0!"}},{"$f":"IF(_Mtech!$G$2=1,CalculationSheet!I132,CalculationSheet!K133)*populationFunnel!$K$15","v":{"$error":"#DIV/0!"}},{"$f":"IF(_Mtech!$G$2=1,L132,N133)*populationFunnel!$K$15","v":{"$error":"#DIV/0!"}},{"$f":"O132*populationFunnel!$K$23","v":{"$error":"#DIV/0!"}},{"$f":"P132*populationFunnel!$K$23","v":{"$error":"#DIV/0!"}},{"$f":"Q132*populationFunnel!$K$27","v":{"$error":"#DIV/0!"}},{"$f":"R132*populationFunnel!$K$27","v":{"$error":"#DIV/0!"}},{"$f":"S132*populationFunnel!$K$33","v":{"$error":"#DIV/0!"}},{"$f":"T132*populationFunnel!$K$33","v":{"$error":"#DIV/0!"}},{"$f":"U132*populationFunnel!$K$38","v":{"$error":"#DIV/0!"}},{"$f":"V132*populationFunnel!$K$38","v":{"$error":"#DIV/0!"}}]
[2023,19,{"$f":"(B133*$B$69)+$C$69","v":{"$error":"#DIV/0!"}},{"$error":"#DIV/0!"},{"$f":"populationFunnel!K10","v":1000},{"$error":"#DIV/0!"},{"$error":"#DIV/0!"},{"$f":"populationFunnel!K10","v":1000},{"$error":"#DIV/0!"},{"$error":"#DIV/0!"},{"$f":"populationFunnel!K11","v":500},{"$error":"#DIV/0!"},{"$error":"#DIV/0!"},{"$f":"populationFunnel!K11","v":500},{"$f":"IF(_Mtech!$G$2=1,CalculationSheet!I133,CalculationSheet!#REF!)*populationFunnel!$K$15","v":{"$error":"#DIV/0!"}},{"$f":"IF(_Mtech!$G$2=1,L133,#REF!)*populationFunnel!$K$15","v":{"$error":"#DIV/0!"}},{"$f":"O133*populationFunnel!$K$23","v":{"$error":"#DIV/0!"}},{"$f":"P133*populationFunnel!$K$23","v":{"$error":"#DIV/0!"}},{"$f":"Q133*populationFunnel!$K$27","v":{"$error":"#DIV/0!"}},{"$f":"R133*populationFunnel!$K$27","v":{"$error":"#DIV/0!"}},{"$f":"S133*populationFunnel!$K$33","v":{"$error":"#DIV/0!"}},{"$f":"T133*populationFunnel!$K$33","v":{"$error":"#DIV/0!"}},{"$f":"U133*populationFunnel!$K$38","v":{"$error":"#DIV/0!"}},{"$f":"V133*populationFunnel!$K$38","v":{"$error":"#DIV/0!"}}]
[2024,20,{"$error":"#DIV/0!"},{"$error":"#DIV/0!"},{"$f":"E133+($E$133*D134)","v":{"$error":"#DIV/0!"}},{"$error":"#DIV/0!"},{"$error":"#DIV/0!"},{"$f":"H133+($H$133*G134)","v":{"$error":"#DIV/0!"}},{"$error":"#DIV/0!"},{"$error":"#DIV/0!"},{"$f":"K133+($K$133*J134)","v":{"$error":"#DIV/0!"}},{"$error":"#DIV/0!"},{"$error":"#DIV/0!"},{"$f":"N133+($N$133*M134)","v":{"$error":"#DIV/0!"}},{"$f":"IF(_Mtech!$G$2=1,CalculationSheet!I134,CalculationSheet!K134)*populationFunnel!$K$15","v":{"$error":"#DIV/0!"}},{"$f":"IF(_Mtech!$G$2=1,L134,N134)*populationFunnel!$K$15","v":{"$error":"#DIV/0!"}},{"$f":"O134*populationFunnel!$K$23","v":{"$error":"#DIV/0!"}},{"$f":"P134*populationFunnel!$K$23","v":{"$error":"#DIV/0!"}},{"$f":"Q134*populationFunnel!$K$27","v":{"$error":"#DIV/0!"}},{"$f":"R134*populationFunnel!$K$27","v":{"$error":"#DIV/0!"}},{"$f":"S134*populationFunnel!$K$33","v":{"$error":"#DIV/0!"}},{"$f":"T134*populationFunnel!$K$33","v":{"$error":"#DIV/0!"}},{"$f":"U134*populationFunnel!$K$38","v":{"$error":"#DIV/0!"}},{"$f":"V134*populationFunnel!$K$38","v":{"$error":"#DIV/0!"}}]
[2025,21,{"$error":"#DIV/0!"},{"$error":"#DIV/0!"},{"$f":"E134+($E$133*D135)","v":{"$error":"#DIV/0!"}},{"$error":"#DIV/0!"},{"$error":"#DIV/0!"},{"$error":"#DIV/0!"},{"$error":"#DIV/0!"},{"$error":"#DIV/0!"},{"$error":"#DIV/0!"},{"$error":"#DIV/0!"},{"$error":"#DIV/0!"},{"$error":"#DIV/0!"},{"$f":"IF(_Mtech!$G$2=1,CalculationSheet!I135,CalculationSheet!K135)*populationFunnel!$K$15","v":{"$error":"#DIV/0!"}},{"$f":"IF(_Mtech!$G$2=1,L135,N135)*populationFunnel!$K$15","v":{"$error":"#DIV/0!"}},{"$f":"O135*populationFunnel!$K$23","v":{"$error":"#DIV/0!"}},{"$f":"P135*populationFunnel!$K$23","v":{"$error":"#DIV/0!"}},{"$f":"Q135*populationFunnel!$K$27","v":{"$error":"#DIV/0!"}},{"$f":"R135*populationFunnel!$K$27","v":{"$error":"#DIV/0!"}},{"$f":"S135*populationFunnel!$K$33","v":{"$error":"#DIV/0!"}},{"$f":"T135*populationFunnel!$K$33","v":{"$error":"#DIV/0!"}},{"$f":"U135*populationFunnel!$K$38","v":{"$error":"#DIV/0!"}},{"$f":"V135*populationFunnel!$K$38","v":{"$error":"#DIV/0!"}}]
[2026,22,{"$error":"#DIV/0!"},{"$error":"#DIV/0!"},{"$error":"#DIV/0!"},{"$error":"#DIV/0!"},{"$error":"#DIV/0!"},{"$error":"#DIV/0!"},{"$error":"#DIV/0!"},{"$error":"#DIV/0!"},{"$error":"#DIV/0!"},{"$error":"#DIV/0!"},{"$error":"#DIV/0!"},{"$error":"#DIV/0!"},{"$f":"IF(_Mtech!$G$2=1,CalculationSheet!I136,CalculationSheet!K136)*populationFunnel!$K$15","v":{"$error":"#DIV/0!"}},{"$f":"IF(_Mtech!$G$2=1,L136,N136)*populationFunnel!$K$15","v":{"$error":"#DIV/0!"}},{"$f":"O136*populationFunnel!$K$23","v":{"$error":"#DIV/0!"}},{"$f":"P136*populationFunnel!$K$23","v":{"$error":"#DIV/0!"}},{"$f":"Q136*populationFunnel!$K$27","v":{"$error":"#DIV/0!"}},{"$f":"R136*populationFunnel!$K$27","v":{"$error":"#DIV/0!"}},{"$f":"S136*populationFunnel!$K$33","v":{"$error":"#DIV/0!"}},{"$f":"T136*populationFunnel!$K$33","v":{"$error":"#DIV/0!"}},{"$f":"U136*populationFunnel!$K$38","v":{"$error":"#DIV/0!"}},{"$f":"V136*populationFunnel!$K$38","v":{"$error":"#DIV/0!"}}]
[2027,23,{"$error":"#DIV/0!"},{"$error":"#DIV/0!"},{"$error":"#DIV/0!"},{"$error":"#DIV/0!"},{"$error":"#DIV/0!"},{"$error":"#DIV/0!"},{"$error":"#DIV/0!"},{"$error":"#DIV/0!"},{"$error":"#DIV/0!"},{"$error":"#DIV/0!"},{"$error":"#DIV/0!"},{"$error":"#DIV/0!"},{"$f":"IF(_Mtech!$G$2=1,CalculationSheet!I137,CalculationSheet!K137)*populationFunnel!$K$15","v":{"$error":"#DIV/0!"}},{"$f":"IF(_Mtech!$G$2=1,L137,N137)*populationFunnel!$K$15","v":{"$error":"#DIV/0!"}},{"$f":"O137*populationFunnel!$K$23","v":{"$error":"#DIV/0!"}},{"$f":"P137*populationFunnel!$K$23","v":{"$error":"#DIV/0!"}},{"$f":"Q137*populationFunnel!$K$27","v":{"$error":"#DIV/0!"}},{"$f":"R137*populationFunnel!$K$27","v":{"$error":"#DIV/0!"}},{"$f":"S137*populationFunnel!$K$33","v":{"$error":"#DIV/0!"}},{"$f":"T137*populationFunnel!$K$33","v":{"$error":"#DIV/0!"}},{"$f":"U137*populationFunnel!$K$38","v":{"$error":"#DIV/0!"}},{"$f":"V137*populationFunnel!$K$38","v":{"$error":"#DIV/0!"}}]
[2028,24,{"$error":"#DIV/0!"},{"$error":"#DIV/0!"},{"$error":"#DIV/0!"},{"$error":"#DIV/0!"},{"$error":"#DIV/0!"},{"$error":"#DIV/0!"},{"$error":"#DIV/0!"},{"$error":"#DIV/0!"},{"$error":"#DIV/0!"},{"$error":"#DIV/0!"},{"$error":"#DIV/0!"},{"$error":"#DIV/0!"},{"$f":"IF(_Mtech!$G$2=1,CalculationSheet!I138,CalculationSheet!K138)*populationFunnel!$K$15","v":{"$error":"#DIV/0!"}},{"$f":"IF(_Mtech!$G$2=1,L138,N138)*populationFunnel!$K$15","v":{"$error":"#DIV/0!"}},{"$f":"O138*populationFunnel!$K$23","v":{"$error":"#DIV/0!"}},{"$f":"P138*populationFunnel!$K$23","v":{"$error":"#DIV/0!"}},{"$f":"Q138*populationFunnel!$K$27","v":{"$error":"#DIV/0!"}},{"$f":"R138*populationFunnel!$K$27","v":{"$error":"#DIV/0!"}},{"$f":"S138*populationFunnel!$K$33","v":{"$error":"#DIV/0!"}},{"$f":"T138*populationFunnel!$K$33","v":{"$error":"#DIV/0!"}},{"$f":"U138*populationFunnel!$K$38","v":{"$error":"#DIV/0!"}},{"$f":"V138*populationFunnel!$K$38","v":{"$error":"#DIV/0!"}}]
[2029,25,{"$error":"#DIV/0!"},{"$error":"#DIV/0!"},{"$error":"#DIV/0!"},{"$error":"#DIV/0!"},{"$error":"#DIV/0!"},{"$error":"#DIV/0!"},{"$error":"#DIV/0!"},{"$error":"#DIV/0!"},{"$error":"#DIV/0!"},{"$error":"#DIV/0!"},{"$error":"#DIV/0!"},{"$error":"#DIV/0!"},{"$f":"IF(_Mtech!$G$2=1,CalculationSheet!I139,CalculationSheet!K139)*populationFunnel!$K$15","v":{"$error":"#DIV/0!"}},{"$f":"IF(_Mtech!$G$2=1,L139,N139)*populationFunnel!$K$15","v":{"$error":"#DIV/0!"}},{"$f":"O139*populationFunnel!$K$23","v":{"$error":"#DIV/0!"}},{"$f":"P139*populationFunnel!$K$23","v":{"$error":"#DIV/0!"}},{"$f":"Q139*populationFunnel!$K$27","v":{"$error":"#DIV/0!"}},{"$f":"R139*populationFunnel!$K$27","v":{"$error":"#DIV/0!"}},{"$f":"S139*populationFunnel!$K$33","v":{"$error":"#DIV/0!"}},{"$f":"T139*populationFunnel!$K$33","v":{"$error":"#DIV/0!"}},{"$f":"U139*populationFunnel!$K$38","v":{"$error":"#DIV/0!"}},{"$f":"V139*populationFunnel!$K$38","v":{"$error":"#DIV/0!"}}]
[2030,26,{"$error":"#DIV/0!"},{"$error":"#DIV/0!"},{"$error":"#DIV/0!"},{"$error":"#DIV/0!"},{"$error":"#DIV/0!"},{"$error":"#DIV/0!"},{"$error":"#DIV/0!"},{"$error":"#DIV/0!"},{"$error":"#DIV/0!"},{"$error":"#DIV/0!"},{"$error":"#DIV/0!"},{"$error":"#DIV/0!"},{"$f":"IF(_Mtech!$G$2=1,CalculationSheet!I140,CalculationSheet!K140)*populationFunnel!$K$15","v":{"$error":"#DIV/0!"}},{"$f":"IF(_Mtech!$G$2=1,L140,N140)*populationFunnel!$K$15","v":{"$error":"#DIV/0!"}},{"$f":"O140*populationFunnel!$K$23","v":{"$error":"#DIV/0!"}},{"$f":"P140*populationFunnel!$K$23","v":{"$error":"#DIV/0!"}},{"$f":"Q140*populationFunnel!$K$27","v":{"$error":"#DIV/0!"}},{"$f":"R140*populationFunnel!$K$27","v":{"$error":"#DIV/0!"}},{"$f":"S140*populationFunnel!$K$33","v":{"$error":"#DIV/0!"}},{"$f":"T140*populationFunnel!$K$33","v":{"$error":"#DIV/0!"}},{"$f":"U140*populationFunnel!$K$38","v":{"$error":"#DIV/0!"}},{"$f":"V140*populationFunnel!$K$38","v":{"$error":"#DIV/0!"}}]
[]
["Modelled numbers for comparison page"]
[null,null,"Linear",null,null,"Log",null,null,"Linear",null,null,"Log",null,null,"Linear ","Log","Linear ","Log","Linear ","Log","Linear ","Log","Linear ","Log"]
[null,null,"List size",null,null,"List size",null,null,"Register Size",null,null,"Register size",null,null,"QoF Corrected register size",null,"Eligible",null,"Referred",null,"Uptake",null,"Completion"]
["Year ","x","y","%change from last observed","y'","y","% change from last observe","y'","y","%change from last observed","y'","y","% change from last observe","y'"]
[2005,1,{"$f":"(B146*$B$69)+$C$69","v":{"$error":"#DIV/0!"}},null,{"$f":"E147-($E$132*D147)","v":{"$error":"#DIV/0!"}},{"$f":"$B$71*LN(B146)+$C$71","v":{"$error":"#DIV/0!"}},null,{"$f":"H147+($H$133*G176)","v":{"$error":"#DIV/0!"}},{"$f":"(B146*$B$74)+$C$74","v":{"$error":"#DIV/0!"}},null,{"$f":"K147-($K$133*J147)","v":{"$error":"#DIV/0!"}},{"$f":"$B$76*LN(B146)+$C$76","v":{"$error":"#DIV/0!"}},null,{"$f":"N147-($N$133*M147)","v":{"$error":"#DIV/0!"}},{"$f":"IF(_Mtech!$G$2=1,CalculationSheet!I146,CalculationSheet!K146)*populationFunnel!$K$15","v":{"$error":"#DIV/0!"}},{"$f":"IF(_Mtech!$G$2=1,L146,N146)*populationFunnel!$K$15","v":{"$error":"#DIV/0!"}},{"$f":"O146*populationFunnel!$K$23","v":{"$error":"#DIV/0!"}},{"$f":"P146*populationFunnel!$K$23","v":{"$error":"#DIV/0!"}},{"$f":"Q146*comparisons!$E$29","v":{"$error":"#DIV/0!"}},{"$f":"R146*comparisons!$E$29","v":{"$error":"#DIV/0!"}},{"$f":"S146*comparisons!$E$31","v":{"$error":"#DIV/0!"}},{"$f":"T146*comparisons!$E$31","v":{"$error":"#DIV/0!"}},{"$f":"U146*comparisons!$E$33","v":{"$error":"#DIV/0!"}},{"$f":"V146*comparisons!$E$33","v":{"$error":"#DIV/0!"}}]
[2006,2,{"$f":"(B147*$B$69)+$C$69","v":{"$error":"#DIV/0!"}},{"$f":"(C147-C146)/C$132","v":{"$error":"#DIV/0!"}},{"$error":"#DIV/0!"},{"$f":"$B$71*LN(B147)+$C$71","v":{"$error":"#DIV/0!"}},null,{"$f":"H148+($H$133*G148)","v":{"$error":"#DIV/0!"}},{"$error":"#DIV/0!"},{"$f":"(I147-I146)/$I$132","v":{"$error":"#DIV/0!"}},{"$error":"#DIV/0!"},{"$f":"$B$76*LN(B147)+$C$76","v":{"$error":"#DIV/0!"}},{"$f":"(L147-L146)/$L$132","v":{"$error":"#DIV/0!"}},{"$error":"#DIV/0!"},{"$f":"IF(_Mtech!$G$2=1,CalculationSheet!I147,CalculationSheet!K147)*populationFunnel!$K$15","v":{"$error":"#DIV/0!"}},{"$f":"IF(_Mtech!$G$2=1,L147,N147)*populationFunnel!$K$15","v":{"$error":"#DIV/0!"}},{"$f":"O147*populationFunnel!$K$23","v":{"$error":"#DIV/0!"}},{"$f":"P147*populationFunnel!$K$23","v":{"$error":"#DIV/0!"}},{"$f":"Q147*comparisons!$E$29","v":{"$error":"#DIV/0!"}},{"$f":"R147*comparisons!$E$29","v":{"$error":"#DIV/0!"}},{"$f":"S147*comparisons!$E$31","v":{"$error":"#DIV/0!"}},{"$f":"T147*comparisons!$E$31","v":{"$error":"#DIV/0!"}},{"$f":"U147*comparisons!$E$33","v":{"$error":"#DIV/0!"}},{"$f":"V147*comparisons!$E$33","v":{"$error":"#DIV/0!"}}]
[2007,3,{"$error":"#DIV/0!"},{"$f":"(C148-C147)/$C$132","v":{"$error":"#DIV/0!"}},{"$error":"#DIV/0!"},{"$error":"#DIV/0!"},{"$f":"(F148-F147)/F$132","v":{"$error":"#DIV/0!"}},{"$error":"#DIV/0!"},{"$error":"#DIV/0!"},{"$error":"#DIV/0!"},{"$error":"#DIV/0!"},{"$error":"#DIV/0!"},{"$error":"#DIV/0!"},{"$error":"#DIV/0!"},{"$f":"IF(_Mtech!$G$2=1,CalculationSheet!I148,CalculationSheet!K148)*populationFunnel!$K$15","v":{"$error":"#DIV/0!"}},{"$f":"IF(_Mtech!$G$2=1,L148,N148)*populationFunnel!$K$15","v":{"$error":"#DIV/0!"}},{"$f":"O148*populationFunnel!$K$23","v":{"$error":"#DIV/0!"}},{"$f":"P148*populationFunnel!$K$23","v":{"$error":"#DIV/0!"}},{"$f":"Q148*comparisons!$E$29","v":{"$error":"#DIV/0!"}},{"$f":"R148*comparisons!$E$29","v":{"$error":"#DIV/0!"}},{"$f":"S148*comparisons!$E$31","v":{"$error":"#DIV/0!"}},{"$f":"T148*comparisons!$E$31","v":{"$error":"#DIV/0!"}},{"$f":"U148*comparisons!$E$33","v":{"$error":"#DIV/0!"}},{"$f":"V148*comparisons!$E$33","v":{"$error":"#DIV/0!"}}]
[2008,4,{"$error":"#DIV/0!"},{"$error":"#DIV/0!"},{"$error":"#DIV/0!"},{"$error":"#DIV/0!"},{"$error":"#DIV/0!"},{"$error":"#DIV/0!"},{"$error":"#DIV/0!"},{"$error":"#DIV/0!"},{"$error":"#DIV/0!"},{"$error":"#DIV/0!"},{"$error":"#DIV/0!"},{"$error":"#DIV/0!"},{"$f":"IF(_Mtech!$G$2=1,CalculationSheet!I149,CalculationSheet!K149)*populationFunnel!$K$15","v":{"$error":"#DIV/0!"}},{"$f":"IF(_Mtech!$G$2=1,L149,N149)*populationFunnel!$K$15","v":{"$error":"#DIV/0!"}},{"$f":"O149*populationFunnel!$K$23","v":{"$error":"#DIV/0!"}},{"$f":"P149*populationFunnel!$K$23","v":{"$error":"#DIV/0!"}},{"$f":"Q149*comparisons!$E$29","v":{"$error":"#DIV/0!"}},{"$f":"R149*comparisons!$E$29","v":{"$error":"#DIV/0!"}},{"$f":"S149*comparisons!$E$31","v":{"$error":"#DIV/0!"}},{"$f":"T149*comparisons!$E$31","v":{"$error":"#DIV/0!"}},{"$f":"U149*comparisons!$E$33","v":{"$error":"#DIV/0!"}},{"$f":"V149*comparisons!$E$33","v":{"$error":"#DIV/0!"}}]
[2009,5,{"$error":"#DIV/0!"},{"$error":"#DIV/0!"},{"$error":"#DIV/0!"},{"$error":"#DIV/0!"},{"$error":"#DIV/0!"},{"$error":"#DIV/0!"},{"$error":"#DIV/0!"},{"$error":"#DIV/0!"},{"$error":"#DIV/0!"},{"$error":"#DIV/0!"},{"$error":"#DIV/0!"},{"$error":"#DIV/0!"},{"$f":"IF(_Mtech!$G$2=1,CalculationSheet!I150,CalculationSheet!K150)*populationFunnel!$K$15","v":{"$error":"#DIV/0!"}},{"$f":"IF(_Mtech!$G$2=1,L150,N150)*populationFunnel!$K$15","v":{"$error":"#DIV/0!"}},{"$f":"O150*populationFunnel!$K$23","v":{"$error":"#DIV/0!"}},{"$f":"P150*populationFunnel!$K$23","v":{"$error":"#DIV/0!"}},{"$f":"Q150*comparisons!$E$29","v":{"$error":"#DIV/0!"}},{"$f":"R150*comparisons!$E$29","v":{"$error":"#DIV/0!"}},{"$f":"S150*comparisons!$E$31","v":{"$error":"#DIV/0!"}},{"$f":"T150*comparisons!$E$31","v":{"$error":"#DIV/0!"}},{"$f":"U150*comparisons!$E$33","v":{"$error":"#DIV/0!"}},{"$f":"V150*comparisons!$E$33","v":{"$error":"#DIV/0!"}}]
[2010,6,{"$error":"#DIV/0!"},{"$error":"#DIV/0!"},{"$error":"#DIV/0!"},{"$error":"#DIV/0!"},{"$error":"#DIV/0!"},{"$error":"#DIV/0!"},{"$error":"#DIV/0!"},{"$error":"#DIV/0!"},{"$error":"#DIV/0!"},{"$error":"#DIV/0!"},{"$error":"#DIV/0!"},{"$error":"#DIV/0!"},{"$f":"IF(_Mtech!$G$2=1,CalculationSheet!I151,CalculationSheet!K151)*populationFunnel!$K$15","v":{"$error":"#DIV/0!"}},{"$f":"IF(_Mtech!$G$2=1,L151,N151)*populationFunnel!$K$15","v":{"$error":"#DIV/0!"}},{"$f":"O151*populationFunnel!$K$23","v":{"$error":"#DIV/0!"}},{"$f":"P151*populationFunnel!$K$23","v":{"$error":"#DIV/0!"}},{"$f":"Q151*comparisons!$E$29","v":{"$error":"#DIV/0!"}},{"$f":"R151*comparisons!$E$29","v":{"$error":"#DIV/0!"}},{"$f":"S151*comparisons!$E$31","v":{"$error":"#DIV/0!"}},{"$f":"T151*comparisons!$E$31","v":{"$error":"#DIV/0!"}},{"$f":"U151*comparisons!$E$33","v":{"$error":"#DIV/0!"}},{"$f":"V151*comparisons!$E$33","v":{"$error":"#DIV/0!"}}]
[2011,7,{"$error":"#DIV/0!"},{"$error":"#DIV/0!"},{"$error":"#DIV/0!"},{"$error":"#DIV/0!"},{"$error":"#DIV/0!"},{"$error":"#DIV/0!"},{"$error":"#DIV/0!"},{"$error":"#DIV/0!"},{"$error":"#DIV/0!"},{"$error":"#DIV/0!"},{"$error":"#DIV/0!"},{"$error":"#DIV/0!"},{"$f":"IF(_Mtech!$G$2=1,CalculationSheet!I152,CalculationSheet!K152)*populationFunnel!$K$15","v":{"$error":"#DIV/0!"}},{"$f":"IF(_Mtech!$G$2=1,L152,N152)*populationFunnel!$K$15","v":{"$error":"#DIV/0!"}},{"$f":"O152*populationFunnel!$K$23","v":{"$error":"#DIV/0!"}},{"$f":"P152*populationFunnel!$K$23","v":{"$error":"#DIV/0!"}},{"$f":"Q152*comparisons!$E$29","v":{"$error":"#DIV/0!"}},{"$f":"R152*comparisons!$E$29","v":{"$error":"#DIV/0!"}},{"$f":"S152*comparisons!$E$31","v":{"$error":"#DIV/0!"}},{"$f":"T152*comparisons!$E$31","v":{"$error":"#DIV/0!"}},{"$f":"U152*comparisons!$E$33","v":{"$error":"#DIV/0!"}},{"$f":"V152*comparisons!$E$33","v":{"$error":"#DIV/0!"}}]
[2012,8,{"$error":"#DIV/0!"},{"$error":"#DIV/0!"},{"$error":"#DIV/0!"},{"$error":"#DIV/0!"},{"$error":"#DIV/0!"},{"$error":"#DIV/0!"},{"$error":"#DIV/0!"},{"$error":"#DIV/0!"},{"$error":"#DIV/0!"},{"$error":"#DIV/0!"},{"$error":"#DIV/0!"},{"$error":"#DIV/0!"},{"$f":"IF(_Mtech!$G$2=1,CalculationSheet!I153,CalculationSheet!K153)*populationFunnel!$K$15","v":{"$error":"#DIV/0!"}},{"$f":"IF(_Mtech!$G$2=1,L153,N153)*populationFunnel!$K$15","v":{"$error":"#DIV/0!"}},{"$f":"O153*populationFunnel!$K$23","v":{"$error":"#DIV/0!"}},{"$f":"P153*populationFunnel!$K$23","v":{"$error":"#DIV/0!"}},{"$f":"Q153*comparisons!$E$29","v":{"$error":"#DIV/0!"}},{"$f":"R153*comparisons!$E$29","v":{"$error":"#DIV/0!"}},{"$f":"S153*comparisons!$E$31","v":{"$error":"#DIV/0!"}},{"$f":"T153*comparisons!$E$31","v":{"$error":"#DIV/0!"}},{"$f":"U153*comparisons!$E$33","v":{"$error":"#DIV/0!"}},{"$f":"V153*comparisons!$E$33","v":{"$error":"#DIV/0!"}}]
[2013,9,{"$error":"#DIV/0!"},{"$error":"#DIV/0!"},{"$error":"#DIV/0!"},{"$error":"#DIV/0!"},{"$error":"#DIV/0!"},{"$error":"#DIV/0!"},{"$error":"#DIV/0!"},{"$error":"#DIV/0!"},{"$error":"#DIV/0!"},{"$error":"#DIV/0!"},{"$error":"#DIV/0!"},{"$error":"#DIV/0!"},{"$f":"IF(_Mtech!$G$2=1,CalculationSheet!I154,CalculationSheet!K154)*populationFunnel!$K$15","v":{"$error":"#DIV/0!"}},{"$f":"IF(_Mtech!$G$2=1,L154,N154)*populationFunnel!$K$15","v":{"$error":"#DIV/0!"}},{"$f":"O154*populationFunnel!$K$23","v":{"$error":"#DIV/0!"}},{"$f":"P154*populationFunnel!$K$23","v":{"$error":"#DIV/0!"}},{"$f":"Q154*comparisons!$E$29","v":{"$error":"#DIV/0!"}},{"$f":"R154*comparisons!$E$29","v":{"$error":"#DIV/0!"}},{"$f":"S154*comparisons!$E$31","v":{"$error":"#DIV/0!"}},{"$f":"T154*comparisons!$E$31","v":{"$error":"#DIV/0!"}},{"$f":"U154*comparisons!$E$33","v":{"$error":"#DIV/0!"}},{"$f":"V154*comparisons!$E$33","v":{"$error":"#DIV/0!"}}]
[2014,10,{"$error":"#DIV/0!"},{"$error":"#DIV/0!"},{"$error":"#DIV/0!"},{"$error":"#DIV/0!"},{"$error":"#DIV/0!"},{"$error":"#DIV/0!"},{"$error":"#DIV/0!"},{"$error":"#DIV/0!"},{"$error":"#DIV/0!"},{"$error":"#DIV/0!"},{"$error":"#DIV/0!"},{"$error":"#DIV/0!"},{"$f":"IF(_Mtech!$G$2=1,CalculationSheet!I155,CalculationSheet!K155)*populationFunnel!$K$15","v":{"$error":"#DIV/0!"}},{"$f":"IF(_Mtech!$G$2=1,L155,N155)*populationFunnel!$K$15","v":{"$error":"#DIV/0!"}},{"$f":"O155*populationFunnel!$K$23","v":{"$error":"#DIV/0!"}},{"$f":"P155*populationFunnel!$K$23","v":{"$error":"#DIV/0!"}},{"$f":"Q155*comparisons!$E$29","v":{"$error":"#DIV/0!"}},{"$f":"R155*comparisons!$E$29","v":{"$error":"#DIV/0!"}},{"$f":"S155*comparisons!$E$31","v":{"$error":"#DIV/0!"}},{"$f":"T155*comparisons!$E$31","v":{"$error":"#DIV/0!"}},{"$f":"U155*comparisons!$E$33","v":{"$error":"#DIV/0!"}},{"$f":"V155*comparisons!$E$33","v":{"$error":"#DIV/0!"}}]
[2015,11,{"$error":"#DIV/0!"},{"$error":"#DIV/0!"},{"$error":"#DIV/0!"},{"$error":"#DIV/0!"},{"$error":"#DIV/0!"},{"$error":"#DIV/0!"},{"$error":"#DIV/0!"},{"$error":"#DIV/0!"},{"$error":"#DIV/0!"},{"$error":"#DIV/0!"},{"$error":"#DIV/0!"},{"$error":"#DIV/0!"},{"$f":"IF(_Mtech!$G$2=1,CalculationSheet!I156,CalculationSheet!K156)*populationFunnel!$K$15","v":{"$error":"#DIV/0!"}},{"$f":"IF(_Mtech!$G$2=1,L156,N156)*populationFunnel!$K$15","v":{"$error":"#DIV/0!"}},{"$f":"O156*populationFunnel!$K$23","v":{"$error":"#DIV/0!"}},{"$f":"P156*populationFunnel!$K$23","v":{"$error":"#DIV/0!"}},{"$f":"Q156*comparisons!$E$29","v":{"$error":"#DIV/0!"}},{"$f":"R156*comparisons!$E$29","v":{"$error":"#DIV/0!"}},{"$f":"S156*comparisons!$E$31","v":{"$error":"#DIV/0!"}},{"$f":"T156*comparisons!$E$31","v":{"$error":"#DIV/0!"}},{"$f":"U156*comparisons!$E$33","v":{"$error":"#DIV/0!"}},{"$f":"V156*comparisons!$E$33","v":{"$error":"#DIV/0!"}}]
[2016,12,{"$error":"#DIV/0!"},{"$error":"#DIV/0!"},{"$error":"#DIV/0!"},{"$error":"#DIV/0!"},{"$error":"#DIV/0!"},{"$error":"#DIV/0!"},{"$error":"#DIV/0!"},{"$error":"#DIV/0!"},{"$error":"#DIV/0!"},{"$error":"#DIV/0!"},{"$error":"#DIV/0!"},{"$error":"#DIV/0!"},{"$f":"IF(_Mtech!$G$2=1,CalculationSheet!I157,CalculationSheet!K157)*populationFunnel!$K$15","v":{"$error":"#DIV/0!"}},{"$f":"IF(_Mtech!$G$2=1,L157,N157)*populationFunnel!$K$15","v":{"$error":"#DIV/0!"}},{"$f":"O157*populationFunnel!$K$23","v":{"$error":"#DIV/0!"}},{"$f":"P157*populationFunnel!$K$23","v":{"$error":"#DIV/0!"}},{"$f":"Q157*comparisons!$E$29","v":{"$error":"#DIV/0!"}},{"$f":"R157*comparisons!$E$29","v":{"$error":"#DIV/0!"}},{"$f":"S157*comparisons!$E$31","v":{"$error":"#DIV/0!"}},{"$f":"T157*comparisons!$E$31","v":{"$error":"#DIV/0!"}},{"$f":"U157*comparisons!$E$33","v":{"$error":"#DIV/0!"}},{"$f":"V157*comparisons!$E$33","v":{"$error":"#DIV/0!"}}]
[2017,13,{"$error":"#DIV/0!"},{"$error":"#DIV/0!"},{"$error":"#DIV/0!"},{"$error":"#DIV/0!"},{"$error":"#DIV/0!"},{"$error":"#DIV/0!"},{"$error":"#DIV/0!"},{"$error":"#DIV/0!"},{"$error":"#DIV/0!"},{"$error":"#DIV/0!"},{"$error":"#DIV/0!"},{"$error":"#DIV/0!"},{"$f":"IF(_Mtech!$G$2=1,CalculationSheet!I158,CalculationSheet!K158)*populationFunnel!$K$15","v":{"$error":"#DIV/0!"}},{"$f":"IF(_Mtech!$G$2=1,L158,N158)*populationFunnel!$K$15","v":{"$error":"#DIV/0!"}},{"$f":"O158*populationFunnel!$K$23","v":{"$error":"#DIV/0!"}},{"$f":"P158*populationFunnel!$K$23","v":{"$error":"#DIV/0!"}},{"$f":"Q158*comparisons!$E$29","v":{"$error":"#DIV/0!"}},{"$f":"R158*comparisons!$E$29","v":{"$error":"#DIV/0!"}},{"$f":"S158*comparisons!$E$31","v":{"$error":"#DIV/0!"}},{"$f":"T158*comparisons!$E$31","v":{"$error":"#DIV/0!"}},{"$f":"U158*comparisons!$E$33","v":{"$error":"#DIV/0!"}},{"$f":"V158*comparisons!$E$33","v":{"$error":"#DIV/0!"}}]
[2018,14,{"$error":"#DIV/0!"},{"$error":"#DIV/0!"},{"$error":"#DIV/0!"},{"$error":"#DIV/0!"},{"$error":"#DIV/0!"},{"$error":"#DIV/0!"},{"$error":"#DIV/0!"},{"$error":"#DIV/0!"},{"$error":"#DIV/0!"},{"$error":"#DIV/0!"},{"$error":"#DIV/0!"},{"$error":"#DIV/0!"},{"$f":"IF(_Mtech!$G$2=1,CalculationSheet!I159,CalculationSheet!K159)*populationFunnel!$K$15","v":{"$error":"#DIV/0!"}},{"$f":"IF(_Mtech!$G$2=1,L159,N159)*populationFunnel!$K$15","v":{"$error":"#DIV/0!"}},{"$f":"O159*populationFunnel!$K$23","v":{"$error":"#DIV/0!"}},{"$f":"P159*populationFunnel!$K$23","v":{"$error":"#DIV/0!"}},{"$f":"Q159*comparisons!$E$29","v":{"$error":"#DIV/0!"}},{"$f":"R159*comparisons!$E$29","v":{"$error":"#DIV/0!"}},{"$f":"S159*comparisons!$E$31","v":{"$error":"#DIV/0!"}},{"$f":"T159*comparisons!$E$31","v":{"$error":"#DIV/0!"}},{"$f":"U159*comparisons!$E$33","v":{"$error":"#DIV/0!"}},{"$f":"V159*comparisons!$E$33","v":{"$error":"#DIV/0!"}}]
[2019,15,{"$error":"#DIV/0!"},{"$error":"#DIV/0!"},{"$error":"#DIV/0!"},{"$error":"#DIV/0!"},{"$error":"#DIV/0!"},{"$error":"#DIV/0!"},{"$error":"#DIV/0!"},{"$error":"#DIV/0!"},{"$error":"#DIV/0!"},{"$error":"#DIV/0!"},{"$error":"#DIV/0!"},{"$error":"#DIV/0!"},{"$f":"IF(_Mtech!$G$2=1,CalculationSheet!I160,CalculationSheet!K160)*populationFunnel!$K$15","v":{"$error":"#DIV/0!"}},{"$f":"IF(_Mtech!$G$2=1,L160,N160)*populationFunnel!$K$15","v":{"$error":"#DIV/0!"}},{"$f":"O160*populationFunnel!$K$23","v":{"$error":"#DIV/0!"}},{"$f":"P160*populationFunnel!$K$23","v":{"$error":"#DIV/0!"}},{"$f":"Q160*comparisons!$E$29","v":{"$error":"#DIV/0!"}},{"$f":"R160*comparisons!$E$29","v":{"$error":"#DIV/0!"}},{"$f":"S160*comparisons!$E$31","v":{"$error":"#DIV/0!"}},{"$f":"T160*comparisons!$E$31","v":{"$error":"#DIV/0!"}},{"$f":"U160*comparisons!$E$33","v":{"$error":"#DIV/0!"}},{"$f":"V160*comparisons!$E$33","v":{"$error":"#DIV/0!"}}]
[2020,16,{"$error":"#DIV/0!"},{"$error":"#DIV/0!"},{"$error":"#DIV/0!"},{"$error":"#DIV/0!"},{"$error":"#DIV/0!"},{"$error":"#DIV/0!"},{"$error":"#DIV/0!"},{"$error":"#DIV/0!"},{"$error":"#DIV/0!"},{"$error":"#DIV/0!"},{"$error":"#DIV/0!"},{"$error":"#DIV/0!"},{"$f":"IF(_Mtech!$G$2=1,CalculationSheet!I161,CalculationSheet!K161)*populationFunnel!$K$15","v":{"$error":"#DIV/0!"}},{"$f":"IF(_Mtech!$G$2=1,L161,N161)*populationFunnel!$K$15","v":{"$error":"#DIV/0!"}},{"$f":"O161*populationFunnel!$K$23","v":{"$error":"#DIV/0!"}},{"$f":"P161*populationFunnel!$K$23","v":{"$error":"#DIV/0!"}},{"$f":"Q161*comparisons!$E$29","v":{"$error":"#DIV/0!"}},{"$f":"R161*comparisons!$E$29","v":{"$error":"#DIV/0!"}},{"$f":"S161*comparisons!$E$31","v":{"$error":"#DIV/0!"}},{"$f":"T161*comparisons!$E$31","v":{"$error":"#DIV/0!"}},{"$f":"U161*comparisons!$E$33","v":{"$error":"#DIV/0!"}},{"$f":"V161*comparisons!$E$33","v":{"$error":"#DIV/0!"}}]
[2021,17,{"$error":"#DIV/0!"},{"$error":"#DIV/0!"},{"$error":"#DIV/0!"},{"$error":"#DIV/0!"},{"$error":"#DIV/0!"},{"$error":"#DIV/0!"},{"$error":"#DIV/0!"},{"$error":"#DIV/0!"},{"$error":"#DIV/0!"},{"$error":"#DIV/0!"},{"$error":"#DIV/0!"},{"$error":"#DIV/0!"},{"$f":"IF(_Mtech!$G$2=1,CalculationSheet!I162,CalculationSheet!K162)*populationFunnel!$K$15","v":{"$error":"#DIV/0!"}},{"$f":"IF(_Mtech!$G$2=1,L162,N162)*populationFunnel!$K$15","v":{"$error":"#DIV/0!"}},{"$f":"O162*populationFunnel!$K$23","v":{"$error":"#DIV/0!"}},{"$f":"P162*populationFunnel!$K$23","v":{"$error":"#DIV/0!"}},{"$f":"Q162*comparisons!$E$29","v":{"$error":"#DIV/0!"}},{"$f":"R162*comparisons!$E$29","v":{"$error":"#DIV/0!"}},{"$f":"S162*comparisons!$E$31","v":{"$error":"#DIV/0!"}},{"$f":"T162*comparisons!$E$31","v":{"$error":"#DIV/0!"}},{"$f":"U162*comparisons!$E$33","v":{"$error":"#DIV/0!"}},{"$f":"V162*comparisons!$E$33","v":{"$error":"#DIV/0!"}}]
[2022,18,{"$error":"#DIV/0!"},{"$error":"#DIV/0!"},{"$f":"populationFunnel!J44","v":0},{"$error":"#DIV/0!"},{"$error":"#DIV/0!"},{"$f":"populationFunnel!J44","v":0},{"$error":"#DIV/0!"},{"$error":"#DIV/0!"},{"$f":"populationFunnel!P44","v":0},{"$error":"#DIV/0!"},{"$error":"#DIV/0!"},{"$f":"populationFunnel!P44","v":0},{"$f":"IF(_Mtech!$G$2=1,CalculationSheet!I163,CalculationSheet!K163)*populationFunnel!$K$15","v":{"$error":"#DIV/0!"}},{"$f":"IF(_Mtech!$G$2=1,L163,N163)*populationFunnel!$K$15","v":{"$error":"#DIV/0!"}},{"$f":"O163*populationFunnel!$K$23","v":{"$error":"#DIV/0!"}},{"$f":"P163*populationFunnel!$K$23","v":{"$error":"#DIV/0!"}},{"$f":"Q163*comparisons!$E$29","v":{"$error":"#DIV/0!"}},{"$f":"R163*comparisons!$E$29","v":{"$error":"#DIV/0!"}},{"$f":"S163*comparisons!$E$31","v":{"$error":"#DIV/0!"}},{"$f":"T163*comparisons!$E$31","v":{"$error":"#DIV/0!"}},{"$f":"U163*comparisons!$E$33","v":{"$error":"#DIV/0!"}},{"$f":"V163*comparisons!$E$33","v":{"$error":"#DIV/0!"}}]
[2023,19,{"$error":"#DIV/0!"},{"$error":"#DIV/0!"},{"$f":"E163+($E$132*D164)","v":{"$error":"#DIV/0!"}},{"$error":"#DIV/0!"},{"$error":"#DIV/0!"},{"$f":"H163+($H$133*G164)","v":{"$error":"#DIV/0!"}},{"$error":"#DIV/0!"},{"$error":"#DIV/0!"},{"$f":"K163+($K$133*J164)","v":{"$error":"#DIV/0!"}},{"$error":"#DIV/0!"},{"$error":"#DIV/0!"},{"$f":"N163+($N$133*M164)","v":{"$error":"#DIV/0!"}},{"$f":"IF(_Mtech!$G$2=1,CalculationSheet!I164,CalculationSheet!K164)*populationFunnel!$K$15","v":{"$error":"#DIV/0!"}},{"$f":"IF(_Mtech!$G$2=1,L164,N164)*populationFunnel!$K$15","v":{"$error":"#DIV/0!"}},{"$f":"O164*populationFunnel!$K$23","v":{"$error":"#DIV/0!"}},{"$f":"P164*populationFunnel!$K$23","v":{"$error":"#DIV/0!"}},{"$f":"Q164*comparisons!$E$29","v":{"$error":"#DIV/0!"}},{"$f":"R164*comparisons!$E$29","v":{"$error":"#DIV/0!"}},{"$f":"S164*comparisons!$E$31","v":{"$error":"#DIV/0!"}},{"$f":"T164*comparisons!$E$31","v":{"$error":"#DIV/0!"}},{"$f":"U164*comparisons!$E$33","v":{"$error":"#DIV/0!"}},{"$f":"V164*comparisons!$E$33","v":{"$error":"#DIV/0!"}}]
[2024,20,{"$error":"#DIV/0!"},{"$error":"#DIV/0!"},{"$error":"#DIV/0!"},{"$error":"#DIV/0!"},{"$error":"#DIV/0!"},{"$error":"#DIV/0!"},{"$error":"#DIV/0!"},{"$error":"#DIV/0!"},{"$error":"#DIV/0!"},{"$error":"#DIV/0!"},{"$error":"#DIV/0!"},{"$error":"#DIV/0!"},{"$f":"IF(_Mtech!$G$2=1,CalculationSheet!I165,CalculationSheet!K165)*populationFunnel!$K$15","v":{"$error":"#DIV/0!"}},{"$f":"IF(_Mtech!$G$2=1,L165,N165)*populationFunnel!$K$15","v":{"$error":"#DIV/0!"}},{"$f":"O165*populationFunnel!$K$23","v":{"$error":"#DIV/0!"}},{"$f":"P165*populationFunnel!$K$23","v":{"$error":"#DIV/0!"}},{"$f":"Q165*comparisons!$E$29","v":{"$error":"#DIV/0!"}},{"$f":"R165*comparisons!$E$29","v":{"$error":"#DIV/0!"}},{"$f":"S165*comparisons!$E$31","v":{"$error":"#DIV/0!"}},{"$f":"T165*comparisons!$E$31","v":{"$error":"#DIV/0!"}},{"$f":"U165*comparisons!$E$33","v":{"$error":"#DIV/0!"}},{"$f":"V165*comparisons!$E$33","v":{"$error":"#DIV/0!"}}]
[2025,21,{"$error":"#DIV/0!"},{"$error":"#DIV/0!"},{"$error":"#DIV/0!"},{"$error":"#DIV/0!"},{"$error":"#DIV/0!"},{"$error":"#DIV/0!"},{"$error":"#DIV/0!"},{"$error":"#DIV/0!"},{"$error":"#DIV/0!"},{"$error":"#DIV/0!"},{"$error":"#DIV/0!"},{"$error":"#DIV/0!"},{"$f":"IF(_Mtech!$G$2=1,CalculationSheet!I166,CalculationSheet!K166)*populationFunnel!$K$15","v":{"$error":"#DIV/0!"}},{"$f":"IF(_Mtech!$G$2=1,L166,N166)*populationFunnel!$K$15","v":{"$error":"#DIV/0!"}},{"$f":"O166*populationFunnel!$K$23","v":{"$error":"#DIV/0!"}},{"$f":"P166*populationFunnel!$K$23","v":{"$error":"#DIV/0!"}},{"$f":"Q166*comparisons!$E$29","v":{"$error":"#DIV/0!"}},{"$f":"R166*comparisons!$E$29","v":{"$error":"#DIV/0!"}},{"$f":"S166*comparisons!$E$31","v":{"$error":"#DIV/0!"}},{"$f":"T166*comparisons!$E$31","v":{"$error":"#DIV/0!"}},{"$f":"U166*comparisons!$E$33","v":{"$error":"#DIV/0!"}},{"$f":"V166*comparisons!$E$33","v":{"$error":"#DIV/0!"}}]
[2026,22,{"$error":"#DIV/0!"},{"$error":"#DIV/0!"},{"$error":"#DIV/0!"},{"$error":"#DIV/0!"},{"$error":"#DIV/0!"},{"$error":"#DIV/0!"},{"$error":"#DIV/0!"},{"$error":"#DIV/0!"},{"$error":"#DIV/0!"},{"$error":"#DIV/0!"},{"$error":"#DIV/0!"},{"$error":"#DIV/0!"},{"$f":"IF(_Mtech!$G$2=1,CalculationSheet!I167,CalculationSheet!K167)*populationFunnel!$K$15","v":{"$error":"#DIV/0!"}},{"$f":"IF(_Mtech!$G$2=1,L167,N167)*populationFunnel!$K$15","v":{"$error":"#DIV/0!"}},{"$f":"O167*populationFunnel!$K$23","v":{"$error":"#DIV/0!"}},{"$f":"P167*populationFunnel!$K$23","v":{"$error":"#DIV/0!"}},{"$f":"Q167*comparisons!$E$29","v":{"$error":"#DIV/0!"}},{"$f":"R167*comparisons!$E$29","v":{"$error":"#DIV/0!"}},{"$f":"S167*comparisons!$E$31","v":{"$error":"#DIV/0!"}},{"$f":"T167*comparisons!$E$31","v":{"$error":"#DIV/0!"}},{"$f":"U167*comparisons!$E$33","v":{"$error":"#DIV/0!"}},{"$f":"V167*comparisons!$E$33","v":{"$error":"#DIV/0!"}}]
[2027,23,{"$error":"#DIV/0!"},{"$error":"#DIV/0!"},{"$error":"#DIV/0!"},{"$error":"#DIV/0!"},{"$error":"#DIV/0!"},{"$error":"#DIV/0!"},{"$error":"#DIV/0!"},{"$error":"#DIV/0!"},{"$error":"#DIV/0!"},{"$error":"#DIV/0!"},{"$error":"#DIV/0!"},{"$error":"#DIV/0!"},{"$f":"IF(_Mtech!$G$2=1,CalculationSheet!I168,CalculationSheet!K168)*populationFunnel!$K$15","v":{"$error":"#DIV/0!"}},{"$f":"IF(_Mtech!$G$2=1,L168,N168)*populationFunnel!$K$15","v":{"$error":"#DIV/0!"}},{"$f":"O168*populationFunnel!$K$23","v":{"$error":"#DIV/0!"}},{"$f":"P168*populationFunnel!$K$23","v":{"$error":"#DIV/0!"}},{"$f":"Q168*comparisons!$E$29","v":{"$error":"#DIV/0!"}},{"$f":"R168*comparisons!$E$29","v":{"$error":"#DIV/0!"}},{"$f":"S168*comparisons!$E$31","v":{"$error":"#DIV/0!"}},{"$f":"T168*comparisons!$E$31","v":{"$error":"#DIV/0!"}},{"$f":"U168*comparisons!$E$33","v":{"$error":"#DIV/0!"}},{"$f":"V168*comparisons!$E$33","v":{"$error":"#DIV/0!"}}]
[2028,24,{"$error":"#DIV/0!"},{"$error":"#DIV/0!"},{"$error":"#DIV/0!"},{"$error":"#DIV/0!"},{"$error":"#DIV/0!"},{"$error":"#DIV/0!"},{"$error":"#DIV/0!"},{"$error":"#DIV/0!"},{"$error":"#DIV/0!"},{"$error":"#DIV/0!"},{"$error":"#DIV/0!"},{"$error":"#DIV/0!"},{"$f":"IF(_Mtech!$G$2=1,CalculationSheet!I169,CalculationSheet!K169)*populationFunnel!$K$15","v":{"$error":"#DIV/0!"}},{"$f":"IF(_Mtech!$G$2=1,L169,N169)*populationFunnel!$K$15","v":{"$error":"#DIV/0!"}},{"$f":"O169*populationFunnel!$K$23","v":{"$error":"#DIV/0!"}},{"$f":"P169*populationFunnel!$K$23","v":{"$error":"#DIV/0!"}},{"$f":"Q169*comparisons!$E$29","v":{"$error":"#DIV/0!"}},{"$f":"R169*comparisons!$E$29","v":{"$error":"#DIV/0!"}},{"$f":"S169*comparisons!$E$31","v":{"$error":"#DIV/0!"}},{"$f":"T169*comparisons!$E$31","v":{"$error":"#DIV/0!"}},{"$f":"U169*comparisons!$E$33","v":{"$error":"#DIV/0!"}},{"$f":"V169*comparisons!$E$33","v":{"$error":"#DIV/0!"}}]
[2029,25,{"$error":"#DIV/0!"},{"$error":"#DIV/0!"},{"$error":"#DIV/0!"},{"$error":"#DIV/0!"},{"$error":"#DIV/0!"},{"$error":"#DIV/0!"},{"$error":"#DIV/0!"},{"$error":"#DIV/0!"},{"$error":"#DIV/0!"},{"$error":"#DIV/0!"},{"$error":"#DIV/0!"},{"$error":"#DIV/0!"},{"$f":"IF(_Mtech!$G$2=1,CalculationSheet!I170,CalculationSheet!K170)*populationFunnel!$K$15","v":{"$error":"#DIV/0!"}},{"$f":"IF(_Mtech!$G$2=1,L170,N170)*populationFunnel!$K$15","v":{"$error":"#DIV/0!"}},{"$f":"O170*populationFunnel!$K$23","v":{"$error":"#DIV/0!"}},{"$f":"P170*populationFunnel!$K$23","v":{"$error":"#DIV/0!"}},{"$f":"Q170*comparisons!$E$29","v":{"$error":"#DIV/0!"}},{"$f":"R170*comparisons!$E$29","v":{"$error":"#DIV/0!"}},{"$f":"S170*comparisons!$E$31","v":{"$error":"#DIV/0!"}},{"$f":"T170*comparisons!$E$31","v":{"$error":"#DIV/0!"}},{"$f":"U170*comparisons!$E$33","v":{"$error":"#DIV/0!"}},{"$f":"V170*comparisons!$E$33","v":{"$error":"#DIV/0!"}}]
[2030,26,{"$error":"#DIV/0!"},{"$error":"#DIV/0!"},{"$error":"#DIV/0!"},{"$error":"#DIV/0!"},{"$error":"#DIV/0!"},{"$error":"#DIV/0!"},{"$error":"#DIV/0!"},{"$error":"#DIV/0!"},{"$error":"#DIV/0!"},{"$error":"#DIV/0!"},{"$error":"#DIV/0!"},{"$error":"#DIV/0!"},{"$f":"IF(_Mtech!$G$2=1,CalculationSheet!I171,CalculationSheet!K171)*populationFunnel!$K$15","v":{"$error":"#DIV/0!"}},{"$f":"IF(_Mtech!$G$2=1,L171,N171)*populationFunnel!$K$15","v":{"$error":"#DIV/0!"}},{"$f":"O171*populationFunnel!$K$23","v":{"$error":"#DIV/0!"}},{"$f":"P171*populationFunnel!$K$23","v":{"$error":"#DIV/0!"}},{"$f":"Q171*comparisons!$E$29","v":{"$error":"#DIV/0!"}},{"$f":"R171*comparisons!$E$29","v":{"$error":"#DIV/0!"}},{"$f":"S171*comparisons!$E$31","v":{"$error":"#DIV/0!"}},{"$f":"T171*comparisons!$E$31","v":{"$error":"#DIV/0!"}},{"$f":"U171*comparisons!$E$33","v":{"$error":"#DIV/0!"}},{"$f":"V171*comparisons!$E$33","v":{"$error":"#DIV/0!"}}]

{"sheet":"CPRD_regressionCoefficients","index":52,"n_rows":103,"n_cols":32,"rows_kept":103,"cut":false,"hidden":true,"merged":[[0,0,0,3],[13,26,14,26],[0,12,0,16],[0,10,0,11],[0,5,0,9]]}
["For Prevalent Patients",null,null,null,null,"Age",null,null,null,null,"Gender",null,"IMD",null,null,null,null,"Ethnicity","Coefficient 6","Coefficient 7","Coefficient 8","Coefficient 9","Coefficient 10","log(P/(1-P))","Proportion"]
["Region","DATE","Outcome","Patient group","Intercept","35-49","50-59","60-69","70-79","80+","% male","% female","IMD 1","IMD 2","IMD 3","IMD 4","IMD 5","White ","South Asian","Black","Other","Mixed","Not Stated"]
["North West",null,"QoF deflator","All patients",null,null,null,null,null,null,null,null,null,null,null,null,null,null,null,null,null,null,null,null,1.7000000000000001E-2]
["London",null,"QoF deflator","All patients",null,null,null,null,null,null,null,null,null,null,null,null,null,null,null,null,null,null,null,null,1.9E-2]
["East of England",null,"QoF deflator","All patients",null,null,null,null,null,null,null,null,null,null,null,null,null,null,null,null,null,null,null,null,1.7999999999999999E-2]
["North East",null,"QoF deflator","All patients",null,null,null,null,null,null,null,null,null,null,null,null,null,null,null,null,null,null,null,null,1.2999999999999999E-2]
["South East ",null,"QoF deflator","All patients",null,null,null,null,null,null,null,null,null,null,null,null,null,null,null,null,null,null,null,null,1.2E-2]
["South West",null,"QoF deflator","All patients",null,null,null,null,null,null,null,null,null,null,null,null,null,null,null,null,null,null,null,null,1.9E-2]
["West Midlands",null,"QoF deflator","All patients",null,null,null,null,null,null,null,null,null,null,null,null,null,null,null,null,null,null,null,null,0.05]
["East Midlands"]
["Yorkshire and the Humber"]
["England",null,"QoF deflator","All patients",null,null,null,null,null,null,null,null,null,null,null,null,null,null,null,null,null,null,null,null,1.8800000000000001E-2]
[{"$f":"A54","v":"North West"},null,"Eligibility for PR","All patients",-1.0015849999999999,0,5.2968500000000002E-2,9.3339099999999994E-2,0.34124480000000001,0.6889518,0,0.1803922,0,8.0543100000000006E-2,0.22064110000000001,0.39184649999999999,0.70269490000000001,0,-0.15363299999999999,-0.6021031,-0.4215795,-0.35285090000000002,-2.5673399999999999E-2,{"$f":"E13+SUMPRODUCT(F13:W13,F$48:W$48)","v":-0.32425893473},{"$f":"1/(1+EXP(-X13))","v":0.41963816492330358}]
[{"$f":"A55","v":"London"},null,"Eligibility for PR","All patients",-1.115853,0,0.2136555,0.26719739999999997,0.51506189999999996,0.88653729999999997,0,0.1238624,0,2.3496699999999999E-2,0.17303299999999999,0.3330167,0.44973809999999997,0,-0.1086632,-0.17362569999999999,-0.25562449999999998,-9.8066E-2,9.4325599999999996E-2,{"$f":"E14+SUMPRODUCT(F14:W14,F$48:W$48)","v":-0.36483293775000003},{"$f":"1/(1+EXP(-X14))","v":0.40979015350136733},null,"Prevalent patients","Coefficient 1","Coefficient 2","Coefficient 3","Coefficient 4","Output"]
["East of England",null,"Eligibility for PR","All patients",-1.3518600000000001,0,0.18189469999999999,0.31814710000000002,0.53667770000000004,1.1263639999999999,null,0.10908279999999999,0,0.19871520000000001,0.30037000000000003,0.5261325,0.67693789999999998,0,-0.5311361,0.25347310000000001,7.7096499999999998E-2,-0.25710250000000001,8.0201499999999995E-2,-0.38909656088000011,0.40393480418383992,null,null,"Intercept","Age","% male","IMD decile","%"]
["South East",null,"Eligibility for PR","All patients",-1.185913,0,0.14700940000000001,0.23752480000000001,0.50390480000000004,0.96995849999999995,0,0.1549249,0,0.17073389999999999,0.2744799,0.40203719999999998,0.55907189999999995,0,4.1777799999999997E-2,-0.4794718,0.1222215,-0.3631934,2.3841600000000001E-2,-0.35068283963000002,0.41321684405081566,null,"Eligibility for PR",null,null,null,null,{"$f":"_xlfn.XLOOKUP(CalculationSheet!$D$1,$A$13:$A$20,Y13:Y20)","v":0.4098285689691144}]
["South West",null,"Eligibility for PR","All patients",-1.1322939999999999,0,0.1357285,0.18524930000000001,0.46865210000000002,0.91834780000000005,0,0.1049466,0,0.12997410000000001,0.25998009999999999,0.37777699999999997,0.66349119999999995,0,-0.8562594,-0.84077190000000002,0.19949600000000001,-6.4409999999999995E-2,-5.1447199999999998E-2,-0.37706737889999997,0.40683440388159514,null,"PR proportion referred",{"$f":"_xlfn.XLOOKUP(CalculationSheet!$D$1,CPRD_regressionCoefficients!$A$21:$A$28,CPRD_regressionCoefficients!E21:E28)","v":-2.0536620000000001},{"$f":"_xlfn.XLOOKUP(CalculationSheet!$D$1,CPRD_regressionCoefficients!$A$21:$A$28,CPRD_regressionCoefficients!F21:F28)","v":0},{"$f":"_xlfn.XLOOKUP(CalculationSheet!$D$1,CPRD_regressionCoefficients!$A$21:$A$28,CPRD_regressionCoefficients!K21:K28)","v":0},{"$f":"_xlfn.XLOOKUP(CalculationSheet!$D$1,CPRD_regressionCoefficients!$A$21:$A$28,CPRD_regressionCoefficients!M21:M28)","v":0},{"$f":"_xlfn.XLOOKUP(CalculationSheet!$D$1,$A$13:$A$20,Y21:Y28)","v":8.1974823300781097E-2}]
["Midlands",null,"Eligibility for PR","All patients",-1.303949,0,0.1665413,0.2542066,0.5030732,0.92077520000000002,0,0.15334120000000001,0,0.21981100000000001,0.27904970000000001,0.48637560000000002,0.70359320000000003,0,-5.7800499999999998E-2,-0.54625900000000005,-0.49955650000000001,-0.41178680000000001,8.5932900000000007E-2,-0.39815919975000003,{"$f":"1/(1+EXP(-X18))","v":0.4017546921630662},null,"Proportion who start PR",{"$f":"_xlfn.XLOOKUP(CalculationSheet!$D$1,CPRD_regressionCoefficients!$A$29:$A$36,CPRD_regressionCoefficients!E29:E36)","v":-1.0495429999999999},{"$f":"_xlfn.XLOOKUP(CalculationSheet!$D$1,CPRD_regressionCoefficients!$A$29:$A$36,CPRD_regressionCoefficients!F29:F36)","v":0},{"$f":"_xlfn.XLOOKUP(CalculationSheet!$D$1,CPRD_regressionCoefficients!$A$29:$A$36,CPRD_regressionCoefficients!K29:K36)","v":0},{"$f":"_xlfn.XLOOKUP(CalculationSheet!$D$1,CPRD_regressionCoefficients!$A$29:$A$36,CPRD_regressionCoefficients!M29:M36)","v":0},{"$f":"_xlfn.XLOOKUP(CalculationSheet!$D$1,$A$13:$A$20,Y29:Y36)","v":0.29647223220076635}]
["North East and Yorkshire",null,"Eligibility for PR","All patients",-1.272095,0,0.1128271,0.19512080000000001,0.495284,0.99787729999999997,0,8.5027099999999994E-2,0,0.19153029999999999,0.33323819999999998,0.41837590000000002,0.58432569999999995,0,0.21893360000000001,0.50128950000000005,0.32714700000000002,6.8931000000000001E-3,-9.1324500000000003E-2,-0.46459728781999976,{"$f":"1/(1+EXP(-X19))","v":0.38589578766120364},null,"Proportion who start complete PR",{"$f":"_xlfn.XLOOKUP(CalculationSheet!$D$1,$A$37:$A$44,E37:E44)","v":0.31780910000000001},{"$f":"_xlfn.XLOOKUP(CalculationSheet!$D$1,$A$37:$A$44,F37:F44)","v":0},{"$f":"_xlfn.XLOOKUP(CalculationSheet!$D$1,$A$37:$A$44,K37:K44)","v":0},{"$f":"_xlfn.XLOOKUP(CalculationSheet!$D$1,$A$37:$A$44,M37:M44)","v":0},{"$f":"_xlfn.XLOOKUP(CalculationSheet!$D$1,$A$37:$A$44,Y37:Y44)","v":0.62487249617399665}]
["England",null,"Eligibility for PR","All patients",-1.1533420000000001,0,0.12620790000000001,0.19182679999999999,0.45009569999999999,0.87670910000000002,null,0.142203,0,0.14354030000000001,0.25284040000000002,0.40778789999999998,0.64228269999999998,null,-0.1155288,-0.3224514,-0.20090640000000001,-0.208284,1.44032E-2,{"$f":"E20+SUMPRODUCT(F20:W20,F$48:W$48)","v":-0.36467410797000011},{"$f":"1/(1+EXP(-X20))","v":0.4098285689691144},null,"East of England"]
[{"$f":"A54","v":"North West"},null,"PR proportion referred","All patients",-1.8884570000000001,0,7.4034900000000001E-2,1.74529E-2,-0.21796119999999999,-0.70860239999999997,0,-4.3946300000000001E-2,0,-8.1957999999999996E-3,-9.0122499999999994E-2,-0.1572751,-0.2712155,0,-0.25300919999999999,0.51602709999999996,-3.0407699999999999E-2,0.34020990000000001,-7.8792699999999993E-2,{"$f":"E21+SUMPRODUCT(F21:W21,F$49:W$49)","v":-2.2484979237},{"$f":"1/(1+EXP(-X21))","v":9.5479109688942451E-2},null,"London"]
[{"$f":"A55","v":"London"},null,"PR proportion referred","All patients",-2.3838910000000002,0,0.14696390000000001,-9.5461900000000002E-2,-0.34869299999999998,-0.75562189999999996,0,5.1541099999999999E-2,0,5.4245599999999998E-2,7.7976E-3,0.1907017,0.41813119999999998,0,2.21826E-2,0.39679740000000002,4.1540000000000001E-2,-4.3265699999999997E-2,-0.1477599,{"$f":"E22+SUMPRODUCT(F22:W22,F$49:W$49)","v":-2.4749743078900002},7.7631302211920647E-2,null,"West Midlands"]
["East of England",null,"PR proportion referred","All patients",-2.9412910000000001,0,-0.25656449999999997,0.51021879999999997,0.44765050000000001,-0.152143,0,-0.16485150000000001,0,8.4853600000000001E-2,0.1374669,0.58740119999999996,0.79487850000000004,0,-1.038421,0,0.67833710000000003,0.1071869,-0.29953770000000002,-2.4633385225,7.8468584390905829E-2,null,"East Midlands"]
["South East",null,"PR proportion referred","All patients",-2.0550259999999998,0,-3.4233000000000002E-3,-3.3818000000000001E-2,-0.11232739999999999,-0.67373919999999998,0,-2.181E-2,0,-2.181E-2,-0.23695910000000001,-0.33923910000000002,-0.46686290000000003,0,-0.226941,-0.44467610000000002,-4.3781999999999996E-3,0.18927469999999999,-0.1215074,-2.5307322716699998,7.3731620298983863E-2,null,"North East"]
["South West",null,"PR proportion referred","All patients",-2.388331,0,8.8206199999999998E-2,3.4642300000000001E-2,-0.2071141,-0.68968640000000003,0,-7.33602E-2,0,7.6637700000000003E-2,5.5327099999999997E-2,0.1004978,8.9261199999999999E-2,0,0.81263320000000006,0.95255440000000002,0.2011307,-0.1963444,-0.27602650000000001,-2.5570547152500001,7.1953970573052473E-2,null,"North West"]
["Midlands",null,"PR proportion referred","All patients",-1.7259629999999999,0,-0.13160559999999999,-0.23068810000000001,-0.39034780000000002,-0.77035229999999999,0,-4.4476300000000003E-2,0,-5.5580600000000001E-2,-0.25178210000000001,-0.27388240000000003,-0.30882680000000001,0,-0.11270959999999999,0.1042515,-0.1721482,-0.36812889999999998,-0.1049745,-2.3373112282899999,8.8079642264853153E-2,null,"South West"]
["North East and Yorkshire",null,"PR proportion referred","All patients",-2.2182940000000002,0,0.12829930000000001,-3.8043199999999999E-2,-3.8043199999999999E-2,-1.1336729999999999,0,-3.7354600000000002E-2,0,-0.1219509,-0.1560465,5.4156500000000003E-2,-0.11275880000000001,0,-0.40095969999999997,0,0.41793190000000002,0,-0.26980680000000001,-2.5865068743899999,{"$f":"1/(1+EXP(-X27))","v":7.0011879710059621E-2},null,"South East"]
["England",null,"PR proportion referred","All patients",-2.0536620000000001,0,3.2790199999999999E-2,-4.9190600000000001E-2,-0.24047199999999999,-0.73573379999999999,0,-3.5542999999999998E-2,0,-4.3479799999999999E-2,-0.13966980000000001,-0.1065879,-0.10862910000000001,0,-8.3592100000000003E-2,0.43385459999999998,4.0744500000000003E-2,1.8841E-2,-0.15854760000000001,-2.4158126486400002,{"$f":"1/(1+EXP(-X28))","v":8.1974823300781097E-2}]
[{"$f":"A54","v":"North West"},null,"Proportion who start PR","All patients",-0.87205250000000001,0,0.12176049999999999,0.2875238,0.3948122,0.29622999999999999,0,-7.3236899999999994E-2,0,-9.2077000000000006E-2,-0.1127456,-0.1811681,-0.32236399999999998,0,-0.61304879999999995,3.44712E-2,-1.4055,0.11771,4.2957500000000003E-2,{"$f":"E29+SUMPRODUCT(F29:W29,F$50:W$50)","v":-0.96266816867000005},{"$f":"1/(1+EXP(-X29))","v":0.27634430121381959}]
[{"$f":"A55","v":"London"},null,"Proportion who start PR","All patients",-1.1373949999999999,0,-4.1727599999999997E-2,0.12930720000000001,0.25433689999999998,0.27361669999999999,0,5.07021E-2,0,-0.2238995,1.97939E-2,-0.1081979,2.66511E-2,0,-0.55883020000000005,-0.13943410000000001,-0.13943410000000001,-0.1038818,-0.33269290000000001,{"$f":"E30+SUMPRODUCT(F30:W30,F$50:W$50)","v":-1.0656870131299998},0.25622415993136161]
["East of England",null,"Proportion who start PR","All patients",-0.81007370000000001,0,-0.1946686,-0.14174390000000001,4.8285799999999997E-2,0.35866700000000001,0,-8.7351200000000004E-2,0,0.25832539999999998,0.1984206,0.46509460000000002,0.1039064,0,-1.617699,1.1733199999999999E-2,0.24567530000000001,0,-4.8442899999999997E-2,-0.53404485301999993,0.36957398540445441]
["South East",null,"Proportion who start PR","All patients",-1.1419490000000001,0,0.28868189999999999,0.42503419999999997,0.52991880000000002,0.4797131,0,-0.10026259999999999,0,-0.18995490000000001,-0.1997091,-0.19343769999999999,-0.21408269999999999,0,0.24708669999999999,-0.13731930000000001,-0.13731930000000001,-0.50137759999999998,-0.39029140000000001,-1.0864527257400001,0.25228684162099757]
["South West",null,"Proportion who start PR","All patients",-1.7882940000000001,0,0.81266210000000005,0.99945260000000002,1.1527480000000001,1.081086,0,-2.73382E-2,0,0.2688469,0.2688469,-4.2920800000000002E-2,-0.2799605,0,-2.0792350000000002,2.5550799999999999E-2,0,0.3285032,-0.1566052,-0.97835233511999997,0.27321883869526298]
["Midlands",null,"Proportion who start PR","All patients",-0.89622360000000001,0,-0.26255299999999998,0.11798989999999999,0.1050393,-6.97237E-2,0,-5.5488599999999999E-2,0,0.17693519999999999,9.1440800000000003E-2,0.12879170000000001,0.13792699999999999,0,-0.16959369999999999,-3.6669500000000001E-2,0,-1.007474,-7.0886500000000005E-2,-0.68446377658000002,0.33526576319807849]
["North East and Yorkshire",null,"Proportion who start PR","All patients",-0.88227999999999995,0,4.4095599999999999E-2,0.32341819999999999,0.43352000000000002,0.73345970000000005,0,-8.7145E-2,0,-1.0882299999999999E-2,-1.0882299999999999E-2,-2.0907800000000001E-2,0.1099652,0,0.95668070000000005,0,0,0,-0.51531830000000001,-0.49120506472999997,{"$f":"1/(1+EXP(-X35))","v":0.379609726318476}]
["England",null,"Proportion who start PR","All patients",-1.0495429999999999,0,8.7263999999999994E-2,0.31203789999999998,0.40223189999999998,0.3645698,0,-5.4311400000000003E-2,0,7.0888000000000001E-3,-1.61455E-2,-4.9150399999999997E-2,-7.6764899999999997E-2,0,-0.57390439999999998,-0.1954246,-0.31168990000000002,-0.33668229999999999,-0.16913449999999999,-0.86415378458999992,{"$f":"1/(1+EXP(-X36))","v":0.29647223220076635}]
[{"$f":"A54","v":"North West"},null,"Proportion who complete PR","All patients",0.53220670000000003,0,0.21717649999999999,0.5629712,0.55644360000000004,0.45155729999999999,0,8.9128999999999996E-3,0,1.61929E-2,-0.1661774,-0.30241119999999999,-0.43483080000000002,0,-0.25196869999999999,0.28515099999999999,-0.72326630000000003,-0.22715969999999999,-0.31562079999999998,{"$f":"E37+SUMPRODUCT(F37:W37,F$51:W$51)","v":0.48817026611999997},0.61967529917322373]
[{"$f":"A55","v":"London"},null,"Proportion who complete PR","All patients",0.65587130000000005,0,-0.22665920000000001,0.166076,0.21451909999999999,0.2055979,0,2.0232E-2,0,7.3448999999999997E-3,-0.23771239999999999,-0.110024,-0.15249389999999999,0,0.26523249999999998,-0.20585809999999999,-1.3416779999999999,0.12925619999999999,-0.30860500000000002,{"$f":"E38+SUMPRODUCT(F38:W38,F$51:W$51)","v":0.54719964425000012},0.63348564335966506]
["East of England",null,"Proportion who complete PR","All patients",1.2149019999999999,0,-1.53922E-2,-0.23043449999999999,-0.30005609999999999,-0.67052210000000001,0,-7.9134999999999997E-2,0,-1.0932980000000001,-1.0318149999999999,-1.032511,-1.6655359999999999,0,0,-0.52064069999999996,-0.3555509,0,0.59318839999999995,-1.1861872277999996,0.23394154044461737]
["South East",null,"Proportion who complete PR","All patients",0.12792100000000001,0,0.19237209999999999,0.42944870000000002,0.64328149999999995,0.30351089999999997,0,-5.5848E-3,0,7.8362000000000001E-2,-0.11486879999999999,-6.8347099999999994E-2,6.9882899999999998E-2,0,9.1066599999999998E-2,0,-0.60343500000000005,-0.66149369999999996,-9.3007000000000006E-2,0.59649284184999996,0.6448535144372407]
["South West",null,"Proportion who complete PR","All patients",0.50836680000000001,0,-2.4018500000000002E-2,0.3529872,0.24248310000000001,0.39866839999999998,0,0.10247680000000001,0,1.7891399999999998E-2,-8.5583599999999996E-2,-6.2649999999999997E-3,-0.2216379,0,0.1981184,1.3377540000000001,0,0,-7.9913999999999999E-2,0.58614950727999993,0.64248117698486051]
["Midlands",null,"Proportion who complete PR","All patients",0.51146970000000003,0,0.1065482,0.70361510000000005,0.9766437,0.72918669999999997,0,-0.18243580000000001,0,-0.47116019999999997,-8.7964000000000001E-2,-0.40059329999999999,-0.32926060000000001,0,-0.78957690000000003,-0.62678509999999998,0,0.42219839999999997,0.129665,0.70932700573000007,0.67025243562675418]
["North East and Yorkshire",null,"Proportion who complete PR",null,-0.72835349999999999,0,0.93263850000000004,0.97177009999999997,0.78662960000000004,0.69004520000000003,0,-0.218916,0,0.57726650000000002,0.44049129999999997,0.38812619999999998,0.1829645,0,0.52582859999999998,0,-0.37701190000000001,0,-0.37701190000000001,0.50639196361999972,{"$f":"1/(1+EXP(-X43))","v":0.62396028638935019}]
["England",null,"Proportion who complete PR","All patients",0.31780910000000001,0,0.18995519999999999,0.52838320000000005,0.52838320000000005,0.40839550000000002,0,-4.92118E-2,0,-3.7484999999999997E-2,-6.3976900000000003E-2,-0.15034310000000001,-0.2132887,0,-1.07192E-2,-1.44914E-2,-1.0936680000000001,0.1842211,-7.4240399999999998E-2,{"$f":"E44+SUMPRODUCT(F44:W44,F$51:W$51)","v":0.51028164442000001},{"$f":"1/(1+EXP(-X44))","v":0.62487249617399665}]
[]
["Inputs",null,null,null,null,"Age",null,null,null,null,"Gender ",null,"Coefficient 4",null,null,null,null,"Coefficient 5","Coefficient 6","Coefficient 7","Coefficient 8","Coefficient 9","Coefficient 10"]
[null,null,null,null,null,"35-49","50-59","60-69","70-79","80+","% male","% female","IMD 1","IMD 2","IMD 3","IMD 4","IMD 5","White British","South Asian","Black","Other","Mixed","Not Stated"]
["Eligible",null,null,null,null,{"$f":"populationFunnelPopUp!E12","v":0.01},{"$f":"populationFunnelPopUp!E13","v":0.19350000000000001},{"$f":"populationFunnelPopUp!E14","v":0.31280000000000002},{"$f":"populationFunnelPopUp!E15","v":0.27789999999999998},{"$f":"populationFunnelPopUp!E16","v":0.20579999999999998},{"$f":"populationFunnelPopUp!J12","v":0.53339999999999999},{"$f":"populationFunnelPopUp!J13","v":0.46660000000000001},{"$f":"populationFunnelPopUp!O12","v":0.1479},{"$f":"populationFunnelPopUp!O13","v":0.1724},{"$f":"populationFunnelPopUp!O14","v":0.18859999999999999},{"$f":"populationFunnelPopUp!O15","v":0.21779999999999999},{"$f":"populationFunnelPopUp!O16","v":0.27329999999999999},{"$f":"populationFunnelPopUp!T12","v":0.80030000000000001},{"$f":"populationFunnelPopUp!T13","v":1.8100000000000002E-2},{"$f":"populationFunnelPopUp!T14","v":1.04E-2},{"$f":"populationFunnelPopUp!T15","v":3.3999999999999998E-3},{"$f":"populationFunnelPopUp!T16","v":3.0999999999999999E-3},{"$f":"populationFunnelPopUp!T17","v":0.16470000000000007}]
["Referred",null,null,null,null,{"$f":"populationFunnelPopUp!E21","v":4.5699999999999998E-2},{"$f":"populationFunnelPopUp!E22","v":0.14610000000000001},{"$f":"populationFunnelPopUp!E23","v":0.2878},{"$f":"populationFunnelPopUp!E24","v":0.32019999999999998},{"$f":"populationFunnelPopUp!E25","v":0.20019999999999993},{"$f":"populationFunnelPopUp!J21","v":0.5181},{"$f":"populationFunnelPopUp!J22","v":0.4819},{"$f":"populationFunnelPopUp!O21","v":0.13789999999999999},{"$f":"populationFunnelPopUp!O22","v":0.1658},{"$f":"populationFunnelPopUp!O23","v":0.18629999999999999},{"$f":"populationFunnelPopUp!O24","v":0.2223},{"$f":"populationFunnelPopUp!O25","v":0.28770000000000007},{"$f":"populationFunnelPopUp!T21","v":0.80879999999999996},{"$f":"populationFunnelPopUp!T22","v":1.6799999999999999E-2},{"$f":"populationFunnelPopUp!T23","v":8.3000000000000001E-3},{"$f":"populationFunnelPopUp!T25","v":2.3999999999999998E-3},{"$f":"populationFunnelPopUp!T25","v":2.3999999999999998E-3},{"$f":"populationFunnelPopUp!T26","v":0.16100000000000003}]
["Commenced",null,null,null,null,{"$f":"populationFunnelPopUp!E30","v":3.3799999999999997E-2},{"$f":"populationFunnelPopUp!E31","v":0.14199999999999999},{"$f":"populationFunnelPopUp!E32","v":0.32319999999999999},{"$f":"populationFunnelPopUp!E33","v":0.34739999999999999},{"$f":"populationFunnelPopUp!E34","v":0.15359999999999996},{"$f":"populationFunnelPopUp!J30","v":0.52339999999999998},{"$f":"populationFunnelPopUp!O30","v":0.12920000000000001},{"$f":"populationFunnelPopUp!O31","v":0.16189999999999999},{"$f":"populationFunnelPopUp!O32","v":0.17879999999999999},{"$f":"populationFunnelPopUp!O33","v":0.22420000000000001},{"$f":"populationFunnelPopUp!O34","v":0.30590000000000006},{"$f":"populationFunnelPopUp!T30","v":0.83720000000000006},{"$f":"populationFunnelPopUp!T30","v":0.83720000000000006},{"$f":"populationFunnelPopUp!T31","v":1.5699999999999999E-2},{"$f":"populationFunnelPopUp!T32","v":1.0200000000000001E-2},{"$f":"populationFunnelPopUp!T33","v":2.5999999999999999E-3},{"$f":"populationFunnelPopUp!T34","v":2.3E-3},{"$f":"populationFunnelPopUp!T35","v":0.1319999999999999}]
["Completed",null,null,null,null,{"$f":"populationFunnelPopUp!E39","v":2.3599999999999999E-2},{"$f":"populationFunnelPopUp!E40","v":0.1144},{"$f":"populationFunnelPopUp!E41","v":0.32729999999999998},{"$f":"populationFunnelPopUp!E42","v":0.37830000000000003},{"$f":"populationFunnelPopUp!E43","v":0.15639999999999998},{"$f":"populationFunnelPopUp!J39","v":0.52900000000000003},{"$f":"populationFunnelPopUp!O39","v":0.13519999999999999},{"$f":"populationFunnelPopUp!O40","v":0.16589999999999999},{"$f":"populationFunnelPopUp!O41","v":0.18210000000000001},{"$f":"populationFunnelPopUp!O42","v":0.2225},{"$f":"populationFunnelPopUp!O43","v":0.29430000000000001},{"$f":"populationFunnelPopUp!T39","v":0.85709999999999997},{"$f":"populationFunnelPopUp!T39","v":0.85709999999999997},{"$f":"populationFunnelPopUp!T40","v":1.0800000000000001E-2},{"$f":"populationFunnelPopUp!T41","v":8.9999999999999993E-3},{"$f":"populationFunnelPopUp!T42","v":2.2000000000000001E-3},{"$f":"populationFunnelPopUp!T43","v":1.6999999999999999E-3},{"$f":"populationFunnelPopUp!T44","v":0.11919999999999997}]
[]
["Eligible"]
[{"$f":"newDataPrevalence2!A6","v":"North West"},null,null,null,null,9.0899999999999995E-2,0.20830000000000001,0.31669999999999998,0.2631,0.1211,0.51300000000000001,0.48699999999999999,9.5899999999999999E-2,0.1371,0.15160000000000001,0.19889999999999999,0.41649999999999998,0.82920000000000005,1.0200000000000001E-2,4.0000000000000001E-3,2.3E-3,2.3E-3,0.152]
[{"$f":"newDataPrevalence2!A3","v":"London"},null,null,null,null,8.9200000000000002E-2,0.21410000000000001,0.29459999999999997,0.2646,0.13750000000000001,0.54700000000000004,0.45300000000000001,7.8E-2,0.13869999999999999,0.18160000000000001,0.30690000000000001,0.29480000000000001,0.79779999999999995,6.9800000000000001E-2,5.2299999999999999E-2,1.2999999999999999E-2,1.04E-2,5.67E-2]
[{"$f":"newDataPrevalence2!A2","v":"East of England"},null,null,null,null,5.7000000000000002E-2,0.1545,0.30509999999999998,0.31369999999999998,0.16969999999999999,0.55010000000000003,0.44990000000000002,0.29260000000000003,0.25169999999999998,0.2185,0.1681,6.9099999999999995E-2,0.78979999999999995,1.26E-2,3.2000000000000002E-3,3.0999999999999999E-3,2.8E-3,0.1885]
[{"$f":"newDataPrevalence2!A7","v":"South East"},null,null,null,null,7.0499999999999993E-2,0.182,0.308,0.2893,0.1502,0.54339999999999999,0.45660000000000001,0.28520000000000001,0.23200000000000001,0.19919999999999999,0.17519999999999999,0.1084,0.75249999999999995,8.8999999999999999E-3,2.3999999999999998E-3,2.3E-3,2.0999999999999999E-3,0.23169999999999999]
[{"$f":"newDataPrevalence2!A8","v":"South West"},null,null,null,null,7.4700000000000003E-2,0.182,0.31459999999999999,0.28489999999999999,0.14380000000000001,0.54500000000000004,0.45500000000000002,0.14030000000000001,0.18310000000000001,0.22950000000000001,0.2326,0.21440000000000001,0.73880000000000001,3.3999999999999998E-3,5.1999999999999998E-3,1.6000000000000001E-3,1.9E-3,0.24909999999999999]
[{"$f":"newDataPrevalence2!A4","v":"Midlands"},null,null,null,null,7.5700000000000003E-2,0.1865,0.32100000000000001,0.28439999999999999,0.1323,0.54310000000000003,0.45689999999999997,0.12570000000000001,0.17660000000000001,0.20930000000000001,0.21060000000000001,0.27779999999999999,0.81979999999999997,1.8700000000000001E-2,6.1000000000000004E-3,1.5E-3,2E-3,0.152]
[{"$f":"newDataPrevalence2!A5","v":"North East and Yorkshire"},null,null,null,null,7.8299999999999995E-2,0.19670000000000001,0.3236,0.27250000000000002,0.1288,0.50060000000000004,0.49940000000000001,9.8400000000000001E-2,0.13200000000000001,0.15809999999999999,0.23780000000000001,0.37369999999999998,0.87719999999999998,2.7000000000000001E-3,8.0000000000000004E-4,1.2999999999999999E-3,5.9999999999999995E-4,0.1174]
["England",null,null,null,null,7.9500000000000001E-2,0.19350000000000001,0.31280000000000002,0.27789999999999998,0.1363,0.53339999999999999,0.46660000000000001,0.1479,0.1724,0.18859999999999999,0.21779999999999999,0.27329999999999999,0.80030000000000001,1.8100000000000002E-2,1.04E-2,3.3999999999999998E-3,3.0999999999999999E-3,0.16470000000000001]
["Referal"]
[{"$f":"A54","v":"North West"},null,null,null,null,5.7500000000000002E-2,0.16520000000000001,0.2994,0.30709999999999998,0.17080000000000001,0.49490000000000001,0.50509999999999999,8.9200000000000002E-2,0.1268,0.1449,0.19819999999999999,0.44080000000000003,0.84060000000000001,8.6999999999999994E-3,3.5000000000000001E-3,1.9E-3,1.6000000000000001E-3,0.14369999999999999]
[{"$f":"A55","v":"London"},null,null,null,null,4.9299999999999997E-2,0.15920000000000001,0.27379999999999999,0.30919999999999997,0.20849999999999999,0.52549999999999997,0.47449999999999998,7.7700000000000005E-2,0.1391,0.18029999999999999,0.30630000000000002,0.29659999999999997,0.8206,6.4500000000000002E-2,4.0800000000000003E-2,9.7000000000000003E-3,8.3999999999999995E-3,5.5899999999999998E-2]
["East of England",null,null,null,null,2.8000000000000001E-2,0.11,0.26379999999999998,0.34389999999999998,0.25419999999999998,0.53900000000000003,0.46100000000000002,0.28050000000000003,0.2545,0.214,0.1792,7.1800000000000003E-2,0.79659999999999997,9.9000000000000008E-3,1.6999999999999999E-3,2.0999999999999999E-3,1.6999999999999999E-3,0.188]
["South East",null,null,null,null,3.7600000000000001E-2,0.1313,0.2762,0.3332,0.22170000000000001,0.53139999999999998,0.46860000000000002,0.27079999999999999,0.2271,0.2046,0.18390000000000001,0.11360000000000001,0.74980000000000002,8.0000000000000002E-3,1.6000000000000001E-3,2.0999999999999999E-3,1.6999999999999999E-3,0.23680000000000001]
["South West",null,null,null,null,4.2000000000000003E-2,0.1341,0.28660000000000002,0.32540000000000002,0.21199999999999999,0.53269999999999995,0.46729999999999999,0.13300000000000001,0.17519999999999999,0.22819999999999999,0.23949999999999999,0.22409999999999999,0.74990000000000001,2.8999999999999998E-3,4.0000000000000001E-3,1.2999999999999999E-3,1.2999999999999999E-3,0.24049999999999999]
["Midlands",null,null,null,null,4.3299999999999998E-2,0.14119999999999999,0.26690000000000003,0.32340000000000002,0.19520000000000001,0.53129999999999999,0.46870000000000001,0.1124,0.16969999999999999,0.20469999999999999,0.21779999999999999,0.29530000000000001,0.82279999999999998,1.89E-2,5.4000000000000003E-3,1.1000000000000001E-3,1.6000000000000001E-3,0.15029999999999999]
["North East and Yorkshire",null,null,null,null,4.41E-2,0.1484,0.29430000000000001,0.3211,0.19209999999999999,0.48299999999999998,0.51700000000000002,8.7400000000000005E-2,0.1241,0.15679999999999999,0.24030000000000001,0.39129999999999998,0.88729999999999998,2.5000000000000001E-3,5.0000000000000001E-4,1E-3,5.9999999999999995E-4,0.1082]
["England",null,null,null,null,4.5699999999999998E-2,0.14610000000000001,0.2878,0.32019999999999998,0.20019999999999999,0.5181,0.4819,0.13789999999999999,0.1658,0.18629999999999999,0.2223,0.28770000000000001,0.80879999999999996,1.6799999999999999E-2,8.3000000000000001E-3,2.7000000000000001E-3,2.3999999999999998E-3,0.161]
["Commencement"]
[{"$f":"A63","v":"North West"},null,null,null,null,4.1599999999999998E-2,0.1537,0.33950000000000002,0.33250000000000002,0.13270000000000001,0.49990000000000001,0.50009999999999999,8.5999999999999993E-2,0.12920000000000001,0.14419999999999999,0.20649999999999999,0.43309999999999998,0.85819999999999996,8.8999999999999999E-3,5.0000000000000001E-3,1.6999999999999999E-3,1.6000000000000001E-3,0.12470000000000001]
[{"$f":"A64","v":"London"},null,null,null,null,3.8300000000000001E-2,0.1772,0.2994,0.32319999999999999,0.16189999999999999,0.52969999999999995,0.4703,5.6399999999999999E-2,0.1123,0.161,0.30840000000000001,0.3619,83.48,6.7199999999999996E-2,4.9399999999999999E-2,1.0500000000000001E-2,7.9000000000000008E-3,3.0300000000000001E-2]
["East of England",null,null,null,null,2.1100000000000001E-2,7.7499999999999999E-2,0.30690000000000001,0.4017,0.1928,0.56369999999999998,0.43630000000000002,0.19470000000000001,0.22550000000000001,0.1928,0.25619999999999998,0.13070000000000001,0.86799999999999999,0.64,3.2000000000000002E-3,3.2000000000000002E-3,1.2999999999999999E-3,0.1179]
["South East",null,null,null,null,2.76E-2,0.11749999999999999,0.30330000000000001,0.38080000000000003,0.1709,0.53769999999999996,0.46229999999999999,0.2863,0.2268,0.20280000000000001,0.1787,0.10539999999999999,0.78469999999999995,5.1000000000000004E-3,1E-3,2E-3,1.1999999999999999E-3,0.20610000000000001]
["South West",null,null,null,null,2.8000000000000001E-2,0.13350000000000001,0.32469999999999999,0.35649999999999998,0.1573,0.54430000000000001,0.45569999999999999,0.1153,0.18640000000000001,0.22770000000000001,0.22989999999999999,0.2407,0.80459999999999998,4.0000000000000001E-3,8.0000000000000002E-3,8.0000000000000004E-4,1.1000000000000001E-3,0.18160000000000001]
["Midlands",null,null,null,null,3.1199999999999999E-2,0.13300000000000001,0.32629999999999998,0.34970000000000001,0.1598,0.53859999999999997,0.46139999999999998,0.11799999999999999,0.17829999999999999,0.19650000000000001,0.21199999999999999,0.29520000000000002,0.83489999999999998,1.4200000000000001E-2,5.8999999999999999E-3,5.9999999999999995E-4,2.2000000000000001E-3,0.1421]
["North East and Yorkshire",null,null,null,null,3.2599999999999997E-2,0.15790000000000001,0.34749999999999998,0.32519999999999999,0.13689999999999999,0.47760000000000002,0.52239999999999998,7.7299999999999994E-2,0.1134,0.156,0.25280000000000002,0.40039999999999998,0.92269999999999996,1.2999999999999999E-3,0,8.0000000000000004E-4,0.03,7.4900000000000008E-2]
["England",null,null,null,null,3.3799999999999997E-2,0.14199999999999999,0.32319999999999999,0.34739999999999999,0.15359999999999999,0.52339999999999998,0.47660000000000002,0.12920000000000001,0.16189999999999999,0.17879999999999999,0.22420000000000001,0.30590000000000001,0.83720000000000006,1.5699999999999999E-2,1.0200000000000001E-2,2.5999999999999999E-3,2.3E-3,0.13200000000000001]
["Completion"]
[{"$f":"A72","v":"North West"},null,null,null,null,2.92E-2,0.1237,0.34260000000000002,0.2651,0.13930000000000001,0.50380000000000003,0.49619999999999997,9.7900000000000001E-2,0.14219999999999999,0.16159999999999999,0.21,0.38819999999999999,0.86160000000000003,5.5999999999999999E-3,4.3E-3,8.0000000000000004E-4,0.14000000000000001,0.12640000000000001]
[{"$f":"A73","v":"London"},null,null,null,null,2.7099999999999999E-2,0.14899999999999999,0.30199999999999999,0.35610000000000003,0.16579999999999998,0.51400000000000001,0.48599999999999999,5.6099999999999997E-2,0.1008,0.1628,0.2878,0.39250000000000002,0.85880000000000001,5.1200000000000002E-2,4.9700000000000001E-2,1.0800000000000001E-2,7.4000000000000003E-3,2.2100000000000002E-2]
["East of England",null,null,null,null,1.89E-2,5.3600000000000002E-2,0.29499999999999998,0.40379999999999999,0.22869999999999999,0.59309999999999996,0.40689999999999998,0.17510000000000001,0.22239999999999999,0.18609999999999999,0.29970000000000002,0.1167,0.85960000000000003,1.6000000000000001E-3,4.7000000000000002E-3,4.7000000000000002E-3,0,0.1293]
["South East",null,null,null,null,1.66E-2,9.5899999999999999E-2,0.2959,0.4173,0.1744,0.56579999999999997,0.43419999999999997,0.32829999999999998,0.21590000000000001,0.19320000000000001,0.1676,9.5100000000000004E-2,0.82850000000000001,4.3E-3,6.9999999999999999E-4,3.5999999999999999E-3,6.9999999999999999E-4,0.16220000000000001]
["South West",null,null,null,null,1.3899999999999999E-2,0.11020000000000001,0.31319999999999998,0.40400000000000003,0.1588,0.54190000000000005,0.45810000000000001,0.11169999999999999,0.217,0.24129999999999999,0.22989999999999999,0.2001,0.83179999999999998,1.5E-3,7.0899999999999999E-3,0,1E-3,0.1578]
["Midlands",null,null,null,null,2.5600000000000001E-2,0.1009,0.3488,0.3775,0.1472,0.54849999999999999,0.45150000000000001,0.11799999999999999,0.18429999999999999,0.19420000000000001,0.2112,0.29220000000000002,0.84560000000000002,1.14E-2,5.1000000000000004E-3,0,1.1000000000000001E-3,0.1368]
["North East and Yorkshire",null,null,null,null,2.3E-2,0.13289999999999999,0.34379999999999999,0.34200000000000003,0.1583,0.48039999999999999,0.51959999999999995,7.6799999999999993E-2,0.1106,0.15049999999999999,0.2606,0.40150000000000002,0.94440000000000002,1.8E-3,0,5.9999999999999995E-4,0,5.3199999999999997E-2]
["England",null,null,null,null,2.3599999999999999E-2,0.1144,0.32729999999999998,0.37830000000000003,0.15640000000000001,0.52900000000000003,0.47099999999999997,0.13519999999999999,0.16589999999999999,0.18210000000000001,0.2225,0.29430000000000001,0.85709999999999997,1.0800000000000001E-2,8.9999999999999993E-3,2.2000000000000001E-3,1.6999999999999999E-3,0.1192]
["Regional benchmarks for referral, uptake and completion"]
[]
[null,"Referral","Uptake","Completion"]
["North West",0.92,0.62,0.78]
["London",0.88,0.64,0.8]
["East of England",0.92,0.79,0.75]
["North East",0.83,0.73,0.8]
["South East ",0.91,0.45,0.81]
["South West",0.93,0.42,0.84]
["Midlands",0.94,0.43,0.88]
["North East and Yorkshire",0.94,0.43,0.88]
["England",0.94,0.56000000000000005,0.79]
[]
[]
["Chosen",{"$f":"_xlfn.XLOOKUP(CalculationSheet!$D$1,CPRD_regressionCoefficients!$A$92:$A$100,CPRD_regressionCoefficients!B92:B100)","v":0.94},{"$f":"_xlfn.XLOOKUP(CalculationSheet!$D$1,CPRD_regressionCoefficients!$A$92:$A$100,CPRD_regressionCoefficients!C92:C100)","v":0.56000000000000005},{"$f":"_xlfn.XLOOKUP(CalculationSheet!$D$1,CPRD_regressionCoefficients!$A$92:$A$100,CPRD_regressionCoefficients!D92:D100)","v":0.79}]

{"sheet":"Attrition_data","index":53,"n_rows":159,"n_cols":12,"rows_kept":159,"cut":false,"hidden":false,"merged":[]}
["Area name","24-25 % Eligible lower","24-25  % Eligible upper","24-25  % referred","24-25  % Started ","24-25  % completed  ",null,"23-24 % Eligible lower","23-24  % Eligible upper","23-24  % referred","23-24  % Started ","23-24  % completed  "]
["England",0.27210000000000001,0.39750000000000002,0.22539999999999999,0.30309999999999998,0.68983022599999999,null,0.27780401527277493,0.39750000000000002,0.2816105861271499,0.30309999999999998,0.68983022599999999]
["London",0.2419,0.3977,0.34,0.25979999999999998,0.64505327199999996,null,0.25529381217151503,0.3977,0.3817556903868411,0.25979999999999998,0.64505327199999996]
["South West",0.27560000000000001,0.39369999999999999,0.2185,0.30969999999999998,0.74393037100000003,null,0.28315318109872978,0.39369999999999999,0.27896067415730336,0.30969999999999998,0.74393037100000003]
["South East",0.26150000000000001,0.38150000000000001,0.2407,0.27900000000000003,0.74107907500000003,null,0.26283143451345142,0.38150000000000001,0.27528375011534556,0.27900000000000003,0.74107907500000003]
["Midlands",0.27700000000000002,0.39090000000000003,0.21160000000000001,0.313,0.69040036400000004,null,0.28618497337458049,0.39090000000000003,0.26987233391942511,0.313,0.69040036400000004]
["East of England",0.24859999999999999,0.3679,0.217,0.35549999999999998,0.68337540600000002,null,0.25279673211716103,0.3679,0.2874586852735953,0.35549999999999998,0.68337540600000002]
["North West",0.28599999999999998,0.42880000000000001,0.23669999999999999,0.30530000000000002,0.63512793199999995,null,0.2921953509960224,0.42880000000000001,0.2736793498337643,0.30530000000000002,0.63512793199999995]
["North East and Yorkshire",0.28949999999999998,0.38140000000000002,0.18079999999999999,0.36399999999999999,0.70676328499999996,null,0.29069453633736114,0.38140000000000002,0.25943728194300947,0.36399999999999999,0.70676328499999996]
[]
["NHS Bath and North East Somerset, Swindon and Wiltshire Integrated Care Board",0.26340000000000002,0.39369999999999999,0.18060000000000001,0.30969999999999998,0.72261072299999995,null,0.27451971688574317,0.39369999999999999,0.26662574176386333,0.30969999999999998,0.72261072299999995]
["NHS Bedfordshire, Luton and Milton Keynes Integrated Care Board",0.2014,0.3679,0.2074,0.35549999999999998,0.66721854300000005,null,0.21030375223347231,0.3679,0.27017841971112999,0.35549999999999998,0.66721854300000005]
["NHS Birmingham and Solihull Integrated Care Board",0.32169999999999999,0.39090000000000003,0.26090000000000002,0.313,0.75358166199999999,null,0.32379823967501692,0.39090000000000003,0.32788813382122323,0.313,0.75358166199999999]
["NHS Black Country Integrated Care Board",0.31369999999999998,0.39090000000000003,0.19639999999999999,0.313,0.65638766500000001,null,0.32759330662973085,0.39090000000000003,0.23688721288995543,0.313,0.65638766500000001]
["NHS Bristol, North Somerset and South Gloucestershire Integrated Care Board",0.2994,0.39369999999999999,0.29110000000000003,0.30969999999999998,0.76712328799999996,null,0.28870640819084248,0.39369999999999999,0.34077407740774079,0.30969999999999998,0.76712328799999996]
["NHS Buckinghamshire, Oxfordshire and Berkshire West Integrated Care Board",0.24529999999999999,0.38150000000000001,0.27539999999999998,0.27900000000000003,0.74853801200000003,null,0.25402931886288166,0.38150000000000001,0.31739199744938623,0.27900000000000003,0.74853801200000003]
["NHS Cambridgeshire and Peterborough Integrated Care Board",0.28370000000000001,0.3679,0.1961,0.35549999999999998,0.69193154000000001,null,0.27814606741573034,0.3679,0.23570995758432639,0.35549999999999998,0.69193154000000001]
["NHS Cheshire and Merseyside Integrated Care Board",0.28899999999999998,0.42880000000000001,0.22339999999999999,0.30530000000000002,0.604859335,null,0.29831034875769319,0.42880000000000001,0.26004107168441665,0.30530000000000002,0.604859335]
["NHS Cornwall and the Isles of Scilly Integrated Care Board",0.27650000000000002,0.39369999999999999,0.2321,0.30969999999999998,0.82214765099999998,null,0.28201953501169347,0.39369999999999999,0.28268292682926827,0.30969999999999998,0.82214765099999998]
["NHS Coventry and Warwickshire Integrated Care Board",0.27100000000000002,0.39090000000000003,0.245,0.313,0.764044944,null,0.29514563106796116,0.39090000000000003,0.29856811145510836,0.313,0.764044944]
["NHS Derby and Derbyshire Integrated Care Board",0.27489999999999998,0.39090000000000003,0.18629999999999999,0.313,0.78194207800000004,null,0.27806508075423664,0.39090000000000003,0.25278969957081543,0.313,0.78194207800000004]
["NHS Devon Integrated Care Board",0.29980000000000001,0.39369999999999999,0.19400000000000001,0.30969999999999998,0.89436619699999997,null,0.32482621648460774,0.39369999999999999,0.2416182614898604,0.30969999999999998,0.89436619699999997]
["NHS Dorset Integrated Care Board",0.24729999999999999,0.39369999999999999,0.20180000000000001,0.30969999999999998,0.59816513800000004,null,0.2452597329743072,0.39369999999999999,0.29574565416285453,0.30969999999999998,0.59816513800000004]
["NHS Frimley Integrated Care Board",0.2392,0.38150000000000001,0.26600000000000001,0.27900000000000003,0.76938775500000001,null,0.25408401400233371,0.38150000000000001,0.3654802908534252,0.27900000000000003,0.76938775500000001]
["NHS Gloucestershire Integrated Care Board",0.24610000000000001,0.39369999999999999,0.24049999999999999,0.30969999999999998,0.85365853700000005,null,0.26492154852952771,0.39369999999999999,0.32470238095238096,0.30969999999999998,0.85365853700000005]
["NHS Greater Manchester Integrated Care Board",0.28770000000000001,0.42880000000000001,0.24440000000000001,0.30530000000000002,0.67561168100000002,null,0.29702133652559681,0.42880000000000001,0.28231389284020864,0.30530000000000002,0.67561168100000002]
["NHS Hampshire and the Isle of Wight Integrated Care Board",0.26850000000000002,0.38150000000000001,0.20230000000000001,0.27900000000000003,0.65968586399999996,null,0.26186930513137635,0.38150000000000001,0.23749397590361446,0.27900000000000003,0.65968586399999996]
["NHS Herefordshire and Worcestershire Integrated Care Board",0.25840000000000002,0.39090000000000003,0.1973,0.313,0.74900398400000001,null,0.27520840470480756,0.39090000000000003,0.23651452282157676,0.313,0.74900398400000001]
["NHS Hertfordshire and West Essex Integrated Care Board",0.2482,0.3679,0.23419999999999999,0.35549999999999998,0.63245492400000003,null,0.24919981710105166,0.3679,0.30058381984987492,0.35549999999999998,0.63245492400000003]
["NHS Humber and North Yorkshire Integrated Care Board",0.2717,0.38140000000000002,0.1898,0.36399999999999999,0.72690217400000001,null,0.26754375876900433,0.38140000000000002,0.26280949105914719,0.36399999999999999,0.72690217400000001]
["NHS Kent and Medway Integrated Care Board",0.2757,0.38150000000000001,0.2626,0.27900000000000003,0.79499404100000004,null,0.28301886792452829,0.38150000000000001,0.28538631346578369,0.27900000000000003,0.79499404100000004]
["NHS Lancashire and South Cumbria Integrated Care Board",0.27850000000000003,0.42880000000000001,0.24510000000000001,0.30530000000000002,0.63083604800000004,null,0.2746881378997505,0.42880000000000001,0.28222277268598794,0.30530000000000002,0.63083604800000004]
["NHS Leicester, Leicestershire and Rutland Integrated Care Board",0.2485,0.39090000000000003,0.1734,0.313,0.58777120299999996,null,0.26449579831932774,0.39090000000000003,0.27700555996822873,0.313,0.58777120299999996]
["NHS Lincolnshire Integrated Care Board",0.22500000000000001,0.39090000000000003,0.15079999999999999,0.313,0.798816568,null,0.23926625681011646,0.39090000000000003,0.24148736160434511,0.313,0.798816568]
["NHS Mid and South Essex Integrated Care Board",0.23319999999999999,0.3679,0.26519999999999999,0.35549999999999998,0.71827956999999998,null,0.24774335720642454,0.3679,0.36589120766335959,0.35549999999999998,0.71827956999999998]
["NHS Norfolk and Waveney Integrated Care Board ",0.26219999999999999,0.3679,0.15290000000000001,0.35549999999999998,0.81603773599999996,null,0.26535286915998579,0.3679,0.22473582378330109,0.35549999999999998,0.81603773599999996]
["NHS North Central London Integrated Care Board",0.2495,0.3977,0.37680000000000002,0.25979999999999998,0.59150326799999997,null,0.24462037086233462,0.3977,0.43418766290182448,0.25979999999999998,0.59150326799999997]
["NHS North East London Integrated Care Board",0.27989999999999998,0.3977,0.34599999999999997,0.25979999999999998,0.66346153799999996,null,0.2802606684885432,0.3977,0.39408940894089411,0.25979999999999998,0.66346153799999996]
["NHS North East and North Cumbria Integrated Care Board",0.31169999999999998,0.38140000000000002,0.1699,0.36399999999999999,0.56459330100000005,null,0.30759217640906966,0.38140000000000002,0.24516222374941224,0.36399999999999999,0.56459330100000005]
["NHS North West London Integrated Care Board",0.17910000000000001,0.3977,0.37309999999999999,0.25979999999999998,0.73037542700000002,null,0.21838803088803088,0.3977,0.39834254143646408,0.25979999999999998,0.73037542700000002]
["NHS Northamptonshire Integrated Care Board",0.2676,0.39090000000000003,0.20200000000000001,0.313,0.53495934999999994,null,0.27741041627306506,0.39090000000000003,0.27037457434733259,0.313,0.53495934999999994]
["NHS Nottingham and Nottinghamshire Integrated Care Board",0.28610000000000002,0.39090000000000003,0.21210000000000001,0.313,0.74583333299999999,null,0.29423955175192845,0.39090000000000003,0.28459632189904788,0.313,0.74583333299999999]
["NHS Shropshire, Telford and Wrekin Integrated Care Board",0.29420000000000002,0.39090000000000003,0.23799999999999999,0.313,0.87323943699999995,null,0.27781100478468901,0.39090000000000003,0.25941872981700753,0.313,0.87323943699999995]
["NHS Somerset Integrated Care Board",0.26690000000000003,0.39369999999999999,0.19700000000000001,0.30969999999999998,0.72727272700000001,null,0.26163700007447682,0.39369999999999999,0.23370338741816113,0.30969999999999998,0.72727272700000001]
["NHS South East London Integrated Care Board",0.26819999999999999,0.3977,0.2974,0.25979999999999998,0.62885326799999997,null,0.28196696237381463,0.3977,0.32845131543260103,0.25979999999999998,0.62885326799999997]
["NHS South West London Integrated Care Board",0.23669999999999999,0.3977,0.32440000000000002,0.25979999999999998,0.63145809399999997,null,0.24572377525601993,0.3977,0.37711196215363818,0.25979999999999998,0.63145809399999997]
["NHS South Yorkshire Integrated Care Board",0.25929999999999997,0.38140000000000002,0.183,0.36399999999999999,0.77624784899999999,null,0.26050399447677286,0.38140000000000002,0.2507335541883578,0.36399999999999999,0.77624784899999999]
["NHS Staffordshire and Stoke-on-Trent Integrated Care Board",0.26910000000000001,0.39090000000000003,0.2465,0.313,0.66666666699999999,null,0.27173470520744664,0.39090000000000003,0.26859166439662219,0.313,0.66666666699999999]
["NHS Suffolk and North East Essex Integrated Care Board",0.25940000000000002,0.3679,0.25309999999999999,0.35549999999999998,0.67955801100000002,null,0.25971511547503801,0.3679,0.32321618743343983,0.35549999999999998,0.67955801100000002]
["NHS Surrey Heartlands Integrated Care Board",0.26390000000000002,0.38150000000000001,0.2737,0.27900000000000003,0.73076923100000002,null,0.26202838352371061,0.38150000000000001,0.29035667107001323,0.27900000000000003,0.73076923100000002]
["NHS Sussex Integrated Care Board",0.25430000000000003,0.38150000000000001,0.21629999999999999,0.27900000000000003,0.77290076299999999,null,0.25026484527460274,0.38150000000000001,0.24417957001225354,0.27900000000000003,0.77290076299999999]
["NHS West Yorkshire Integrated Care Board",0.2903,0.38140000000000002,0.1913,0.36399999999999999,0.742621015,null,0.30345210583830456,0.38140000000000002,0.28584922368498733,0.36399999999999999,0.742621015]
[]
["NHS Bath and North East Somerset, Swindon and Wiltshire ICB - 92G",0.26340000000000002,0.39369999999999999,0.18060000000000001,0.30969999999999998,0.72261072299999995,null,0.27451971688574317,0.39369999999999999,0.26662574176386333,0.30969999999999998,0.72261072299999995]
["NHS Bedfordshire, Luton and Milton Keynes ICB - M1J4Y",0.2014,0.3679,0.2074,0.35549999999999998,0.66721854300000005,null,0.21030375223347231,0.3679,0.27017841971112999,0.35549999999999998,0.66721854300000005]
["NHS Birmingham and Solihull ICB - 15E",0.32169999999999999,0.39090000000000003,0.26090000000000002,0.313,0.75358166199999999,null,0.32379823967501692,0.39090000000000003,0.32788813382122323,0.313,0.75358166199999999]
["NHS Black Country ICB - D2P2L",0.31369999999999998,0.39090000000000003,0.19639999999999999,0.313,0.65638766500000001,null,0.32759330662973085,0.39090000000000003,0.23688721288995543,0.313,0.65638766500000001]
["NHS Bristol, North Somerset and South Gloucestershire ICB - 15C",0.2994,0.39369999999999999,0.29110000000000003,0.30969999999999998,0.76712328799999996,null,0.28870640819084248,0.39369999999999999,0.34077407740774079,0.30969999999999998,0.76712328799999996]
["NHS Buckinghamshire, Oxfordshire and Berkshire West ICB - 10Q",0.23899999999999999,0.38150000000000001,0.2823,0.27900000000000003,0.74853801200000003,null,0.2452075190768658,0.38150000000000001,0.3047438330170778,0.27900000000000003,0.74853801200000003]
["NHS Buckinghamshire, Oxfordshire and Berkshire West ICB - 14Y",0.24329999999999999,0.38150000000000001,0.25929999999999997,0.27900000000000003,0.74853801200000003,null,0.25452250736222126,0.38150000000000001,0.33333333333333331,0.27900000000000003,0.74853801200000003]
["NHS Buckinghamshire, Oxfordshire and Berkshire West ICB - 15A",0.2576,0.38150000000000001,0.28089999999999998,0.27900000000000003,0.74853801200000003,null,0.26741968607892036,0.38150000000000001,0.31980252331321996,0.27900000000000003,0.74853801200000003]
["NHS Cambridgeshire and Peterborough ICB - 06H",0.28370000000000001,0.3679,0.1961,0.35549999999999998,0.69193154000000001,null,0.27814606741573034,0.3679,0.23570995758432639,0.35549999999999998,0.69193154000000001]
["NHS Cheshire and Merseyside ICB - 01F",0.3075,0.42880000000000001,0.2122,0.30530000000000002,0.604859335,null,0.28010287584755672,0.42880000000000001,0.28213689482470783,0.30530000000000002,0.604859335]
["NHS Cheshire and Merseyside ICB - 01J",0.38319999999999999,0.42880000000000001,0.2457,0.30530000000000002,0.604859335,null,0.34595717481623522,0.42880000000000001,0.31916859122401847,0.30530000000000002,0.604859335]
["NHS Cheshire and Merseyside ICB - 01T",0.2918,0.42880000000000001,0.2228,0.30530000000000002,0.604859335,null,0.28716444845477102,0.42880000000000001,0.26708562450903378,0.30530000000000002,0.604859335]
["NHS Cheshire and Merseyside ICB - 01V",0.20860000000000001,0.42880000000000001,0.18729999999999999,0.30530000000000002,0.604859335,null,0.2267221801665405,0.42880000000000001,0.24874791318864775,0.30530000000000002,0.604859335]
["NHS Cheshire and Merseyside ICB - 01X",0.2873,0.42880000000000001,0.21629999999999999,0.30530000000000002,0.604859335,null,0.2987302676733013,0.42880000000000001,0.20390580126364158,0.30530000000000002,0.604859335]
["NHS Cheshire and Merseyside ICB - 02E",0.25800000000000001,0.42880000000000001,0.20300000000000001,0.30530000000000002,0.604859335,null,0.26635282457879089,0.42880000000000001,0.18883720930232559,0.30530000000000002,0.604859335]
["NHS Cheshire and Merseyside ICB - 12F",0.27479999999999999,0.42880000000000001,0.24709999999999999,0.30530000000000002,0.604859335,null,0.30900325148559254,0.42880000000000001,0.28519593613933236,0.30530000000000002,0.604859335]
["NHS Cheshire and Merseyside ICB - 27D",0.2485,0.42880000000000001,0.21460000000000001,0.30530000000000002,0.604859335,null,0.27007663073951776,0.42880000000000001,0.2500576701268743,0.30530000000000002,0.604859335]
["NHS Cheshire and Merseyside ICB - 99A",0.31580000000000003,0.42880000000000001,0.2225,0.30530000000000002,0.604859335,null,0.32662835249042144,0.42880000000000001,0.25858202518544077,0.30530000000000002,0.604859335]
["NHS Cornwall and The Isles Of Scilly ICB - 11N",0.27650000000000002,0.39369999999999999,0.2321,0.30969999999999998,0.82214765099999998,null,0.28201953501169347,0.39369999999999999,0.28268292682926827,0.30969999999999998,0.82214765099999998]
["NHS Coventry and Warwickshire ICB - B2M3M",0.27100000000000002,0.39090000000000003,0.245,0.313,0.764044944,null,0.29514563106796116,0.39090000000000003,0.29856811145510836,0.313,0.764044944]
["NHS Derby and Derbyshire ICB - 15M",0.27489999999999998,0.39090000000000003,0.18629999999999999,0.313,0.78194207800000004,null,0.27806508075423664,0.39090000000000003,0.25278969957081543,0.313,0.78194207800000004]
["NHS Devon ICB - 15N",0.29980000000000001,0.39369999999999999,0.19400000000000001,0.30969999999999998,0.89436619699999997,null,0.32482621648460774,0.39369999999999999,0.2416182614898604,0.30969999999999998,0.89436619699999997]
["NHS Dorset ICB - 11J",0.24729999999999999,0.39369999999999999,0.20180000000000001,0.30969999999999998,0.59816513800000004,null,0.2452597329743072,0.39369999999999999,0.29574565416285453,0.30969999999999998,0.59816513800000004]
["NHS Frimley ICB - D4U1Y",0.2392,0.38150000000000001,0.26600000000000001,0.27900000000000003,0.76938775500000001,null,0.25408401400233371,0.38150000000000001,0.3654802908534252,0.27900000000000003,0.76938775500000001]
["NHS Gloucestershire ICB - 11M",0.24610000000000001,0.39369999999999999,0.24049999999999999,0.30969999999999998,0.85365853700000005,null,0.26492154852952771,0.39369999999999999,0.32470238095238096,0.30969999999999998,0.85365853700000005]
["NHS Greater Manchester ICB - 00T",0.30159999999999998,0.42880000000000001,0.17199999999999999,0.30530000000000002,0.67561168100000002,null,0.32824106517168888,0.42880000000000001,0.18104184457728437,0.30530000000000002,0.67561168100000002]
["NHS Greater Manchester ICB - 00V",0.27329999999999999,0.42880000000000001,0.249,0.30530000000000002,0.67561168100000002,null,0.28324498732426828,0.42880000000000001,0.30024410089503661,0.30530000000000002,0.67561168100000002]
["NHS Greater Manchester ICB - 00Y",0.29139999999999999,0.42880000000000001,0.2462,0.30530000000000002,0.67561168100000002,null,0.29178224687933424,0.42880000000000001,0.24420677361853832,0.30530000000000002,0.67561168100000002]
["NHS Greater Manchester ICB - 01D",0.26939999999999997,0.42880000000000001,0.31219999999999998,0.30530000000000002,0.67561168100000002,null,0.30170968823332217,0.42880000000000001,0.39111111111111113,0.30530000000000002,0.67561168100000002]
["NHS Greater Manchester ICB - 01G",0.29530000000000001,0.42880000000000001,0.21609999999999999,0.30530000000000002,0.67561168100000002,null,0.27486644619689649,0.42880000000000001,0.29615918556223969,0.30530000000000002,0.67561168100000002]
["NHS Greater Manchester ICB - 01W",0.26779999999999998,0.42880000000000001,0.2787,0.30530000000000002,0.67561168100000002,null,0.28377391558346721,0.42880000000000001,0.28769943386515695,0.30530000000000002,0.67561168100000002]
["NHS Greater Manchester ICB - 01Y",0.2797,0.42880000000000001,0.2301,0.30530000000000002,0.67561168100000002,null,0.29565609499473922,0.42880000000000001,0.24300965937976615,0.30530000000000002,0.67561168100000002]
["NHS Greater Manchester ICB - 02A",0.28070000000000001,0.42880000000000001,0.32969999999999999,0.30530000000000002,0.67561168100000002,null,0.29030901828883748,0.42880000000000001,0.2671976828385228,0.30530000000000002,0.67561168100000002]
["NHS Greater Manchester ICB - 02H",0.26319999999999999,0.42880000000000001,0.20610000000000001,0.30530000000000002,0.67561168100000002,null,0.26746843054720387,0.42880000000000001,0.28821942446043164,0.30530000000000002,0.67561168100000002]
["NHS Greater Manchester ICB - 14L",0.31929999999999997,0.42880000000000001,0.25540000000000002,0.30530000000000002,0.67561168100000002,null,0.32627404026042056,0.42880000000000001,0.31169724770642204,0.30530000000000002,0.67561168100000002]
["NHS Hampshire and Isle Of Wight ICB - 10R",0.26190000000000002,0.38150000000000001,0.14810000000000001,0.27900000000000003,0.65968586399999996,null,0.24295554164057609,0.38150000000000001,0.18105670103092783,0.27900000000000003,0.65968586399999996]
["NHS Hampshire and Isle Of Wight ICB - D9Y0V",0.26979999999999998,0.38150000000000001,0.21260000000000001,0.27900000000000003,0.65968586399999996,null,0.26550510065902322,0.38150000000000001,0.2474215119573841,0.27900000000000003,0.65968586399999996]
["NHS Herefordshire and Worcestershire ICB - 18C",0.25840000000000002,0.39090000000000003,0.1973,0.313,0.74900398400000001,null,0.27520840470480756,0.39090000000000003,0.23651452282157676,0.313,0.74900398400000001]
["NHS Hertfordshire and West Essex ICB - 06K",0.20830000000000001,0.3679,0.2225,0.35549999999999998,0.63245492400000003,null,0.20461426036120681,0.3679,0.28520408163265304,0.35549999999999998,0.63245492400000003]
["NHS Hertfordshire and West Essex ICB - 06N",0.28189999999999998,0.3679,0.24049999999999999,0.35549999999999998,0.63245492400000003,null,0.28950805398345669,0.3679,0.31616541353383459,0.35549999999999998,0.63245492400000003]
["NHS Hertfordshire and West Essex ICB - 07H",0.26350000000000001,0.3679,0.23949999999999999,0.35549999999999998,0.63245492400000003,null,0.25992438563327031,0.3679,0.29236363636363638,0.35549999999999998,0.63245492400000003]
["NHS Humber and North Yorkshire ICB - 02Y",0.21229999999999999,0.38140000000000002,0.1865,0.36399999999999999,0.72690217400000001,null,0.22043076923076924,0.38140000000000002,0.24734785036292575,0.36399999999999999,0.72690217400000001]
["NHS Humber and North Yorkshire ICB - 03F",0.2407,0.38140000000000002,0.1608,0.36399999999999999,0.72690217400000001,null,0.23356401384083045,0.38140000000000002,0.20261437908496732,0.36399999999999999,0.72690217400000001]
["NHS Humber and North Yorkshire ICB - 03H",0.29959999999999998,0.38140000000000002,0.20979999999999999,0.36399999999999999,0.72690217400000001,null,0.3082010582010582,0.38140000000000002,0.34396076026977312,0.36399999999999999,0.72690217400000001]
["NHS Humber and North Yorkshire ICB - 03K",0.31309999999999999,0.38140000000000002,0.13519999999999999,0.36399999999999999,0.72690217400000001,null,0.31650570676031609,0.38140000000000002,0.23717059639389737,0.36399999999999999,0.72690217400000001]
["NHS Humber and North Yorkshire ICB - 03Q",0.30980000000000002,0.38140000000000002,0.2215,0.36399999999999999,0.72690217400000001,null,0.29016367392340697,0.38140000000000002,0.29956188389923327,0.36399999999999999,0.72690217400000001]
["NHS Humber and North Yorkshire ICB - 42D",0.29799999999999999,0.38140000000000002,0.214,0.36399999999999999,0.72690217400000001,null,0.28204581779435267,0.38140000000000002,0.26407253494522098,0.36399999999999999,0.72690217400000001]
["NHS Kent and Medway ICB - 91Q",0.2757,0.38150000000000001,0.2626,0.27900000000000003,0.79499404100000004,null,0.28301886792452829,0.38150000000000001,0.28538631346578369,0.27900000000000003,0.79499404100000004]
["NHS Lancashire and South Cumbria ICB - 00Q",0.23380000000000001,0.42880000000000001,0.2883,0.30530000000000002,0.63083604800000004,null,0.25093233883857219,0.42880000000000001,0.29511677282377918,0.30530000000000002,0.63083604800000004]
["NHS Lancashire and South Cumbria ICB - 00R",0.29859999999999998,0.42880000000000001,0.2044,0.30530000000000002,0.63083604800000004,null,0.26034712950600802,0.42880000000000001,0.2621082621082621,0.30530000000000002,0.63083604800000004]
["NHS Lancashire and South Cumbria ICB - 00X",0.25869999999999999,0.42880000000000001,0.18790000000000001,0.30530000000000002,0.63083604800000004,null,0.26759530791788855,0.42880000000000001,0.27214611872146116,0.30530000000000002,0.63083604800000004]
["NHS Lancashire and South Cumbria ICB - 01A",0.2676,0.42880000000000001,0.27410000000000001,0.30530000000000002,0.63083604800000004,null,0.27081009834735881,0.42880000000000001,0.30924747285660803,0.30530000000000002,0.63083604800000004]
["NHS Lancashire and South Cumbria ICB - 01E",0.27889999999999998,0.42880000000000001,0.1661,0.30530000000000002,0.63083604800000004,null,0.2911214953271028,0.42880000000000001,0.19341894060995185,0.30530000000000002,0.63083604800000004]
["NHS Lancashire and South Cumbria ICB - 01K",0.31919999999999998,0.42880000000000001,0.3417,0.30530000000000002,0.63083604800000004,null,0.30871956009426549,0.42880000000000001,0.3379983036471586,0.30530000000000002,0.63083604800000004]
["NHS Lancashire and South Cumbria ICB - 02G",0.34360000000000002,0.42880000000000001,0.18559999999999999,0.30530000000000002,0.63083604800000004,null,0.34700193423597681,0.42880000000000001,0.26644370122630995,0.30530000000000002,0.63083604800000004]
["NHS Lancashire and South Cumbria ICB - 02M",0.2286,0.42880000000000001,0.19620000000000001,0.30530000000000002,0.63083604800000004,null,0.22328207124780999,0.42880000000000001,0.24324324324324326,0.30530000000000002,0.63083604800000004]
["NHS Leicester, Leicestershire and Rutland ICB - 03W",0.23669999999999999,0.39090000000000003,0.17150000000000001,0.313,0.58777120299999996,null,0.24910335833061623,0.39090000000000003,0.28468586387434552,0.313,0.58777120299999996]
["NHS Leicester, Leicestershire and Rutland ICB - 04C",0.25629999999999997,0.39090000000000003,0.18410000000000001,0.313,0.58777120299999996,null,0.28113241354595953,0.39090000000000003,0.30146590184831101,0.313,0.58777120299999996]
["NHS Leicester, Leicestershire and Rutland ICB - 04V",0.25269999999999998,0.39090000000000003,0.16669999999999999,0.313,0.58777120299999996,null,0.26470989761092151,0.39090000000000003,0.25116039195461576,0.313,0.58777120299999996]
["NHS Lincolnshire ICB - 71E",0.22500000000000001,0.39090000000000003,0.15079999999999999,0.313,0.798816568,null,0.23926625681011646,0.39090000000000003,0.24148736160434511,0.313,0.798816568]
["NHS Mid and South Essex ICB - 06Q",0.2407,0.3679,0.19550000000000001,0.35549999999999998,0.71827956999999998,null,0.27086494688922608,0.3679,0.33837535014005604,0.35549999999999998,0.71827956999999998]
["NHS Mid and South Essex ICB - 07G",0.1986,0.3679,0.183,0.35549999999999998,0.71827956999999998,null,0.20778859527121002,0.3679,0.37483266398929049,0.35549999999999998,0.71827956999999998]
["NHS Mid and South Essex ICB - 99E",0.23100000000000001,0.3679,0.2487,0.35549999999999998,0.71827956999999998,null,0.23016186340307934,0.3679,0.32075471698113206,0.35549999999999998,0.71827956999999998]
["NHS Mid and South Essex ICB - 99F",0.21870000000000001,0.3679,0.30230000000000001,0.35549999999999998,0.71827956999999998,null,0.26304451890856867,0.3679,0.37488626023657873,0.35549999999999998,0.71827956999999998]
["NHS Mid and South Essex ICB - 99G",0.26619999999999999,0.3679,0.39979999999999999,0.35549999999999998,0.71827956999999998,null,0.25167946257197699,0.3679,0.4470924690181125,0.35549999999999998,0.71827956999999998]
["NHS Norfolk and Waveney ICB - 26A",0.26219999999999999,0.3679,0.15290000000000001,0.35549999999999998,0.81603773599999996,null,0.26535286915998579,0.3679,0.22473582378330109,0.35549999999999998,0.81603773599999996]
["NHS North Central London ICB - 93C",0.2495,0.3977,0.37680000000000002,0.25979999999999998,0.59150326799999997,null,0.24462037086233462,0.3977,0.43418766290182448,0.25979999999999998,0.59150326799999997]
["NHS North East London ICB - A3A8R",0.27989999999999998,0.3977,0.34599999999999997,0.25979999999999998,0.56459330100000005,null,0.2802606684885432,0.3977,0.39408940894089411,0.25979999999999998,0.56459330100000005]
["NHS North East and North Cumbria ICB - 00L",0.29399999999999998,0.38140000000000002,0.15740000000000001,0.36399999999999999,0.56459330100000005,null,0.29677489412531222,0.38140000000000002,0.19758507135016465,0.36399999999999999,0.56459330100000005]
["NHS North East and North Cumbria ICB - 00N",0.30709999999999998,0.38140000000000002,0.17330000000000001,0.36399999999999999,0.56459330100000005,null,0.26012090126396775,0.38140000000000002,0.17253521126760563,0.36399999999999999,0.56459330100000005]
["NHS North East and North Cumbria ICB - 00P",0.32100000000000001,0.38140000000000002,0.2001,0.36399999999999999,0.56459330100000005,null,0.30568918636268561,0.38140000000000002,0.27369141293191929,0.36399999999999999,0.56459330100000005]
["NHS North East and North Cumbria ICB - 01H",0.29239999999999999,0.38140000000000002,0.26550000000000001,0.36399999999999999,0.56459330100000005,null,0.29739869934967483,0.38140000000000002,0.3860386879730866,0.36399999999999999,0.56459330100000005]
["NHS North East and North Cumbria ICB - 13T",0.30349999999999999,0.38140000000000002,0.17829999999999999,0.36399999999999999,0.56459330100000005,null,0.31210191082802546,0.38140000000000002,0.23406399596875788,0.36399999999999999,0.56459330100000005]
["NHS North East and North Cumbria ICB - 16C",0.33579999999999999,0.38140000000000002,0.1724,0.36399999999999999,0.56459330100000005,null,0.32840524632710755,0.38140000000000002,0.25275190516511431,0.36399999999999999,0.56459330100000005]
["NHS North East and North Cumbria ICB - 84H",0.30570000000000003,0.38140000000000002,0.1273,0.36399999999999999,0.56459330100000005,null,0.30951286764705882,0.38140000000000002,0.21993318485523386,0.36399999999999999,0.56459330100000005]
["NHS North East and North Cumbria ICB - 99C",0.30159999999999998,0.38140000000000002,0.1052,0.36399999999999999,0.66346153799999996,null,0.29392005374538127,0.38140000000000002,0.21142857142857144,0.36399999999999999,0.66346153799999996]
["NHS North West London ICB - W2U3Z",0.17910000000000001,0.3977,0.37309999999999999,0.25979999999999998,0.73037542700000002,null,0.21838803088803088,0.3977,0.39834254143646408,0.25979999999999998,0.73037542700000002]
["NHS Northamptonshire ICB - 78H",0.2676,0.39090000000000003,0.20200000000000001,0.313,0.53495934999999994,null,0.27741041627306506,0.39090000000000003,0.27037457434733259,0.313,0.53495934999999994]
["NHS Nottingham and Nottinghamshire ICB - 02Q",0.29859999999999998,0.39090000000000003,0.18149999999999999,0.313,0.74583333299999999,null,0.27301587301587299,0.39090000000000003,0.20833333333333334,0.313,0.74583333299999999]
["NHS Nottingham and Nottinghamshire ICB - 52R",0.28399999999999997,0.39090000000000003,0.21740000000000001,0.313,0.74583333299999999,null,0.29784082237285092,0.39090000000000003,0.29645817633760363,0.313,0.74583333299999999]
["NHS Shropshire, Telford and Wrekin ICB - M2L0M",0.29420000000000002,0.39090000000000003,0.23799999999999999,0.313,0.87323943699999995,null,0.27781100478468901,0.39090000000000003,0.25941872981700753,0.313,0.87323943699999995]
["NHS Somerset ICB - 11X",0.26690000000000003,0.39369999999999999,0.19700000000000001,0.30969999999999998,0.72727272700000001,null,0.26163700007447682,0.39369999999999999,0.23370338741816113,0.30969999999999998,0.72727272700000001]
["NHS South East London ICB - 72Q",0.26819999999999999,0.3977,0.2974,0.25979999999999998,0.62885326799999997,null,0.28196696237381463,0.3977,0.32845131543260103,0.25979999999999998,0.62885326799999997]
["NHS South West London ICB - 36L",0.23669999999999999,0.3977,0.32440000000000002,0.25979999999999998,0.63145809399999997,null,0.24572377525601993,0.3977,0.37711196215363818,0.25979999999999998,0.63145809399999997]
["NHS South Yorkshire ICB - 02P",0.23549999999999999,0.38140000000000002,0.1822,0.36399999999999999,0.77624784899999999,null,0.23858615611192932,0.38140000000000002,0.24548907882241217,0.36399999999999999,0.77624784899999999]
["NHS South Yorkshire ICB - 02X",0.3014,0.38140000000000002,0.1759,0.36399999999999999,0.77624784899999999,null,0.28314015778708485,0.38140000000000002,0.22222222222222221,0.36399999999999999,0.77624784899999999]
["NHS South Yorkshire ICB - 03L",0.22239999999999999,0.38140000000000002,0.20499999999999999,0.36399999999999999,0.77624784899999999,null,0.2239182830253644,0.38140000000000002,0.27524346488980012,0.36399999999999999,0.77624784899999999]
["NHS South Yorkshire ICB - 03N",0.26900000000000002,0.38140000000000002,0.1769,0.36399999999999999,0.77624784899999999,null,0.28245352576672678,0.38140000000000002,0.26353790613718414,0.36399999999999999,0.77624784899999999]
["NHS Staffordshire and Stoke-on-Trent ICB - 04Y",0.22420000000000001,0.39090000000000003,0.2414,0.313,0.66666666699999999,null,0.23628342983181694,0.39090000000000003,0.2928821470245041,0.313,0.66666666699999999]
["NHS Staffordshire and Stoke-on-Trent ICB - 05D",0.28079999999999999,0.39090000000000003,0.23050000000000001,0.313,0.66666666699999999,null,0.30726478761413262,0.39090000000000003,0.2144702842377261,0.313,0.66666666699999999]
["NHS Staffordshire and Stoke-on-Trent ICB - 05G",0.26,0.39090000000000003,0.27039999999999997,0.313,0.66666666699999999,null,0.25507677067855372,0.39090000000000003,0.32233009708737864,0.313,0.66666666699999999]
["NHS Staffordshire and Stoke-on-Trent ICB - 05Q",0.28199999999999997,0.39090000000000003,0.221,0.313,0.66666666699999999,null,0.29407531782201968,0.39090000000000003,0.26019575856443722,0.313,0.66666666699999999]
["NHS Staffordshire and Stoke-on-Trent ICB - 05V",0.24590000000000001,0.39090000000000003,0.23849999999999999,0.313,0.66666666699999999,null,0.23768216516308119,0.39090000000000003,0.22189781021897811,0.313,0.66666666699999999]
["NHS Staffordshire and Stoke-on-Trent ICB - 05W",0.29520000000000002,0.39090000000000003,0.25269999999999998,0.313,0.66666666699999999,null,0.29040566645202831,0.39090000000000003,0.25986696230598672,0.313,0.66666666699999999]
["NHS Suffolk and North East Essex ICB - 06L",0.20100000000000001,0.3679,0.21590000000000001,0.35549999999999998,0.67955801100000002,null,0.21786790901616881,0.3679,0.33647798742138363,0.35549999999999998,0.67955801100000002]
["NHS Suffolk and North East Essex ICB - 06T",0.3392,0.3679,0.23599999999999999,0.35549999999999998,0.67955801100000002,null,0.32573048945875971,0.3679,0.29333838001514007,0.35549999999999998,0.67955801100000002]
["NHS Suffolk and North East Essex ICB - 07K",0.2235,0.3679,0.32469999999999999,0.35549999999999998,0.67955801100000002,null,0.22310630171865053,0.3679,0.3644793152639087,0.35549999999999998,0.67955801100000002]
["NHS Surrey Heartlands ICB - 92A",0.26390000000000002,0.38150000000000001,0.2737,0.27900000000000003,0.73076923100000002,null,0.26202838352371061,0.38150000000000001,0.29035667107001323,0.27900000000000003,0.73076923100000002]
["NHS Sussex ICB - 09D",0.2697,0.38150000000000001,0.25259999999999999,0.27900000000000003,0.77290076299999999,null,0.27829277713402856,0.38150000000000001,0.27064538514920194,0.27900000000000003,0.77290076299999999]
["NHS Sussex ICB - 70F",0.25030000000000002,0.38150000000000001,0.1799,0.27900000000000003,0.77290076299999999,null,0.24934106483921983,0.38150000000000001,0.23138360347662673,0.27900000000000003,0.77290076299999999]
["NHS Sussex ICB - 97R",0.25340000000000001,0.38150000000000001,0.24610000000000001,0.27900000000000003,0.77290076299999999,null,0.24076657610690946,0.38150000000000001,0.24916132967368099,0.27900000000000003,0.77290076299999999]
["NHS West Yorkshire ICB - 02T",0.28170000000000001,0.38140000000000002,0.15090000000000001,0.36399999999999999,0.742621015,null,0.27886536156612063,0.38140000000000002,0.29512893982808025,0.36399999999999999,0.742621015]
["NHS West Yorkshire ICB - 03R",0.32650000000000001,0.38140000000000002,0.1537,0.36399999999999999,0.742621015,null,0.35385338345864664,0.38140000000000002,0.23559096945551128,0.36399999999999999,0.742621015]
["NHS West Yorkshire ICB - 15F",0.29289999999999999,0.38140000000000002,0.18329999999999999,0.36399999999999999,0.742621015,null,0.30316793459747926,0.38140000000000002,0.2563670411985019,0.36399999999999999,0.742621015]
["NHS West Yorkshire ICB - 36J",0.2742,0.38140000000000002,0.26569999999999999,0.36399999999999999,0.742621015,null,0.28995365525489608,0.38140000000000002,0.37793245681876775,0.36399999999999999,0.742621015]
["NHS West Yorkshire ICB - X2C4Y",0.27139999999999997,0.38140000000000002,0.17399999999999999,0.36399999999999999,0.742621015,null,0.2786671022541653,0.38140000000000002,0.27667057444314186,0.36399999999999999,0.742621015]

{"sheet":"_Parameters","index":54,"n_rows":154,"n_cols":39,"rows_kept":154,"cut":false,"hidden":true,"merged":[[0,28,0,37],[1,26,1,27],[0,0,0,4],[0,8,0,10],[0,12,0,19],[0,21,0,24]]}
["Default",null,null,null,null,{"$f":"COUNTA(B3:B99914)","v":152},0,null,"Tornado diagram",null,null,0.1,"PSA",null,null,null,null,null,null,null,0.1,"Datastore",null,null,null,1,null,"_Parameters","Scenario analyses",null,null,null,null,null,null,null,null,null,{"$f":"COUNTA(AD2:XFD2)","v":10}]
["Value","Location","Live link","Sheet","Cell","Label","Value","Include in DSA?","Low","High","Labels","Format","Include in PSA?","Lower CI","Upper CI","SE","Distribution","N","Alpha","Beta","Probabilistic value","Dataset 1","Dataset 2","Dataset 3","Dataset 4","Dataset 5","Info for PSA:",null,"Default store","Scenario 1","Scenario 2","Scenario 3","Scenario 4","Scenario 5","Scenario 6","Scenario 7","Scenario 8","Scenario 9","Scenario 10"]
["=CPRD_regressionCoefficients!B84","comparisons!E29",{"$f":"comparisons!E29","v":0.94},{"$f":"LEFT(B3,FIND(\"!\",B3)-1)","v":"comparisons"},{"$f":"RIGHT(B3,LEN(B3)-FIND(\"!\",B3))","v":"E29"},"Comparison referral "]
["=CPRD_regressionCoefficients!C84","comparisons!E31",{"$f":"comparisons!E31","v":0.56000000000000005},"comparisons","E31","Comparison uptake"]
["=CPRD_regressionCoefficients!D84","comparisons!E33",{"$f":"comparisons!E33","v":0.79},"comparisons","E33","Comparison completion"]
[8.5999999999999993E-2,"healthEconomicsCalculation!J11",{"$f":"healthEconomicsCalculation!J11","v":8.5999999999999993E-2},"healthEconomicsCalculation","J11","Percentage reduction in hospitalisation"]
[2854,"healthEconomicsCalculation!J13",{"$f":"healthEconomicsCalculation!J13","v":2854},"healthEconomicsCalculation","J13","Cost associated with hospitalisation"]
[6.5000000000000002E-2,"healthEconomicsCalculation!J16",{"$f":"healthEconomicsCalculation!J16","v":6.5000000000000002E-2},"healthEconomicsCalculation","J16","Utility gain associated with PR"]
[null,"planning!E23",{"$f":"planning!$E$23","v":0},{"$f":"LEFT(B9,FIND(\"!\",B9)-1)","v":"planning"},{"$f":"RIGHT(B9,LEN(B9)-FIND(\"!\",B9))","v":"E23"},"Commisioned places 2022"]
[null,"planning!G23",{"$f":"planning!$G$23","v":0},"planning","G23","Commisioned places 2023"]
[null,"planning!I23",{"$f":"planning!$I$23","v":0},"planning","I23","Commisioned places 2024"]
[null,"planning!K23",{"$f":"planning!$K$23","v":0},"planning","K23","Commisioned places 2025"]
[null,"planning!M23",{"$f":"planning!$M$23","v":0},"planning","M23","Commisioned places 2026"]
[null,"planning!O23",{"$f":"planning!$O$23","v":0},"planning","O23","Commisioned places 2027"]
[200,"comparisonsplanning!E23",{"$f":"comparisonsPlanning!E23","v":200},{"$f":"LEFT(B15,FIND(\"!\",B15)-1)","v":"comparisonsplanning"},{"$f":"RIGHT(B15,LEN(B15)-FIND(\"!\",B15))","v":"E23"},"comparison commisioned places 2022"]
[200,"comparisonsplanning!G23",{"$f":"comparisonsPlanning!$G$23","v":200},"comparisonsplanning","G23","comparison commisioned places 2023"]
[200,"comparisonsplanning!I23",{"$f":"comparisonsPlanning!$I$23","v":200},"comparisonsplanning","I23","comparison commisioned places 2024"]
[200,"comparisonsplanning!K23",{"$f":"comparisonsPlanning!$K$23","v":200},"comparisonsplanning","K23","comparison commisioned places 2025"]
[200,"comparisonsplanning!M23",{"$f":"comparisonsPlanning!$M$23","v":200},"comparisonsplanning","M23","comparison commisioned places 2026"]
[200,"comparisonsplanning!O23",{"$f":"comparisonsPlanning!$O$23","v":200},"comparisonsplanning","O23","comparison commisioned places 2027"]
[1.5,"workforceModelling1!C19",{"$f":"workforceModelling1!C19","v":1.5},{"$f":"LEFT(B21,FIND(\"!\",B21)-1)","v":"workforceModelling1"},{"$f":"RIGHT(B21,LEN(B21)-FIND(\"!\",B21))","v":"C19"},"Registered staff: assessmet"]
[0.16666666666666666,"workforceModelling1!D19",{"$f":"workforceModelling1!D19","v":0.17},"workforceModelling1","D19","Registered staff: clinical triage"]
[3,"workforceModelling1!E19",{"$f":"workforceModelling1!E19","v":3},"workforceModelling1","E19","Registered staff: supervising exercise class"]
[0.75,"workforceModelling1!F19",{"$f":"workforceModelling1!F19","v":0.75},"workforceModelling1","F19","Registered staff: education class"]
[0.75,"workforceModelling1!G19",{"$f":"workforceModelling1!G19","v":0.75},"workforceModelling1","G19","Registered staff: final outcomes assessment "]
[8.3333333333333329E-2,"workforceModelling1!H19",{"$f":"workforceModelling1!H19","v":0.08},"workforceModelling1","H19","Registered staff: dishcharge"]
[0.75,"workforceModelling1!I19",{"$f":"workforceModelling1!I19","v":0.75},"workforceModelling1","I19","Registered staff: travel "]
[0.625,"workforceModelling1!J19",{"$f":"workforceModelling1!J19","v":0.625},"workforceModelling1","J19","Registered staff: group set up and pack down"]
[1,"workforceModelling1!K19",{"$f":"workforceModelling1!K19","v":1},"workforceModelling1","K19","Registered staff: documentation"]
[1,"workforceModelling2!C19",{"$f":"workforceModelling2!C19","v":1},{"$f":"LEFT(B30,FIND(\"!\",B30)-1)","v":"workforceModelling2"},{"$f":"RIGHT(B30,LEN(B30)-FIND(\"!\",B30))","v":"C19"},"Non-registered staff: assessmet"]
[0.16666666666666666,"workforceModelling2!D19",{"$f":"workforceModelling2!D19","v":0.16666666666666666},"workforceModelling2","D19","Non-registered staff: clinical triage"]
[3,"workforceModelling2!E19",{"$f":"workforceModelling2!E19","v":3},"workforceModelling2","E19","Non-registered staff: supervising exercise class"]
[0.75,"workforceModelling2!F19",{"$f":"workforceModelling2!F19","v":0.75},"workforceModelling2","F19","Non-registered staff: education class"]
[0.75,"workforceModelling2!G19",{"$f":"workforceModelling2!G19","v":0.75},"workforceModelling2","G19","Non-registered staff: final outcomes assessment "]
[8.3333333333333329E-2,"workforceModelling2!H19",{"$f":"workforceModelling2!H19","v":8.3333333333333329E-2},"workforceModelling2","H19","Non-registered staff: dishcharge"]
[0.75,"workforceModelling2!I19",{"$f":"workforceModelling2!I19","v":0.75},"workforceModelling2","I19","Non-registered staff: travel "]
[0.625,"workforceModelling2!J19",{"$f":"workforceModelling2!J19","v":0.625},"workforceModelling2","J19","Non-registered staff: group set up and pack down"]
[2.5,"workforceModelling2!K19",{"$f":"workforceModelling2!K19","v":2.5},"workforceModelling2","K19","Non-registered staff: documentation"]
[1.25,"workforceModelling3!D19",{"$f":"workforceModelling3!D19","v":1.25},{"$f":"LEFT(B39,FIND(\"!\",B39)-1)","v":"workforceModelling3"},{"$f":"RIGHT(B39,LEN(B39)-FIND(\"!\",B39))","v":"D19"},"Administrators: appointments and outcomes"]
["==populationFunnel!K50+populationFunnel!K51+populationFunnel!K52","planningPopUp!G18",{"$f":"planningPopUp!G18","v":{"$error":"#DIV/0!"}},"planningPopUp","G18","Backlog modelled patients: year 1"]
["=planning!V15","planningPopUp!I18",{"$f":"planningPopUp!I18","v":{"$error":"#DIV/0!"}},"planningPopUp","I18","Backlog modelled patients: year 2"]
["=planning!X15","planningPopUp!K18",{"$f":"planningPopUp!K18","v":{"$error":"#DIV/0!"}},"planningPopUp","K18","Backlog modelled patients: year 3"]
["=planning!Z15","planningPopUp!M18",{"$f":"planningPopUp!M18","v":{"$error":"#DIV/0!"}},"planningPopUp","M18","Backlog modelled patients: year 4"]
["=planning!AA15","planningPopUp!O18",{"$f":"planningPopUp!O18","v":{"$error":"#DIV/0!"}},"planningPopUp","O18","Backlog modelled patients: year 5"]
["=comparisons!C52","comparisonsPlanningPopUp!G18",{"$f":"comparisonsPlanningPopUp!G18","v":{"$error":"#DIV/0!"}},{"$f":"LEFT(B45,FIND(\"!\",B45)-1)","v":"comparisonsPlanningPopUp"},{"$f":"RIGHT(B45,LEN(B45)-FIND(\"!\",B45))","v":"G18"},"Backlog NACAP patients: year 1"]
["=comparisonsPlanning!V16","comparisonsPlanningPopUp!I18",{"$f":"comparisonsPlanningPopUp!I18","v":{"$error":"#DIV/0!"}},"comparisonsPlanningPopUp","I18","Backlog NACAP patients: year 2"]
["=comparisonsPlanning!X16","comparisonsPlanningPopUp!K18",{"$f":"comparisonsPlanningPopUp!K18","v":{"$error":"#DIV/0!"}},"comparisonsPlanningPopUp","K18","Backlog NACAP patients: year 3"]
["=comparisonsPlanning!Z16","comparisonsPlanningPopUp!M18",{"$f":"comparisonsPlanningPopUp!M18","v":{"$error":"#DIV/0!"}},"comparisonsPlanningPopUp","M18","Backlog NACAP patients: year 4"]
["=comparisonsPlanning!AB16","comparisonsPlanningPopUp!O18",{"$f":"comparisonsPlanningPopUp!O18","v":{"$error":"#DIV/0!"}},"comparisonsPlanningPopUp","O18","Backlog NACAP patients: year 5"]
["=CPRD_regressionCoefficients!AF16","populationFunnel!K20",{"$f":"populationFunnel!K23","v":0.27210000000000001},{"$f":"LEFT(B50,FIND(\"!\",B50)-1)","v":"populationFunnel"},{"$f":"RIGHT(B50,LEN(B50)-FIND(\"!\",B50))","v":"K20"},"Percentage eligible"]
["=CPRD_regressionCoefficients!AF17","populationFunnel!K23",{"$f":"populationFunnel!K27","v":0.22539999999999999},"populationFunnel","K23","Percentage referred to"]
["=CPRD_regressionCoefficients!AF18","populationFunnel!K30",{"$f":"populationFunnel!K33","v":0.30309999999999998},"populationFunnel","K30","Percentage commencement"]
["=CPRD_regressionCoefficients!AF19","populationFunnel!K36",{"$f":"populationFunnel!K38","v":0.68983022599999999},"populationFunnel","K36","Percentage completed"]
[0.1,"populationFunnel!K42",{"$f":"populationFunnel!K43","v":0.1},"populationFunnel","K42","Percentage non-COPD"]
[1,"_Mtech!G2",{"$f":"_Mtech!$G$2","v":1},"_Mtech","G2","Population dropdown/user input reset"]
["=XLOOKUP(CalculationSheet!$D$1,CPRD_regressionCoefficients!$A$59:$A$68,CPRD_regressionCoefficients!$F$59:$F$68)","populationFunnelPopUp!E12",{"$f":"populationFunnelPopUp!E12","v":0.01},{"$f":"LEFT(B56,FIND(\"!\",B56)-1)","v":"populationFunnelPopUp"},{"$f":"RIGHT(B56,LEN(B56)-FIND(\"!\",B56))","v":"E12"},"Age 35-49"]
["=XLOOKUP(CalculationSheet!$D$1,CPRD_regressionCoefficients!$A$59:$A$68,CPRD_regressionCoefficients!$G$59:$G$68)","populationFunnelPopUp!E13",{"$f":"populationFunnelPopUp!E13","v":0.19350000000000001},"populationFunnelPopUp","E13","Age 50-59"]
["=XLOOKUP(CalculationSheet!$D$1,CPRD_regressionCoefficients!$A$59:$A$68,CPRD_regressionCoefficients!$H$59:$H$68)","populationFunnelPopUp!E14",{"$f":"populationFunnelPopUp!E14","v":0.31280000000000002},"populationFunnelPopUp","E14","Age 60-69"]
["=XLOOKUP(CalculationSheet!$D$1,CPRD_regressionCoefficients!$A$59:$A$68,CPRD_regressionCoefficients!$I$59:$I$68)","populationFunnelPopUp!E15",{"$f":"populationFunnelPopUp!E15","v":0.27789999999999998},"populationFunnelPopUp","E15","Age 70-79"]
["=XLOOKUP(CalculationSheet!$D$1,CPRD_regressionCoefficients!$A$59:$A$68,CPRD_regressionCoefficients!$K$59:$K$68)","populationFunnelPopUp!J12",{"$f":"populationFunnelPopUp!J12","v":0.53339999999999999},"populationFunnelPopUp","J12","Male"]
["=XLOOKUP(CalculationSheet!$D$1,CPRD_regressionCoefficients!$A$59:$A$68,CPRD_regressionCoefficients!$M$59:$M$68)","populationFunnelPopUp!O12",{"$f":"populationFunnelPopUp!O12","v":0.1479},"populationFunnelPopUp","O12","IMD 1"]
["=XLOOKUP(CalculationSheet!$D$1,CPRD_regressionCoefficients!$A$59:$A$68,CPRD_regressionCoefficients!$N$59:$N$68)","populationFunnelPopUp!O13",{"$f":"populationFunnelPopUp!O13","v":0.1724},"populationFunnelPopUp","O13","IMD 2"]
["=XLOOKUP(CalculationSheet!$D$1,CPRD_regressionCoefficients!$A$59:$A$68,CPRD_regressionCoefficients!$O$59:$O$68)","populationFunnelPopUp!O14",{"$f":"populationFunnelPopUp!O14","v":0.18859999999999999},"populationFunnelPopUp","O14","IMD 3"]
["=XLOOKUP(CalculationSheet!$D$1,CPRD_regressionCoefficients!$A$59:$A$68,CPRD_regressionCoefficients!$P$59:$P$68)","populationFunnelPopUp!O15",{"$f":"populationFunnelPopUp!O15","v":0.21779999999999999},"populationFunnelPopUp","O15","IMD 4"]
["=XLOOKUP(CalculationSheet!$D$1,CPRD_regressionCoefficients!$A$59:$A$68,CPRD_regressionCoefficients!$R$59:$R$68)","populationFunnelPopUp!T12",{"$f":"populationFunnelPopUp!T12","v":0.80030000000000001},"populationFunnelPopUp","T12","White "]
["=XLOOKUP(CalculationSheet!$D$1,CPRD_regressionCoefficients!$A$59:$A$68,CPRD_regressionCoefficients!$S$59:$S$68)","populationFunnelPopUp!T13",{"$f":"populationFunnelPopUp!T13","v":1.8100000000000002E-2},"populationFunnelPopUp","T13","South Asian "]
["=XLOOKUP(CalculationSheet!$D$1,CPRD_regressionCoefficients!$A$59:$A$68,CPRD_regressionCoefficients!$T$59:$T$68)","populationFunnelPopUp!T14",{"$f":"populationFunnelPopUp!T14","v":1.04E-2},"populationFunnelPopUp","T14","Black"]
["=XLOOKUP(CalculationSheet!$D$1,CPRD_regressionCoefficients!$A$59:$A$68,CPRD_regressionCoefficients!$U$59:$U$68)","populationFunnelPopUp!T15",{"$f":"populationFunnelPopUp!T15","v":3.3999999999999998E-3},"populationFunnelPopUp","T15","Other"]
["=XLOOKUP(CalculationSheet!$D$1,CPRD_regressionCoefficients!$A$59:$A$68,CPRD_regressionCoefficients!$V$59:$V$68)","populationFunnelPopUp!T16",{"$f":"populationFunnelPopUp!T16","v":3.0999999999999999E-3},"populationFunnelPopUp","T16","Mixed"]
[1.9E-3,"planningPopUp!E13",{"$f":"planningPopUp!E13","v":1.9E-3},{"$f":"LEFT(B70,FIND(\"!\",B70)-1)","v":"planningPopUp"},{"$f":"RIGHT(B70,LEN(B70)-FIND(\"!\",B70))","v":"E13"},"Planning incidence"]
[0.46,"planningPopUp!E16",{"$f":"planningPopUp!E16","v":0.46},"planningPopUp","E16","MRC 3+"]
[0.01,"planningPopUp!E20",{"$f":"planningPopUp!E20","v":0.01},"planningPopUp","E20","Repeat PR"]
[0.01,"planningPopUp!E22",{"$f":"planningPopUp!E22","v":3.9399999999999999E-3},"planningPopUp","E22","Mortality"]
["=populationFunnel!K50+populationFunnel!K51+populationFunnel!K52","planningPopUp!G18",{"$f":"planningPopUp!G18","v":{"$error":"#DIV/0!"}},"planningPopUp","G18","Remaining eligible year 1"]
["=planning!V15","planningPopUp!I18",{"$f":"planningPopUp!I18","v":{"$error":"#DIV/0!"}},"planningPopUp","I18","Remaining eligible year 2"]
["=planning!X15","planningPopUp!K18",{"$f":"planningPopUp!K18","v":{"$error":"#DIV/0!"}},"planningPopUp","K18","Remaining eligible year 3"]
["=planning!Z15","planningPopUp!M18",{"$f":"planningPopUp!M18","v":{"$error":"#DIV/0!"}},"planningPopUp","M18","Remaining eligible year 4"]
["=planning!AB15","planningPopUp!O18",{"$f":"planningPopUp!O18","v":{"$error":"#DIV/0!"}},"planningPopUp","O18","Remaining eligible year 5"]
["=$G$15","planningPopUp1!I15",{"$f":"planningPopUp1!I15","v":0.22539999999999999},{"$f":"LEFT(B79,FIND(\"!\",B79)-1)","v":"planningPopUp1"},{"$f":"RIGHT(B79,LEN(B79)-FIND(\"!\",B79))","v":"I15"}]
["=$G$18","planningPopUp1!I18",{"$f":"planningPopUp1!I18","v":0.3},"planningPopUp1","I18"]
["=$G$21","planningPopUp1!I21",{"$f":"planningPopUp1!I21","v":0.45},"planningPopUp1","I21"]
["=$G$15","planningPopUp1!K15",{"$f":"planningPopUp1!K15","v":0.22539999999999999},"planningPopUp1","K15"]
["=$G$18","planningPopUp1!K18",{"$f":"planningPopUp1!K18","v":0.3},"planningPopUp1","K18"]
["=$G$21","planningPopUp1!K21",{"$f":"planningPopUp1!K21","v":0.45},"planningPopUp1","K21"]
["=$G$15","planningPopUp1!M15",{"$f":"planningPopUp1!M15","v":0.22539999999999999},"planningPopUp1","M15"]
["=$G$18","planningPopUp1!M18",{"$f":"planningPopUp1!M18","v":0.3},"planningPopUp1","M18"]
["=$G$21","planningPopUp1!M21",{"$f":"planningPopUp1!M21","v":0.45},"planningPopUp1","M21"]
["=$G$15","planningPopUp1!O15",{"$f":"planningPopUp1!O15","v":0.22539999999999999},"planningPopUp1","O15"]
["=$G$18","planningPopUp1!O18",{"$f":"planningPopUp1!O18","v":0.3},"planningPopUp1","O18"]
["=$G$21","planningPopUp1!O21",{"$f":"planningPopUp1!O21","v":0.45},"planningPopUp1","O21"]
["=$G$15","planningPopUp1!Q15",{"$f":"planningPopUp1!Q15","v":0.22539999999999999},"planningPopUp1","Q15"]
["=$G$18","planningPopUp1!Q18",{"$f":"planningPopUp1!Q18","v":0.3},"planningPopUp1","Q18"]
["=$G$21","planningPopUp1!Q21",{"$f":"planningPopUp1!Q21","v":0.45},"planningPopUp1","Q21"]
["=$G$15","comparisonsPlanningPopUp1!I15",{"$f":"comparisonsPlanningPopUp1!I15","v":0.94},{"$f":"LEFT(B94,FIND(\"!\",B94)-1)","v":"comparisonsPlanningPopUp1"},{"$f":"RIGHT(B94,LEN(B94)-FIND(\"!\",B94))","v":"I15"}]
["=$G$18","comparisonsPlanningPopUp1!I18",{"$f":"comparisonsPlanningPopUp1!I18","v":0.56000000000000005},"comparisonsPlanningPopUp1","I18"]
["=$G$21","comparisonsPlanningPopUp1!I21",{"$f":"comparisonsPlanningPopUp1!I21","v":0.79},"comparisonsPlanningPopUp1","I21"]
["=$G$15","comparisonsPlanningPopUp1!K15",{"$f":"comparisonsPlanningPopUp1!K15","v":0.94},"comparisonsPlanningPopUp1","K15"]
["=$G$18","comparisonsPlanningPopUp1!K18",{"$f":"comparisonsPlanningPopUp1!K18","v":0.56000000000000005},"comparisonsPlanningPopUp1","K18"]
["=$G$21","comparisonsPlanningPopUp1!K21",{"$f":"comparisonsPlanningPopUp1!K21","v":0.79},"comparisonsPlanningPopUp1","K21"]
["=$G$15","comparisonsPlanningPopUp1!M15",{"$f":"comparisonsPlanningPopUp1!M15","v":0.94},"comparisonsPlanningPopUp1","M15"]
["=$G$18","comparisonsPlanningPopUp1!M18",{"$f":"comparisonsPlanningPopUp1!M18","v":0.56000000000000005},"comparisonsPlanningPopUp1","M18"]
["=$G$21","comparisonsPlanningPopUp1!M21",{"$f":"comparisonsPlanningPopUp1!M21","v":0.79},"comparisonsPlanningPopUp1","M21"]
["=$G$15","comparisonsPlanningPopUp1!O15",{"$f":"comparisonsPlanningPopUp1!O15","v":0.94},"comparisonsPlanningPopUp1","O15"]
["=$G$18","comparisonsPlanningPopUp1!O18",{"$f":"comparisonsPlanningPopUp1!O18","v":0.56000000000000005},"comparisonsPlanningPopUp1","O18"]
["=$G$21","comparisonsPlanningPopUp1!O21",{"$f":"comparisonsPlanningPopUp1!O21","v":0.79},"comparisonsPlanningPopUp1","O21"]
["=$G$15","comparisonsPlanningPopUp1!Q15",{"$f":"comparisonsPlanningPopUp1!Q15","v":0.94},"comparisonsPlanningPopUp1","Q15"]
["=$G$18","comparisonsPlanningPopUp1!Q18",{"$f":"comparisonsPlanningPopUp1!Q18","v":0.56000000000000005},"comparisonsPlanningPopUp1","Q18"]
["=$G$21","comparisonsPlanningPopUp1!Q21",{"$f":"comparisonsPlanningPopUp1!Q21","v":0.79},"comparisonsPlanningPopUp1","Q21"]
[1314,"workforceModelling4!F12",{"$f":"workforceModelling4!F12","v":1314.1000000000001},{"$f":"LEFT(B109,FIND(\"!\",B109)-1)","v":"workforceModelling4"},{"$f":"RIGHT(B109,LEN(B109)-FIND(\"!\",B109))","v":"F12"}]
[1400,"workforceModelling4!H12",{"$f":"workforceModelling4!H12","v":1399.6},"workforceModelling4","H12"]
[1344,"workforceModelling4!J12",{"$f":"workforceModelling4!J12","v":1343.7},"workforceModelling4","J12"]
[0.16,"populationFunnel!K17",{"$f":"populationFunnel!K20","v":0.26},{"$f":"LEFT(B112,FIND(\"!\",B112)-1)","v":"populationFunnel"},{"$f":"RIGHT(B112,LEN(B112)-FIND(\"!\",B112))","v":"K17"}]
["=XLOOKUP(CalculationSheet!$D$1,CPRD_regressionCoefficients!$A$64:$A$72,CPRD_regressionCoefficients!$F$64:$F$72)","populationFunnelPopUp!E21",{"$f":"populationFunnelPopUp!E21","v":4.5699999999999998E-2},{"$f":"LEFT(B113,FIND(\"!\",B113)-1)","v":"populationFunnelPopUp"},{"$f":"RIGHT(B113,LEN(B113)-FIND(\"!\",B113))","v":"E21"}]
["=XLOOKUP(CalculationSheet!$D$1,CPRD_regressionCoefficients!$A$64:$A$72,CPRD_regressionCoefficients!$G$64:$G$72)","populationFunnelPopUp!E22",{"$f":"populationFunnelPopUp!E22","v":0.14610000000000001},"populationFunnelPopUp","E22"]
["=XLOOKUP(CalculationSheet!$D$1,CPRD_regressionCoefficients!$A$64:$A$72,CPRD_regressionCoefficients!$H$64:$H$72)","populationFunnelPopUp!E23",{"$f":"populationFunnelPopUp!E23","v":0.2878},"populationFunnelPopUp","E23"]
["=XLOOKUP(CalculationSheet!$D$1,CPRD_regressionCoefficients!$A$64:$A$72,CPRD_regressionCoefficients!$I$64:$I$72)","populationFunnelPopUp!E24",{"$f":"populationFunnelPopUp!E24","v":0.32019999999999998},"populationFunnelPopUp","E24"]
["=XLOOKUP(CalculationSheet!$D$1,CPRD_regressionCoefficients!$A$64:$A$72,CPRD_regressionCoefficients!$K$64:$K$72)","populationFunnelPopUp!J21",{"$f":"populationFunnelPopUp!J21","v":0.5181},"populationFunnelPopUp","J21"]
["=XLOOKUP(CalculationSheet!$D$1,CPRD_regressionCoefficients!$A$64:$A$72,CPRD_regressionCoefficients!$M$64:$M$72)","populationFunnelPopUp!O21",{"$f":"populationFunnelPopUp!O21","v":0.13789999999999999},"populationFunnelPopUp","O21"]
["=XLOOKUP(CalculationSheet!$D$1,CPRD_regressionCoefficients!$A$64:$A$72,CPRD_regressionCoefficients!$N$64:$N$72)","populationFunnelPopUp!O22",{"$f":"populationFunnelPopUp!O22","v":0.1658},"populationFunnelPopUp","O22"]
["=XLOOKUP(CalculationSheet!$D$1,CPRD_regressionCoefficients!$A$64:$A$72,CPRD_regressionCoefficients!$O$64:$O$72)","populationFunnelPopUp!O23",{"$f":"populationFunnelPopUp!O23","v":0.18629999999999999},"populationFunnelPopUp","O23"]
["=XLOOKUP(CalculationSheet!$D$1,CPRD_regressionCoefficients!$A$64:$A$72,CPRD_regressionCoefficients!$P$64:$P$72)","populationFunnelPopUp!O24",{"$f":"populationFunnelPopUp!O24","v":0.2223},"populationFunnelPopUp","O24"]
["=XLOOKUP(CalculationSheet!$D$1,CPRD_regressionCoefficients!$A$64:$A$72,CPRD_regressionCoefficients!$R$64:$R$72)","populationFunnelPopUp!T21",{"$f":"populationFunnelPopUp!T21","v":0.80879999999999996},"populationFunnelPopUp","T21"]
["=XLOOKUP(CalculationSheet!$D$1,CPRD_regressionCoefficients!$A$64:$A$72,CPRD_regressionCoefficients!$S$64:$S$72)","populationFunnelPopUp!T22",{"$f":"populationFunnelPopUp!T22","v":1.6799999999999999E-2},"populationFunnelPopUp","T22"]
["=XLOOKUP(CalculationSheet!$D$1,CPRD_regressionCoefficients!$A$64:$A$72,CPRD_regressionCoefficients!$T$64:$T$72)","populationFunnelPopUp!T23",{"$f":"populationFunnelPopUp!T23","v":8.3000000000000001E-3},"populationFunnelPopUp","T23"]
["=XLOOKUP(CalculationSheet!$D$1,CPRD_regressionCoefficients!$A$64:$A$72,CPRD_regressionCoefficients!$U$64:$U$72)","populationFunnelPopUp!T24",{"$f":"populationFunnelPopUp!T24","v":2.7000000000000001E-3},"populationFunnelPopUp","T24"]
["=XLOOKUP(CalculationSheet!$D$1,CPRD_regressionCoefficients!$A$64:$A$72,CPRD_regressionCoefficients!$V$64:$V$72)","populationFunnelPopUp!T25",{"$f":"populationFunnelPopUp!T25","v":2.3999999999999998E-3},"populationFunnelPopUp","T25"]
["=XLOOKUP(CalculationSheet!$D$1,CPRD_regressionCoefficients!$A$74:$A$82,CPRD_regressionCoefficients!$F$74:$F$82)","populationFunnelPopUp!E30",{"$f":"populationFunnelPopUp!E30","v":3.3799999999999997E-2},"populationFunnelPopUp","E30"]
["=XLOOKUP(CalculationSheet!$D$1,CPRD_regressionCoefficients!$A$74:$A$82,CPRD_regressionCoefficients!$G$74:$G$82)","populationFunnelPopUp!E31",{"$f":"populationFunnelPopUp!E31","v":0.14199999999999999},"populationFunnelPopUp","E31"]
["=XLOOKUP(CalculationSheet!$D$1,CPRD_regressionCoefficients!$A$74:$A$82,CPRD_regressionCoefficients!$H$74:$H$82)","populationFunnelPopUp!E32",{"$f":"populationFunnelPopUp!E32","v":0.32319999999999999},"populationFunnelPopUp","E32"]
["=XLOOKUP(CalculationSheet!$D$1,CPRD_regressionCoefficients!$A$74:$A$82,CPRD_regressionCoefficients!$I$74:$I$82)","populationFunnelPopUp!E33",{"$f":"populationFunnelPopUp!E33","v":0.34739999999999999},"populationFunnelPopUp","E33"]
["=XLOOKUP(CalculationSheet!$D$1,CPRD_regressionCoefficients!$A$74:$A$82,CPRD_regressionCoefficients!$K$74:$K$82)","populationFunnelPopUp!J30",{"$f":"populationFunnelPopUp!J30","v":0.52339999999999998},"populationFunnelPopUp","J30"]
["=XLOOKUP(CalculationSheet!$D$1,CPRD_regressionCoefficients!$A$74:$A$82,CPRD_regressionCoefficients!$M$74:$M$82)","populationFunnelPopUp!O30",{"$f":"populationFunnelPopUp!O30","v":0.12920000000000001},"populationFunnelPopUp","O30"]
["=XLOOKUP(CalculationSheet!$D$1,CPRD_regressionCoefficients!$A$74:$A$82,CPRD_regressionCoefficients!$N$74:$N$82)","populationFunnelPopUp!O31",{"$f":"populationFunnelPopUp!O31","v":0.16189999999999999},"populationFunnelPopUp","O31"]
["=XLOOKUP(CalculationSheet!$D$1,CPRD_regressionCoefficients!$A$74:$A$82,CPRD_regressionCoefficients!$O$74:$O$82)","populationFunnelPopUp!O32",{"$f":"populationFunnelPopUp!O32","v":0.17879999999999999},"populationFunnelPopUp","O32"]
["=XLOOKUP(CalculationSheet!$D$1,CPRD_regressionCoefficients!$A$74:$A$82,CPRD_regressionCoefficients!$P$74:$P$82)","populationFunnelPopUp!O33",{"$f":"populationFunnelPopUp!O33","v":0.22420000000000001},"populationFunnelPopUp","O33"]
["=XLOOKUP(CalculationSheet!$D$1,CPRD_regressionCoefficients!$A$74:$A$82,CPRD_regressionCoefficients!$R$74:$R$82)","populationFunnelPopUp!T30",{"$f":"populationFunnelPopUp!T30","v":0.83720000000000006},"populationFunnelPopUp","T30"]
["=XLOOKUP(CalculationSheet!$D$1,CPRD_regressionCoefficients!$A$74:$A$82,CPRD_regressionCoefficients!$S$74:$S$82)","populationFunnelPopUp!T31",{"$f":"populationFunnelPopUp!T31","v":1.5699999999999999E-2},"populationFunnelPopUp","T31"]
["=XLOOKUP(CalculationSheet!$D$1,CPRD_regressionCoefficients!$A$74:$A$82,CPRD_regressionCoefficients!$T$74:$T$82)","populationFunnelPopUp!T32",{"$f":"populationFunnelPopUp!T32","v":1.0200000000000001E-2},"populationFunnelPopUp","T32"]
["=XLOOKUP(CalculationSheet!$D$1,CPRD_regressionCoefficients!$A$74:$A$82,CPRD_regressionCoefficients!$U$74:$U$82)","populationFunnelPopUp!T33",{"$f":"populationFunnelPopUp!T33","v":2.5999999999999999E-3},"populationFunnelPopUp","T33"]
["=XLOOKUP(CalculationSheet!$D$1,CPRD_regressionCoefficients!$A$74:$A$82,CPRD_regressionCoefficients!$V$74:$V$82)","populationFunnelPopUp!T34",{"$f":"populationFunnelPopUp!T34","v":2.3E-3},"populationFunnelPopUp","T34"]
["=XLOOKUP(CalculationSheet!$D$1,CPRD_regressionCoefficients!$A$84:$A$92,CPRD_regressionCoefficients!$F$84:$F$92)","populationFunnelPopUp!E39",{"$f":"populationFunnelPopUp!E39","v":2.3599999999999999E-2},"populationFunnelPopUp","E39"]
["=XLOOKUP(CalculationSheet!$D$1,CPRD_regressionCoefficients!$A$84:$A$92,CPRD_regressionCoefficients!$G$84:$G$92)","populationFunnelPopUp!E40",{"$f":"populationFunnelPopUp!E40","v":0.1144},"populationFunnelPopUp","E40"]
["=XLOOKUP(CalculationSheet!$D$1,CPRD_regressionCoefficients!$A$84:$A$92,CPRD_regressionCoefficients!$H$84:$H$92)","populationFunnelPopUp!E41",{"$f":"populationFunnelPopUp!E41","v":0.32729999999999998},"populationFunnelPopUp","E41"]
["=XLOOKUP(CalculationSheet!$D$1,CPRD_regressionCoefficients!$A$84:$A$92,CPRD_regressionCoefficients!$I$84:$I$92)","populationFunnelPopUp!E42",{"$f":"populationFunnelPopUp!E42","v":0.37830000000000003},"populationFunnelPopUp","E42"]
["=XLOOKUP(CalculationSheet!$D$1,CPRD_regressionCoefficients!$A$84:$A$92,CPRD_regressionCoefficients!$K$84:$K$92)","populationFunnelPopUp!J39",{"$f":"populationFunnelPopUp!J39","v":0.52900000000000003},"populationFunnelPopUp","J39"]
["=XLOOKUP(CalculationSheet!$D$1,CPRD_regressionCoefficients!$A$84:$A$92,CPRD_regressionCoefficients!$M$84:$M$92)","populationFunnelPopUp!O39",{"$f":"populationFunnelPopUp!O39","v":0.13519999999999999},"populationFunnelPopUp","O39"]
["=XLOOKUP(CalculationSheet!$D$1,CPRD_regressionCoefficients!$A$84:$A$92,CPRD_regressionCoefficients!$N$84:$N$92)","populationFunnelPopUp!O40",{"$f":"populationFunnelPopUp!O40","v":0.16589999999999999},"populationFunnelPopUp","O40"]
["=XLOOKUP(CalculationSheet!$D$1,CPRD_regressionCoefficients!$A$84:$A$92,CPRD_regressionCoefficients!$O$84:$O$92)","populationFunnelPopUp!O41",{"$f":"populationFunnelPopUp!O41","v":0.18210000000000001},"populationFunnelPopUp","O41"]
["=XLOOKUP(CalculationSheet!$D$1,CPRD_regressionCoefficients!$A$84:$A$92,CPRD_regressionCoefficients!$P$84:$P$92)","populationFunnelPopUp!O42",{"$f":"populationFunnelPopUp!O42","v":0.2225},"populationFunnelPopUp","O42"]
["=XLOOKUP(CalculationSheet!$D$1,CPRD_regressionCoefficients!$A$84:$A$92,CPRD_regressionCoefficients!$R$84:$R$92)","populationFunnelPopUp!T39",{"$f":"populationFunnelPopUp!T39","v":0.85709999999999997},"populationFunnelPopUp","T39"]
["=XLOOKUP(CalculationSheet!$D$1,CPRD_regressionCoefficients!$A$84:$A$92,CPRD_regressionCoefficients!$S$84:$S$92)","populationFunnelPopUp!T40",{"$f":"populationFunnelPopUp!T40","v":1.0800000000000001E-2},"populationFunnelPopUp","T40"]
["=XLOOKUP(CalculationSheet!$D$1,CPRD_regressionCoefficients!$A$84:$A$92,CPRD_regressionCoefficients!$T$84:$T$92)","populationFunnelPopUp!T41",{"$f":"populationFunnelPopUp!T41","v":8.9999999999999993E-3},"populationFunnelPopUp","T41"]
["=XLOOKUP(CalculationSheet!$D$1,CPRD_regressionCoefficients!$A$84:$A$92,CPRD_regressionCoefficients!$U$84:$U$92)","populationFunnelPopUp!T42",{"$f":"populationFunnelPopUp!T42","v":2.2000000000000001E-3},"populationFunnelPopUp","T42"]
["=XLOOKUP(CalculationSheet!$D$1,CPRD_regressionCoefficients!$A$84:$A$92,CPRD_regressionCoefficients!$V$84:$V$92)","populationFunnelPopUp!T43",{"$f":"populationFunnelPopUp!T43","v":1.6999999999999999E-3},"populationFunnelPopUp","T43"]

{"sheet":"_Mtech","index":55,"n_rows":138,"n_cols":26,"rows_kept":138,"cut":false,"hidden":true,"merged":[]}
[null,null,null,null,null,null,"Sub-ICB/practice level values",null,null,null,null,null,null,null,null,null,null,null,null,null,null,null,null,2024,null,"Year"]
["introduction",null,"Observed values",null,null,null,1,null,null,null,null,null,null,null,null,null,null,null,null,null,null,null,null,2025]
[null,null,"Best case values",null,null,null,null,null,null,null,null,null,null,null,null,null,null,null,null,null,null,null,null,2026]
["Nav button text","Nav target",null,null,null,null,null,null,null,null,null,null,"Year Choices",null,null,null,null,null,null,null,null,null,null,2027]
["Introduction","Introduction",null,null,null,null,null,null,null,null,null,null,"England","2009-10","Region ","2012-13","ICS",2015,"CCG",2012,null,null,null,2028]
["Prevalence","DashboardEng",null,null,null,null,null,null,null,null,null,null,null,"2010-11",null,"2013-14",null,2016,null,2013]
["Population funnel","DashboardRegional",null,null,null,null,null,null,null,null,null,null,null,"2011-12",null,"2014-15",null,2017,null,2014]
["Planning","planning",null,null,null,null,null,null,null,null,null,null,null,"2012-13",null,"2015-16",null,2018,null,2015]
["Economic benefits","HealthEconomicsIntro",null,null,null,null,null,null,null,null,null,null,null,"2013-14",null,"2016-17",null,2019,null,2016]
["References",null,null,null,null,null,null,null,null,null,null,null,null,"2014-15",null,"2017-18",null,2020,null,2017]
["Comparisons","Comparisons",null,null,null,null,null,null,null,null,null,null,null,"2015-16",null,"2018-19",null,null,null,2018]
["Abbreviations",1,null,null,1,2,3,null,null,null,null,null,null,"2016-17",null,"2019-20",null,null,null,2019]
["Summary","Regions",null,null,"Regions","ICSs ","CCGs",null,null,null,null,null,null,"2017-18",null,"2020-21",null,null,null,2020]
["Area","North of England",null,null,"North of England","Bath and North East Somerset, Swindon and Wiltshire","NHS Barnsley CCG",null,null,null,null,null,null,"2018-19"]
["Staffing","Midlands and East of England",null,null,"Midlands and East of England","Bedfordshire, Luton and Milton Keynes","NHS Basildon and Brentwood CCG",null,null,null,null,null,null,"2019-20"]
["Assumptions","London",null,null,"London","Birmingham and Solihull","NHS Bassetlaw CCG",null,null,null,null,null,null,"2020-21"]
[null,"South of England",null,null,"South of England","Bristol, North Somerset and South Gloucestershire","NHS Bath and North East Somerset, Swindon and Wiltshire CCG"]
[null,null,null,null,null,"Buckinghamshire, Oxfordshire and Berkshire West","NHS Bedfordshire, Luton and Milton Keynes CCG"]
[null,null,null,null,null,"Cambridgeshire and Peterborough","NHS Berkshire West CCG"]
["Year","2013/14",null,null,null,"Cheshire and Merseyside","NHS Birmingham and Solihull CCG"]
[null,"2014/15",null,null,null,"Cornwall and the Isles of Scilly Health and Social Care Partnership","NHS Black Country and West Birmingham CCG"]
[null,"2015/16",null,null,null,"Coventry and Warwickshire","NHS Blackburn with Darwen CCG"]
[null,"2016/17",null,null,null,"Cumbria and North East","NHS Blackpool CCG"]
[null,null,null,null,null,"Devon","NHS Bolton CCG"]
[null,null,null,null,null,"Dorset","NHS Bradford District and Craven CCG"]
["Geographical Selection",2,null,null,null,"East London Health and Care Partnership","NHS Brighton and Hove CCG"]
["Regional",null,null,null,null,"Frimley Health and Care ICS","NHS Bristol, North Somerset and South Gloucestershire CCG"]
["ICS",null,null,null,null,"Gloucestershire","NHS Buckinghamshire CCG"]
["CCG",null,null,null,null,"Greater Manchester Health and Social Care Partnership","NHS Bury CCG"]
[null,null,null,null,null,"Hampshire and the Isle of Wight","NHS Calderdale CCG"]
[null,null,null,null,null,"Healthier Lancashire and South Cumbria","NHS Cambridgeshire and Peterborough CCG"]
["Sub Selection",2,null,null,null,"Herefordshire and Worcestershire","NHS Cannock Chase CCG"]
[{"$f":"_xlfn.XLOOKUP(B26,E12:G12,E14:G119,\"\")","v":"Bath and North East Somerset, Swindon and Wiltshire"},1,null,null,null,"Hertfordshire and West Essex","NHS Castle Point and Rochford CCG"]
["Bedfordshire, Luton and Milton Keynes",2,null,null,null,"Humber, Coast and Vale","NHS Cheshire CCG"]
["Birmingham and Solihull",3,null,null,null,"Joined Up Care Derbyshire","NHS Chorley and South Ribble CCG"]
["Bristol, North Somerset and South Gloucestershire",4,null,null,null,"Kent and Medway","NHS County Durham CCG"]
["Buckinghamshire, Oxfordshire and Berkshire West",5,null,null,null,"Leicester, Leicestershire and Rutland","NHS Coventry and Warwickshire CCG"]
["Cambridgeshire and Peterborough",6,null,null,null,"Lincolnshire","NHS Derby and Derbyshire CCG"]
["Cheshire and Merseyside",7,null,null,null,"Mid and South Essex","NHS Devon CCG"]
["Cornwall and the Isles of Scilly Health and Social Care Partnership",8,null,null,null,"Norfolk and Waveney Health and Care Partnership","NHS Doncaster CCG"]
["Coventry and Warwickshire",9,null,null,null,"North London Partners in Health and Care","NHS Dorset CCG"]
["Cumbria and North East",10,null,null,null,"North West London Health and Care Partnership","NHS East Lancashire CCG"]
["Devon",11,null,null,null,"Northamptonshire","NHS East Leicestershire and Rutland CCG"]
["Dorset",12,null,null,null,"Nottingham and Nottinghamshire Health and Care","NHS East Riding of Yorkshire CCG"]
["East London Health and Care Partnership",13,null,null,null,"Our Healthier South East London","NHS East Staffordshire CCG"]
["Frimley Health and Care ICS",14,null,null,null,"Shropshire and Telford and Wrekin","NHS East Sussex CCG"]
["Gloucestershire",15,null,null,null,"Somerset","NHS East and North Hertfordshire CCG"]
["Greater Manchester Health and Social Care Partnership",16,null,null,null,"South West London Health and Care Partnership","NHS Frimley CCG"]
["Hampshire and the Isle of Wight",17,null,null,null,"South Yorkshire and Bassetlaw","NHS Fylde and Wyre CCG"]
["Healthier Lancashire and South Cumbria",18,null,null,null,"Staffordshire and Stoke on Trent","NHS Gloucestershire CCG"]
["Herefordshire and Worcestershire",19,null,null,null,"Suffolk and North East Essex","NHS Greater Preston CCG"]
["Hertfordshire and West Essex",20,null,null,null,"Surrey Heartlands Health and Care Partnership","NHS Halton CCG"]
["Humber, Coast and Vale",21,null,null,null,"Sussex and East Surrey Health and Care Partnership","NHS Hampshire, Southampton and Isle of Wight CCG"]
["Joined Up Care Derbyshire",22,null,null,null,"The Black Country and West Birmingham","NHS Herefordshire CCG"]
["Kent and Medway",23,null,null,null,"West Yorkshire and Harrogate (Health and Care Partnership)","NHS Herts Valley CCG"]
["Leicester, Leicestershire and Rutland",24,null,null,null,null,"NHS Heywood, Middleton and Rochdale CCG"]
["Lincolnshire",25,null,null,null,null,"NHS Hull CCG"]
["Mid and South Essex",26,null,null,null,null,"NHS Ipswich and East Suffolk CCG"]
["Norfolk and Waveney Health and Care Partnership",27,null,null,null,null,"NHS Kent and Medway CCG"]
["North London Partners in Health and Care",28,null,null,null,null,"NHS Kernow CCG"]
["North West London Health and Care Partnership",29,null,null,null,null,"NHS Kirklees CCG"]
["Northamptonshire",30,null,null,null,null,"NHS Knowsley CCG"]
["Nottingham and Nottinghamshire Health and Care",31,null,null,null,null,"NHS Leeds CCG"]
["Our Healthier South East London",32,null,null,null,null,"NHS Leicester City CCG"]
["Shropshire and Telford and Wrekin",33,null,null,null,null,"NHS Lincolnshire CCG"]
["Somerset",34,null,null,null,null,"NHS Liverpool CCG"]
["South West London Health and Care Partnership",35,null,null,null,null,"NHS Manchester CCG"]
["South Yorkshire and Bassetlaw",36,null,null,null,null,"NHS Mid Essex CCG"]
["Staffordshire and Stoke on Trent",37,null,null,null,null,"NHS Morecambe Bay CCG"]
["Suffolk and North East Essex",38,null,null,null,null,"NHS Newcastle Gateshead CCG"]
["Surrey Heartlands Health and Care Partnership",39,null,null,null,null,"NHS Norfolk and Waveney CCG"]
["Sussex and East Surrey Health and Care Partnership",40,null,null,null,null,"NHS North Central London CCG"]
["The Black Country and West Birmingham",41,null,null,null,null,"NHS North Cumbria CCG"]
["West Yorkshire and Harrogate (Health and Care Partnership)",42,null,null,null,null,"NHS North East Essex CCG"]
[0,43,null,null,null,null,"NHS North East Lincolnshire CCG"]
[0,44,null,null,null,null,"NHS North East London CCG"]
[0,45,null,null,null,null,"NHS North Lincolnshire CCG"]
[0,46,null,null,null,null,"NHS North Staffordshire CCG"]
[0,47,null,null,null,null,"NHS North Tyneside CCG"]
[0,48,null,null,null,null,"NHS North West London CCG"]
[0,49,null,null,null,null,"NHS North Yorkshire CCG"]
[0,50,null,null,null,null,"NHS Northamptonshire CCG"]
[0,51,null,null,null,null,"NHS Northumberland CCG"]
[0,52,null,null,null,null,"NHS Nottingham and Nottinghamshire CCG"]
[0,53,null,null,null,null,"NHS Oldham CCG"]
[0,54,null,null,null,null,"NHS Oxfordshire CCG"]
[0,55,null,null,null,null,"NHS Portsmouth CCG"]
[0,56,null,null,null,null,"NHS Rotherham CCG"]
[0,57,null,null,null,null,"NHS Salford CCG"]
[0,58,null,null,null,null,"NHS Sheffield CCG"]
[0,59,null,null,null,null,"NHS Shropshire, Telford and Wrekin CCG"]
[0,60,null,null,null,null,"NHS Somerset CCG"]
[0,61,null,null,null,null,"NHS South East London CCG"]
[0,62,null,null,null,null,"NHS South East Staffordshire and Seisdon Peninsula CCG"]
[0,63,null,null,null,null,"NHS South Sefton CCG"]
[0,64,null,null,null,null,"NHS South Tyneside CCG"]
[0,65,null,null,null,null,"NHS South West London CCG"]
[0,66,null,null,null,null,"NHS Southend CCG"]
[0,67,null,null,null,null,"NHS Southport and Formby CCG"]
[0,68,null,null,null,null,"NHS St Helens CCG"]
[0,69,null,null,null,null,"NHS Stafford and Surrounds CCG"]
[0,70,null,null,null,null,"NHS Stockport CCG"]
[0,71,null,null,null,null,"NHS Stoke on Trent CCG"]
[0,72,null,null,null,null,"NHS Sunderland CCG"]
[0,73,null,null,null,null,"NHS Surrey Heartlands CCG"]
[0,74,null,null,null,null,"NHS Tameside and Glossop CCG"]
[0,75,null,null,null,null,"NHS Tees Valley CCG"]
[0,76,null,null,null,null,"NHS Thurrock CCG"]
[0,77,null,null,null,null,"NHS Trafford CCG"]
[0,78,null,null,null,null,"NHS Vale of York CCG"]
[0,79,null,null,null,null,"NHS Wakefield CCG"]
[0,80,null,null,null,null,"NHS Warrington CCG"]
[0,81,null,null,null,null,"NHS West Essex CCG"]
[0,82,null,null,null,null,"NHS West Lancashire CCG"]
[0,83,null,null,null,null,"NHS West Leicestershire CCG"]
[0,84,null,null,null,null,"NHS West Suffolk CCG"]
[0,85,null,null,null,null,"NHS West Sussex CCG"]
[0,86,null,null,null,null,"NHS Wigan Borough CCG"]
[0,87,null,null,null,null,"NHS Wirral CCG"]
[0,88]
[0,89]
[0,90]
[0,91]
[0,92]
[0,93]
[0,94]
[0,95]
[0,96]
[0,97]
[0,98]
[0,99]
[0,100]
[0,101]
[0,102]
[0,103]
[0,104]
[0,105]
[0,106]

{"sheet":"_References","index":56,"n_rows":107,"n_cols":12,"rows_kept":107,"cut":false,"hidden":true,"merged":[]}
[{"$f":"COUNTA(A2:A1048576)","v":106},"Text",null,null,"LinkID","References",null,"Dataset 1","Dataset 2","Dataset 3","Dataset 4","Dataset 5"]
["refid_001","Use this button to toggle between linear and logarithmic projected trendlines. The linear trendline is a straight line of best fit, modelling a steady-rate change in COPD prevalence. The logarithmic trendline is a curved line of best fit that shows an initial increase or decrease in modelled prevalence rates, followed by a plateau",null,null,"linkid_001","refid_001"]
["refid_002","Choose the start year of the data set used to project COPD prevalence from QoF data",null,null,"linkid_002","refid_002"]
["refid_003","Choose the last year of data used to project COPD prevalence from QoF data",null,null,"linkid_003","refid_003"]
["refid_004","Choose the year to which data is projected",null,null,"linkid_004","refid_004"]
["refid_005","Enter the distribution of age, gender, IMD decile and ethnicity for the chosen region. \n\nDefault data are taken from the CPRD population for patients with COPD. They are applied to the coefficient values from this analysis to determine the proportion of patients who are eligible for, referred to, commence and complete PR in a given region.",null,null,"linkid_005","refid_005"]
["refid_006","1. The QoF prevalence correction rate is an adjustment factor derived from an analysis of CPRD data, based on regional data\n2. The PR eligibility rate is an adjustment factor derived from an analysis of CPRD data, based on regional data\n3. The referral rate for PR is derived from CPRD analysis, based on regional data and local risk determinants\n4. The uptake rate for PR is derived from CPRD analysis, based on regional data and local risk determinants\n5. The completion rate for PR is derived from CPRD analysis, based on regional data and local risk determinants",null,null,"linkid_006","refid_006"]
["refid_007","Check and uncheck boxes to view the associated trendlines on the graph",null,null,"linkid_007","refid_007"]
["refid_008","1. NHS Health A to Z. COPD overview. URL: https://www.nhs.uk/conditions/chronic-obstructive-pulmonary-disease-copd/ Accessed: 25/02/2022\n\n2.  NICE 2018. NG115. Chronic obstructive pulmonary disease in over 16s: diagnosis and management. Available at: https://www.nice.org.uk/guidance/ng115\n\n3. Quality Outcome Framwork (QOF) is a voluntary annual reward and incentive programme for all GP practices in England, detailing practice achievement results. URL: https://qof.digital.nhs.uk/\n\n4. Clinical Practice Research Database (CPRD) is a real-world, UK government, research service supporting retrospective and prospective public health and clinical studies. Working with GP practices and healthcare bodies across the UK, we provide anonymised healthcare data and research services that are used to improve health care delivery and inform clinical guidance. URL: https://www.cprd.com/\n\n5. National Respiratory Audit Programme (NRAP) commissioned by the Healthcare Quality Improvement Partnership (HQIP) as part of the National Clinical Audit and Patient Outcomes Programme (NCAPOP). URL: https://www.nrap.org.uk/",null,null,"linkid_008","refid_008"]
["refid_009","There are no references on this page",null,null,"linkid_009","refid_009"]
["refid_010","Example information button",null,null,"linkid_010","refid_010"]
["refid_011","1. Quality Outcome Framwork (QOF) is a voluntary annual reward and incentive programme for all GP practices in England, detailing practice achievement results. URL: https://qof.digital.nhs.uk/",null,null,"linkid_011","refid_011"]
["refid_012","This modelled register size represents the number of prevalent COPD patients who may be eligible for PR",null,null,"linkid_012","refid_012"]
["refid_013","This figure represents the number of new COPD patients each year who are to be offered PR",null,null,"linkid_013","refid_013"]
["refid_014","This modelled register size represents the prevalent COPD patients who are eligible for pulmonary rehabilitation: these are COPD patients with an MRC score of 3+ and have not had pulmonary rehabilitation before",null,null,"linkid_014","refid_014"]
["refid_015","This figure represents the percentage of COPD patients who are eligible for PR: these are COPD patients with an MRC score of 3+ and have not had pulmonary rehabilitation before",null,null,"linkid_015","refid_015"]
["refid_016","Pulmonary rehabilitation is defined by NICE as a multidisciplinary programme of care for people with chronic respiratory impairment that it individually tailored and designed to optimise each person's physical and social performance and autonomy. A programme comprises of 6 individualised exercise programmes and education, and: \n∙ are at least 6 weeks in duration and include a minimum of twice-weekly supervised sessions\n∙ include supervised, individually tailored and prescribed, progressive exercise training including both aerobic and resistance training\n∙ include a defined, structured education programme\nMore information on pulmonary rehabilitation can be found at: https://www.nice.org.uk/guidance/ng115",null,null,"linkid_016","refid_016"]
["refid_017","A QALY (quality-adjusted life year) is a measure of the effectiveness of a health intervention that combines the impact of gains in quality and quantity of life. It is based on utility, or a valuation of health-related quality of life, measured on a scale where 1 represents full health and 0 represents death (Quality-adjusted life year (QALY) [online]. 2016. York; York Health Economics Consortium. https://yhec.co.uk/glossary/quality-adjusted-life-year-qaly/)",null,null,"linkid_017","refid_017"]
["refid_018","A willingness-to-pay threshold is the maximum amount of money that the decisionmakers are willing to spend to increase the overall population health by 1 QALY. The value of £20,000 per QALY has been accepted by the National Institute for Health and Care Excellence (NICE) as a cost-effective use of NHS resources (NICE 2012. PMG6: The guidelines manual. https://www.nice.org.uk/process/pmg6/chapter/assessing-cost-effectiveness)",null,null,"linkid_018","refid_018"]
["refid_019","NB: predicting the annual cost-effective investment for future years assumes the same cost of hospitalisation as in 2022. The user can edit the cost of hospitalisation using the blue cell",null,null,"linkid_019","refid_019"]
["refid_020","Checking this box increases the number of PR completers by a user-defined percentage to represent additional patients who complete a PR programme who are not patients with COPD.",null,null,"linkid_020","refid_020"]
["refid_021","1. NHS Digital. Quality and Outcomes Framework. Available at: https://qof.digital.nhs.uk/",null,null,"linkid_021","refid_021"]
["refid_022","1. YHEC paper. https://yhec.co.uk/publication/estimation-of-the-health-economic-benefit-of-widening-pulmonary-rehabilitation-uptake-and-completion/\n\n2. Stefan 2021. Association between initiation of pulmonary rehabilitation and rehospitalisations in patients hospitalised with Chronic Obstructive Pulmonary Disease. Am J Respir Crit Care Med Vol 204, Is 9, pp1015-1023\n\n3. A QALY (quality-adjusted life year) is a measure of the effectiveness of a health intervention that combines the impact of gains in quality and quantity of life. It is based on utility, or a valuation of health-related quality of life, measured on a scale where 1 represents full health and 0 represents death (Quality-adjusted life year (QALY) [online]. 2016. York; York Health Economics Consortium. https://yhec.co.uk/glossary/quality-adjusted-life-year-qaly/)\n\n4. Nolan 2016. The EQ-5D-5L health status questionnaire in COPD: validity, responsiveness and minimum important difference. Thorax, Vol 71, pp493-500\n\n5. A willingness-to-pay threshold is the maximum amount of money that the decisionmakers are willing to spend to increase the overall population health by 1 QALY. The value of £20,000 per QALY has been accepted by the National Institute for Health and Care Excellence (NICE) as a cost-effective use of NHS resources (NICE 2012. PMG6: The guidelines manual. https://www.nice.org.uk/process/pmg6/chapter/assessing-cost-effectiveness)",null,null,"linkid_022","refid_022"]
["refid_023","The total number of patients requiring PR is estimated as the incident patients with COPD in a given year who are eligible for PR, plus the eligible patients from the year prior who did not complete PR, minus patients who die",null,null,"linkid_023","refid_023"]
["refid_024","It is assumed that patients would potentially be eligible to repeat PR, having completed one course of PR at least one year ago. The model uses a placeholder of 10% of completers who are eligible to repeat PR in the next year; this value is user-amendable. Please note that this value is true of all PR completers, including both COPD and non-COPD patients. ",null,null,"linkid_024","refid_024"]
["refid_025","\"Observed\" data refers to the actual data taken from the QOF database",null,null,"linkid_025","refid_025"]
["refid_026","Staffing requirements were calculated as a minimum, and need to be increased for cohorts of patients with complex needs and oxygen users, where the staff: patient ratio is higher in exercise classes.",null,null,"linkid_026","refid_026"]
["refid_027","NHS Digital. Quality and Outcomes Framework. Available at: https://digital.nhs.uk/data-and-information/publications/statistical/quality-and-outcomes-framework-achievement-prevalence-and-exceptions-data\n\nCOPD list and register size and prevalence rates were collected at sub-ICB level from 2005 to 2023 from QOF publications. Data was provided at CCG level until the 2021-22 publication, therefore CCGs were mapped to current sub-ICBs, in order to merge the data from CCGs and sub-ICBs. Where data was not available for certain sub-ICBs/CCGs, as they did not always exist between 2005 and 2023, an average of the available data points for those missing locations were used to impute missing years of data.",null,null,"linkid_027","refid_027"]
["refid_028","1. Stone et al. Prevalence of chronic obstructive pulmonary disease in England from 2000 to 2019. IJCOPD 2023; 18. \n\nCalculated as the percentage increase from Definition 2 (QOF definition, 3.87%) to Definition 1 (validated COPD, 4.90%) of prevalence of COPD: (4.90-3.87)/3.87 = 0.26\n\n2. Data on file. Analysis of CPRD data to determine trends in eligibility, referal, commencement and completion of PR in patients with COPD by region, depending on age, gender, ethnicity and IMD decile. ",null,null,"linkid_028","refid_028"]
["refid_029","Age and gender estimates were taken by region from: Office for National Statistics (2022). Estimates of the population for the UK, England, Wales, Scotland and Northern Ireland. Available at: https://www.ons.gov.uk/peoplepopulationandcommunity/populationandmigration/populationestimates/datasets/populationestimatesforukenglandandwalesscotlandandnorthernireland\nEthnicity estimates were taken from 2011 Census data, available at: https://www.ethnicity-facts-figures.service.gov.uk/uk-population-by-ethnicity/national-and-regional-populations/regional-ethnic-diversity/latest/#data-sources\nData was provided for East of England, London, North West, South East, South West, Midlands and North East and Yorkshire. Therefore, the ethnicity makeup for \"Midlands\" was assumed for both \"East\" and \"West Midlands\", and the makeup for \"North East and Yorkshire\" was assumed for both \"North Eas\" and \"Yorkshire\"\nIMD estimates were taken from ONS data at: https://www.ons.gov.uk/peoplepopulationandcommunity/populationandmigration/populationprojections/adhocs/15363monthlypopulationsbyindexofmultipledeprivationimddecileenglandjanuary2019toaugust2022\nThe same assumptions were made for IMD deciles by region as for ethnicity makeup by region. ",null,null,"linkid_029","refid_029"]
["refid_030","1. Royal College of Physicians. National Pulmonary Rehabilitation (PR) Audit Programme (NACAP). PR clinical audit 2022: Benchmarked key indicator report",null,null,"linkid_030","refid_030"]
["refid_031","Data on file. Work completed by the workforce steering group on the staff time required to deliver PR programmes for patients with COPD who complete PR",null,null,"linkid_031","refid_031"]
["refid_032","It is assumed that attrition proportions established for 2023 are used for the remaining years of the time horizon. However, these proportions can be changed year-on-year",null,null,"linkid_032","refid_032"]
["refid_033","1. NICE 2018. Resource impact report: Chronic obstructive pulmonary disease in over 16s: diagnosis and management (NG115)\n2. Mullerova et al. Prevalence and burden of breathlessness in patients with Chronic Obstructive Pulmonary Disease managed in primary care. PLoS One. 2014; 9(1)\n3. Assumption\n4. Gayle, A. et al. Changing causes of death for patients with chronic respiratory disease in England, 2005-2015. Thorax. 2019; 74(5)",null,null,"linkid_033","refid_033"]
["refid_034","1. Quality Outcome Framwork (QOF) is a voluntary annual reward and incentive programme for all GP practices in England, detailing practice achievement results. URL: https://qof.digital.nhs.uk/"]
["refid_035"]
["refid_036"]
["refid_037"]
["refid_038"]
["refid_039"]
["refid_040"]
["refid_041"]
["refid_042"]
["refid_043"]
["refid_044"]
["refid_045"]
["refid_046"]
["refid_047"]
["refid_048"]
["refid_049"]
["refid_050"]
["refid_051"]
["refid_052"]
["refid_053"]
["refid_054"]
["refid_055"]
["refid_056"]
["refid_057"]
["refid_058"]
["refid_059"]
["refid_060"]
["refid_061"]
["refid_062"]
["refid_063"]
["refid_064"]
["refid_065"]
["refid_066"]
["refid_067"]
["refid_068"]
["refid_069"]
["refid_070"]
["refid_071"]
["refid_072"]
["refid_073"]
["refid_074"]
["refid_075"]
["refid_076"]
["refid_077"]
["refid_078"]
["refid_079"]
["refid_080"]
["refid_081"]
["refid_082"]
["refid_083"]
["refid_084"]
["refid_085"]
["refid_086"]
["refid_087"]
["refid_088"]
["refid_089"]
["refid_090"]
["refid_091"]
["refid_092"]
["refid_093"]
["refid_094"]
["refid_095"]
["refid_096"]
["refid_097"]
["refid_098"]
["refid_099"]
["info_001"]
["info_002"]
["info_003"]
["info_004"]
["info_005"]
["info_006"]
["info_007"]

{"sheet":"_report","index":57,"n_rows":52,"n_cols":4,"rows_kept":52,"cut":false,"hidden":true,"merged":[]}
[null,{"$f":"NOW()","v":"2026-02-18T12:19:35.670"}]
[null,{"$f":"CalculationSheet!D1","v":"England"}]
[null,{"$f":"CalculationSheet!B1","v":"England"}]
[null,{"$f":"CalculationSheet!E31","v":2012}]
[null,{"$f":"CalculationSheet!E32","v":2025}]
[null,{"$f":"populationFunnel!J11","v":0}]
[null,{"$f":"populationFunnel!P11","v":0},"#,#0",{"$f":"TEXT(B7,C7)","v":"0"}]
[null,{"$f":"PulmonaryRehabTable1!E12","v":{"$error":"#DIV/0!"}},"#,#0",{"$f":"TEXT(B8,C8)","v":{"$error":"#DIV/0!"}}]
[null,{"$f":"PulmonaryRehabTable1!E13","v":{"$error":"#DIV/0!"}},"#,#0",{"$error":"#DIV/0!"}]
[null,{"$f":"PulmonaryRehabTable1!E14","v":{"$error":"#DIV/0!"}},"#,#0",{"$error":"#DIV/0!"}]
[null,{"$f":"PulmonaryRehabTable1!E15","v":{"$error":"#DIV/0!"}},"#,#0",{"$error":"#DIV/0!"}]
[null,{"$f":"PulmonaryRehabTable1!E16","v":{"$error":"#DIV/0!"}},"#,#0",{"$error":"#DIV/0!"}]
[null,{"$f":"PulmonaryRehabTable1!E17","v":{"$error":"#DIV/0!"}},"#,#0",{"$error":"#DIV/0!"}]
[null,{"$f":"PulmonaryRehabTable1!E18","v":{"$error":"#DIV/0!"}},"#,#0",{"$error":"#DIV/0!"}]
[null,{"$f":"PulmonaryRehabTable1!E19","v":{"$error":"#DIV/0!"}},"#,#0",{"$error":"#DIV/0!"}]
[null,{"$f":"PulmonaryRehabTable1!E20","v":{"$error":"#DIV/0!"}},"#,#0",{"$error":"#DIV/0!"}]
[null,{"$f":"PulmonaryRehabTable1!H12","v":{"$error":"#DIV/0!"}},"#,#0",{"$error":"#DIV/0!"}]
[null,{"$f":"PulmonaryRehabTable1!H13","v":{"$error":"#DIV/0!"}},"#,#0",{"$error":"#DIV/0!"}]
[null,{"$f":"PulmonaryRehabTable1!H14","v":{"$error":"#DIV/0!"}},"#,#0",{"$error":"#DIV/0!"}]
[null,{"$f":"PulmonaryRehabTable1!H15","v":{"$error":"#DIV/0!"}},"#,#0",{"$error":"#DIV/0!"}]
[null,{"$f":"PulmonaryRehabTable1!H16","v":{"$error":"#DIV/0!"}},"#,#0",{"$error":"#DIV/0!"}]
[null,{"$f":"PulmonaryRehabTable1!H17","v":{"$error":"#DIV/0!"}},"#,#0",{"$error":"#DIV/0!"}]
[null,{"$f":"PulmonaryRehabTable1!H18","v":{"$error":"#DIV/0!"}},"#,#0",{"$error":"#DIV/0!"}]
[null,{"$f":"PulmonaryRehabTable1!H19","v":{"$error":"#DIV/0!"}},"#,#0",{"$error":"#DIV/0!"}]
[null,{"$f":"PulmonaryRehabTable1!H20","v":{"$error":"#DIV/0!"}},"#,#0",{"$error":"#DIV/0!"}]
[null,{"$f":"PulmonaryRehabTable1!K12","v":{"$error":"#DIV/0!"}},"#,#0",{"$error":"#DIV/0!"}]
[null,{"$f":"PulmonaryRehabTable1!K13","v":{"$error":"#DIV/0!"}},"#,#0",{"$error":"#DIV/0!"}]
[null,{"$f":"PulmonaryRehabTable1!K14","v":{"$error":"#DIV/0!"}},"#,#0",{"$error":"#DIV/0!"}]
[null,{"$f":"PulmonaryRehabTable1!K15","v":{"$error":"#DIV/0!"}},"#,#0",{"$error":"#DIV/0!"}]
[null,{"$f":"PulmonaryRehabTable1!K16","v":{"$error":"#DIV/0!"}},"#,#0",{"$error":"#DIV/0!"}]
[null,{"$f":"PulmonaryRehabTable1!K17","v":{"$error":"#DIV/0!"}},"#,#0",{"$error":"#DIV/0!"}]
[null,{"$f":"PulmonaryRehabTable1!K18","v":{"$error":"#DIV/0!"}},"#,#0",{"$error":"#DIV/0!"}]
[null,{"$f":"PulmonaryRehabTable1!K19","v":{"$error":"#DIV/0!"}},"#,#0",{"$error":"#DIV/0!"}]
[null,{"$f":"PulmonaryRehabTable1!K20","v":{"$error":"#DIV/0!"}},"#,#0",{"$error":"#DIV/0!"}]
[null,{"$f":"PulmonaryRehabTable1!N12","v":{"$error":"#DIV/0!"}},"#,#0",{"$error":"#DIV/0!"}]
[null,{"$f":"PulmonaryRehabTable1!N13","v":{"$error":"#DIV/0!"}},"#,#0",{"$error":"#DIV/0!"}]
[null,{"$f":"PulmonaryRehabTable1!N14","v":{"$error":"#DIV/0!"}},"#,#0",{"$error":"#DIV/0!"}]
[null,{"$f":"PulmonaryRehabTable1!N15","v":{"$error":"#DIV/0!"}},"#,#0",{"$error":"#DIV/0!"}]
[null,{"$f":"PulmonaryRehabTable1!N16","v":{"$error":"#DIV/0!"}},"#,#0",{"$error":"#DIV/0!"}]
[null,{"$f":"PulmonaryRehabTable1!N17","v":{"$error":"#DIV/0!"}},"#,#0",{"$error":"#DIV/0!"}]
[null,{"$f":"PulmonaryRehabTable1!N18","v":{"$error":"#DIV/0!"}},"#,#0",{"$error":"#DIV/0!"}]
[null,{"$f":"PulmonaryRehabTable1!N19","v":{"$error":"#DIV/0!"}},"#,#0",{"$error":"#DIV/0!"}]
[null,{"$f":"PulmonaryRehabTable1!N20","v":{"$error":"#DIV/0!"}},"#,#0",{"$error":"#DIV/0!"}]
[null,{"$f":"PulmonaryRehabTable1!Q12","v":{"$error":"#DIV/0!"}},"#,#0",{"$error":"#DIV/0!"}]
[null,{"$f":"PulmonaryRehabTable1!Q13","v":{"$error":"#DIV/0!"}},"#,#0",{"$error":"#DIV/0!"}]
[null,{"$f":"PulmonaryRehabTable1!Q14","v":{"$error":"#DIV/0!"}},"#,#0",{"$error":"#DIV/0!"}]
[null,{"$f":"PulmonaryRehabTable1!Q15","v":{"$error":"#DIV/0!"}},"#,#0",{"$error":"#DIV/0!"}]
[null,{"$f":"PulmonaryRehabTable1!Q16","v":{"$error":"#DIV/0!"}},"#,#0",{"$error":"#DIV/0!"}]
[null,{"$f":"PulmonaryRehabTable1!Q17","v":{"$error":"#DIV/0!"}},"#,#0",{"$error":"#DIV/0!"}]
[null,{"$f":"PulmonaryRehabTable1!Q18","v":{"$error":"#DIV/0!"}},"#,#0",{"$error":"#DIV/0!"}]
[null,{"$f":"PulmonaryRehabTable1!Q19","v":{"$error":"#DIV/0!"}},"#,#0",{"$error":"#DIV/0!"}]
[null,{"$f":"PulmonaryRehabTable1!Q20","v":{"$error":"#DIV/0!"}},"#,#0",{"$error":"#DIV/0!"}]

{"sheet":"Emergency Hospital Admissions","index":58,"n_rows":13,"n_cols":9,"rows_kept":13,"cut":false,"hidden":true,"merged":[]}
["England","Year","Emergency Admissions for COPD Patients","Population","Age Standardised Rate","Slope","Constant","Trend","Modelled"]
[null,"2013/14",112719,56042156,{"$f":"C2/D2","v":2.01132518884534E-3},{"$f":"LINEST($E$2:$E$8)","v":3.0744711203819953E-5},2.0523331574412154E-3,{"$f":"F2*(ROW(H2)-ROW($H$1))","v":3.0744711203819953E-5},{"$f":"G2+H2","v":2.0830778686450353E-3}]
[null,"2014/15",122402,56441478,{"$f":"C3/D3","v":2.1686533439113694E-3},{"$f":"LINEST($E$2:$E$8)","v":3.0744711203819953E-5},2.0523331574412154E-3,{"$f":"F3*(ROW(H3)-ROW($H$1))","v":6.1489422407639906E-5},{"$f":"G3+H3","v":2.1138225798488551E-3}]
[null,"2015/16",123238,57010473,2.1616729964685612E-3,{"$f":"LINEST($E$2:$E$8)","v":3.0744711203819953E-5},2.0523331574412154E-3,9.2234133611459853E-5,2.144567291052675E-3]
[null,"2016/17",127094,57631776,2.2052764780318415E-3,{"$f":"LINEST($E$2:$E$8)","v":3.0744711203819953E-5},2.0523331574412154E-3,1.2297884481527981E-4,2.1753120022564953E-3]
[null,"2017/18",128767,58328549,2.2076153480176577E-3,{"$f":"LINEST($E$2:$E$8)","v":3.0744711203819953E-5},2.0523331574412154E-3,1.5372355601909977E-4,2.2060567134603152E-3]
[null,"2018/19",130522,58484669,2.2317301650454755E-3,{"$f":"LINEST($E$2:$E$8)","v":3.0744711203819953E-5},2.0523331574412154E-3,1.8446826722291971E-4,2.2368014246641351E-3]
[null,"2019/20",133916,59759638,2.2409104954752234E-3,{"$f":"LINEST($E$2:$E$8)","v":3.0744711203819953E-5},2.0523331574412154E-3,2.1521297842673967E-4,2.267546135867955E-3]
[null,"2020/21",73834,60458907,1.221226179295633E-3,{"$f":"LINEST($E$2:$E$8)","v":3.0744711203819953E-5},2.0523331574412154E-3,2.4595768963055963E-4,2.2982908470717748E-3]
[]
[]
[]
["NB","Emergency hospital admissions for COPD, all ages. Data from Fingertips PHE, taken grom HES"]

{"sheet":"COPD Diagnoses","index":59,"n_rows":11,"n_cols":9,"rows_kept":11,"cut":false,"hidden":true,"merged":[]}
["England","Year","Patients whose diagnoses has been confirmed by bronchodilator spirometry","Patients with COPD Diagnoses","Proportion of diagnoses that have been confirmed","Slope","Constant","Trend","Modelled"]
[null,"2012/13",158404,199930,{"$f":"C2/D2*100","v":79.229730405641973},{"$f":"LINEST($E$2:$E$8)","v":9.4216844808023364E-2},80.391254627375133,{"$f":"F2*(ROW(H2)-ROW($H$1))","v":9.4216844808023364E-2},{"$f":"G2+H2","v":80.48547147218315}]
[null,"2013/14",236107,289459,{"$f":"C3/D3*100","v":81.568374104795495},{"$f":"LINEST($E$2:$E$8)","v":9.4216844808023364E-2},80.391254627375133,{"$f":"F3*(ROW(H3)-ROW($H$1))","v":0.18843368961604673},{"$f":"G3+H3","v":80.579688316991181}]
[null,"2014/15",306417,377892,81.085865802927827,{"$f":"LINEST($E$2:$E$8)","v":9.4216844808023364E-2},80.391254627375133,0.28265053442407007,80.673905161799198]
[null,"2015/16",373641,461162,81.021636648292798,{"$f":"LINEST($E$2:$E$8)","v":9.4216844808023364E-2},80.391254627375133,0.37686737923209346,80.768122006607229]
[null,"2016/17",436209,538284,81.036961901152551,{"$f":"LINEST($E$2:$E$8)","v":9.4216844808023364E-2},80.391254627375133,0.47108422404011685,80.862338851415245]
[null,"2017/18",494533,612122,80.789940567403235,{"$f":"LINEST($E$2:$E$8)","v":9.4216844808023364E-2},80.391254627375133,0.56530106884814013,80.956555696223276]
[null,"2018/19",547888,679388,80.64434461603679,{"$f":"LINEST($E$2:$E$8)","v":9.4216844808023364E-2},80.391254627375133,0.65951791365616352,81.050772541031293]
[null,"2019/20",597171,745042,80.152662534461143,{"$f":"LINEST($E$2:$E$8)","v":9.4216844808023364E-2},80.391254627375133,0.75373475846418692,81.144989385839324]
[]
[null,"Proportion of COPD diagnosed patients whose diagnoses' have been confirmed by bronchodilator spirometry. Data from Fingertips, taken from QOF"]

{"sheet":"COPD Prevalence (Fingertips)","index":60,"n_rows":13,"n_cols":9,"rows_kept":13,"cut":false,"hidden":true,"merged":[]}
["England","Year","Patients with COPD","Sum of Patient List Size","Proportion of Patients with COPD","Slope","Constant","Trend","Modelled"]
[null,"2009/10",861341,54836561,{"$f":"C2/D2*100","v":1.5707421915097848},{"$f":"LINEST($E$2:$E$12)","v":3.6483742643406362E-2},1.5752740147149407,{"$f":"F2*(ROW(H2)-ROW($H$1))","v":3.6483742643406362E-2},{"$f":"G2+H2","v":1.611757757358347}]
[null,"2010/11",898989,55169643,{"$f":"C3/D3*100","v":1.6294993969781533},{"$f":"LINEST($E$2:$E$12)","v":3.6483742643406362E-2},1.5752740147149407,{"$f":"F3*(ROW(H3)-ROW($H$1))","v":7.2967485286812725E-2},{"$f":"G3+H3","v":1.6482415000017534}]
[null,"2011/12",938511,55525732,1.6902271545019882,{"$f":"LINEST($E$2:$E$12)","v":3.6483742643406362E-2},1.5752740147149407,0.10945122793021908,1.6847252426451598]
[null,"2012/13",974999,56012096,1.7406936530280888,{"$f":"LINEST($E$2:$E$12)","v":3.6483742643406362E-2},1.5752740147149407,0.14593497057362545,1.7212089852885661]
[null,"2013/14",1004920,56324887,1.7841491630511395,{"$f":"LINEST($E$2:$E$12)","v":3.6483742643406362E-2},1.5752740147149407,0.18241871321703182,1.7576927279319725]
[null,"2014/15",1034578,56817654,1.8208741951929237,{"$f":"LINEST($E$2:$E$12)","v":3.6483742643406362E-2},1.5752740147149407,0.21890245586043816,1.7941764705753789]
[null,"2015/16",1066471,57549410,1.8531397628576904,{"$f":"LINEST($E$2:$E$12)","v":3.6483742643406362E-2},1.5752740147149407,0.25538619850384453,1.8306602132187852]
[null,"2016/17",1087908,58029147,1.8747613160675962,{"$f":"LINEST($E$2:$E$12)","v":3.6483742643406362E-2},1.5752740147149407,0.2918699411472509,1.8671439558621916]
[null,"2017/18",1113417,58383266,1.9070824163896554,{"$f":"LINEST($E$2:$E$12)","v":3.6483742643406362E-2},1.5752740147149407,0.32835368379065727,1.903627698505598]
[null,"2018/19",1144151,59386096,1.9266311090730732,{"$f":"LINEST($E$2:$E$12)","v":3.6483742643406362E-2},1.5752740147149407,0.36483742643406364,1.9401114411490044]
[null,"2019/20",1170786,60407685,1.9381408176790751,{"$f":"LINEST($E$2:$E$12)","v":3.6483742643406362E-2},1.5752740147149407,0.40132116907747001,1.9765951837924107]
[null,"2020/21",1170437,60716244,1.9277164114433691,{"$f":"LINEST($E$2:$E$12)","v":3.6483742643406362E-2},1.5752740147149407,0.43780491172087632,2.0130789264358171]